{"text_format":"1","workbook":"xlsx","n_sheets":11,"sheets":["Standards","QuanTab8","INSTRUCTIONS","SAMPLE INTERSECTION","CONDUIT LENGTH","CABLE LENGTH","BREAKER","PULL BOX SIZING","CONDUIT CAPACITY AUTO","CONDUIT CAPACITY","REV D37B"],"not_rendered":{"charts":0,"images":1,"macros":1,"external_links":4,"defined_names":17,"comments":0,"pivot_tables":0},"unopened":[{"sheet":"QuanTab8","index":1,"reason":"part_missing"}],"bounds":{"document_bytes":16777216,"sheet_cells":100000,"rows_first":2000,"rows_last":500,"rows_between":2000,"halvings":0,"cell_chars":16384,"cell_head_chars":4096},"cells_cut":0,"cells_raw":0,"read":"whole","date_system":"1900"}

{"sheet":"Standards","index":0,"n_rows":37,"n_cols":9,"rows_kept":37,"cut":false,"hidden":false,"merged":[[4,1,5,8],[21,2,22,6]]}
["DRAFTING STANDARDS"]
[]
["TEXT MAPPING"]
[]
["Windows","Microstation Attributes"]
["Font"]
["Color","FT","TH","TW","LV","CO","LC","WT","Comment"]
["Black",3,0.12,0.12,"Common-Notes",5,0,2,"small"]
["Red",3,0.18,0.18,"Common-Notes",1,0,5,"large"]
["Green",3,0.15,0.15,"Common-Notes",4,0,4,"medium"]
["Blue",3,0.1,0.1,"Common-Notes",7,0,1,"x-small"]
["Violet",3,0.21,0.21,"Common-Notes",2,0,7,"x-large"]
[]
[]
[]
[]
[]
["Note when setting fonts to a color, the color name shown on the popup tag must match the table name exactly."]
[]
["BORDER MAPPING"]
[]
["Excel","Name","Microstation Attributes"]
["Border"]
["Style",null,"LV","CO","LC","WT","Comment"]
[null,"Continuous","Grid_Line-Main",1,0,5]
[]
[null,"Dot","Grid_Line-Main",5,0,2]
[]
[null,"Dash","Grid_Line-Main",5,0,2]
[]
[null,"DashDot","Grid_Line-Main",5,0,2]
[]
[null,"DashDotDot","Grid_Line-Main",5,0,2]
[]
[null,"Double","Grid_Line-Main",5,0,2]
[]
[null,"SlantDashDot","Grid_Line-Main",5,0,2]

{"sheet":"INSTRUCTIONS","index":2,"n_rows":310,"n_cols":38,"rows_kept":310,"cut":false,"hidden":false,"merged":[[70,37,73,37],[266,0,266,1],[266,2,266,3],[266,4,266,5],[70,17,70,34],[70,35,73,35],[70,36,73,36],[70,16,73,16],[265,2,265,3],[243,0,243,15],[260,0,260,15],[70,0,73,0],[70,1,73,1],[70,2,72,15],[302,0,302,15],[0,0,0,15],[20,0,20,15],[65,0,65,15],[172,0,172,15],[222,0,222,15],[25,0,27,0],[25,1,27,1],[25,11,27,11],[25,12,27,12]]}
["SIGNAL DESIGN WORKBOOK"]
[]
["Purpose:  These worksheets are intended to aid in the computation of signal quantities"]
[]
["Overview:  There are 7 worksheets in the workbook."]
[null,"Conduit Length:  Provides space to make additions and subtractions to conduit length"]
[null,"Cable Length:  Provides space to make additions to cable length"]
[null,"Breaker:  Calculates breaker trip ratings and cable size for the cable between the power supply and controller"]
[null,"Pull Box Sizing:  Sizes pull boxes based on the number of conductors"]
[null,"Conduit Capacity Auto:  Automatically checks the allowable area of the conduit versus the total size of all cables in it"]
[null,"Conduit Capacity:  Allows the designer to manually enter information to check the total cable area versus the allowable occupied area of a conduit"]
[null,"Rev D37b:  Organizes the cable and conduit total lengths into a sheet formatted to resemble a D-37b sheet"]
[null,"The worksheets in the workbook are completed for the sample intersection layout shown in the Sample Intersection tab."]
[]
["General Note:  There are formulas in these worksheets that look for cells containing certain information.  Only certain inputs will"]
[null,"generate the correct results throughout the workbook.  The instructions below contain information on how to input"]
[null,"data correctly for each worksheet.  Red cells are formulas and do not require input.  Data should be input into white"]
[null,"cells."]
[null,"Green text indicate modifications that can be made by advanced excel users to expand the functionality of the worksheet."]
[]
["Conduit Length Worksheet"]
[]
["The Conduit Length Worksheet makes adjustments to the conduit length."]
[]
["Sample:"]
["FROM","TO","C-C","SOURCE","P.S. (TYPE 1or2)","CONTROLLER or PAD MOUNTED P.S.","PULL BOX","SIGNAL POST (F or C)","SIGNAL POST (A)","ITS DEVICE","TOTAL","SIZES","TYPES"]
[null,null,null,"+0","+0","+4","-1","+2","+4","+5"]
[null,null,"DIST","#","#","#","#","#","#","#","LENGTH"]
["SOURCE","UPS",9,1,1,1,null,null,null,null,{"$f":"+C29+D29*0+E29*0+F29*4+G29*-1+H29*2+I29*4+J29*5","v":13},"3\"","T"]
["UPS","CA",11,null,null,2,null,null,null,null,{"$f":"+C30+D30*0+E30*0+F30*4+G30*-1+H30*2+I30*4+J30*5","v":19},"3\"","T"]
["CA","PB1",10,null,null,1,1,null,null,null,13,"2x3\"","T"]
["PB1","PB2",91,null,null,null,2,null,null,null,89,"3\"","P"]
["PB1","D71",31,null,null,null,1,null,null,null,30,"1\"","L"]
[]
["The \"FROM,\" \"TO,' and \"C-C DIST\" Columns are the signal features between which the conduit runs and the center-to-center distance between them."]
[null,"Enter this data based on the signal system layout.  NOTE:  C-C DIST for conduit from PB to loop detector is the distance from the center of "]
[null,"the PB to the face of curb or edge of shoulder."]
["The \"SOURCE,\" \"P.S. (TYPE1or2),\" \"CONTROLLER or PAD MOUNTED P.S.\", \"PULL BOX,\" POST (F or C),\" \"POST (A),\" and \"ITS DEVICE\" "]
[null,"Columns are places to indicate the features connected by the conduit runs.  The spreadsheet calculates the addition or subtraction to the"]
[null,"conduit length required based on the type of connected structure."]
[null,"Enter the number of each type of connected structure."]
["The \"TOTAL LENGTH\" Column is a formula that calculates the addition or subtraction required and adds that to the center to center distance."]
["The \"SIZES\" Column is the size of the conduit."]
[null,"Enter the size.  The workbook is set-up to handle data input as:"]
[null,null,"1\""]
[null,null,"2\""]
[null,null,"3\""]
[null,null,"2x3\""]
[null,null,"4\""]
[null,"Other sizes can be used.  On the Rev D37b sheet the size headings can be changed to match the size of conduit required.  That data must"]
[null,"be typed the same way as in the \"SIZES\" Column of the Conduit Length Worksheet as it is in the Column heading on the Rev D37b Worksheet."]
[null,"On the Conduit Capacity Auto sheet, an unused size of conduit in the chart starting on Row 120 would need to be overwritten with data for the"]
[null,"used conduit size."]
["The \"TYPE\" Column is the type of conduit."]
[null,"Enter the letter that corresponds to the type of conduit from the chart below"]
[null,null,"L","=Loop Detector Stub"]
[null,null,"M","=Median"]
[null,null,"O","=On Structure"]
[null,null,"P","=Pushed"]
[null,null,"T","=Trenched"]
[]
["Row 56 is colored black.  All data entered above this row will automatically be transferred to the Rev D37b, pull box sizing, and conduit capacity sheets.  Data entered"]
[null,"below this row will not be automatically transferred to the Rev D37b, pull box sizing, and conduit capacity sheets.  If more data needs to be entered"]
[null,"than will fit above row 56, it is recommended that an additional SignalWorksheets.xlsm file be used."]
[]
["Cable Length Worksheet"]
[]
["The Cable Length Worksheet makes adjustments to cable length."]
[]
["Sample:"]
["FROM","TO","CABLE CENTER TO CENTER LENGTHS",null,null,null,null,null,null,null,null,null,null,null,null,null,"DIST C-C","ADDITIONS TO LENGTH",null,null,null,null,null,null,null,null,null,null,null,null,null,null,null,null,null,"TOTAL","CABLE TYPE","# OF CABLES"]
[null,null,null,null,null,null,null,null,null,null,null,null,null,null,null,null,null,"SOURCE","P.S.","CONTROL","ITS CABINET","COPPER PULL BOX","FIBER CLASS2","FIBER CLASS 5","LOOP PULLBOX","SPLICE","MOUNT TYPE","LUMINAIRE","MAST ARMS","JUMPER","VIDEO","LOOP TYPE","LOOP OFFSET","CAMERA","DETECTOR"]
[null,null,null,null,null,null,null,null,null,null,null,null,null,null,null,null,null,"+35","+8","+8","+10","+6","+10","+60",null,"+3",null,null,"+L","+J","+L",null,"+L","+H+5","+H+5"]
[null,null,"d","feature","d","feature","d","feature","d","feature","d","feature","d","feature","d","feature",null,"#","#","#","#","#","#","#","#","#","T","L","L","J","L","T","L","H","H"]
["SOURCE","UPS",{"$f":"+C29","v":9},null,null,null,null,null,null,null,null,null,null,null,null,null,{"$f":"SUM(C75:P75)","v":9},1,1,null,null,null,null,null,null,null,null,null,null,null,null,null,null,null,null,{"$f":"+Q75+R75*35+S75*8+T75*8+U75*10+V75*6+W75*10+X75*60+Y75+Z75*3+IF(AA75=\"PV\",13,IF(AA75=\"PP\",10,IF(AA75=\"PD\",9,IF(AA75=\"MA\",21,IF(AA75=\"BA\",30,IF(AA75=\"MB\",25,0))))))+AB75+AC75+AD75+AE75+IF(AF75=$AO$22,264,IF(AF75=$AO$23,72,IF(AF75=$AO$24,144,0)))+AG75+IF(AH75>0,AH75+5,0)+IF(AI75>0,AI75+5,0)","v":316},"1c-#2",3]
["UPS","CA",{"$f":"+C30","v":11},null,null,null,null,null,null,null,null,null,null,null,null,null,{"$f":"SUM(C76:P76)","v":11},null,1,1,null,1,null,null,null,null,null,null,null,null,null,null,null,null,null,{"$f":"+Q76+R76*35+S76*8+T76*8+U76*10+V76*6+W76*10+X76*60+Y76+Z76*3+IF(AA76=\"PV\",13,IF(AA76=\"PP\",10,IF(AA76=\"PD\",9,IF(AA76=\"MA\",21,IF(AA76=\"BA\",30,IF(AA76=\"MB\",25,0))))))+AB76+AC76+AD76+AE76+IF(AF76=$AO$22,264,IF(AF76=$AO$23,72,IF(AF76=$AO$24,144,0)))+AG76+IF(AH76>0,AH76+5,0)+IF(AI76>0,AI76+5,0)","v":297},"1c-#8",3]
["CA","H21,22",{"$f":"+C31","v":10},"PB1",25,"P9",null,null,null,null,null,null,null,null,null,null,35,null,null,1,null,1,null,null,null,null,"MA",null,33,12,null,null,null,null,null,379,"7c-#16",1]
["C1","D71",{"$f":"+C31","v":10},"PB1",null,null,null,null,null,null,null,null,null,null,null,null,{"$f":"SUM(C78:P78)","v":10},null,null,1,null,null,null,null,1,null,null,null,null,null,null,null,null,null,null,153,"2c-#14",1]
[null,"D71",51,null,null,null,null,null,null,null,null,null,null,null,null,null,{"$f":"SUM(C79:P79)","v":51},null,null,null,null,null,null,null,1,null,null,null,null,null,null,"6x30",51,null,null,279,"1c-#14",1]
[]
["The \"FROM,\" and \"TO\" Columns are the signal feature between which the cable runs."]
[null,"Enter this data based on the signal system layout."]
["The \"d\" and \"feature\" Columns under the cable center to center lengths are the distances between the controller, pull boxes, and poles on which the"]
[null,"signal feature is mounted or the distance between the center of a pull box and the corner of a loop detector nearest the pull box."]
[null,"Enter this data based on the signal system layout."]
[null,"When the \"TO\" feature is last feature a cable runs to (such as the power cable between PS and CA in the sample above) DO NOT reenter"]
[null,"that feature in a \"feature\" Column."]
[null,"Note:  Pull boxes MUST be entered in the \"feature\" Columns the same as the column headings on the Pull Box Sizing Worksheet."]
[null,"All entries in the \"FROM\", \"TO\", and \"feature\" Columns must be entered the same as data in the Conduit Length Worksheet."]
[null,"Note:  Rather than manually typing in the length of the center to center distance between each feature, an equation can be used to reference"]
[null,"the conduit length tab.  Type \"=\", then click on the CONDUIT LENGTH tab and click in the C-C DIST cell required, finally hit enter.  This"]
[null,"will allow future changes to the center to center distances in the conduit length tab to be automatically reflected in the cable lengths.  However,"]
[null,"changes to conduit routing may require updating the equations in the CABLE LENGTH tab to ensure the proper cells in the CONDUIT length"]
[null,"tab are being referenced."]
["The \"DIST C-C\" Column is a formula that sums the Cable Center to Center lengths Column."]
[null,"Note:  More columns can be added under the cable center to center lengths Column.  Check the sum formula in the \"DIST C-C\" to make sure"]
[null,"it includes all the columns under the cable center to center lengths heading.  These columns should be entered to the left of column O.  This"]
[null,"should ensure that Conduit Capacity Auto Worksheet functions properly."]
["The \"SOURCE,\" \"P.S.\" \"CONTROL,\" and \"COPPER PULL BOX\" Columns make additions for the utility pole, power supply, controller and pull boxes respectively."]
[null,"Enter the number of each item encountered in the cable run.  The formulas account for the additional quantity of cable needed at each"]
[null,"location."]
[null,"Do not enter data in the pull box Column when using fiber optic cable or for loop detection in duct or lead in cables."]
["The \"FIBER CLASS2,\" and \"FIBER CLASS5\" Columns make addition to fiber optic cable length in preformed class 2 and preformed class 5 pullboxes"]
[null,"respectively."]
[null,"Enter the number of corresponding type of pull box the cable passes through.  These are used only for fiber optic cable.  The formulas"]
[null,"account for the additional quantity of fiber optic cable needed at each location."]
["The \"LOOP PULLBOX\" Column makes additions to the loop detector in duct and loop detector lead in cables in pull boxes."]
[null,"Enter the number of pullboxes through which the loop detector cables pass."]
["The \"SPLICE\" Column makes additions to cables when two different cables need to be spliced together for lighting."]
[null,"Enter 1 if a cable is spliced."]
["The \"MOUNT TYPE\" Column makes additions for the mounting of the signal equipment."]
[null,"Enter the code that corresponds to the mounting type from the chart below:"]
[null,null,"MA","=Mast arm signal head mounting",null,null,null,null,null,"+21'"]
[null,null,"PV","=Post mounted (top or side) vehicular head",null,null,null,null,null,"+13'"]
[null,null,"PP","=Post mounted (top or side) pedestrian head",null,null,null,null,null,"+10'"]
[null,null,"PD","=Post mounted pedestrian push button detector",null,null,null,null,null,"+9'"]
[null,null,"MB","=Mounting bracket (for video detection cameras only)",null,null,null,null,null,"+25'"]
[null,null,"BA","=Bracket arm mounting (for luminaires or video detection cameras)",null,null,null,null,null,"+30'"]
["The \"LUMINAIRE\" Column makes addition for the mounting of a luminaire   L is the length of the luminaire bracket arm."]
[null,"Enter the length of the luminaire bracket arm."]
["The \"MAST ARM\" Column makes addition for the distance a signal is away from the pole on a mast arm.  L is the distance from the center of the signal"]
[null,"pole to the signal.  When multiple signal heads are on the same arm, L = the mast arm length only for the signal at the end of the mast arm, if"]
[null,"that signal is located less than 1' from the end of the mast arm."]
[null,"Enter the distance between the signal head and the center of the pole."]
["The \"JUMPER\" Column is included when two signal heads are jumped together.  When two heads are jumped to together, the length L in the mast arm"]
[null,"Column should be the distance to the head that is farther from the center of the signal pole.  J is the length of the jumper back to the nearer"]
[null,"signal."]
[null,"Enter the distance between the two heads that the jumper connects."]
["The \"VIDEO\" Column makes additions for the distance a video camera is away from the signal pole.  For cameras mounted on bracket arms, L = the"]
[null,"bracket arm length.  For cameras mounted on mounting brackets, L = the distance along the mast arm that the bracket is located."]
[null,"Enter the distance between the video camera and the center of the pole."]
["The \"LOOP TYPE\" Column makes additions for the cable loop size."]
[null,"Enter the size of the loop from the chart below:"]
[null,null,"6x30"]
[null,null,"6x15"]
[null,null,"6x6"]
[null,"Additional loop sizes could be used.  Enter the total length of cable needed to make the loop in the loop type column rather than the loop size."]
["The \"LOOP OFFSET\" Column makes additions for the return of the cable from the loop back to the pull box."]
[null,"Enter the distance between the pullbox and the corner of the loop nearest the pullbox.  This is the same as the center-to-center distance"]
[null,"shown in the \"DIST C-C\" Column."]
["The \"TOTAL\" Column is a formula that adds cable length as indicated in the additions boxes to the center-to-center distance."]
["The \"CABLE TYPE\" Column indicates what type of cable the is running between the \"FROM\" and \"TO\" features."]
[null,"Enter the cable type from the chart below:"]
[null,null,"7c-#16","=Control cable from controller to vehicular signal heads"]
[null,null,"5c-#16","=Control cable from controller to pedestrian signal heads"]
[null,null,"2c-#16","=Control cable from controller to pedestrian push button detectors."]
[null,null,"2c-#12","=Control cable from controller to the base of the signal pole when a luminaire is mounted on a signal pole."]
[null,null,"12c-#12","=Control cable from controller to controller for hardwire actuated interconnection"]
[null,null,"3 PAIR-#16","=Control cable from controller to controller for hardwire closed-loop actuated interconnection"]
[null,null,"1c-#10","=Control cable from pole base to luminaire"]
[null,null,"1c-#14","=Loop detector cable (\"In duct cable\")"]
[null,null,"2c-#14","=Control cable from controller to pull box nearest induction loop detectors (\"Lead in cable\")"]
[null,null,"VIDEO","=Control cables from controller to video camera for video detection (power and coaxial)"]
[null,null,"24 FIBER","=Fiber optic cable from controller to controller for signal networking"]
[null,null,"1c-#4","=Power cable from power supply to controller"]
[null,null,"1c-#6","=Power cable from power supply to controller",null,null,null,"=Size from Breaker Worksheet.  Only one used per intersection."]
[null,null,"1c-#8","=Power cable from power supply to controller"]
[null,null,"1c-#2","=Power cable from utility company power source to power supply."]
[null,"Note:  Cable type MUST be entered exactly as shown in the chart above."]
[null,"Other types can be used.  On the Rev D37b sheet the type headings can be changed to match the type of cable required.  That data must"]
[null,"be typed the same way as in the \"CABLE TYPE\" Column of the Cable Length Worksheet as it is in the Column headings in either"]
[null,"cells T10-AA10 or cells AB9-AF9 on the Rev D37b Worksheet.  On the conduit Capacity Auto Worksheet, an unused cable type in chart "]
[null,"beginning on Row 120 would need to be overwritten with data for the used cable type."]
[]
["The \"# OF CABLES\" Column indicates how many of each type of cable are running between the \"FROM\" and \"TO\" features.  Generally,"]
[null,"3 power cables run between features and 1 control or fiber optic cable runs between features."]
[null,"Enter the number of cables running between the \"FROM\" and \"TO\" features."]
[]
["Row 57 is colored black.  All data entered above this row will automatically be transferred to the Rev D37b, pull box sizing, and conduit capacity sheets.  Data entered"]
[null,"below this row will not be automatically transferred to the Rev D37b and pull box sizing sheets.  If more data needs to be entered than will fit above row"]
[null,"row 57, it is recommended that an additional SignalWorksheets.xlsm file be used."]
[]
["Breaker Worksheet"]
[]
["There are two sides to the Breaker Worksheet.  The left side is for signals that do not have luminaires mounted on the signal poles.  The right side is"]
[null,"for signals that do have luminaires mounted on the signal poles."]
[]
["Signals without lighting:"]
["The Breaker Worksheet sizes the breakers and the power cables for the signal system."]
[]
["The chart at the top of the worksheet displays the Wattage and Amperage for signal features."]
[]
["The middle section of the worksheet calculates the Breaker Amps for each of the breakers in the controller."]
[null,"Enter the number each of 3-section signal heads, 4-section signal heads, 4-section flashing yellow left signal heads, 5-section signal heads, "]
[null,"and pedestrian heads controlled by the controller."]
[null,"The controller and accessories Amps are the same for all signal designs."]
[]
["The Breaker ratings are shown in bold.  The auxiliary breaker will always be 15 amps.  The signal main breaker will usually be 100 Amps; it should"]
[null,"match the power provided by the utility company.  The controller breaker will vary based on the above calculation."]
[]
["The bottom of the worksheet calculates the wire sizes."]
[null,"Enter the center to center distance between the power supply assembly and the signal controller."]
[null,"Enter the center to center distance between the power source and the power supply."]
[]
["The wire sizes are shown in bold."]
[]
["Signals with lighting:"]
["The pad mounted power supply and lighting control station has 2 circuits available for signal mounted lighting.  If one or two luminaires are provided, they"]
[null,"will be wired to separate circuits with 15 amp breakers.  If more than 2 luminaires are provided, the luminaires will need to be circuited with"]
[null,"splices in the pull boxes and the circuits checked to ensure the breaker sizing is adequate."]
[]
["The chart at the top of the worksheet displays the Wattage and Amperage for signal features."]
[]
["The middle section of the worksheet calculates the Breaker Amps for each of the breakers in the controller."]
[null,"Enter the number each of 3-section signal heads, 4-section signal heads, 4-section flashing yellow left signal heads, 5-section signal heads, "]
[null,"and pedestrian heads controlled by the controller."]
[null,"The controller and accessories Amps are the same for all signal designs."]
[]
["The Breaker ratings are shown in bold.  The auxiliary breaker will always be 15 amps.  The signal main breaker will usually be 100 Amps; it should"]
[null,"match the power provided by the utility company.  The controller breaker will vary based on the above calculation."]
[]
["The next section of the worksheet calculates the lighting breakers for each circuit."]
[null,"Enter the number of luminaires on each circuit."]
[null,"Note:  Due to the short distance lighting circuits at intersections travel, the loading due to line loss is negligible."]
[]
["The bottom of the worksheet calculates the wire sizes."]
[null,"Enter the center to center distance between the power supply assembly and the signal controller."]
[null,"Enter the center to center distance between the power source and the power supply."]
[]
["The wire sizes are shown in bold."]
[]
[]
["Pull Box Sizing Worksheet"]
[]
["The Pull Box Sizing Worksheet determines the pull box size based on the number of conductors passing through it.  This sheet is automated"]
[null,"and the columns under the \"CABLE INFORMATION\" and \"CABLE ROUTING\" headings will be populated as data is inputted into the Cable"]
[null,"Length Worksheet."]
[null,"The user should ensure that the pull box names used in row 3 under both the \"CABLE ROUTING\" and \"CONDUCTORS PER PULL BOX\" headings"]
[null,"match each other AND MUST be the same as the input in the feature columns of the Cable Length tab."]
[null,"More columns can be added for additional pull boxes by inserting columns under the \"CABLE ROUTING\" and \"CONDUCTORS PER PULL BOX\""]
[null,"headings and copying the formulas from adjacent columns."]
[]
["A \"0\" in the \"CABLE\" column indicates that there is no cable identified in the \"CABLE TYPE\" column of the Cable Length Worksheet.  This could be"]
[null,"either because the cable type was inadvertently left blank or because there is no cable in that row of the Cable Length Worksheet."]
[]
["The output at the bottom of the chart provides both the preformed and concrete pull box size required for the given number of conductors.  The designer"]
[null,"can choose preformed or concrete based on the project design."]
[]
["Generally, a class 3 or concrete double is always designated for the pull box nearest the controller regardless of the number of conductors included for"]
[null,"future maintenance.  Generally, a class 2 preformed pull box is the smallest pull box designation for pull boxes at the intersection for future"]
[null,"maintenance.  A class 1 preformed pull  box can be used for loop detector pull boxes."]
[]
[]
["Conduit Capacity Auto Worksheet"]
[]
["The Conduit Capacity Auto worksheet determines if the chosen conduit size is large enough for the all of the cables passing through it.  This sheet is fully"]
[null,"automated from data entered into the Conduit Length and Cable Length Worksheets.  No additional inputs are required by the designer."]
[]
["A \"0\" in the \"CONDUIT FROM\" and \"CONDUIT TO\" rows indicates that there is no conduit identified in the inputs in the Conduit Length Worksheet."]
[null,"A \"0\" in column B indicates that there is no cable identified in the Cable Length Worksheet."]
[]
["The output at the bottom of the chart indicates \"YES\" if the conduit is sufficiently sized to carry all cables and \"NO\" if it is not.  If any conduit shows \"NO,\" the"]
[null,"designer should redesign the indicated runs of conduit."]
[]
["Note:  Rows 120-134 contain data on the sizes of various types of conduits and cables.  If the designer needs to use a conduit or cable size that is not given,"]
[null,"data from an unused conduit cable or cable can be overwritten.  The conduit size and cable type MUST exactly match the conduit size input in the"]
[null,"\"CONDUIT SIZE\" column of the Conduit Length Worksheet and the cable type input into the \"CABLE TYPE\" column on the Cable Length Worksheet,"]
[null,"respectively."]
[]
[]
["Conduit Capacity Worksheet"]
[]
["Each card in the Conduit Capacity Worksheet can be used to check to see if signal control cables fit into a given conduit."]
[]
["Sample:"]
[null,null,"CONDUIT",null,null,null,"CABLE","CONDUIT"]
["CONDUIT RUN",null,"SIZE",null,"CARRIES",null,"AREA","AREA"]
["From","To","#","(in)","#","TYPE","(in2)","(in2)","SUFFICIENT?"]
["CA","PB1",2,3,9,"7c-#16",1.2330000000000001,5.82]
[null,null,null,null,8,"5c-#16",0.93600000000000005]
[null,null,null,null,8,"2c-#16",0.66400000000000003]
[null,null,null,null,1,"2c-#14",0.10199999999999999]
[null,null,null,null,null,"TOTAL",{"$f":"SUM(G269:G272)","v":2.9350000000000001},{"$f":"SUM(H269:H272)","v":5.82},{"$f":"+IF(H273>=G273,\"YES\",\"NO\")","v":"YES"}]
[]
["The Conduit Run \"From\" and \"To\" columns are used to identify the run of conduit being analyzed."]
[null,"Enter this data based on the signal system layout."]
[]
["The Conduit Size columns provide information for determining available area."]
[null,"Enter number of conduits between features and the diameter in inches of the conduit."]
[]
["The Carries columns provide information for identifying all of the cables in the run of conduit."]
[null,"Enter the number and type of each cable from the chart below:"]
[null,null,"7c-#16"]
[null,null,"5c-#16"]
[null,null,"2c-#16"]
[null,null,"2c-#12"]
[null,null,"2c-#14"]
[null,null,"1c-#12"]
[null,null,"1c-#10"]
[null,null,"1c-#2"]
[null,null,"1c-#6"]
[null,null,"1c-#8"]
[null,null,"VIDEO"]
[]
["The Cable Area and Conduit Area columns are automatically calculated based on inputs to the  Conduit Size and Carries columns."]
[null,"Copy and paste formulas as needed in the Cable Area column.  Only 1 conduit area should be shown per card."]
[null,"NOTE:  If wire sizes other than the ones shown in the chart above are used, the Cable Area will show as 0.  The area can"]
[null,"be manually entered in the chart."]
["Note:  Additional rows can be inserted and the formula in the red cells copied to the newly inserted rows."]
[]
[]
[]
["Rev D37b"]
["This sheet is automated to transfer the data input into the Conduit Length and Cable Length Worksheets into a format that fits the Rev D37b sheet "]
[null,"format in Microstation.  This sheet is enabled with Excel to Microstation to transfer the data automatically into Microstation."]
[null,"Note:  The power cable sizes are set to 2AWG and 8AWG.  If other sizes of power cables are used, the heading in Columns V and W"]
[null,"Row 9 should be changed to match the needed size."]
[]
["The spreadsheet can calculate only one type of cable per line.  The designer may choose to consolidate data for loops and lights to a single line in"]
[null,"Microstation."]

{"sheet":"SAMPLE INTERSECTION","index":3,"n_rows":3,"n_cols":1,"rows_kept":3,"cut":false,"hidden":false,"merged":[]}
["Note:  Intersection A is connected to intersection B to the left and intersection C to the right with 24 strand singlemode fiber optic cable.  Fiber pull boxes between intersections are ITS class 2; at"]
["intersections, pull boxes are ITS class 5."]
["Zone 71 is drawn with a loop lead data is input for this detector only to show a sample of how to enter data for loops."]

{"sheet":"CONDUIT LENGTH","index":4,"n_rows":55,"n_cols":15,"rows_kept":55,"cut":false,"hidden":false,"merged":[[0,0,0,12],[1,0,3,0],[1,1,3,1],[1,11,3,11],[1,12,3,12]]}
["CONDUIT LENGTHS"]
["FROM","TO","C-C","SOURCE","P.S. (TYPE 1 or 2)","CONTROLLER or PAD MOUNTED P.S.","PULL BOX","SIGNAL POST (F or C BASE)","SIGNAL POST (A BASE)","ITS DEVICE","TOTAL","SIZES","TYPES"]
[null,null,null,"+0","+0","+4","-1","+2","+4","+5"]
[null,null,"DIST","#","#","#","#","#","#","#","LENGTH",null,null,"Conduit Sizing:"]
[null,null,null,null,null,null,null,null,null,null,{"$f":"+C5+D5*0+E5*0+F5*4+G5*-1+H5*2+I5*4+J5*5","v":0},null,null,"3\" throughout system (ie pull box to pull box, pull box to base)"]
[null,null,null,null,null,null,null,null,null,null,{"$f":"+C6+D6*0+E6*0+F6*4+G6*-1+H6*2+I6*4+J6*5","v":0},null,null,"Two (2) 3\" from controller to its pull box"]
[null,null,null,null,null,null,null,null,null,null,0,null,null,"2\" from power source to power supply"]
[null,null,null,null,null,null,null,null,null,null,0,null,null,"1\" to loop detector"]
[null,null,null,null,null,null,null,null,null,null,0,null,null,"2\" for fiber optic interconnect"]
[null,null,null,null,null,null,null,null,null,null,0]
[null,null,null,null,null,null,null,null,null,null,0,null,null,"Conduit Types:"]
[null,null,null,null,null,null,null,null,null,null,0,null,null,"P = Pushed--used to cross under existing pavement"]
[null,null,null,null,null,null,null,null,null,null,0,null,null,"T = Trenched--used whenever digging is possible"]
[null,null,null,null,null,null,null,null,null,null,0,null,null,"M = In median"]
[null,null,null,null,null,null,null,null,null,null,0,null,null,"O = Externally on structure, typically bridge"]
[null,null,null,null,null,null,null,null,null,null,0,null,null,"L = Loop detector"]
[null,null,null,null,null,null,null,null,null,null,0]
[null,null,null,null,null,null,null,null,null,null,0]
[null,null,null,null,null,null,null,null,null,null,0]
[null,null,null,null,null,null,null,null,null,null,0]
[null,null,null,null,null,null,null,null,null,null,0,null,null,"1\"","L"]
[null,null,null,null,null,null,null,null,null,null,0,null,null,"3\"","T"]
[null,null,null,null,null,null,null,null,null,null,0,null,null,"2\"","P"]
[null,null,null,null,null,null,null,null,null,null,0,null,null,"4\"","M"]
[null,null,null,null,null,null,null,null,null,null,0,null,null,"2X3\"","O"]
[null,null,null,null,null,null,null,null,null,null,0]
[null,null,null,null,null,null,null,null,null,null,0]
[null,null,null,null,null,null,null,null,null,null,0]
[null,null,null,null,null,null,null,null,null,null,0]
[null,null,null,null,null,null,null,null,null,null,0]
[null,null,null,null,null,null,null,null,null,null,0]
[null,null,null,null,null,null,null,null,null,null,0]
[null,null,null,null,null,null,null,null,null,null,0]
[null,null,null,null,null,null,null,null,null,null,0]
[null,null,null,null,null,null,null,null,null,null,0]
[null,null,null,null,null,null,null,null,null,null,0]
[null,null,null,null,null,null,null,null,null,null,0]
[null,null,null,null,null,null,null,null,null,null,0]
[null,null,null,null,null,null,null,null,null,null,0]
[null,null,null,null,null,null,null,null,null,null,0]
[null,null,null,null,null,null,null,null,null,null,0]
[null,null,null,null,null,null,null,null,null,null,0]
[null,null,null,null,null,null,null,null,null,null,0]
[null,null,null,null,null,null,null,null,null,null,0]
[null,null,null,null,null,null,null,null,null,null,0]
[null,null,null,null,null,null,null,null,null,null,0]
[null,null,null,null,null,null,null,null,null,null,0]
[null,null,null,null,null,null,null,null,null,null,0]
[null,null,null,null,null,null,null,null,null,null,0]
[null,null,null,null,null,null,null,null,null,null,0]
[null,null,null,null,null,null,null,null,null,null,0]
[null,null,null,null,null,null,null,null,null,null,0]
[null,null,null,null,null,null,null,null,null,null,0]
[null,null,null,null,null,null,null,null,null,null,0]
[null,null,null,null,null,null,null,null,null,null,0]

{"sheet":"CABLE LENGTH","index":5,"n_rows":56,"n_cols":42,"rows_kept":56,"cut":false,"hidden":false,"merged":[[1,35,4,35],[1,36,4,36],[1,37,4,37],[1,0,4,0],[1,1,4,1],[1,16,4,16],[1,2,3,15],[1,17,1,34]]}
["CABLE LENGTHS"]
["FROM","TO","CABLE CENTER TO CENTER LENGTHS",null,null,null,null,null,null,null,null,null,null,null,null,null,"DIST C-C","ADDITIONS TO LENGTH",null,null,null,null,null,null,null,null,null,null,null,null,null,null,null,null,null,"TOTAL","CABLE TYPE","# OF CABLES"]
[null,null,null,null,null,null,null,null,null,null,null,null,null,null,null,null,null,"SOURCE","P.S.","CONTROL","ITS CABINET","COPPER PULL BOX","FIBER CLASS2","FIBER CLASS5","LOOP PULLBOX","SPLICE","MOUNT TYPE","LUMINAIRE","MAST ARMS","JUMPER","VIDEO","LOOP TYPE","LOOP OFFSET","CAMERA","DETECTOR"]
[null,null,null,null,null,null,null,null,null,null,null,null,null,null,null,null,null,"+35","+8","+8","+10","+6","+10","+60",null,"+3",null,"+L","+L","+J","+L",null,"+L","+H+5","+H+5"]
[null,null,"d","feature","d","feature","d","feature","d","feature","d","feature","d","feature","d","feature",null,"#","#","#","#","#","#","#","#","#","T","L","L","J","L","T","L","H","H"]
[null,null,null,null,null,null,null,null,null,null,null,null,null,null,null,null,{"$f":"SUM(C6:P6)","v":0},null,null,null,null,null,null,null,null,null,null,null,null,null,null,null,null,null,null,{"$f":"+Q6+R6*35+S6*8+T6*8+U6*10+V6*6+W6*10+X6*60+IF(Y6>0,Y6*6-3,0)+Z6*3+IF(AA6=\"PV\",13,IF(AA6=\"PP\",10,IF(AA6=\"PD\",9,IF(AA6=\"MA\",21,IF(AA6=\"BA\",30,IF(AA6=\"MB\",25,0))))))+AB6+AC6+AD6+AE6+IF(AF6=$AO$19,264,IF(AF6=$AO$20,72,IF(AF6=$AO$21,144,IF(AF6>0,AF6,0))))+AG6+IF(AH6>0,AH6+5,0)+IF(AI6>0,AI6+5,0)","v":0},null,null,null,null,"Mounting types:"]
[null,null,null,null,null,null,null,null,null,null,null,null,null,null,null,null,{"$f":"SUM(C7:P7)","v":0},null,null,null,null,null,null,null,null,null,null,null,null,null,null,null,null,null,null,{"$f":"+Q7+R7*35+S7*8+T7*8+U7*10+V7*6+W7*10+X7*60+IF(Y7>0,Y7*6-3,0)+Z7*3+IF(AA7=\"PV\",13,IF(AA7=\"PP\",10,IF(AA7=\"PD\",9,IF(AA7=\"MA\",21,IF(AA7=\"BA\",30,IF(AA7=\"MB\",25,0))))))+AB7+AC7+AD7+AE7+IF(AF7=$AO$19,264,IF(AF7=$AO$20,72,IF(AF7=$AO$21,144,IF(AF7>0,AF7,0))))+AG7+IF(AH7>0,AH7+5,0)+IF(AI7>0,AI7+5,0)","v":0},null,null,null,13,"PV=Post mounted (top or side) vehicular head"]
[null,null,null,null,null,null,null,null,null,null,null,null,null,null,null,null,0,null,null,null,null,null,null,null,null,null,null,null,null,null,null,null,null,null,null,0,null,null,null,10,"PP=Post mounted (top or side) pedestrian head"]
[null,null,null,null,null,null,null,null,null,null,null,null,null,null,null,null,0,null,null,null,null,null,null,null,null,null,null,null,null,null,null,null,null,null,null,0,null,null,null,9,"PD=Post mounted pedestrian push button detector"]
[null,null,null,null,null,null,null,null,null,null,null,null,null,null,null,null,0,null,null,null,null,null,null,null,null,null,null,null,null,null,null,null,null,null,null,0,null,null,null,21,"MA=Mast arm mounting"]
[null,null,null,null,null,null,null,null,null,null,null,null,null,null,null,null,0,null,null,null,null,null,null,null,null,null,null,null,null,null,null,null,null,null,null,0,null,null,null,30,"BA=Bracket arm mounting"]
[null,null,null,null,null,null,null,null,null,null,null,null,null,null,null,null,0,null,null,null,null,null,null,null,null,null,null,null,null,null,null,null,null,null,null,0,null,null,null,25,"MB=Mounting bracket"]
[null,null,null,null,null,null,null,null,null,null,null,null,null,null,null,null,0,null,null,null,null,null,null,null,null,null,null,null,null,null,null,null,null,null,null,0,null,null,null,null,"d is center to center distance between features in the cable run between the controller and the post, i.e. pull boxes"]
[null,null,null,null,null,null,null,null,null,null,null,null,null,null,null,null,0,null,null,null,null,null,null,null,null,null,null,null,null,null,null,null,null,null,null,0,null,null,null,null,"feature labels allow you to organize runs"]
[null,null,null,null,null,null,null,null,null,null,null,null,null,null,null,null,0,null,null,null,null,null,null,null,null,null,null,null,null,null,null,null,null,null,null,0]
[null,null,null,null,null,null,null,null,null,null,null,null,null,null,null,null,0,null,null,null,null,null,null,null,null,null,null,null,null,null,null,null,null,null,null,0,null,null,null,null,"ITS CABINET is for pole or ground mounted cabinets"]
[null,null,null,null,null,null,null,null,null,null,null,null,null,null,null,null,0,null,null,null,null,null,null,null,null,null,null,null,null,null,null,null,null,null,null,0]
[null,null,null,null,null,null,null,null,null,null,null,null,null,null,null,null,0,null,null,null,null,null,null,null,null,null,null,null,null,null,null,null,null,null,null,0,null,null,null,null,"Loop Types:"]
[null,null,null,null,null,null,null,null,null,null,null,null,null,null,null,null,0,null,null,null,null,null,null,null,null,null,null,null,null,null,null,null,null,null,null,0,null,null,null,null,"6x30","264 foot of in duct cable"]
[null,null,null,null,null,null,null,null,null,null,null,null,null,null,null,null,{"$f":"SUM(C20:P20)","v":0},null,null,null,null,null,null,null,null,null,null,null,null,null,null,null,null,null,null,0,null,null,null,null,"6x6","72 foot of in duct cable"]
[null,null,null,null,null,null,null,null,null,null,null,null,null,null,null,null,{"$f":"SUM(C21:P21)","v":0},null,null,null,null,null,null,null,null,null,null,null,null,null,null,null,null,null,null,0,null,null,null,null,"6x15","144 foot of in duct cable"]
[null,null,null,null,null,null,null,null,null,null,null,null,null,null,null,null,0,null,null,null,null,null,null,null,null,null,null,null,null,null,null,null,null,null,null,0]
[null,null,null,null,null,null,null,null,null,null,null,null,null,null,null,null,0,null,null,null,null,null,null,null,null,null,null,null,null,null,null,null,null,null,null,0]
[null,null,null,null,null,null,null,null,null,null,null,null,null,null,null,null,0,null,null,null,null,null,null,null,null,null,null,null,null,null,null,null,null,null,null,0]
[null,null,null,null,null,null,null,null,null,null,null,null,null,null,null,null,0,null,null,null,null,null,null,null,null,null,null,null,null,null,null,null,null,null,null,0]
[null,null,null,null,null,null,null,null,null,null,null,null,null,null,null,null,0,null,null,null,null,null,null,null,null,null,null,null,null,null,null,null,null,null,null,0]
[null,null,null,null,null,null,null,null,null,null,null,null,null,null,null,null,0,null,null,null,null,null,null,null,null,null,null,null,null,null,null,null,null,null,null,0]
[null,null,null,null,null,null,null,null,null,null,null,null,null,null,null,null,0,null,null,null,null,null,null,null,null,null,null,null,null,null,null,null,null,null,null,0]
[null,null,null,null,null,null,null,null,null,null,null,null,null,null,null,null,0,null,null,null,null,null,null,null,null,null,null,null,null,null,null,null,null,null,null,0]
[null,null,null,null,null,null,null,null,null,null,null,null,null,null,null,null,0,null,null,null,null,null,null,null,null,null,null,null,null,null,null,null,null,null,null,0]
[null,null,null,null,null,null,null,null,null,null,null,null,null,null,null,null,0,null,null,null,null,null,null,null,null,null,null,null,null,null,null,null,null,null,null,0]
[null,null,null,null,null,null,null,null,null,null,null,null,null,null,null,null,0,null,null,null,null,null,null,null,null,null,null,null,null,null,null,null,null,null,null,0]
[null,null,null,null,null,null,null,null,null,null,null,null,null,null,null,null,0,null,null,null,null,null,null,null,null,null,null,null,null,null,null,null,null,null,null,0]
[null,null,null,null,null,null,null,null,null,null,null,null,null,null,null,null,0,null,null,null,null,null,null,null,null,null,null,null,null,null,null,null,null,null,null,0]
[null,null,null,null,null,null,null,null,null,null,null,null,null,null,null,null,0,null,null,null,null,null,null,null,null,null,null,null,null,null,null,null,null,null,null,0]
[null,null,null,null,null,null,null,null,null,null,null,null,null,null,null,null,0,null,null,null,null,null,null,null,null,null,null,null,null,null,null,null,null,null,null,0]
[null,null,null,null,null,null,null,null,null,null,null,null,null,null,null,null,0,null,null,null,null,null,null,null,null,null,null,null,null,null,null,null,null,null,null,0]
[null,null,null,null,null,null,null,null,null,null,null,null,null,null,null,null,0,null,null,null,null,null,null,null,null,null,null,null,null,null,null,null,null,null,null,0]
[null,null,null,null,null,null,null,null,null,null,null,null,null,null,null,null,0,null,null,null,null,null,null,null,null,null,null,null,null,null,null,null,null,null,null,0]
[null,null,null,null,null,null,null,null,null,null,null,null,null,null,null,null,0,null,null,null,null,null,null,null,null,null,null,null,null,null,null,null,null,null,null,0]
[null,null,null,null,null,null,null,null,null,null,null,null,null,null,null,null,0,null,null,null,null,null,null,null,null,null,null,null,null,null,null,null,null,null,null,0]
[null,null,null,null,null,null,null,null,null,null,null,null,null,null,null,null,0,null,null,null,null,null,null,null,null,null,null,null,null,null,null,null,null,null,null,0]
[null,null,null,null,null,null,null,null,null,null,null,null,null,null,null,null,0,null,null,null,null,null,null,null,null,null,null,null,null,null,null,null,null,null,null,0]
[null,null,null,null,null,null,null,null,null,null,null,null,null,null,null,null,{"$f":"SUM(C44:P44)","v":0},null,null,null,null,null,null,null,null,null,null,null,null,null,null,null,null,null,null,0]
[null,null,null,null,null,null,null,null,null,null,null,null,null,null,null,null,{"$f":"SUM(C45:P45)","v":0},null,null,null,null,null,null,null,null,null,null,null,null,null,null,null,null,null,null,0]
[null,null,null,null,null,null,null,null,null,null,null,null,null,null,null,null,0,null,null,null,null,null,null,null,null,null,null,null,null,null,null,null,null,null,null,0]
[null,null,null,null,null,null,null,null,null,null,null,null,null,null,null,null,0,null,null,null,null,null,null,null,null,null,null,null,null,null,null,null,null,null,null,0]
[null,null,null,null,null,null,null,null,null,null,null,null,null,null,null,null,0,null,null,null,null,null,null,null,null,null,null,null,null,null,null,null,null,null,null,0]
[null,null,null,null,null,null,null,null,null,null,null,null,null,null,null,null,0,null,null,null,null,null,null,null,null,null,null,null,null,null,null,null,null,null,null,0]
[null,null,null,null,null,null,null,null,null,null,null,null,null,null,null,null,0,null,null,null,null,null,null,null,null,null,null,null,null,null,null,null,null,null,null,0]
[null,null,null,null,null,null,null,null,null,null,null,null,null,null,null,null,{"$f":"SUM(C51:P51)","v":0},null,null,null,null,null,null,null,null,null,null,null,null,null,null,null,null,null,null,0]
[null,null,null,null,null,null,null,null,null,null,null,null,null,null,null,null,0,null,null,null,null,null,null,null,null,null,null,null,null,null,null,null,null,null,null,0]
[null,null,null,null,null,null,null,null,null,null,null,null,null,null,null,null,0,null,null,null,null,null,null,null,null,null,null,null,null,null,null,null,null,null,null,0]
[null,null,null,null,null,null,null,null,null,null,null,null,null,null,null,null,{"$f":"SUM(C54:P54)","v":0},null,null,null,null,null,null,null,null,null,null,null,null,null,null,null,null,null,null,0]
[null,null,null,null,null,null,null,null,null,null,null,null,null,null,null,null,0,null,null,null,null,null,null,null,null,null,null,null,null,null,null,null,null,null,null,0]
[null,null,null,null,null,null,null,null,null,null,null,null,null,null,null,null,0,null,null,null,null,null,null,null,null,null,null,null,null,null,null,null,null,null,null,0]

{"sheet":"BREAKER","index":6,"n_rows":46,"n_cols":9,"rows_kept":46,"cut":false,"hidden":false,"merged":[[0,0,0,3],[0,5,0,8],[29,0,29,1],[20,5,20,6],[21,5,21,6],[22,5,22,6],[24,5,24,6],[25,5,25,6],[44,5,44,6],[20,0,20,1],[21,0,21,1],[22,0,22,1],[24,0,24,1],[25,0,25,1],[28,0,28,1],[43,5,43,6],[41,5,41,6],[39,5,39,6],[40,5,40,6]]}
["Signals without Lighting",null,null,null,null,"Signals with Lighting"]
["SIGNAL FEATURE","WATTS","AMPS",null,null,"SIGNAL FEATURE","WATTS","AMPS"]
["L.E.D.",20,{"$f":"+B3/120","v":0.16666666666666666},null,null,"L.E.D.",20,{"$f":"+G3/120","v":0.16666666666666666}]
["CONTROLLER",480,{"$f":"+B4/120","v":4},null,null,"CONTROLLER",480,{"$f":"+G4/120","v":4}]
["ACCESSORIES",240,{"$f":"+B5/120","v":2},null,null,"ACCESSORIES",240,{"$f":"+G5/120","v":2}]
[null,null,null,null,null,"LUMINAIRE",150,{"$f":"+G6/120","v":1.25}]
[]
[]
["SIGNAL AMPS:",null,null,null,null,"SIGNAL AMPS:"]
["# OF EACH","FEATURE","TOTAL AMPS",null,null,"# OF EACH","FEATURE","TOTAL AMPS"]
[9,"3-SECTION HEAD",{"$f":"+A11*$C$3","v":1.5},"AMPS",null,9,"3-SECTION HEAD",{"$f":"+F11*$C$3","v":1.5},"AMPS"]
[0,"4-SECTION HEAD",{"$f":"2*A12*$C$3","v":0},"AMPS",null,0,"4-SECTION HEAD",{"$f":"2*F12*$C$3","v":0},"AMPS"]
[1,"4-SECTION HEAD: FYL",{"$f":"+A13*$C$3","v":0.16666666666666666},"AMPS",null,1,"4-SECTION HEAD: FYL",{"$f":"+F13*$C$3","v":0.16666666666666666},"AMPS"]
[0,"5-SECTION HEAD",{"$f":"2*A14*$C$3","v":0},"AMPS",null,0,"5-SECTION HEAD",{"$f":"2*F14*$C$3","v":0},"AMPS"]
[8,"PEDESTRIAN HEAD",{"$f":"+A15*$C$3","v":1.3333333333333333},"AMPS",null,8,"PEDESTRIAN HEAD",{"$f":"+F15*$C$3","v":1.3333333333333333},"AMPS"]
[1,"CONTROLLER",{"$f":"+A16*$C$4","v":4},"AMPS",null,1,"CONTROLLER",{"$f":"+F16*$C$4","v":4},"AMPS"]
[1,"ACCESSORIES",{"$f":"A17*$C$5","v":2},"AMPS",null,1,"ACCESSORIES",{"$f":"F17*$C$5","v":2},"AMPS"]
[null,"TOTAL AMPS",{"$f":"SUM(C11:C17)","v":9},"AMPS",null,null,"TOTAL AMPS",{"$f":"SUM(H11:H17)","v":9},"AMPS"]
[null,"*1.3",{"$f":"+C18*1.3","v":11.700000000000001},"AMPS",null,null,"*1.3",{"$f":"+H18*1.3","v":11.700000000000001},"AMPS"]
[]
["AUXILIARY BREAKER",null,15,"AMPS",null,"AUXILIARY BREAKER",null,15,"AMPS"]
["CONTROLLER BREAKER RATING",null,{"$f":"IF(C19>0,IF((IF(C19<=15,15,IF(C19<=20,20,IF(C19<=30,30,IF(C19<=40,40,IF(C19<=50,50,IF(C19<=60,60,0))))))+IF(AND(C19>60,C19<=70)=TRUE,70,IF(AND(C19>70,C19<=80)=TRUE,80,IF(AND(C19>80,C19<=90)=TRUE,90,IF(AND(C19>90,C19<=100)=TRUE,100,0)))))>0,IF(C19<=15,15,IF(C19<=20,20,IF(C19<=30,30,IF(C19<=40,40,IF(C19<=50,50,IF(C19<=60,60,0))))))+IF(AND(C19>60,C19<=70)=TRUE,70,IF(AND(C19>70,C19<=80)=TRUE,80,IF(AND(C19>80,C19<=90)=TRUE,90,IF(AND(C19>90,C19<=100)=TRUE,100,0)))),\"O/R\"),\"N/A\")","v":15},"AMPS",null,"CONTROLLER BREAKER RATING",null,{"$f":"IF(H19>0,IF((IF(H19<=15,15,IF(H19<=20,20,IF(H19<=30,30,IF(H19<=40,40,IF(H19<=50,50,IF(H19<=60,60,0))))))+IF(AND(H19>60,H19<=70)=TRUE,70,IF(AND(H19>70,H19<=80)=TRUE,80,IF(AND(H19>80,H19<=90)=TRUE,90,IF(AND(H19>90,H19<=100)=TRUE,100,0)))))>0,IF(H19<=15,15,IF(H19<=20,20,IF(H19<=30,30,IF(H19<=40,40,IF(H19<=50,50,IF(H19<=60,60,0))))))+IF(AND(H19>60,H19<=70)=TRUE,70,IF(AND(H19>70,H19<=80)=TRUE,80,IF(AND(H19>80,H19<=90)=TRUE,90,IF(AND(H19>90,H19<=100)=TRUE,100,0)))),\"O/R\"),\"N/A\")","v":15},"AMPS"]
["SIGNAL MAIN BREAKER",null,100,"AMPS",null,"SIGNAL MAIN BREAKER",null,100,"AMPS"]
[]
["POWER SUPPLY TO CONTROLLER DISTANCE",null,11,"FEET",null,"POWER SUPPLY TO CONTROLLER DISTANCE",null,11,"FEET"]
["CABLE SIZE (POWER SUPPLY TO CONTROLLER)",null,{"$f":"+(C25+8+8)*1.05*C19*25.8/6","v":1426.2885000000003},"CIRCULAR MILS",null,"CABLE SIZE (POWER SUPPLY TO CONTROLLER)",null,{"$f":"+(H25+8+8)*1.05*H19*25.8/6","v":1426.2885000000003},"CIRCULAR MILS"]
[null,null,{"$f":"IF(C26<=16510,8,IF(C26<=26240,6,IF(C26<41740,4,IF(C26<52620,3,IF(C26<=66360,2,\"SEE EPG\")))))","v":8},"AWG",null,null,null,{"$f":"IF(H26<=16510,8,IF(H26<=26240,6,IF(H26<41740,4,IF(H26<52620,3,IF(H26<=66360,2,\"SEE EPG\")))))","v":8},"AWG"]
[]
["POWER SOURCE TO POWER SUPPLY DISTANCE",null,9,"FEET",null,"LIGHTING CIRCUIT 1:"]
["CABLE SIZE (POWER SOURCE TO POWER SUPPLY)",null,{"$f":"+(C29+35+8)*1.05*C19*25.8/6","v":2746.9259999999999},"CIRCULAR MILS",null,"# OF EACH","FEATURE","TOTAL AMPS"]
[null,null,{"$f":"IF(C30<=66360,2,\"SEE EPG\")","v":2},"AWG",null,2,"LUMINAIRE",{"$f":"+F31*$H$6","v":2.5},"AMPS"]
[null,null,null,null,null,null,"TOTAL AMPS *1.3",{"$f":"+H31*1.3","v":3.25}]
[]
[null,null,null,null,null,"LIGHTING CIRCUIT 2:"]
[null,null,null,null,null,"# OF EACH","FEATURE","TOTAL AMPS"]
[null,null,null,null,null,2,"LUMINAIRE",{"$f":"+F36*$H$6","v":2.5},"AMPS"]
[null,null,null,null,null,null,"TOTAL AMPS *1.3",{"$f":"+H36*1.3","v":3.25}]
[]
[]
[null,null,null,null,null,"LIGHTING CIRCUIT 1 BREAKER",null,{"$f":"IF(H32>0,IF((IF(H32<=15,15,IF(H32<=20,20,IF(H32<=30,30,IF(H32<=40,40,IF(H32<=50,50,IF(H32<=60,60,0))))))+IF(AND(H32>60,H32<=70)=TRUE,70,IF(AND(H32>70,H32<=80)=TRUE,80,IF(AND(H32>80,H32<=90)=TRUE,90,IF(AND(H32>90,H32<=100)=TRUE,100,0)))))>0,IF(H32<=15,15,IF(H32<=20,20,IF(H32<=30,30,IF(H32<=40,40,IF(H32<=50,50,IF(H32<=60,60,0))))))+IF(AND(H32>60,H32<=70)=TRUE,70,IF(AND(H32>70,H32<=80)=TRUE,80,IF(AND(H32>80,H32<=90)=TRUE,90,IF(AND(H32>90,H32<=100)=TRUE,100,0)))),\"O/R\"),\"N/A\")","v":15},"AMPS"]
[null,null,null,null,null,"LIGHTING CIRCUIT 2 BREAKER",null,{"$f":"IF(H37>0,IF((IF(H37<=15,15,IF(H37<=20,20,IF(H37<=30,30,IF(H37<=40,40,IF(H37<=50,50,IF(H37<=60,60,0))))))+IF(AND(H37>60,H37<=70)=TRUE,70,IF(AND(H37>70,H37<=80)=TRUE,80,IF(AND(H37>80,H37<=90)=TRUE,90,IF(AND(H37>90,H37<=100)=TRUE,100,0)))))>0,IF(H37<=15,15,IF(H37<=20,20,IF(H37<=30,30,IF(H37<=40,40,IF(H37<=50,50,IF(H37<=60,60,0))))))+IF(AND(H37>60,H37<=70)=TRUE,70,IF(AND(H37>70,H37<=80)=TRUE,80,IF(AND(H37>80,H37<=90)=TRUE,90,IF(AND(H37>90,H37<=100)=TRUE,100,0)))),\"O/R\"),\"N/A\")","v":15},"AMPS"]
[null,null,null,null,null,"LIGHTING MAIN BREAKER",null,100,"AMPS"]
[]
[null,null,null,null,null,"POWER SOURCE TO POWER SUPPLY DISTANCE",null,9,"FEET"]
[null,null,null,null,null,"CABLE SIZE (POWER SOURCE TO POWER SUPPLY)",null,{"$f":"+(H44+35+8)*1.05*(H19+H32+H37)*25.8/6","v":4272.996000000001},"CIRCULAR MILS"]
[null,null,null,null,null,null,null,{"$f":"IF(H45<=66360,2,\"SEE EPG\")","v":2},"AWG"]

{"sheet":"PULL BOX SIZING","index":7,"n_rows":57,"n_cols":35,"rows_kept":57,"cut":false,"hidden":false,"merged":[[0,28,0,34],[2,0,3,0],[2,1,3,1],[2,2,3,2],[2,3,3,3],[2,4,3,4],[2,5,3,5],[2,8,3,8],[2,9,3,9],[2,10,3,10],[2,11,3,11],[0,0,1,1],[0,2,1,10],[0,11,1,19],[50,32,50,34],[51,0,52,5],[2,18,3,18],[2,19,3,19],[2,32,2,34],[12,32,12,34],[21,32,21,34],[30,32,30,34],[2,12,3,12],[2,13,3,13],[2,14,3,14],[2,15,3,15],[2,16,3,16],[2,17,3,17],[2,6,3,6],[2,7,3,7]]}
["CABLE INFORMATION",null,"CABLE ROUTING",null,null,null,null,null,null,null,null,"CONDUCTORS PER PULL BOX",null,null,null,null,null,null,null,null,null,null,null,null,null,null,null,null,"PULL BOX SIZING"]
[null,null,null,null,null,null,null,null,null,null,null,null,null,null,null,null,null,null,null,null,null,null,null,null,null,null,null,null,"PULL BOX","PB1"]
["CABLE","CONDUCTORS PER CABLE","PB1","PB2","PB3","PB4","PB5","PB6","PB7",null,null,"PB1","PB2","PB3","PB4","PB5","PB6","PB7",null,null,null,null,null,null,null,null,null,null,"CABLE","# of EACH","# of CONDUCTORS","TOTAL CONDUCTORS","PULL BOX SIZE"]
[null,null,null,null,null,null,null,null,null,null,null,null,null,null,null,null,null,null,null,null,null,null,null,null,null,null,null,null,"TYPE","TYPE","PER CABLE","PER TYPE","PREFORMED",null,"CONCRETE"]
[{"$f":"IF('CABLE LENGTH'!AK6>0,'CABLE LENGTH'!AK6,0)","v":0},{"$f":"+IF(A5=\"VIDEO\",5,IF(A5=\"24 FIBER\",0,VALUE(LEFT(A5,1))))","v":0},{"$f":"COUNTIF('CABLE LENGTH'!$A6:$P6,'PULL BOX SIZING'!C$3)*'CABLE LENGTH'!$AL6","v":0},{"$f":"COUNTIF('CABLE LENGTH'!$A6:$P6,'PULL BOX SIZING'!D$3)*'CABLE LENGTH'!$AL6","v":0},{"$f":"COUNTIF('CABLE LENGTH'!$A6:$P6,'PULL BOX SIZING'!E$3)*'CABLE LENGTH'!$AL6","v":0},{"$f":"COUNTIF('CABLE LENGTH'!$A6:$P6,'PULL BOX SIZING'!F$3)*'CABLE LENGTH'!$AL6","v":0},{"$f":"COUNTIF('CABLE LENGTH'!$A6:$P6,'PULL BOX SIZING'!G$3)*'CABLE LENGTH'!$AL6","v":0},{"$f":"COUNTIF('CABLE LENGTH'!$A6:$P6,'PULL BOX SIZING'!H$3)*'CABLE LENGTH'!$AL6","v":0},{"$f":"COUNTIF('CABLE LENGTH'!$A6:$P6,'PULL BOX SIZING'!I$3)*'CABLE LENGTH'!$AL6","v":0},{"$f":"COUNTIF('CABLE LENGTH'!$A6:$P6,'PULL BOX SIZING'!J$3)*'CABLE LENGTH'!$AL6","v":0},{"$f":"COUNTIF('CABLE LENGTH'!$A6:$P6,'PULL BOX SIZING'!K$3)*'CABLE LENGTH'!$AL6","v":0},{"$f":"+C5*$B5","v":0},0,0,0,0,0,0,0,0,null,null,null,null,null,null,null,null,"7c-#12",8,{"$f":"VALUE(LEFT(AC5,1))","v":7},{"$f":"+AE5*AD5","v":56}]
[{"$f":"IF('CABLE LENGTH'!AK7>0,'CABLE LENGTH'!AK7,0)","v":0},0,{"$f":"COUNTIF('CABLE LENGTH'!$A7:$P7,'PULL BOX SIZING'!C$3)*'CABLE LENGTH'!$AL7","v":0},{"$f":"COUNTIF('CABLE LENGTH'!$A7:$P7,'PULL BOX SIZING'!D$3)*'CABLE LENGTH'!$AL7","v":0},{"$f":"COUNTIF('CABLE LENGTH'!$A7:$P7,'PULL BOX SIZING'!E$3)*'CABLE LENGTH'!$AL7","v":0},{"$f":"COUNTIF('CABLE LENGTH'!$A7:$P7,'PULL BOX SIZING'!F$3)*'CABLE LENGTH'!$AL7","v":0},{"$f":"COUNTIF('CABLE LENGTH'!$A7:$P7,'PULL BOX SIZING'!G$3)*'CABLE LENGTH'!$AL7","v":0},{"$f":"COUNTIF('CABLE LENGTH'!$A7:$P7,'PULL BOX SIZING'!H$3)*'CABLE LENGTH'!$AL7","v":0},{"$f":"COUNTIF('CABLE LENGTH'!$A7:$P7,'PULL BOX SIZING'!I$3)*'CABLE LENGTH'!$AL7","v":0},{"$f":"COUNTIF('CABLE LENGTH'!$A7:$P7,'PULL BOX SIZING'!J$3)*'CABLE LENGTH'!$AL7","v":0},{"$f":"COUNTIF('CABLE LENGTH'!$A7:$P7,'PULL BOX SIZING'!K$3)*'CABLE LENGTH'!$AL7","v":0},0,0,0,0,0,0,0,0,0,null,null,null,null,null,null,null,null,"5c-#12",8,{"$f":"VALUE(LEFT(AC6,1))","v":5},{"$f":"+AE6*AD6","v":40}]
[{"$f":"IF('CABLE LENGTH'!AK8>0,'CABLE LENGTH'!AK8,0)","v":0},{"$f":"+IF(A7=\"VIDEO\",5,IF(A7=\"24 FIBER\",0,VALUE(LEFT(A7,1))))","v":0},{"$f":"COUNTIF('CABLE LENGTH'!$A8:$P8,'PULL BOX SIZING'!C$3)*'CABLE LENGTH'!$AL8","v":0},{"$f":"COUNTIF('CABLE LENGTH'!$A8:$P8,'PULL BOX SIZING'!D$3)*'CABLE LENGTH'!$AL8","v":0},{"$f":"COUNTIF('CABLE LENGTH'!$A8:$P8,'PULL BOX SIZING'!E$3)*'CABLE LENGTH'!$AL8","v":0},{"$f":"COUNTIF('CABLE LENGTH'!$A8:$P8,'PULL BOX SIZING'!F$3)*'CABLE LENGTH'!$AL8","v":0},{"$f":"COUNTIF('CABLE LENGTH'!$A8:$P8,'PULL BOX SIZING'!G$3)*'CABLE LENGTH'!$AL8","v":0},{"$f":"COUNTIF('CABLE LENGTH'!$A8:$P8,'PULL BOX SIZING'!H$3)*'CABLE LENGTH'!$AL8","v":0},{"$f":"COUNTIF('CABLE LENGTH'!$A8:$P8,'PULL BOX SIZING'!I$3)*'CABLE LENGTH'!$AL8","v":0},{"$f":"COUNTIF('CABLE LENGTH'!$A8:$P8,'PULL BOX SIZING'!J$3)*'CABLE LENGTH'!$AL8","v":0},{"$f":"COUNTIF('CABLE LENGTH'!$A8:$P8,'PULL BOX SIZING'!K$3)*'CABLE LENGTH'!$AL8","v":0},0,0,0,0,0,0,0,0,0,null,null,null,null,null,null,null,null,"2c-#12",8,{"$f":"VALUE(LEFT(AC7,1))","v":2},{"$f":"+AE7*AD7","v":16}]
[{"$f":"IF('CABLE LENGTH'!AK9>0,'CABLE LENGTH'!AK9,0)","v":0},0,{"$f":"COUNTIF('CABLE LENGTH'!$A9:$P9,'PULL BOX SIZING'!C$3)*'CABLE LENGTH'!$AL9","v":0},{"$f":"COUNTIF('CABLE LENGTH'!$A9:$P9,'PULL BOX SIZING'!D$3)*'CABLE LENGTH'!$AL9","v":0},{"$f":"COUNTIF('CABLE LENGTH'!$A9:$P9,'PULL BOX SIZING'!E$3)*'CABLE LENGTH'!$AL9","v":0},{"$f":"COUNTIF('CABLE LENGTH'!$A9:$P9,'PULL BOX SIZING'!F$3)*'CABLE LENGTH'!$AL9","v":0},{"$f":"COUNTIF('CABLE LENGTH'!$A9:$P9,'PULL BOX SIZING'!G$3)*'CABLE LENGTH'!$AL9","v":0},{"$f":"COUNTIF('CABLE LENGTH'!$A9:$P9,'PULL BOX SIZING'!H$3)*'CABLE LENGTH'!$AL9","v":0},{"$f":"COUNTIF('CABLE LENGTH'!$A9:$P9,'PULL BOX SIZING'!I$3)*'CABLE LENGTH'!$AL9","v":0},{"$f":"COUNTIF('CABLE LENGTH'!$A9:$P9,'PULL BOX SIZING'!J$3)*'CABLE LENGTH'!$AL9","v":0},{"$f":"COUNTIF('CABLE LENGTH'!$A9:$P9,'PULL BOX SIZING'!K$3)*'CABLE LENGTH'!$AL9","v":0},0,0,0,0,0,0,0,0,0,null,null,null,null,null,null,null,null,"1c-#6",3,{"$f":"VALUE(LEFT(AC8,1))","v":1},{"$f":"+AE8*AD8","v":3}]
[{"$f":"IF('CABLE LENGTH'!AK10>0,'CABLE LENGTH'!AK10,0)","v":0},0,{"$f":"COUNTIF('CABLE LENGTH'!$A10:$P10,'PULL BOX SIZING'!C$3)*'CABLE LENGTH'!$AL10","v":0},{"$f":"COUNTIF('CABLE LENGTH'!$A10:$P10,'PULL BOX SIZING'!D$3)*'CABLE LENGTH'!$AL10","v":0},{"$f":"COUNTIF('CABLE LENGTH'!$A10:$P10,'PULL BOX SIZING'!E$3)*'CABLE LENGTH'!$AL10","v":0},{"$f":"COUNTIF('CABLE LENGTH'!$A10:$P10,'PULL BOX SIZING'!F$3)*'CABLE LENGTH'!$AL10","v":0},{"$f":"COUNTIF('CABLE LENGTH'!$A10:$P10,'PULL BOX SIZING'!G$3)*'CABLE LENGTH'!$AL10","v":0},{"$f":"COUNTIF('CABLE LENGTH'!$A10:$P10,'PULL BOX SIZING'!H$3)*'CABLE LENGTH'!$AL10","v":0},{"$f":"COUNTIF('CABLE LENGTH'!$A10:$P10,'PULL BOX SIZING'!I$3)*'CABLE LENGTH'!$AL10","v":0},{"$f":"COUNTIF('CABLE LENGTH'!$A10:$P10,'PULL BOX SIZING'!J$3)*'CABLE LENGTH'!$AL10","v":0},{"$f":"COUNTIF('CABLE LENGTH'!$A10:$P10,'PULL BOX SIZING'!K$3)*'CABLE LENGTH'!$AL10","v":0},0,0,0,0,0,0,0,0,0,null,null,null,null,null,null,null,null,"VIDEO",4,null,{"$f":"+AE9*AD9","v":0}]
[{"$f":"IF('CABLE LENGTH'!AK11>0,'CABLE LENGTH'!AK11,0)","v":0},0,{"$f":"COUNTIF('CABLE LENGTH'!$A11:$P11,'PULL BOX SIZING'!C$3)*'CABLE LENGTH'!$AL11","v":0},{"$f":"COUNTIF('CABLE LENGTH'!$A11:$P11,'PULL BOX SIZING'!D$3)*'CABLE LENGTH'!$AL11","v":0},{"$f":"COUNTIF('CABLE LENGTH'!$A11:$P11,'PULL BOX SIZING'!E$3)*'CABLE LENGTH'!$AL11","v":0},{"$f":"COUNTIF('CABLE LENGTH'!$A11:$P11,'PULL BOX SIZING'!F$3)*'CABLE LENGTH'!$AL11","v":0},{"$f":"COUNTIF('CABLE LENGTH'!$A11:$P11,'PULL BOX SIZING'!G$3)*'CABLE LENGTH'!$AL11","v":0},{"$f":"COUNTIF('CABLE LENGTH'!$A11:$P11,'PULL BOX SIZING'!H$3)*'CABLE LENGTH'!$AL11","v":0},{"$f":"COUNTIF('CABLE LENGTH'!$A11:$P11,'PULL BOX SIZING'!I$3)*'CABLE LENGTH'!$AL11","v":0},{"$f":"COUNTIF('CABLE LENGTH'!$A11:$P11,'PULL BOX SIZING'!J$3)*'CABLE LENGTH'!$AL11","v":0},{"$f":"COUNTIF('CABLE LENGTH'!$A11:$P11,'PULL BOX SIZING'!K$3)*'CABLE LENGTH'!$AL11","v":0},0,0,0,0,0,0,0,0,0,null,null,null,null,null,null,null,null,null,null,"TOTAL",{"$f":"SUM(AF5:AF9)","v":115},{"$f":"IF(AF10>=69,\"CLASS 3\",IF(AF10>22,\"CLASS 2\",\"CLASS 1\"))","v":"CLASS 3"},"or",{"$f":"IF(AF10>=69,\"DOUBLE\",\"STANDARD\")","v":"DOUBLE"}]
[{"$f":"IF('CABLE LENGTH'!AK12>0,'CABLE LENGTH'!AK12,0)","v":0},0,{"$f":"COUNTIF('CABLE LENGTH'!$A12:$P12,'PULL BOX SIZING'!C$3)*'CABLE LENGTH'!$AL12","v":0},{"$f":"COUNTIF('CABLE LENGTH'!$A12:$P12,'PULL BOX SIZING'!D$3)*'CABLE LENGTH'!$AL12","v":0},{"$f":"COUNTIF('CABLE LENGTH'!$A12:$P12,'PULL BOX SIZING'!E$3)*'CABLE LENGTH'!$AL12","v":0},{"$f":"COUNTIF('CABLE LENGTH'!$A12:$P12,'PULL BOX SIZING'!F$3)*'CABLE LENGTH'!$AL12","v":0},{"$f":"COUNTIF('CABLE LENGTH'!$A12:$P12,'PULL BOX SIZING'!G$3)*'CABLE LENGTH'!$AL12","v":0},{"$f":"COUNTIF('CABLE LENGTH'!$A12:$P12,'PULL BOX SIZING'!H$3)*'CABLE LENGTH'!$AL12","v":0},{"$f":"COUNTIF('CABLE LENGTH'!$A12:$P12,'PULL BOX SIZING'!I$3)*'CABLE LENGTH'!$AL12","v":0},{"$f":"COUNTIF('CABLE LENGTH'!$A12:$P12,'PULL BOX SIZING'!J$3)*'CABLE LENGTH'!$AL12","v":0},{"$f":"COUNTIF('CABLE LENGTH'!$A12:$P12,'PULL BOX SIZING'!K$3)*'CABLE LENGTH'!$AL12","v":0},0,0,0,0,0,0,0,0,0]
[{"$f":"IF('CABLE LENGTH'!AK13>0,'CABLE LENGTH'!AK13,0)","v":0},0,{"$f":"COUNTIF('CABLE LENGTH'!$A13:$P13,'PULL BOX SIZING'!C$3)*'CABLE LENGTH'!$AL13","v":0},{"$f":"COUNTIF('CABLE LENGTH'!$A13:$P13,'PULL BOX SIZING'!D$3)*'CABLE LENGTH'!$AL13","v":0},{"$f":"COUNTIF('CABLE LENGTH'!$A13:$P13,'PULL BOX SIZING'!E$3)*'CABLE LENGTH'!$AL13","v":0},{"$f":"COUNTIF('CABLE LENGTH'!$A13:$P13,'PULL BOX SIZING'!F$3)*'CABLE LENGTH'!$AL13","v":0},{"$f":"COUNTIF('CABLE LENGTH'!$A13:$P13,'PULL BOX SIZING'!G$3)*'CABLE LENGTH'!$AL13","v":0},{"$f":"COUNTIF('CABLE LENGTH'!$A13:$P13,'PULL BOX SIZING'!H$3)*'CABLE LENGTH'!$AL13","v":0},{"$f":"COUNTIF('CABLE LENGTH'!$A13:$P13,'PULL BOX SIZING'!I$3)*'CABLE LENGTH'!$AL13","v":0},{"$f":"COUNTIF('CABLE LENGTH'!$A13:$P13,'PULL BOX SIZING'!J$3)*'CABLE LENGTH'!$AL13","v":0},{"$f":"COUNTIF('CABLE LENGTH'!$A13:$P13,'PULL BOX SIZING'!K$3)*'CABLE LENGTH'!$AL13","v":0},0,0,0,0,0,0,0,0,0,null,null,null,null,null,null,null,null,"PULL BOX",2]
[{"$f":"IF('CABLE LENGTH'!AK14>0,'CABLE LENGTH'!AK14,0)","v":0},0,{"$f":"COUNTIF('CABLE LENGTH'!$A14:$P14,'PULL BOX SIZING'!C$3)*'CABLE LENGTH'!$AL14","v":0},{"$f":"COUNTIF('CABLE LENGTH'!$A14:$P14,'PULL BOX SIZING'!D$3)*'CABLE LENGTH'!$AL14","v":0},{"$f":"COUNTIF('CABLE LENGTH'!$A14:$P14,'PULL BOX SIZING'!E$3)*'CABLE LENGTH'!$AL14","v":0},{"$f":"COUNTIF('CABLE LENGTH'!$A14:$P14,'PULL BOX SIZING'!F$3)*'CABLE LENGTH'!$AL14","v":0},{"$f":"COUNTIF('CABLE LENGTH'!$A14:$P14,'PULL BOX SIZING'!G$3)*'CABLE LENGTH'!$AL14","v":0},{"$f":"COUNTIF('CABLE LENGTH'!$A14:$P14,'PULL BOX SIZING'!H$3)*'CABLE LENGTH'!$AL14","v":0},{"$f":"COUNTIF('CABLE LENGTH'!$A14:$P14,'PULL BOX SIZING'!I$3)*'CABLE LENGTH'!$AL14","v":0},{"$f":"COUNTIF('CABLE LENGTH'!$A14:$P14,'PULL BOX SIZING'!J$3)*'CABLE LENGTH'!$AL14","v":0},{"$f":"COUNTIF('CABLE LENGTH'!$A14:$P14,'PULL BOX SIZING'!K$3)*'CABLE LENGTH'!$AL14","v":0},0,0,0,0,0,0,0,0,0,null,null,null,null,null,null,null,null,"CABLE","# of EACH","# of CONDUCTORS","TOTAL CONDUCTORS","PULL BOX SIZE"]
[{"$f":"IF('CABLE LENGTH'!AK15>0,'CABLE LENGTH'!AK15,0)","v":0},0,{"$f":"COUNTIF('CABLE LENGTH'!$A15:$P15,'PULL BOX SIZING'!C$3)*'CABLE LENGTH'!$AL15","v":0},{"$f":"COUNTIF('CABLE LENGTH'!$A15:$P15,'PULL BOX SIZING'!D$3)*'CABLE LENGTH'!$AL15","v":0},{"$f":"COUNTIF('CABLE LENGTH'!$A15:$P15,'PULL BOX SIZING'!E$3)*'CABLE LENGTH'!$AL15","v":0},{"$f":"COUNTIF('CABLE LENGTH'!$A15:$P15,'PULL BOX SIZING'!F$3)*'CABLE LENGTH'!$AL15","v":0},{"$f":"COUNTIF('CABLE LENGTH'!$A15:$P15,'PULL BOX SIZING'!G$3)*'CABLE LENGTH'!$AL15","v":0},{"$f":"COUNTIF('CABLE LENGTH'!$A15:$P15,'PULL BOX SIZING'!H$3)*'CABLE LENGTH'!$AL15","v":0},{"$f":"COUNTIF('CABLE LENGTH'!$A15:$P15,'PULL BOX SIZING'!I$3)*'CABLE LENGTH'!$AL15","v":0},{"$f":"COUNTIF('CABLE LENGTH'!$A15:$P15,'PULL BOX SIZING'!J$3)*'CABLE LENGTH'!$AL15","v":0},{"$f":"COUNTIF('CABLE LENGTH'!$A15:$P15,'PULL BOX SIZING'!K$3)*'CABLE LENGTH'!$AL15","v":0},0,0,0,0,0,0,0,0,0,null,null,null,null,null,null,null,null,"TYPE","TYPE","PER CABLE","PER TYPE","PREFORMED",null,"CONCRETE"]
[{"$f":"IF('CABLE LENGTH'!AK16>0,'CABLE LENGTH'!AK16,0)","v":0},0,{"$f":"COUNTIF('CABLE LENGTH'!$A16:$P16,'PULL BOX SIZING'!C$3)*'CABLE LENGTH'!$AL16","v":0},{"$f":"COUNTIF('CABLE LENGTH'!$A16:$P16,'PULL BOX SIZING'!D$3)*'CABLE LENGTH'!$AL16","v":0},{"$f":"COUNTIF('CABLE LENGTH'!$A16:$P16,'PULL BOX SIZING'!E$3)*'CABLE LENGTH'!$AL16","v":0},{"$f":"COUNTIF('CABLE LENGTH'!$A16:$P16,'PULL BOX SIZING'!F$3)*'CABLE LENGTH'!$AL16","v":0},{"$f":"COUNTIF('CABLE LENGTH'!$A16:$P16,'PULL BOX SIZING'!G$3)*'CABLE LENGTH'!$AL16","v":0},{"$f":"COUNTIF('CABLE LENGTH'!$A16:$P16,'PULL BOX SIZING'!H$3)*'CABLE LENGTH'!$AL16","v":0},{"$f":"COUNTIF('CABLE LENGTH'!$A16:$P16,'PULL BOX SIZING'!I$3)*'CABLE LENGTH'!$AL16","v":0},{"$f":"COUNTIF('CABLE LENGTH'!$A16:$P16,'PULL BOX SIZING'!J$3)*'CABLE LENGTH'!$AL16","v":0},{"$f":"COUNTIF('CABLE LENGTH'!$A16:$P16,'PULL BOX SIZING'!K$3)*'CABLE LENGTH'!$AL16","v":0},0,0,0,0,0,0,0,0,0,null,null,null,null,null,null,null,null,"7c-#12",4,{"$f":"VALUE(LEFT(AC15,1))","v":7},{"$f":"+AE15*AD15","v":28}]
[{"$f":"IF('CABLE LENGTH'!AK17>0,'CABLE LENGTH'!AK17,0)","v":0},0,{"$f":"COUNTIF('CABLE LENGTH'!$A17:$P17,'PULL BOX SIZING'!C$3)*'CABLE LENGTH'!$AL17","v":0},{"$f":"COUNTIF('CABLE LENGTH'!$A17:$P17,'PULL BOX SIZING'!D$3)*'CABLE LENGTH'!$AL17","v":0},{"$f":"COUNTIF('CABLE LENGTH'!$A17:$P17,'PULL BOX SIZING'!E$3)*'CABLE LENGTH'!$AL17","v":0},{"$f":"COUNTIF('CABLE LENGTH'!$A17:$P17,'PULL BOX SIZING'!F$3)*'CABLE LENGTH'!$AL17","v":0},{"$f":"COUNTIF('CABLE LENGTH'!$A17:$P17,'PULL BOX SIZING'!G$3)*'CABLE LENGTH'!$AL17","v":0},{"$f":"COUNTIF('CABLE LENGTH'!$A17:$P17,'PULL BOX SIZING'!H$3)*'CABLE LENGTH'!$AL17","v":0},{"$f":"COUNTIF('CABLE LENGTH'!$A17:$P17,'PULL BOX SIZING'!I$3)*'CABLE LENGTH'!$AL17","v":0},{"$f":"COUNTIF('CABLE LENGTH'!$A17:$P17,'PULL BOX SIZING'!J$3)*'CABLE LENGTH'!$AL17","v":0},{"$f":"COUNTIF('CABLE LENGTH'!$A17:$P17,'PULL BOX SIZING'!K$3)*'CABLE LENGTH'!$AL17","v":0},0,0,0,0,0,0,0,0,0,null,null,null,null,null,null,null,null,"5c-#12",4,{"$f":"VALUE(LEFT(AC16,1))","v":5},{"$f":"+AE16*AD16","v":20}]
[{"$f":"IF('CABLE LENGTH'!AK18>0,'CABLE LENGTH'!AK18,0)","v":0},0,{"$f":"COUNTIF('CABLE LENGTH'!$A18:$P18,'PULL BOX SIZING'!C$3)*'CABLE LENGTH'!$AL18","v":0},{"$f":"COUNTIF('CABLE LENGTH'!$A18:$P18,'PULL BOX SIZING'!D$3)*'CABLE LENGTH'!$AL18","v":0},{"$f":"COUNTIF('CABLE LENGTH'!$A18:$P18,'PULL BOX SIZING'!E$3)*'CABLE LENGTH'!$AL18","v":0},{"$f":"COUNTIF('CABLE LENGTH'!$A18:$P18,'PULL BOX SIZING'!F$3)*'CABLE LENGTH'!$AL18","v":0},{"$f":"COUNTIF('CABLE LENGTH'!$A18:$P18,'PULL BOX SIZING'!G$3)*'CABLE LENGTH'!$AL18","v":0},{"$f":"COUNTIF('CABLE LENGTH'!$A18:$P18,'PULL BOX SIZING'!H$3)*'CABLE LENGTH'!$AL18","v":0},{"$f":"COUNTIF('CABLE LENGTH'!$A18:$P18,'PULL BOX SIZING'!I$3)*'CABLE LENGTH'!$AL18","v":0},{"$f":"COUNTIF('CABLE LENGTH'!$A18:$P18,'PULL BOX SIZING'!J$3)*'CABLE LENGTH'!$AL18","v":0},{"$f":"COUNTIF('CABLE LENGTH'!$A18:$P18,'PULL BOX SIZING'!K$3)*'CABLE LENGTH'!$AL18","v":0},0,0,0,0,0,0,0,0,0,null,null,null,null,null,null,null,null,"2c-#12",4,{"$f":"VALUE(LEFT(AC17,1))","v":2},{"$f":"+AE17*AD17","v":8}]
[{"$f":"IF('CABLE LENGTH'!AK19>0,'CABLE LENGTH'!AK19,0)","v":0},0,{"$f":"COUNTIF('CABLE LENGTH'!$A19:$P19,'PULL BOX SIZING'!C$3)*'CABLE LENGTH'!$AL19","v":0},{"$f":"COUNTIF('CABLE LENGTH'!$A19:$P19,'PULL BOX SIZING'!D$3)*'CABLE LENGTH'!$AL19","v":0},{"$f":"COUNTIF('CABLE LENGTH'!$A19:$P19,'PULL BOX SIZING'!E$3)*'CABLE LENGTH'!$AL19","v":0},{"$f":"COUNTIF('CABLE LENGTH'!$A19:$P19,'PULL BOX SIZING'!F$3)*'CABLE LENGTH'!$AL19","v":0},{"$f":"COUNTIF('CABLE LENGTH'!$A19:$P19,'PULL BOX SIZING'!G$3)*'CABLE LENGTH'!$AL19","v":0},{"$f":"COUNTIF('CABLE LENGTH'!$A19:$P19,'PULL BOX SIZING'!H$3)*'CABLE LENGTH'!$AL19","v":0},{"$f":"COUNTIF('CABLE LENGTH'!$A19:$P19,'PULL BOX SIZING'!I$3)*'CABLE LENGTH'!$AL19","v":0},{"$f":"COUNTIF('CABLE LENGTH'!$A19:$P19,'PULL BOX SIZING'!J$3)*'CABLE LENGTH'!$AL19","v":0},{"$f":"COUNTIF('CABLE LENGTH'!$A19:$P19,'PULL BOX SIZING'!K$3)*'CABLE LENGTH'!$AL19","v":0},0,0,0,0,0,0,0,0,0,null,null,null,null,null,null,null,null,"VIDEO",2,null,{"$f":"+AE18*AD18","v":0}]
[{"$f":"IF('CABLE LENGTH'!AK20>0,'CABLE LENGTH'!AK20,0)","v":0},0,{"$f":"COUNTIF('CABLE LENGTH'!$A20:$P20,'PULL BOX SIZING'!C$3)*'CABLE LENGTH'!$AL20","v":0},{"$f":"COUNTIF('CABLE LENGTH'!$A20:$P20,'PULL BOX SIZING'!D$3)*'CABLE LENGTH'!$AL20","v":0},{"$f":"COUNTIF('CABLE LENGTH'!$A20:$P20,'PULL BOX SIZING'!E$3)*'CABLE LENGTH'!$AL20","v":0},{"$f":"COUNTIF('CABLE LENGTH'!$A20:$P20,'PULL BOX SIZING'!F$3)*'CABLE LENGTH'!$AL20","v":0},{"$f":"COUNTIF('CABLE LENGTH'!$A20:$P20,'PULL BOX SIZING'!G$3)*'CABLE LENGTH'!$AL20","v":0},{"$f":"COUNTIF('CABLE LENGTH'!$A20:$P20,'PULL BOX SIZING'!H$3)*'CABLE LENGTH'!$AL20","v":0},{"$f":"COUNTIF('CABLE LENGTH'!$A20:$P20,'PULL BOX SIZING'!I$3)*'CABLE LENGTH'!$AL20","v":0},{"$f":"COUNTIF('CABLE LENGTH'!$A20:$P20,'PULL BOX SIZING'!J$3)*'CABLE LENGTH'!$AL20","v":0},{"$f":"COUNTIF('CABLE LENGTH'!$A20:$P20,'PULL BOX SIZING'!K$3)*'CABLE LENGTH'!$AL20","v":0},0,0,0,0,0,0,0,0,0,null,null,null,null,null,null,null,null,null,null,"TOTAL",{"$f":"SUM(AF15:AF18)","v":56},{"$f":"IF(AF19>=69,\"CLASS 3\",IF(AF19>22,\"CLASS 2\",\"CLASS 1\"))","v":"CLASS 2"},"or",{"$f":"IF(AF19>=69,\"DOUBLE\",\"STANDARD\")","v":"STANDARD"}]
[{"$f":"IF('CABLE LENGTH'!AK21>0,'CABLE LENGTH'!AK21,0)","v":0},0,{"$f":"COUNTIF('CABLE LENGTH'!$A21:$P21,'PULL BOX SIZING'!C$3)*'CABLE LENGTH'!$AL21","v":0},{"$f":"COUNTIF('CABLE LENGTH'!$A21:$P21,'PULL BOX SIZING'!D$3)*'CABLE LENGTH'!$AL21","v":0},{"$f":"COUNTIF('CABLE LENGTH'!$A21:$P21,'PULL BOX SIZING'!E$3)*'CABLE LENGTH'!$AL21","v":0},{"$f":"COUNTIF('CABLE LENGTH'!$A21:$P21,'PULL BOX SIZING'!F$3)*'CABLE LENGTH'!$AL21","v":0},{"$f":"COUNTIF('CABLE LENGTH'!$A21:$P21,'PULL BOX SIZING'!G$3)*'CABLE LENGTH'!$AL21","v":0},{"$f":"COUNTIF('CABLE LENGTH'!$A21:$P21,'PULL BOX SIZING'!H$3)*'CABLE LENGTH'!$AL21","v":0},{"$f":"COUNTIF('CABLE LENGTH'!$A21:$P21,'PULL BOX SIZING'!I$3)*'CABLE LENGTH'!$AL21","v":0},{"$f":"COUNTIF('CABLE LENGTH'!$A21:$P21,'PULL BOX SIZING'!J$3)*'CABLE LENGTH'!$AL21","v":0},{"$f":"COUNTIF('CABLE LENGTH'!$A21:$P21,'PULL BOX SIZING'!K$3)*'CABLE LENGTH'!$AL21","v":0},0,0,0,0,0,0,0,0,0]
[{"$f":"IF('CABLE LENGTH'!AK22>0,'CABLE LENGTH'!AK22,0)","v":0},0,{"$f":"COUNTIF('CABLE LENGTH'!$A22:$P22,'PULL BOX SIZING'!C$3)*'CABLE LENGTH'!$AL22","v":0},{"$f":"COUNTIF('CABLE LENGTH'!$A22:$P22,'PULL BOX SIZING'!D$3)*'CABLE LENGTH'!$AL22","v":0},{"$f":"COUNTIF('CABLE LENGTH'!$A22:$P22,'PULL BOX SIZING'!E$3)*'CABLE LENGTH'!$AL22","v":0},{"$f":"COUNTIF('CABLE LENGTH'!$A22:$P22,'PULL BOX SIZING'!F$3)*'CABLE LENGTH'!$AL22","v":0},{"$f":"COUNTIF('CABLE LENGTH'!$A22:$P22,'PULL BOX SIZING'!G$3)*'CABLE LENGTH'!$AL22","v":0},{"$f":"COUNTIF('CABLE LENGTH'!$A22:$P22,'PULL BOX SIZING'!H$3)*'CABLE LENGTH'!$AL22","v":0},{"$f":"COUNTIF('CABLE LENGTH'!$A22:$P22,'PULL BOX SIZING'!I$3)*'CABLE LENGTH'!$AL22","v":0},{"$f":"COUNTIF('CABLE LENGTH'!$A22:$P22,'PULL BOX SIZING'!J$3)*'CABLE LENGTH'!$AL22","v":0},{"$f":"COUNTIF('CABLE LENGTH'!$A22:$P22,'PULL BOX SIZING'!K$3)*'CABLE LENGTH'!$AL22","v":0},{"$f":"+C21*$B21","v":0},0,0,0,0,0,0,0,0,null,null,null,null,null,null,null,null,"PULL BOX",3]
[{"$f":"IF('CABLE LENGTH'!AK23>0,'CABLE LENGTH'!AK23,0)","v":0},0,{"$f":"COUNTIF('CABLE LENGTH'!$A23:$P23,'PULL BOX SIZING'!C$3)*'CABLE LENGTH'!$AL23","v":0},{"$f":"COUNTIF('CABLE LENGTH'!$A23:$P23,'PULL BOX SIZING'!D$3)*'CABLE LENGTH'!$AL23","v":0},{"$f":"COUNTIF('CABLE LENGTH'!$A23:$P23,'PULL BOX SIZING'!E$3)*'CABLE LENGTH'!$AL23","v":0},{"$f":"COUNTIF('CABLE LENGTH'!$A23:$P23,'PULL BOX SIZING'!F$3)*'CABLE LENGTH'!$AL23","v":0},{"$f":"COUNTIF('CABLE LENGTH'!$A23:$P23,'PULL BOX SIZING'!G$3)*'CABLE LENGTH'!$AL23","v":0},{"$f":"COUNTIF('CABLE LENGTH'!$A23:$P23,'PULL BOX SIZING'!H$3)*'CABLE LENGTH'!$AL23","v":0},{"$f":"COUNTIF('CABLE LENGTH'!$A23:$P23,'PULL BOX SIZING'!I$3)*'CABLE LENGTH'!$AL23","v":0},{"$f":"COUNTIF('CABLE LENGTH'!$A23:$P23,'PULL BOX SIZING'!J$3)*'CABLE LENGTH'!$AL23","v":0},{"$f":"COUNTIF('CABLE LENGTH'!$A23:$P23,'PULL BOX SIZING'!K$3)*'CABLE LENGTH'!$AL23","v":0},0,0,0,0,0,0,0,0,0,null,null,null,null,null,null,null,null,"CABLE","# of EACH","# of CONDUCTORS","TOTAL CONDUCTORS","PULL BOX SIZE"]
[{"$f":"IF('CABLE LENGTH'!AK24>0,'CABLE LENGTH'!AK24,0)","v":0},0,{"$f":"COUNTIF('CABLE LENGTH'!$A24:$P24,'PULL BOX SIZING'!C$3)*'CABLE LENGTH'!$AL24","v":0},{"$f":"COUNTIF('CABLE LENGTH'!$A24:$P24,'PULL BOX SIZING'!D$3)*'CABLE LENGTH'!$AL24","v":0},{"$f":"COUNTIF('CABLE LENGTH'!$A24:$P24,'PULL BOX SIZING'!E$3)*'CABLE LENGTH'!$AL24","v":0},{"$f":"COUNTIF('CABLE LENGTH'!$A24:$P24,'PULL BOX SIZING'!F$3)*'CABLE LENGTH'!$AL24","v":0},{"$f":"COUNTIF('CABLE LENGTH'!$A24:$P24,'PULL BOX SIZING'!G$3)*'CABLE LENGTH'!$AL24","v":0},{"$f":"COUNTIF('CABLE LENGTH'!$A24:$P24,'PULL BOX SIZING'!H$3)*'CABLE LENGTH'!$AL24","v":0},{"$f":"COUNTIF('CABLE LENGTH'!$A24:$P24,'PULL BOX SIZING'!I$3)*'CABLE LENGTH'!$AL24","v":0},{"$f":"COUNTIF('CABLE LENGTH'!$A24:$P24,'PULL BOX SIZING'!J$3)*'CABLE LENGTH'!$AL24","v":0},{"$f":"COUNTIF('CABLE LENGTH'!$A24:$P24,'PULL BOX SIZING'!K$3)*'CABLE LENGTH'!$AL24","v":0},0,0,0,0,0,0,0,0,0,null,null,null,null,null,null,null,null,"TYPE","TYPE","PER CABLE","PER TYPE","PREFORMED",null,"CONCRETE"]
[{"$f":"IF('CABLE LENGTH'!AK25>0,'CABLE LENGTH'!AK25,0)","v":0},0,{"$f":"COUNTIF('CABLE LENGTH'!$A25:$P25,'PULL BOX SIZING'!C$3)*'CABLE LENGTH'!$AL25","v":0},{"$f":"COUNTIF('CABLE LENGTH'!$A25:$P25,'PULL BOX SIZING'!D$3)*'CABLE LENGTH'!$AL25","v":0},{"$f":"COUNTIF('CABLE LENGTH'!$A25:$P25,'PULL BOX SIZING'!E$3)*'CABLE LENGTH'!$AL25","v":0},{"$f":"COUNTIF('CABLE LENGTH'!$A25:$P25,'PULL BOX SIZING'!F$3)*'CABLE LENGTH'!$AL25","v":0},{"$f":"COUNTIF('CABLE LENGTH'!$A25:$P25,'PULL BOX SIZING'!G$3)*'CABLE LENGTH'!$AL25","v":0},{"$f":"COUNTIF('CABLE LENGTH'!$A25:$P25,'PULL BOX SIZING'!H$3)*'CABLE LENGTH'!$AL25","v":0},{"$f":"COUNTIF('CABLE LENGTH'!$A25:$P25,'PULL BOX SIZING'!I$3)*'CABLE LENGTH'!$AL25","v":0},{"$f":"COUNTIF('CABLE LENGTH'!$A25:$P25,'PULL BOX SIZING'!J$3)*'CABLE LENGTH'!$AL25","v":0},{"$f":"COUNTIF('CABLE LENGTH'!$A25:$P25,'PULL BOX SIZING'!K$3)*'CABLE LENGTH'!$AL25","v":0},0,0,0,0,0,0,0,0,0,null,null,null,null,null,null,null,null,"7c-#12",2,{"$f":"VALUE(LEFT(AC24,1))","v":7},{"$f":"+AE24*AD24","v":14}]
[{"$f":"IF('CABLE LENGTH'!AK26>0,'CABLE LENGTH'!AK26,0)","v":0},0,{"$f":"COUNTIF('CABLE LENGTH'!$A26:$P26,'PULL BOX SIZING'!C$3)*'CABLE LENGTH'!$AL26","v":0},{"$f":"COUNTIF('CABLE LENGTH'!$A26:$P26,'PULL BOX SIZING'!D$3)*'CABLE LENGTH'!$AL26","v":0},{"$f":"COUNTIF('CABLE LENGTH'!$A26:$P26,'PULL BOX SIZING'!E$3)*'CABLE LENGTH'!$AL26","v":0},{"$f":"COUNTIF('CABLE LENGTH'!$A26:$P26,'PULL BOX SIZING'!F$3)*'CABLE LENGTH'!$AL26","v":0},{"$f":"COUNTIF('CABLE LENGTH'!$A26:$P26,'PULL BOX SIZING'!G$3)*'CABLE LENGTH'!$AL26","v":0},{"$f":"COUNTIF('CABLE LENGTH'!$A26:$P26,'PULL BOX SIZING'!H$3)*'CABLE LENGTH'!$AL26","v":0},{"$f":"COUNTIF('CABLE LENGTH'!$A26:$P26,'PULL BOX SIZING'!I$3)*'CABLE LENGTH'!$AL26","v":0},{"$f":"COUNTIF('CABLE LENGTH'!$A26:$P26,'PULL BOX SIZING'!J$3)*'CABLE LENGTH'!$AL26","v":0},{"$f":"COUNTIF('CABLE LENGTH'!$A26:$P26,'PULL BOX SIZING'!K$3)*'CABLE LENGTH'!$AL26","v":0},0,0,0,0,0,0,0,0,0,null,null,null,null,null,null,null,null,"5c-#12",2,{"$f":"VALUE(LEFT(AC25,1))","v":5},{"$f":"+AE25*AD25","v":10}]
[{"$f":"IF('CABLE LENGTH'!AK27>0,'CABLE LENGTH'!AK27,0)","v":0},0,{"$f":"COUNTIF('CABLE LENGTH'!$A27:$P27,'PULL BOX SIZING'!C$3)*'CABLE LENGTH'!$AL27","v":0},{"$f":"COUNTIF('CABLE LENGTH'!$A27:$P27,'PULL BOX SIZING'!D$3)*'CABLE LENGTH'!$AL27","v":0},{"$f":"COUNTIF('CABLE LENGTH'!$A27:$P27,'PULL BOX SIZING'!E$3)*'CABLE LENGTH'!$AL27","v":0},{"$f":"COUNTIF('CABLE LENGTH'!$A27:$P27,'PULL BOX SIZING'!F$3)*'CABLE LENGTH'!$AL27","v":0},{"$f":"COUNTIF('CABLE LENGTH'!$A27:$P27,'PULL BOX SIZING'!G$3)*'CABLE LENGTH'!$AL27","v":0},{"$f":"COUNTIF('CABLE LENGTH'!$A27:$P27,'PULL BOX SIZING'!H$3)*'CABLE LENGTH'!$AL27","v":0},{"$f":"COUNTIF('CABLE LENGTH'!$A27:$P27,'PULL BOX SIZING'!I$3)*'CABLE LENGTH'!$AL27","v":0},{"$f":"COUNTIF('CABLE LENGTH'!$A27:$P27,'PULL BOX SIZING'!J$3)*'CABLE LENGTH'!$AL27","v":0},{"$f":"COUNTIF('CABLE LENGTH'!$A27:$P27,'PULL BOX SIZING'!K$3)*'CABLE LENGTH'!$AL27","v":0},0,0,0,0,0,0,0,0,0,null,null,null,null,null,null,null,null,"2c-#12",2,{"$f":"VALUE(LEFT(AC26,1))","v":2},{"$f":"+AE26*AD26","v":4}]
[{"$f":"IF('CABLE LENGTH'!AK28>0,'CABLE LENGTH'!AK28,0)","v":0},0,{"$f":"COUNTIF('CABLE LENGTH'!$A28:$P28,'PULL BOX SIZING'!C$3)*'CABLE LENGTH'!$AL28","v":0},{"$f":"COUNTIF('CABLE LENGTH'!$A28:$P28,'PULL BOX SIZING'!D$3)*'CABLE LENGTH'!$AL28","v":0},{"$f":"COUNTIF('CABLE LENGTH'!$A28:$P28,'PULL BOX SIZING'!E$3)*'CABLE LENGTH'!$AL28","v":0},{"$f":"COUNTIF('CABLE LENGTH'!$A28:$P28,'PULL BOX SIZING'!F$3)*'CABLE LENGTH'!$AL28","v":0},{"$f":"COUNTIF('CABLE LENGTH'!$A28:$P28,'PULL BOX SIZING'!G$3)*'CABLE LENGTH'!$AL28","v":0},{"$f":"COUNTIF('CABLE LENGTH'!$A28:$P28,'PULL BOX SIZING'!H$3)*'CABLE LENGTH'!$AL28","v":0},{"$f":"COUNTIF('CABLE LENGTH'!$A28:$P28,'PULL BOX SIZING'!I$3)*'CABLE LENGTH'!$AL28","v":0},{"$f":"COUNTIF('CABLE LENGTH'!$A28:$P28,'PULL BOX SIZING'!J$3)*'CABLE LENGTH'!$AL28","v":0},{"$f":"COUNTIF('CABLE LENGTH'!$A28:$P28,'PULL BOX SIZING'!K$3)*'CABLE LENGTH'!$AL28","v":0},0,0,0,0,0,0,0,0,0,null,null,null,null,null,null,null,null,"VIDEO",1,null,{"$f":"+AE27*AD27","v":0}]
[{"$f":"IF('CABLE LENGTH'!AK29>0,'CABLE LENGTH'!AK29,0)","v":0},0,{"$f":"COUNTIF('CABLE LENGTH'!$A29:$P29,'PULL BOX SIZING'!C$3)*'CABLE LENGTH'!$AL29","v":0},{"$f":"COUNTIF('CABLE LENGTH'!$A29:$P29,'PULL BOX SIZING'!D$3)*'CABLE LENGTH'!$AL29","v":0},{"$f":"COUNTIF('CABLE LENGTH'!$A29:$P29,'PULL BOX SIZING'!E$3)*'CABLE LENGTH'!$AL29","v":0},{"$f":"COUNTIF('CABLE LENGTH'!$A29:$P29,'PULL BOX SIZING'!F$3)*'CABLE LENGTH'!$AL29","v":0},{"$f":"COUNTIF('CABLE LENGTH'!$A29:$P29,'PULL BOX SIZING'!G$3)*'CABLE LENGTH'!$AL29","v":0},{"$f":"COUNTIF('CABLE LENGTH'!$A29:$P29,'PULL BOX SIZING'!H$3)*'CABLE LENGTH'!$AL29","v":0},{"$f":"COUNTIF('CABLE LENGTH'!$A29:$P29,'PULL BOX SIZING'!I$3)*'CABLE LENGTH'!$AL29","v":0},{"$f":"COUNTIF('CABLE LENGTH'!$A29:$P29,'PULL BOX SIZING'!J$3)*'CABLE LENGTH'!$AL29","v":0},{"$f":"COUNTIF('CABLE LENGTH'!$A29:$P29,'PULL BOX SIZING'!K$3)*'CABLE LENGTH'!$AL29","v":0},0,0,0,0,0,0,0,0,0,null,null,null,null,null,null,null,null,null,null,"TOTAL",{"$f":"SUM(AF24:AF27)","v":28},{"$f":"IF(AF28>=69,\"CLASS 3\",IF(AF28>22,\"CLASS 2\",\"CLASS 1\"))","v":"CLASS 2"},"or",{"$f":"IF(AF28>=69,\"DOUBLE\",\"STANDARD\")","v":"STANDARD"}]
[{"$f":"IF('CABLE LENGTH'!AK30>0,'CABLE LENGTH'!AK30,0)","v":0},0,{"$f":"COUNTIF('CABLE LENGTH'!$A30:$P30,'PULL BOX SIZING'!C$3)*'CABLE LENGTH'!$AL30","v":0},{"$f":"COUNTIF('CABLE LENGTH'!$A30:$P30,'PULL BOX SIZING'!D$3)*'CABLE LENGTH'!$AL30","v":0},{"$f":"COUNTIF('CABLE LENGTH'!$A30:$P30,'PULL BOX SIZING'!E$3)*'CABLE LENGTH'!$AL30","v":0},{"$f":"COUNTIF('CABLE LENGTH'!$A30:$P30,'PULL BOX SIZING'!F$3)*'CABLE LENGTH'!$AL30","v":0},{"$f":"COUNTIF('CABLE LENGTH'!$A30:$P30,'PULL BOX SIZING'!G$3)*'CABLE LENGTH'!$AL30","v":0},{"$f":"COUNTIF('CABLE LENGTH'!$A30:$P30,'PULL BOX SIZING'!H$3)*'CABLE LENGTH'!$AL30","v":0},{"$f":"COUNTIF('CABLE LENGTH'!$A30:$P30,'PULL BOX SIZING'!I$3)*'CABLE LENGTH'!$AL30","v":0},{"$f":"COUNTIF('CABLE LENGTH'!$A30:$P30,'PULL BOX SIZING'!J$3)*'CABLE LENGTH'!$AL30","v":0},{"$f":"COUNTIF('CABLE LENGTH'!$A30:$P30,'PULL BOX SIZING'!K$3)*'CABLE LENGTH'!$AL30","v":0},0,0,0,0,0,0,0,0,0]
[{"$f":"IF('CABLE LENGTH'!AK31>0,'CABLE LENGTH'!AK31,0)","v":0},0,{"$f":"COUNTIF('CABLE LENGTH'!$A31:$P31,'PULL BOX SIZING'!C$3)*'CABLE LENGTH'!$AL31","v":0},{"$f":"COUNTIF('CABLE LENGTH'!$A31:$P31,'PULL BOX SIZING'!D$3)*'CABLE LENGTH'!$AL31","v":0},{"$f":"COUNTIF('CABLE LENGTH'!$A31:$P31,'PULL BOX SIZING'!E$3)*'CABLE LENGTH'!$AL31","v":0},{"$f":"COUNTIF('CABLE LENGTH'!$A31:$P31,'PULL BOX SIZING'!F$3)*'CABLE LENGTH'!$AL31","v":0},{"$f":"COUNTIF('CABLE LENGTH'!$A31:$P31,'PULL BOX SIZING'!G$3)*'CABLE LENGTH'!$AL31","v":0},{"$f":"COUNTIF('CABLE LENGTH'!$A31:$P31,'PULL BOX SIZING'!H$3)*'CABLE LENGTH'!$AL31","v":0},{"$f":"COUNTIF('CABLE LENGTH'!$A31:$P31,'PULL BOX SIZING'!I$3)*'CABLE LENGTH'!$AL31","v":0},{"$f":"COUNTIF('CABLE LENGTH'!$A31:$P31,'PULL BOX SIZING'!J$3)*'CABLE LENGTH'!$AL31","v":0},{"$f":"COUNTIF('CABLE LENGTH'!$A31:$P31,'PULL BOX SIZING'!K$3)*'CABLE LENGTH'!$AL31","v":0},0,0,0,0,0,0,0,0,0,null,null,null,null,null,null,null,null,"PULL BOX",4]
[{"$f":"IF('CABLE LENGTH'!AK32>0,'CABLE LENGTH'!AK32,0)","v":0},0,{"$f":"COUNTIF('CABLE LENGTH'!$A32:$P32,'PULL BOX SIZING'!C$3)*'CABLE LENGTH'!$AL32","v":0},{"$f":"COUNTIF('CABLE LENGTH'!$A32:$P32,'PULL BOX SIZING'!D$3)*'CABLE LENGTH'!$AL32","v":0},{"$f":"COUNTIF('CABLE LENGTH'!$A32:$P32,'PULL BOX SIZING'!E$3)*'CABLE LENGTH'!$AL32","v":0},{"$f":"COUNTIF('CABLE LENGTH'!$A32:$P32,'PULL BOX SIZING'!F$3)*'CABLE LENGTH'!$AL32","v":0},{"$f":"COUNTIF('CABLE LENGTH'!$A32:$P32,'PULL BOX SIZING'!G$3)*'CABLE LENGTH'!$AL32","v":0},{"$f":"COUNTIF('CABLE LENGTH'!$A32:$P32,'PULL BOX SIZING'!H$3)*'CABLE LENGTH'!$AL32","v":0},{"$f":"COUNTIF('CABLE LENGTH'!$A32:$P32,'PULL BOX SIZING'!I$3)*'CABLE LENGTH'!$AL32","v":0},{"$f":"COUNTIF('CABLE LENGTH'!$A32:$P32,'PULL BOX SIZING'!J$3)*'CABLE LENGTH'!$AL32","v":0},{"$f":"COUNTIF('CABLE LENGTH'!$A32:$P32,'PULL BOX SIZING'!K$3)*'CABLE LENGTH'!$AL32","v":0},0,0,0,0,0,0,0,0,0,null,null,null,null,null,null,null,null,"CABLE","# of EACH","# of CONDUCTORS","TOTAL CONDUCTORS","PULL BOX SIZE"]
[{"$f":"IF('CABLE LENGTH'!AK33>0,'CABLE LENGTH'!AK33,0)","v":0},0,{"$f":"COUNTIF('CABLE LENGTH'!$A33:$P33,'PULL BOX SIZING'!C$3)*'CABLE LENGTH'!$AL33","v":0},{"$f":"COUNTIF('CABLE LENGTH'!$A33:$P33,'PULL BOX SIZING'!D$3)*'CABLE LENGTH'!$AL33","v":0},{"$f":"COUNTIF('CABLE LENGTH'!$A33:$P33,'PULL BOX SIZING'!E$3)*'CABLE LENGTH'!$AL33","v":0},{"$f":"COUNTIF('CABLE LENGTH'!$A33:$P33,'PULL BOX SIZING'!F$3)*'CABLE LENGTH'!$AL33","v":0},{"$f":"COUNTIF('CABLE LENGTH'!$A33:$P33,'PULL BOX SIZING'!G$3)*'CABLE LENGTH'!$AL33","v":0},{"$f":"COUNTIF('CABLE LENGTH'!$A33:$P33,'PULL BOX SIZING'!H$3)*'CABLE LENGTH'!$AL33","v":0},{"$f":"COUNTIF('CABLE LENGTH'!$A33:$P33,'PULL BOX SIZING'!I$3)*'CABLE LENGTH'!$AL33","v":0},{"$f":"COUNTIF('CABLE LENGTH'!$A33:$P33,'PULL BOX SIZING'!J$3)*'CABLE LENGTH'!$AL33","v":0},{"$f":"COUNTIF('CABLE LENGTH'!$A33:$P33,'PULL BOX SIZING'!K$3)*'CABLE LENGTH'!$AL33","v":0},0,0,0,0,0,0,0,0,0,null,null,null,null,null,null,null,null,"TYPE","TYPE","PER CABLE","PER TYPE","PREFORMED",null,"CONCRETE"]
[{"$f":"IF('CABLE LENGTH'!AK34>0,'CABLE LENGTH'!AK34,0)","v":0},0,{"$f":"COUNTIF('CABLE LENGTH'!$A34:$P34,'PULL BOX SIZING'!C$3)*'CABLE LENGTH'!$AL34","v":0},{"$f":"COUNTIF('CABLE LENGTH'!$A34:$P34,'PULL BOX SIZING'!D$3)*'CABLE LENGTH'!$AL34","v":0},{"$f":"COUNTIF('CABLE LENGTH'!$A34:$P34,'PULL BOX SIZING'!E$3)*'CABLE LENGTH'!$AL34","v":0},{"$f":"COUNTIF('CABLE LENGTH'!$A34:$P34,'PULL BOX SIZING'!F$3)*'CABLE LENGTH'!$AL34","v":0},{"$f":"COUNTIF('CABLE LENGTH'!$A34:$P34,'PULL BOX SIZING'!G$3)*'CABLE LENGTH'!$AL34","v":0},{"$f":"COUNTIF('CABLE LENGTH'!$A34:$P34,'PULL BOX SIZING'!H$3)*'CABLE LENGTH'!$AL34","v":0},{"$f":"COUNTIF('CABLE LENGTH'!$A34:$P34,'PULL BOX SIZING'!I$3)*'CABLE LENGTH'!$AL34","v":0},{"$f":"COUNTIF('CABLE LENGTH'!$A34:$P34,'PULL BOX SIZING'!J$3)*'CABLE LENGTH'!$AL34","v":0},{"$f":"COUNTIF('CABLE LENGTH'!$A34:$P34,'PULL BOX SIZING'!K$3)*'CABLE LENGTH'!$AL34","v":0},0,0,0,0,0,0,0,0,0,null,null,null,null,null,null,null,null,"7c-#12",2,{"$f":"VALUE(LEFT(AC33,1))","v":7},{"$f":"+AE33*AD33","v":14}]
[{"$f":"IF('CABLE LENGTH'!AK35>0,'CABLE LENGTH'!AK35,0)","v":0},0,{"$f":"COUNTIF('CABLE LENGTH'!$A35:$P35,'PULL BOX SIZING'!C$3)*'CABLE LENGTH'!$AL35","v":0},{"$f":"COUNTIF('CABLE LENGTH'!$A35:$P35,'PULL BOX SIZING'!D$3)*'CABLE LENGTH'!$AL35","v":0},{"$f":"COUNTIF('CABLE LENGTH'!$A35:$P35,'PULL BOX SIZING'!E$3)*'CABLE LENGTH'!$AL35","v":0},{"$f":"COUNTIF('CABLE LENGTH'!$A35:$P35,'PULL BOX SIZING'!F$3)*'CABLE LENGTH'!$AL35","v":0},{"$f":"COUNTIF('CABLE LENGTH'!$A35:$P35,'PULL BOX SIZING'!G$3)*'CABLE LENGTH'!$AL35","v":0},{"$f":"COUNTIF('CABLE LENGTH'!$A35:$P35,'PULL BOX SIZING'!H$3)*'CABLE LENGTH'!$AL35","v":0},{"$f":"COUNTIF('CABLE LENGTH'!$A35:$P35,'PULL BOX SIZING'!I$3)*'CABLE LENGTH'!$AL35","v":0},{"$f":"COUNTIF('CABLE LENGTH'!$A35:$P35,'PULL BOX SIZING'!J$3)*'CABLE LENGTH'!$AL35","v":0},{"$f":"COUNTIF('CABLE LENGTH'!$A35:$P35,'PULL BOX SIZING'!K$3)*'CABLE LENGTH'!$AL35","v":0},0,0,0,0,0,0,0,0,0,null,null,null,null,null,null,null,null,"5c-#12",2,{"$f":"VALUE(LEFT(AC34,1))","v":5},{"$f":"+AE34*AD34","v":10}]
[{"$f":"IF('CABLE LENGTH'!AK36>0,'CABLE LENGTH'!AK36,0)","v":0},0,{"$f":"COUNTIF('CABLE LENGTH'!$A36:$P36,'PULL BOX SIZING'!C$3)*'CABLE LENGTH'!$AL36","v":0},{"$f":"COUNTIF('CABLE LENGTH'!$A36:$P36,'PULL BOX SIZING'!D$3)*'CABLE LENGTH'!$AL36","v":0},{"$f":"COUNTIF('CABLE LENGTH'!$A36:$P36,'PULL BOX SIZING'!E$3)*'CABLE LENGTH'!$AL36","v":0},{"$f":"COUNTIF('CABLE LENGTH'!$A36:$P36,'PULL BOX SIZING'!F$3)*'CABLE LENGTH'!$AL36","v":0},{"$f":"COUNTIF('CABLE LENGTH'!$A36:$P36,'PULL BOX SIZING'!G$3)*'CABLE LENGTH'!$AL36","v":0},{"$f":"COUNTIF('CABLE LENGTH'!$A36:$P36,'PULL BOX SIZING'!H$3)*'CABLE LENGTH'!$AL36","v":0},{"$f":"COUNTIF('CABLE LENGTH'!$A36:$P36,'PULL BOX SIZING'!I$3)*'CABLE LENGTH'!$AL36","v":0},{"$f":"COUNTIF('CABLE LENGTH'!$A36:$P36,'PULL BOX SIZING'!J$3)*'CABLE LENGTH'!$AL36","v":0},{"$f":"COUNTIF('CABLE LENGTH'!$A36:$P36,'PULL BOX SIZING'!K$3)*'CABLE LENGTH'!$AL36","v":0},0,0,0,0,0,0,0,0,0,null,null,null,null,null,null,null,null,"2c-#12",2,{"$f":"VALUE(LEFT(AC35,1))","v":2},{"$f":"+AE35*AD35","v":4}]
[{"$f":"IF('CABLE LENGTH'!AK37>0,'CABLE LENGTH'!AK37,0)","v":0},0,{"$f":"COUNTIF('CABLE LENGTH'!$A37:$P37,'PULL BOX SIZING'!C$3)*'CABLE LENGTH'!$AL37","v":0},{"$f":"COUNTIF('CABLE LENGTH'!$A37:$P37,'PULL BOX SIZING'!D$3)*'CABLE LENGTH'!$AL37","v":0},{"$f":"COUNTIF('CABLE LENGTH'!$A37:$P37,'PULL BOX SIZING'!E$3)*'CABLE LENGTH'!$AL37","v":0},{"$f":"COUNTIF('CABLE LENGTH'!$A37:$P37,'PULL BOX SIZING'!F$3)*'CABLE LENGTH'!$AL37","v":0},{"$f":"COUNTIF('CABLE LENGTH'!$A37:$P37,'PULL BOX SIZING'!G$3)*'CABLE LENGTH'!$AL37","v":0},{"$f":"COUNTIF('CABLE LENGTH'!$A37:$P37,'PULL BOX SIZING'!H$3)*'CABLE LENGTH'!$AL37","v":0},{"$f":"COUNTIF('CABLE LENGTH'!$A37:$P37,'PULL BOX SIZING'!I$3)*'CABLE LENGTH'!$AL37","v":0},{"$f":"COUNTIF('CABLE LENGTH'!$A37:$P37,'PULL BOX SIZING'!J$3)*'CABLE LENGTH'!$AL37","v":0},{"$f":"COUNTIF('CABLE LENGTH'!$A37:$P37,'PULL BOX SIZING'!K$3)*'CABLE LENGTH'!$AL37","v":0},0,0,0,0,0,0,0,0,0]
[{"$f":"IF('CABLE LENGTH'!AK38>0,'CABLE LENGTH'!AK38,0)","v":0},0,{"$f":"COUNTIF('CABLE LENGTH'!$A38:$P38,'PULL BOX SIZING'!C$3)*'CABLE LENGTH'!$AL38","v":0},{"$f":"COUNTIF('CABLE LENGTH'!$A38:$P38,'PULL BOX SIZING'!D$3)*'CABLE LENGTH'!$AL38","v":0},{"$f":"COUNTIF('CABLE LENGTH'!$A38:$P38,'PULL BOX SIZING'!E$3)*'CABLE LENGTH'!$AL38","v":0},{"$f":"COUNTIF('CABLE LENGTH'!$A38:$P38,'PULL BOX SIZING'!F$3)*'CABLE LENGTH'!$AL38","v":0},{"$f":"COUNTIF('CABLE LENGTH'!$A38:$P38,'PULL BOX SIZING'!G$3)*'CABLE LENGTH'!$AL38","v":0},{"$f":"COUNTIF('CABLE LENGTH'!$A38:$P38,'PULL BOX SIZING'!H$3)*'CABLE LENGTH'!$AL38","v":0},{"$f":"COUNTIF('CABLE LENGTH'!$A38:$P38,'PULL BOX SIZING'!I$3)*'CABLE LENGTH'!$AL38","v":0},{"$f":"COUNTIF('CABLE LENGTH'!$A38:$P38,'PULL BOX SIZING'!J$3)*'CABLE LENGTH'!$AL38","v":0},{"$f":"COUNTIF('CABLE LENGTH'!$A38:$P38,'PULL BOX SIZING'!K$3)*'CABLE LENGTH'!$AL38","v":0},0,0,0,0,0,0,0,0,0]
[{"$f":"IF('CABLE LENGTH'!AK39>0,'CABLE LENGTH'!AK39,0)","v":0},0,{"$f":"COUNTIF('CABLE LENGTH'!$A39:$P39,'PULL BOX SIZING'!C$3)*'CABLE LENGTH'!$AL39","v":0},{"$f":"COUNTIF('CABLE LENGTH'!$A39:$P39,'PULL BOX SIZING'!D$3)*'CABLE LENGTH'!$AL39","v":0},{"$f":"COUNTIF('CABLE LENGTH'!$A39:$P39,'PULL BOX SIZING'!E$3)*'CABLE LENGTH'!$AL39","v":0},{"$f":"COUNTIF('CABLE LENGTH'!$A39:$P39,'PULL BOX SIZING'!F$3)*'CABLE LENGTH'!$AL39","v":0},{"$f":"COUNTIF('CABLE LENGTH'!$A39:$P39,'PULL BOX SIZING'!G$3)*'CABLE LENGTH'!$AL39","v":0},{"$f":"COUNTIF('CABLE LENGTH'!$A39:$P39,'PULL BOX SIZING'!H$3)*'CABLE LENGTH'!$AL39","v":0},{"$f":"COUNTIF('CABLE LENGTH'!$A39:$P39,'PULL BOX SIZING'!I$3)*'CABLE LENGTH'!$AL39","v":0},{"$f":"COUNTIF('CABLE LENGTH'!$A39:$P39,'PULL BOX SIZING'!J$3)*'CABLE LENGTH'!$AL39","v":0},{"$f":"COUNTIF('CABLE LENGTH'!$A39:$P39,'PULL BOX SIZING'!K$3)*'CABLE LENGTH'!$AL39","v":0},0,0,0,0,0,0,0,0,0]
[{"$f":"IF('CABLE LENGTH'!AK40>0,'CABLE LENGTH'!AK40,0)","v":0},0,{"$f":"COUNTIF('CABLE LENGTH'!$A40:$P40,'PULL BOX SIZING'!C$3)*'CABLE LENGTH'!$AL40","v":0},{"$f":"COUNTIF('CABLE LENGTH'!$A40:$P40,'PULL BOX SIZING'!D$3)*'CABLE LENGTH'!$AL40","v":0},{"$f":"COUNTIF('CABLE LENGTH'!$A40:$P40,'PULL BOX SIZING'!E$3)*'CABLE LENGTH'!$AL40","v":0},{"$f":"COUNTIF('CABLE LENGTH'!$A40:$P40,'PULL BOX SIZING'!F$3)*'CABLE LENGTH'!$AL40","v":0},{"$f":"COUNTIF('CABLE LENGTH'!$A40:$P40,'PULL BOX SIZING'!G$3)*'CABLE LENGTH'!$AL40","v":0},{"$f":"COUNTIF('CABLE LENGTH'!$A40:$P40,'PULL BOX SIZING'!H$3)*'CABLE LENGTH'!$AL40","v":0},{"$f":"COUNTIF('CABLE LENGTH'!$A40:$P40,'PULL BOX SIZING'!I$3)*'CABLE LENGTH'!$AL40","v":0},{"$f":"COUNTIF('CABLE LENGTH'!$A40:$P40,'PULL BOX SIZING'!J$3)*'CABLE LENGTH'!$AL40","v":0},{"$f":"COUNTIF('CABLE LENGTH'!$A40:$P40,'PULL BOX SIZING'!K$3)*'CABLE LENGTH'!$AL40","v":0},0,0,0,0,0,0,0,0,0]
[{"$f":"IF('CABLE LENGTH'!AK41>0,'CABLE LENGTH'!AK41,0)","v":0},0,{"$f":"COUNTIF('CABLE LENGTH'!$A41:$P41,'PULL BOX SIZING'!C$3)*'CABLE LENGTH'!$AL41","v":0},{"$f":"COUNTIF('CABLE LENGTH'!$A41:$P41,'PULL BOX SIZING'!D$3)*'CABLE LENGTH'!$AL41","v":0},{"$f":"COUNTIF('CABLE LENGTH'!$A41:$P41,'PULL BOX SIZING'!E$3)*'CABLE LENGTH'!$AL41","v":0},{"$f":"COUNTIF('CABLE LENGTH'!$A41:$P41,'PULL BOX SIZING'!F$3)*'CABLE LENGTH'!$AL41","v":0},{"$f":"COUNTIF('CABLE LENGTH'!$A41:$P41,'PULL BOX SIZING'!G$3)*'CABLE LENGTH'!$AL41","v":0},{"$f":"COUNTIF('CABLE LENGTH'!$A41:$P41,'PULL BOX SIZING'!H$3)*'CABLE LENGTH'!$AL41","v":0},{"$f":"COUNTIF('CABLE LENGTH'!$A41:$P41,'PULL BOX SIZING'!I$3)*'CABLE LENGTH'!$AL41","v":0},{"$f":"COUNTIF('CABLE LENGTH'!$A41:$P41,'PULL BOX SIZING'!J$3)*'CABLE LENGTH'!$AL41","v":0},{"$f":"COUNTIF('CABLE LENGTH'!$A41:$P41,'PULL BOX SIZING'!K$3)*'CABLE LENGTH'!$AL41","v":0},0,0,0,0,0,0,0,0,0]
[{"$f":"IF('CABLE LENGTH'!AK42>0,'CABLE LENGTH'!AK42,0)","v":0},0,{"$f":"COUNTIF('CABLE LENGTH'!$A42:$P42,'PULL BOX SIZING'!C$3)*'CABLE LENGTH'!$AL42","v":0},{"$f":"COUNTIF('CABLE LENGTH'!$A42:$P42,'PULL BOX SIZING'!D$3)*'CABLE LENGTH'!$AL42","v":0},{"$f":"COUNTIF('CABLE LENGTH'!$A42:$P42,'PULL BOX SIZING'!E$3)*'CABLE LENGTH'!$AL42","v":0},{"$f":"COUNTIF('CABLE LENGTH'!$A42:$P42,'PULL BOX SIZING'!F$3)*'CABLE LENGTH'!$AL42","v":0},{"$f":"COUNTIF('CABLE LENGTH'!$A42:$P42,'PULL BOX SIZING'!G$3)*'CABLE LENGTH'!$AL42","v":0},{"$f":"COUNTIF('CABLE LENGTH'!$A42:$P42,'PULL BOX SIZING'!H$3)*'CABLE LENGTH'!$AL42","v":0},{"$f":"COUNTIF('CABLE LENGTH'!$A42:$P42,'PULL BOX SIZING'!I$3)*'CABLE LENGTH'!$AL42","v":0},{"$f":"COUNTIF('CABLE LENGTH'!$A42:$P42,'PULL BOX SIZING'!J$3)*'CABLE LENGTH'!$AL42","v":0},{"$f":"COUNTIF('CABLE LENGTH'!$A42:$P42,'PULL BOX SIZING'!K$3)*'CABLE LENGTH'!$AL42","v":0},0,0,0,0,0,0,0,0,0]
[{"$f":"IF('CABLE LENGTH'!AK43>0,'CABLE LENGTH'!AK43,0)","v":0},0,{"$f":"COUNTIF('CABLE LENGTH'!$A43:$P43,'PULL BOX SIZING'!C$3)*'CABLE LENGTH'!$AL43","v":0},{"$f":"COUNTIF('CABLE LENGTH'!$A43:$P43,'PULL BOX SIZING'!D$3)*'CABLE LENGTH'!$AL43","v":0},{"$f":"COUNTIF('CABLE LENGTH'!$A43:$P43,'PULL BOX SIZING'!E$3)*'CABLE LENGTH'!$AL43","v":0},{"$f":"COUNTIF('CABLE LENGTH'!$A43:$P43,'PULL BOX SIZING'!F$3)*'CABLE LENGTH'!$AL43","v":0},{"$f":"COUNTIF('CABLE LENGTH'!$A43:$P43,'PULL BOX SIZING'!G$3)*'CABLE LENGTH'!$AL43","v":0},{"$f":"COUNTIF('CABLE LENGTH'!$A43:$P43,'PULL BOX SIZING'!H$3)*'CABLE LENGTH'!$AL43","v":0},{"$f":"COUNTIF('CABLE LENGTH'!$A43:$P43,'PULL BOX SIZING'!I$3)*'CABLE LENGTH'!$AL43","v":0},{"$f":"COUNTIF('CABLE LENGTH'!$A43:$P43,'PULL BOX SIZING'!J$3)*'CABLE LENGTH'!$AL43","v":0},{"$f":"COUNTIF('CABLE LENGTH'!$A43:$P43,'PULL BOX SIZING'!K$3)*'CABLE LENGTH'!$AL43","v":0},0,0,0,0,0,0,0,0,0]
[{"$f":"IF('CABLE LENGTH'!AK44>0,'CABLE LENGTH'!AK44,0)","v":0},0,{"$f":"COUNTIF('CABLE LENGTH'!$A44:$P44,'PULL BOX SIZING'!C$3)*'CABLE LENGTH'!$AL44","v":0},{"$f":"COUNTIF('CABLE LENGTH'!$A44:$P44,'PULL BOX SIZING'!D$3)*'CABLE LENGTH'!$AL44","v":0},{"$f":"COUNTIF('CABLE LENGTH'!$A44:$P44,'PULL BOX SIZING'!E$3)*'CABLE LENGTH'!$AL44","v":0},{"$f":"COUNTIF('CABLE LENGTH'!$A44:$P44,'PULL BOX SIZING'!F$3)*'CABLE LENGTH'!$AL44","v":0},{"$f":"COUNTIF('CABLE LENGTH'!$A44:$P44,'PULL BOX SIZING'!G$3)*'CABLE LENGTH'!$AL44","v":0},{"$f":"COUNTIF('CABLE LENGTH'!$A44:$P44,'PULL BOX SIZING'!H$3)*'CABLE LENGTH'!$AL44","v":0},{"$f":"COUNTIF('CABLE LENGTH'!$A44:$P44,'PULL BOX SIZING'!I$3)*'CABLE LENGTH'!$AL44","v":0},{"$f":"COUNTIF('CABLE LENGTH'!$A44:$P44,'PULL BOX SIZING'!J$3)*'CABLE LENGTH'!$AL44","v":0},{"$f":"COUNTIF('CABLE LENGTH'!$A44:$P44,'PULL BOX SIZING'!K$3)*'CABLE LENGTH'!$AL44","v":0},0,0,0,0,0,0,0,0,0]
[{"$f":"IF('CABLE LENGTH'!AK45>0,'CABLE LENGTH'!AK45,0)","v":0},0,{"$f":"COUNTIF('CABLE LENGTH'!$A45:$P45,'PULL BOX SIZING'!C$3)*'CABLE LENGTH'!$AL45","v":0},{"$f":"COUNTIF('CABLE LENGTH'!$A45:$P45,'PULL BOX SIZING'!D$3)*'CABLE LENGTH'!$AL45","v":0},{"$f":"COUNTIF('CABLE LENGTH'!$A45:$P45,'PULL BOX SIZING'!E$3)*'CABLE LENGTH'!$AL45","v":0},{"$f":"COUNTIF('CABLE LENGTH'!$A45:$P45,'PULL BOX SIZING'!F$3)*'CABLE LENGTH'!$AL45","v":0},{"$f":"COUNTIF('CABLE LENGTH'!$A45:$P45,'PULL BOX SIZING'!G$3)*'CABLE LENGTH'!$AL45","v":0},{"$f":"COUNTIF('CABLE LENGTH'!$A45:$P45,'PULL BOX SIZING'!H$3)*'CABLE LENGTH'!$AL45","v":0},{"$f":"COUNTIF('CABLE LENGTH'!$A45:$P45,'PULL BOX SIZING'!I$3)*'CABLE LENGTH'!$AL45","v":0},{"$f":"COUNTIF('CABLE LENGTH'!$A45:$P45,'PULL BOX SIZING'!J$3)*'CABLE LENGTH'!$AL45","v":0},{"$f":"COUNTIF('CABLE LENGTH'!$A45:$P45,'PULL BOX SIZING'!K$3)*'CABLE LENGTH'!$AL45","v":0},0,0,0,0,0,0,0,0,0]
[{"$f":"IF('CABLE LENGTH'!AK46>0,'CABLE LENGTH'!AK46,0)","v":0},0,{"$f":"COUNTIF('CABLE LENGTH'!$A46:$P46,'PULL BOX SIZING'!C$3)*'CABLE LENGTH'!$AL46","v":0},{"$f":"COUNTIF('CABLE LENGTH'!$A46:$P46,'PULL BOX SIZING'!D$3)*'CABLE LENGTH'!$AL46","v":0},{"$f":"COUNTIF('CABLE LENGTH'!$A46:$P46,'PULL BOX SIZING'!E$3)*'CABLE LENGTH'!$AL46","v":0},{"$f":"COUNTIF('CABLE LENGTH'!$A46:$P46,'PULL BOX SIZING'!F$3)*'CABLE LENGTH'!$AL46","v":0},{"$f":"COUNTIF('CABLE LENGTH'!$A46:$P46,'PULL BOX SIZING'!G$3)*'CABLE LENGTH'!$AL46","v":0},{"$f":"COUNTIF('CABLE LENGTH'!$A46:$P46,'PULL BOX SIZING'!H$3)*'CABLE LENGTH'!$AL46","v":0},{"$f":"COUNTIF('CABLE LENGTH'!$A46:$P46,'PULL BOX SIZING'!I$3)*'CABLE LENGTH'!$AL46","v":0},{"$f":"COUNTIF('CABLE LENGTH'!$A46:$P46,'PULL BOX SIZING'!J$3)*'CABLE LENGTH'!$AL46","v":0},{"$f":"COUNTIF('CABLE LENGTH'!$A46:$P46,'PULL BOX SIZING'!K$3)*'CABLE LENGTH'!$AL46","v":0},0,0,0,0,0,0,0,0,0]
[{"$f":"IF('CABLE LENGTH'!AK47>0,'CABLE LENGTH'!AK47,0)","v":0},0,{"$f":"COUNTIF('CABLE LENGTH'!$A47:$P47,'PULL BOX SIZING'!C$3)*'CABLE LENGTH'!$AL47","v":0},{"$f":"COUNTIF('CABLE LENGTH'!$A47:$P47,'PULL BOX SIZING'!D$3)*'CABLE LENGTH'!$AL47","v":0},{"$f":"COUNTIF('CABLE LENGTH'!$A47:$P47,'PULL BOX SIZING'!E$3)*'CABLE LENGTH'!$AL47","v":0},{"$f":"COUNTIF('CABLE LENGTH'!$A47:$P47,'PULL BOX SIZING'!F$3)*'CABLE LENGTH'!$AL47","v":0},{"$f":"COUNTIF('CABLE LENGTH'!$A47:$P47,'PULL BOX SIZING'!G$3)*'CABLE LENGTH'!$AL47","v":0},{"$f":"COUNTIF('CABLE LENGTH'!$A47:$P47,'PULL BOX SIZING'!H$3)*'CABLE LENGTH'!$AL47","v":0},{"$f":"COUNTIF('CABLE LENGTH'!$A47:$P47,'PULL BOX SIZING'!I$3)*'CABLE LENGTH'!$AL47","v":0},{"$f":"COUNTIF('CABLE LENGTH'!$A47:$P47,'PULL BOX SIZING'!J$3)*'CABLE LENGTH'!$AL47","v":0},{"$f":"COUNTIF('CABLE LENGTH'!$A47:$P47,'PULL BOX SIZING'!K$3)*'CABLE LENGTH'!$AL47","v":0},0,0,0,0,0,0,0,0,0]
[{"$f":"IF('CABLE LENGTH'!AK48>0,'CABLE LENGTH'!AK48,0)","v":0},0,{"$f":"COUNTIF('CABLE LENGTH'!$A48:$P48,'PULL BOX SIZING'!C$3)*'CABLE LENGTH'!$AL48","v":0},{"$f":"COUNTIF('CABLE LENGTH'!$A48:$P48,'PULL BOX SIZING'!D$3)*'CABLE LENGTH'!$AL48","v":0},{"$f":"COUNTIF('CABLE LENGTH'!$A48:$P48,'PULL BOX SIZING'!E$3)*'CABLE LENGTH'!$AL48","v":0},{"$f":"COUNTIF('CABLE LENGTH'!$A48:$P48,'PULL BOX SIZING'!F$3)*'CABLE LENGTH'!$AL48","v":0},{"$f":"COUNTIF('CABLE LENGTH'!$A48:$P48,'PULL BOX SIZING'!G$3)*'CABLE LENGTH'!$AL48","v":0},{"$f":"COUNTIF('CABLE LENGTH'!$A48:$P48,'PULL BOX SIZING'!H$3)*'CABLE LENGTH'!$AL48","v":0},{"$f":"COUNTIF('CABLE LENGTH'!$A48:$P48,'PULL BOX SIZING'!I$3)*'CABLE LENGTH'!$AL48","v":0},{"$f":"COUNTIF('CABLE LENGTH'!$A48:$P48,'PULL BOX SIZING'!J$3)*'CABLE LENGTH'!$AL48","v":0},{"$f":"COUNTIF('CABLE LENGTH'!$A48:$P48,'PULL BOX SIZING'!K$3)*'CABLE LENGTH'!$AL48","v":0},0,0,0,0,0,0,0,0,0,null,null,null,null,null,null,null,null,"VIDEO",1,null,{"$f":"+AE47*AD47","v":0}]
[{"$f":"IF('CABLE LENGTH'!AK49>0,'CABLE LENGTH'!AK49,0)","v":0},0,{"$f":"COUNTIF('CABLE LENGTH'!$A49:$P49,'PULL BOX SIZING'!C$3)*'CABLE LENGTH'!$AL49","v":0},{"$f":"COUNTIF('CABLE LENGTH'!$A49:$P49,'PULL BOX SIZING'!D$3)*'CABLE LENGTH'!$AL49","v":0},{"$f":"COUNTIF('CABLE LENGTH'!$A49:$P49,'PULL BOX SIZING'!E$3)*'CABLE LENGTH'!$AL49","v":0},{"$f":"COUNTIF('CABLE LENGTH'!$A49:$P49,'PULL BOX SIZING'!F$3)*'CABLE LENGTH'!$AL49","v":0},{"$f":"COUNTIF('CABLE LENGTH'!$A49:$P49,'PULL BOX SIZING'!G$3)*'CABLE LENGTH'!$AL49","v":0},{"$f":"COUNTIF('CABLE LENGTH'!$A49:$P49,'PULL BOX SIZING'!H$3)*'CABLE LENGTH'!$AL49","v":0},{"$f":"COUNTIF('CABLE LENGTH'!$A49:$P49,'PULL BOX SIZING'!I$3)*'CABLE LENGTH'!$AL49","v":0},{"$f":"COUNTIF('CABLE LENGTH'!$A49:$P49,'PULL BOX SIZING'!J$3)*'CABLE LENGTH'!$AL49","v":0},{"$f":"COUNTIF('CABLE LENGTH'!$A49:$P49,'PULL BOX SIZING'!K$3)*'CABLE LENGTH'!$AL49","v":0},0,0,0,0,0,0,0,0,0,null,null,null,null,null,null,null,null,null,null,"TOTAL",{"$f":"SUM(AF33:AF47)","v":28},{"$f":"IF(AF48>=69,\"CLASS 3\",IF(AF48>22,\"CLASS 2\",\"CLASS 1\"))","v":"CLASS 2"},"or",{"$f":"IF(AF48>=69,\"DOUBLE\",\"STANDARD\")","v":"STANDARD"}]
[{"$f":"IF('CABLE LENGTH'!AK50>0,'CABLE LENGTH'!AK50,0)","v":0},0,{"$f":"COUNTIF('CABLE LENGTH'!$A50:$P50,'PULL BOX SIZING'!C$3)*'CABLE LENGTH'!$AL50","v":0},{"$f":"COUNTIF('CABLE LENGTH'!$A50:$P50,'PULL BOX SIZING'!D$3)*'CABLE LENGTH'!$AL50","v":0},{"$f":"COUNTIF('CABLE LENGTH'!$A50:$P50,'PULL BOX SIZING'!E$3)*'CABLE LENGTH'!$AL50","v":0},{"$f":"COUNTIF('CABLE LENGTH'!$A50:$P50,'PULL BOX SIZING'!F$3)*'CABLE LENGTH'!$AL50","v":0},{"$f":"COUNTIF('CABLE LENGTH'!$A50:$P50,'PULL BOX SIZING'!G$3)*'CABLE LENGTH'!$AL50","v":0},{"$f":"COUNTIF('CABLE LENGTH'!$A50:$P50,'PULL BOX SIZING'!H$3)*'CABLE LENGTH'!$AL50","v":0},{"$f":"COUNTIF('CABLE LENGTH'!$A50:$P50,'PULL BOX SIZING'!I$3)*'CABLE LENGTH'!$AL50","v":0},{"$f":"COUNTIF('CABLE LENGTH'!$A50:$P50,'PULL BOX SIZING'!J$3)*'CABLE LENGTH'!$AL50","v":0},{"$f":"COUNTIF('CABLE LENGTH'!$A50:$P50,'PULL BOX SIZING'!K$3)*'CABLE LENGTH'!$AL50","v":0},0,0,0,{"$f":"+F49*$B49","v":0},0,0,0,0,0]
[{"$f":"IF('CABLE LENGTH'!AK51>0,'CABLE LENGTH'!AK51,0)","v":0},0,{"$f":"COUNTIF('CABLE LENGTH'!$A51:$P51,'PULL BOX SIZING'!C$3)*'CABLE LENGTH'!$AL51","v":0},{"$f":"COUNTIF('CABLE LENGTH'!$A51:$P51,'PULL BOX SIZING'!D$3)*'CABLE LENGTH'!$AL51","v":0},{"$f":"COUNTIF('CABLE LENGTH'!$A51:$P51,'PULL BOX SIZING'!E$3)*'CABLE LENGTH'!$AL51","v":0},{"$f":"COUNTIF('CABLE LENGTH'!$A51:$P51,'PULL BOX SIZING'!F$3)*'CABLE LENGTH'!$AL51","v":0},{"$f":"COUNTIF('CABLE LENGTH'!$A51:$P51,'PULL BOX SIZING'!G$3)*'CABLE LENGTH'!$AL51","v":0},{"$f":"COUNTIF('CABLE LENGTH'!$A51:$P51,'PULL BOX SIZING'!H$3)*'CABLE LENGTH'!$AL51","v":0},{"$f":"COUNTIF('CABLE LENGTH'!$A51:$P51,'PULL BOX SIZING'!I$3)*'CABLE LENGTH'!$AL51","v":0},{"$f":"COUNTIF('CABLE LENGTH'!$A51:$P51,'PULL BOX SIZING'!J$3)*'CABLE LENGTH'!$AL51","v":0},{"$f":"COUNTIF('CABLE LENGTH'!$A51:$P51,'PULL BOX SIZING'!K$3)*'CABLE LENGTH'!$AL51","v":0},{"$f":"+C50*$B50","v":0},0,0,0,0,0,0,0,0,null,null,null,null,null,null,null,null,"PULL BOX",3]
[null,null,null,null,null,null,null,null,null,null,"TOTAL CONDUCTORS",{"$f":"SUM(L5:L50)","v":0},{"$f":"SUM(M5:M50)","v":0},0,0,0,0,{"$f":"SUM(R5:R50)","v":0},{"$f":"SUM(S5:S50)","v":0},{"$f":"SUM(T5:T50)","v":0},null,null,null,null,null,null,null,null,"CABLE","# of EACH","# of CONDUCTORS","TOTAL CONDUCTORS","PULL BOX SIZE"]
["PULL BOX SIZE",null,null,null,null,null,null,null,null,null,"PREFORMED",{"$f":"IF(L51>0,IF(L51>=69,\"CLASS 3\",IF(L51>22,\"CLASS 2\",\"CLASS 1\")),\"N/A\")","v":"N/A"},{"$f":"IF(M51>0,IF(M51>=69,\"CLASS 3\",IF(M51>22,\"CLASS 2\",\"CLASS 1\")),\"N/A\")","v":"N/A"},"N/A","N/A","N/A","N/A",{"$f":"IF(R51>0,IF(R51>=69,\"CLASS 3\",IF(R51>22,\"CLASS 2\",\"CLASS 1\")),\"N/A\")","v":"N/A"},{"$f":"IF(S51>0,IF(S51>=69,\"CLASS 3\",IF(S51>22,\"CLASS 2\",\"CLASS 1\")),\"N/A\")","v":"N/A"},{"$f":"IF(T51>0,IF(T51>=69,\"CLASS 3\",IF(T51>22,\"CLASS 2\",\"CLASS 1\")),\"N/A\")","v":"N/A"},null,null,null,null,null,null,null,null,"TYPE","TYPE","PER CABLE","PER TYPE","PREFORMED",null,"CONCRETE"]
[null,null,null,null,null,null,null,null,null,null,"CONCRETE",{"$f":"IF(L51>0,IF(L51>=69,\"DOUBLE\",\"STANDARD\"),\"N/A\")","v":"N/A"},"N/A","N/A","N/A","N/A","N/A","N/A","N/A","N/A",null,null,null,null,null,null,null,null,"7c-#12",2,{"$f":"VALUE(LEFT(AC53,1))","v":7},{"$f":"+AE53*AD53","v":14}]
[null,null,null,null,null,null,null,null,null,null,null,null,null,null,null,null,null,null,null,null,null,null,null,null,null,null,null,null,"5c-#12",2,{"$f":"VALUE(LEFT(AC54,1))","v":5},{"$f":"+AE54*AD54","v":10}]
[null,null,null,null,null,null,null,null,null,null,null,null,null,null,null,null,null,null,null,null,null,null,null,null,null,null,null,null,"2c-#12",2,{"$f":"VALUE(LEFT(AC55,1))","v":2},{"$f":"+AE55*AD55","v":4}]
[null,null,null,null,null,null,null,null,null,null,null,null,null,null,null,null,null,null,null,null,null,null,null,null,null,null,null,null,"VIDEO",1,null,{"$f":"+AE56*AD56","v":0}]
[null,null,null,null,null,null,null,null,null,null,null,null,null,null,null,null,null,null,null,null,null,null,null,null,null,null,null,null,null,null,"TOTAL",{"$f":"SUM(AF53:AF56)","v":28},{"$f":"IF(AF57>=69,\"CLASS 3\",IF(AF57>22,\"CLASS 2\",\"CLASS 1\"))","v":"CLASS 2"},"or",{"$f":"IF(AF57>=69,\"DOUBLE\",\"STANDARD\")","v":"STANDARD"}]

{"sheet":"CONDUIT CAPACITY AUTO","index":8,"n_rows":136,"n_cols":52,"rows_kept":136,"cut":false,"hidden":false,"merged":[[119,1,119,2],[119,3,119,5],[5,0,55,0],[56,0,106,0],[107,0,107,1],[108,0,108,1]]}
["CONDUIT FROM:",null,{"$f":"+'CONDUIT LENGTH'!$A$5","v":0},{"$f":"+'CONDUIT LENGTH'!$A$6","v":0},{"$f":"+'CONDUIT LENGTH'!$A$7","v":0},{"$f":"+'CONDUIT LENGTH'!$A$8","v":0},{"$f":"+'CONDUIT LENGTH'!$A$9","v":0},{"$f":"+'CONDUIT LENGTH'!$A$10","v":0},{"$f":"+'CONDUIT LENGTH'!$A$11","v":0},{"$f":"+'CONDUIT LENGTH'!$A$12","v":0},{"$f":"+'CONDUIT LENGTH'!$A$13","v":0},{"$f":"+'CONDUIT LENGTH'!$A$14","v":0},{"$f":"+'CONDUIT LENGTH'!$A$15","v":0},{"$f":"+'CONDUIT LENGTH'!$A$16","v":0},{"$f":"+'CONDUIT LENGTH'!$A$17","v":0},{"$f":"+'CONDUIT LENGTH'!$A$18","v":0},{"$f":"+'CONDUIT LENGTH'!$A$19","v":0},{"$f":"+'CONDUIT LENGTH'!$A$20","v":0},{"$f":"+'CONDUIT LENGTH'!$A$21","v":0},{"$f":"+'CONDUIT LENGTH'!$A$22","v":0},{"$f":"+'CONDUIT LENGTH'!$A$23","v":0},{"$f":"+'CONDUIT LENGTH'!$A$24","v":0},{"$f":"+'CONDUIT LENGTH'!$A$25","v":0},{"$f":"+'CONDUIT LENGTH'!$A$26","v":0},{"$f":"+'CONDUIT LENGTH'!$A$27","v":0},{"$f":"+'CONDUIT LENGTH'!$A$28","v":0},{"$f":"+'CONDUIT LENGTH'!$A$29","v":0},{"$f":"+'CONDUIT LENGTH'!$A$30","v":0},{"$f":"+'CONDUIT LENGTH'!$A$31","v":0},{"$f":"+'CONDUIT LENGTH'!$A$32","v":0},{"$f":"+'CONDUIT LENGTH'!$A$33","v":0},{"$f":"+'CONDUIT LENGTH'!$A$34","v":0},{"$f":"+'CONDUIT LENGTH'!$A$35","v":0},{"$f":"+'CONDUIT LENGTH'!$A$36","v":0},{"$f":"+'CONDUIT LENGTH'!$A$37","v":0},{"$f":"+'CONDUIT LENGTH'!$A$38","v":0},{"$f":"+'CONDUIT LENGTH'!$A$39","v":0},{"$f":"+'CONDUIT LENGTH'!$A$40","v":0},{"$f":"+'CONDUIT LENGTH'!$A$41","v":0},{"$f":"+'CONDUIT LENGTH'!$A$42","v":0},{"$f":"+'CONDUIT LENGTH'!$A$43","v":0},{"$f":"+'CONDUIT LENGTH'!$A$44","v":0},{"$f":"+'CONDUIT LENGTH'!$A$45","v":0},{"$f":"+'CONDUIT LENGTH'!$A$46","v":0},{"$f":"+'CONDUIT LENGTH'!$A$47","v":0},{"$f":"+'CONDUIT LENGTH'!$A$48","v":0},{"$f":"+'CONDUIT LENGTH'!$A$49","v":0},{"$f":"+'CONDUIT LENGTH'!$A$50","v":0},{"$f":"+'CONDUIT LENGTH'!$A$51","v":0},{"$f":"+'CONDUIT LENGTH'!$A$52","v":0},{"$f":"+'CONDUIT LENGTH'!$A$53","v":0},{"$f":"+'CONDUIT LENGTH'!$A$54","v":0}]
["CONDUIT TO:",null,{"$f":"+'CONDUIT LENGTH'!$B$5","v":0},{"$f":"+'CONDUIT LENGTH'!$B$6","v":0},{"$f":"+'CONDUIT LENGTH'!$B$7","v":0},{"$f":"+'CONDUIT LENGTH'!$B$8","v":0},{"$f":"+'CONDUIT LENGTH'!$B$9","v":0},{"$f":"+'CONDUIT LENGTH'!$B$10","v":0},{"$f":"+'CONDUIT LENGTH'!$B$11","v":0},{"$f":"+'CONDUIT LENGTH'!$B$12","v":0},{"$f":"+'CONDUIT LENGTH'!$B$13","v":0},{"$f":"+'CONDUIT LENGTH'!$B$14","v":0},{"$f":"+'CONDUIT LENGTH'!$B$15","v":0},{"$f":"+'CONDUIT LENGTH'!$B$16","v":0},{"$f":"+'CONDUIT LENGTH'!$B$17","v":0},{"$f":"+'CONDUIT LENGTH'!$B$18","v":0},{"$f":"+'CONDUIT LENGTH'!$B$19","v":0},{"$f":"+'CONDUIT LENGTH'!$B$20","v":0},{"$f":"+'CONDUIT LENGTH'!$B$21","v":0},{"$f":"+'CONDUIT LENGTH'!$B$22","v":0},{"$f":"+'CONDUIT LENGTH'!$B$23","v":0},{"$f":"+'CONDUIT LENGTH'!$B$24","v":0},{"$f":"+'CONDUIT LENGTH'!$B$25","v":0},{"$f":"+'CONDUIT LENGTH'!$B$26","v":0},{"$f":"+'CONDUIT LENGTH'!$B$27","v":0},{"$f":"+'CONDUIT LENGTH'!$B$28","v":0},{"$f":"+'CONDUIT LENGTH'!$B$29","v":0},{"$f":"+'CONDUIT LENGTH'!$B$30","v":0},{"$f":"+'CONDUIT LENGTH'!$B$31","v":0},{"$f":"+'CONDUIT LENGTH'!$B$32","v":0},{"$f":"+'CONDUIT LENGTH'!$B$33","v":0},{"$f":"+'CONDUIT LENGTH'!$B$34","v":0},{"$f":"+'CONDUIT LENGTH'!$B$35","v":0},{"$f":"+'CONDUIT LENGTH'!$B$36","v":0},{"$f":"+'CONDUIT LENGTH'!$B$37","v":0},{"$f":"+'CONDUIT LENGTH'!$B$38","v":0},{"$f":"+'CONDUIT LENGTH'!$B$39","v":0},{"$f":"+'CONDUIT LENGTH'!$B$40","v":0},{"$f":"+'CONDUIT LENGTH'!$B$41","v":0},{"$f":"+'CONDUIT LENGTH'!$B$42","v":0},{"$f":"+'CONDUIT LENGTH'!$B$43","v":0},{"$f":"+'CONDUIT LENGTH'!$B$44","v":0},{"$f":"+'CONDUIT LENGTH'!$B$45","v":0},{"$f":"+'CONDUIT LENGTH'!$B$46","v":0},{"$f":"+'CONDUIT LENGTH'!$B$47","v":0},{"$f":"+'CONDUIT LENGTH'!$B$48","v":0},{"$f":"+'CONDUIT LENGTH'!$B$49","v":0},{"$f":"+'CONDUIT LENGTH'!$B$50","v":0},{"$f":"+'CONDUIT LENGTH'!$B$51","v":0},{"$f":"+'CONDUIT LENGTH'!$B$52","v":0},{"$f":"+'CONDUIT LENGTH'!$B$53","v":0},{"$f":"+'CONDUIT LENGTH'!$B$54","v":0}]
["CONDUIT SIZE:",null,{"$f":"+'CONDUIT LENGTH'!$L$5","v":0},{"$f":"+'CONDUIT LENGTH'!$L$6","v":0},{"$f":"+'CONDUIT LENGTH'!$L$7","v":0},{"$f":"+'CONDUIT LENGTH'!$L$8","v":0},{"$f":"+'CONDUIT LENGTH'!$L$9","v":0},{"$f":"+'CONDUIT LENGTH'!$L$10","v":0},{"$f":"+'CONDUIT LENGTH'!$L$11","v":0},{"$f":"+'CONDUIT LENGTH'!$L$12","v":0},{"$f":"+'CONDUIT LENGTH'!$L$13","v":0},{"$f":"+'CONDUIT LENGTH'!$L$14","v":0},{"$f":"+'CONDUIT LENGTH'!$L$15","v":0},{"$f":"+'CONDUIT LENGTH'!$L$16","v":0},{"$f":"+'CONDUIT LENGTH'!$L$17","v":0},{"$f":"+'CONDUIT LENGTH'!$L$18","v":0},{"$f":"+'CONDUIT LENGTH'!$L$19","v":0},{"$f":"+'CONDUIT LENGTH'!$L$20","v":0},{"$f":"+'CONDUIT LENGTH'!$L$21","v":0},{"$f":"+'CONDUIT LENGTH'!$L$22","v":0},{"$f":"+'CONDUIT LENGTH'!$L$23","v":0},{"$f":"+'CONDUIT LENGTH'!$L$24","v":0},{"$f":"+'CONDUIT LENGTH'!$L$25","v":0},{"$f":"+'CONDUIT LENGTH'!$L$26","v":0},{"$f":"+'CONDUIT LENGTH'!$L$27","v":0},{"$f":"+'CONDUIT LENGTH'!$L$28","v":0},{"$f":"+'CONDUIT LENGTH'!$L$29","v":0},{"$f":"+'CONDUIT LENGTH'!$L$30","v":0},{"$f":"+'CONDUIT LENGTH'!$L$31","v":0},{"$f":"+'CONDUIT LENGTH'!$L$32","v":0},{"$f":"+'CONDUIT LENGTH'!$L$33","v":0},{"$f":"+'CONDUIT LENGTH'!$L$34","v":0},{"$f":"+'CONDUIT LENGTH'!$L$35","v":0},{"$f":"+'CONDUIT LENGTH'!$L$36","v":0},{"$f":"+'CONDUIT LENGTH'!$L$37","v":0},{"$f":"+'CONDUIT LENGTH'!$L$38","v":0},{"$f":"+'CONDUIT LENGTH'!$L$39","v":0},{"$f":"+'CONDUIT LENGTH'!$L$40","v":0},{"$f":"+'CONDUIT LENGTH'!$L$41","v":0},{"$f":"+'CONDUIT LENGTH'!$L$42","v":0},{"$f":"+'CONDUIT LENGTH'!$L$43","v":0},{"$f":"+'CONDUIT LENGTH'!$L$44","v":0},{"$f":"+'CONDUIT LENGTH'!$L$45","v":0},{"$f":"+'CONDUIT LENGTH'!$L$46","v":0},{"$f":"+'CONDUIT LENGTH'!$L$47","v":0},{"$f":"+'CONDUIT LENGTH'!$L$48","v":0},{"$f":"+'CONDUIT LENGTH'!$L$49","v":0},{"$f":"+'CONDUIT LENGTH'!$L$50","v":0},{"$f":"+'CONDUIT LENGTH'!$L$51","v":0},{"$f":"+'CONDUIT LENGTH'!$L$52","v":0},{"$f":"+'CONDUIT LENGTH'!$L$53","v":0},{"$f":"+'CONDUIT LENGTH'!$L$54","v":0}]
["CONDUIT AREA:",null,{"$f":"IF(C$3=$D$122,$E$122,IF(C$3=$D$123,$E$123,IF(C$3=$D$124,$E$124,IF(C$3=$D$125,$E$125,IF(C$3=$D$126,$E$126,IF(C$3=$D$127,$E$127,IF(C$3=$D$128,$E$128,\"N/A\")))))))","v":"N/A"},"N/A","N/A","N/A","N/A","N/A","N/A","N/A","N/A","N/A","N/A","N/A","N/A","N/A","N/A","N/A","N/A","N/A","N/A","N/A","N/A","N/A","N/A","N/A","N/A","N/A","N/A","N/A","N/A","N/A","N/A","N/A",{"$f":"IF(AI$3=$D$122,$E$122,IF(AI$3=$D$123,$E$123,IF(AI$3=$D$124,$E$124,IF(AI$3=$D$125,$E$125,IF(AI$3=$D$126,$E$126,IF(AI$3=$D$127,$E$127,IF(AI$3=$D$128,$E$128,\"N/A\")))))))","v":"N/A"},"N/A","N/A","N/A","N/A","N/A","N/A","N/A","N/A","N/A","N/A","N/A","N/A","N/A","N/A","N/A","N/A","N/A"]
["ALLOWABLE AREA:",null,{"$f":"IF(C$3=$D$122,$F$122,IF(C$3=$D$123,$F$123,IF(C$3=$D$124,$F$124,IF(C$3=$D$125,$F$125,IF(C$3=$D$126,$F$126,IF(C$3=$D$127,$F$127,IF(C$3=$D$128,$F$128,\"N/A\")))))))","v":"N/A"},"N/A","N/A","N/A","N/A","N/A","N/A","N/A","N/A","N/A","N/A","N/A","N/A","N/A","N/A","N/A","N/A","N/A","N/A","N/A","N/A","N/A","N/A","N/A","N/A","N/A","N/A","N/A","N/A","N/A","N/A","N/A",{"$f":"IF(AI$3=$D$122,$F$122,IF(AI$3=$D$123,$F$123,IF(AI$3=$D$124,$F$124,IF(AI$3=$D$125,$F$125,IF(AI$3=$D$126,$F$126,IF(AI$3=$D$127,$F$127,IF(AI$3=$D$128,$F$128,\"N/A\")))))))","v":"N/A"},"N/A","N/A","N/A","N/A","N/A","N/A","N/A","N/A","N/A","N/A","N/A","N/A","N/A","N/A","N/A","N/A","N/A"]
["CABLES IN CONDUIT",{"$f":"+'CABLE LENGTH'!AK6","v":0},{"$f":"IF(COUNTIF('CABLE LENGTH'!$A6:$P6,C$1)+COUNTIF('CABLE LENGTH'!$B6:$P6,C$2)=2,'CABLE LENGTH'!$AL6,0)","v":0},{"$f":"IF(COUNTIF('CABLE LENGTH'!$A6:$P6,D$1)+COUNTIF('CABLE LENGTH'!$B6:$P6,D$2)=2,'CABLE LENGTH'!$AL6,0)","v":0},{"$f":"IF(COUNTIF('CABLE LENGTH'!$A6:$P6,E$1)+COUNTIF('CABLE LENGTH'!$B6:$P6,E$2)=2,'CABLE LENGTH'!$AL6,0)","v":0},{"$f":"IF(COUNTIF('CABLE LENGTH'!$A6:$P6,F$1)+COUNTIF('CABLE LENGTH'!$B6:$P6,F$2)=2,'CABLE LENGTH'!$AL6,0)","v":0},{"$f":"IF(COUNTIF('CABLE LENGTH'!$A6:$P6,G$1)+COUNTIF('CABLE LENGTH'!$B6:$P6,G$2)=2,'CABLE LENGTH'!$AL6,0)","v":0},{"$f":"IF(COUNTIF('CABLE LENGTH'!$A6:$P6,H$1)+COUNTIF('CABLE LENGTH'!$B6:$P6,H$2)=2,'CABLE LENGTH'!$AL6,0)","v":0},{"$f":"IF(COUNTIF('CABLE LENGTH'!$A6:$P6,I$1)+COUNTIF('CABLE LENGTH'!$B6:$P6,I$2)=2,'CABLE LENGTH'!$AL6,0)","v":0},{"$f":"IF(COUNTIF('CABLE LENGTH'!$A6:$P6,J$1)+COUNTIF('CABLE LENGTH'!$B6:$P6,J$2)=2,'CABLE LENGTH'!$AL6,0)","v":0},{"$f":"IF(COUNTIF('CABLE LENGTH'!$A6:$P6,K$1)+COUNTIF('CABLE LENGTH'!$B6:$P6,K$2)=2,'CABLE LENGTH'!$AL6,0)","v":0},{"$f":"IF(COUNTIF('CABLE LENGTH'!$A6:$P6,L$1)+COUNTIF('CABLE LENGTH'!$B6:$P6,L$2)=2,'CABLE LENGTH'!$AL6,0)","v":0},{"$f":"IF(COUNTIF('CABLE LENGTH'!$A6:$P6,M$1)+COUNTIF('CABLE LENGTH'!$B6:$P6,M$2)=2,'CABLE LENGTH'!$AL6,0)","v":0},{"$f":"IF(COUNTIF('CABLE LENGTH'!$A6:$P6,N$1)+COUNTIF('CABLE LENGTH'!$B6:$P6,N$2)=2,'CABLE LENGTH'!$AL6,0)","v":0},{"$f":"IF(COUNTIF('CABLE LENGTH'!$A6:$P6,O$1)+COUNTIF('CABLE LENGTH'!$B6:$P6,O$2)=2,'CABLE LENGTH'!$AL6,0)","v":0},{"$f":"IF(COUNTIF('CABLE LENGTH'!$A6:$P6,P$1)+COUNTIF('CABLE LENGTH'!$B6:$P6,P$2)=2,'CABLE LENGTH'!$AL6,0)","v":0},{"$f":"IF(COUNTIF('CABLE LENGTH'!$A6:$P6,Q$1)+COUNTIF('CABLE LENGTH'!$B6:$P6,Q$2)=2,'CABLE LENGTH'!$AL6,0)","v":0},{"$f":"IF(COUNTIF('CABLE LENGTH'!$A6:$P6,R$1)+COUNTIF('CABLE LENGTH'!$B6:$P6,R$2)=2,'CABLE LENGTH'!$AL6,0)","v":0},{"$f":"IF(COUNTIF('CABLE LENGTH'!$A6:$P6,S$1)+COUNTIF('CABLE LENGTH'!$B6:$P6,S$2)=2,'CABLE LENGTH'!$AL6,0)","v":0},{"$f":"IF(COUNTIF('CABLE LENGTH'!$A6:$P6,T$1)+COUNTIF('CABLE LENGTH'!$B6:$P6,T$2)=2,'CABLE LENGTH'!$AL6,0)","v":0},{"$f":"IF(COUNTIF('CABLE LENGTH'!$A6:$P6,U$1)+COUNTIF('CABLE LENGTH'!$B6:$P6,U$2)=2,'CABLE LENGTH'!$AL6,0)","v":0},{"$f":"IF(COUNTIF('CABLE LENGTH'!$A6:$P6,V$1)+COUNTIF('CABLE LENGTH'!$B6:$P6,V$2)=2,'CABLE LENGTH'!$AL6,0)","v":0},{"$f":"IF(COUNTIF('CABLE LENGTH'!$A6:$P6,W$1)+COUNTIF('CABLE LENGTH'!$B6:$P6,W$2)=2,'CABLE LENGTH'!$AL6,0)","v":0},{"$f":"IF(COUNTIF('CABLE LENGTH'!$A6:$P6,X$1)+COUNTIF('CABLE LENGTH'!$B6:$P6,X$2)=2,'CABLE LENGTH'!$AL6,0)","v":0},{"$f":"IF(COUNTIF('CABLE LENGTH'!$A6:$P6,Y$1)+COUNTIF('CABLE LENGTH'!$A6:$P6,Y$2)=2,'CABLE LENGTH'!$AL6,0)","v":0},{"$f":"IF(COUNTIF('CABLE LENGTH'!$A6:$P6,Z$1)+COUNTIF('CABLE LENGTH'!$A6:$P6,Z$2)=2,'CABLE LENGTH'!$AL6,0)","v":0},{"$f":"IF(COUNTIF('CABLE LENGTH'!$A6:$P6,AA$1)+COUNTIF('CABLE LENGTH'!$A6:$P6,AA$2)=2,'CABLE LENGTH'!$AL6,0)","v":0},{"$f":"IF(COUNTIF('CABLE LENGTH'!$A6:$P6,AB$1)+COUNTIF('CABLE LENGTH'!$A6:$P6,AB$2)=2,'CABLE LENGTH'!$AL6,0)","v":0},{"$f":"IF(COUNTIF('CABLE LENGTH'!$A6:$P6,AC$1)+COUNTIF('CABLE LENGTH'!$A6:$P6,AC$2)=2,'CABLE LENGTH'!$AL6,0)","v":0},{"$f":"IF(COUNTIF('CABLE LENGTH'!$A6:$P6,AD$1)+COUNTIF('CABLE LENGTH'!$A6:$P6,AD$2)=2,'CABLE LENGTH'!$AL6,0)","v":0},{"$f":"IF(COUNTIF('CABLE LENGTH'!$A6:$P6,AE$1)+COUNTIF('CABLE LENGTH'!$A6:$P6,AE$2)=2,'CABLE LENGTH'!$AL6,0)","v":0},{"$f":"IF(COUNTIF('CABLE LENGTH'!$A6:$P6,AF$1)+COUNTIF('CABLE LENGTH'!$A6:$P6,AF$2)=2,'CABLE LENGTH'!$AL6,0)","v":0},{"$f":"IF(COUNTIF('CABLE LENGTH'!$A6:$P6,AG$1)+COUNTIF('CABLE LENGTH'!$A6:$P6,AG$2)=2,'CABLE LENGTH'!$AL6,0)","v":0},{"$f":"IF(COUNTIF('CABLE LENGTH'!$A6:$P6,AH$1)+COUNTIF('CABLE LENGTH'!$A6:$P6,AH$2)=2,'CABLE LENGTH'!$AL6,0)","v":0},{"$f":"IF(COUNTIF('CABLE LENGTH'!$A6:$P6,AI$1)+COUNTIF('CABLE LENGTH'!$A6:$P6,AI$2)=2,'CABLE LENGTH'!$AL6,0)","v":0},{"$f":"IF(COUNTIF('CABLE LENGTH'!$A6:$P6,AJ$1)+COUNTIF('CABLE LENGTH'!$A6:$P6,AJ$2)=2,'CABLE LENGTH'!$AL6,0)","v":0},{"$f":"IF(COUNTIF('CABLE LENGTH'!$A6:$P6,AK$1)+COUNTIF('CABLE LENGTH'!$A6:$P6,AK$2)=2,'CABLE LENGTH'!$AL6,0)","v":0},{"$f":"IF(COUNTIF('CABLE LENGTH'!$A6:$P6,AL$1)+COUNTIF('CABLE LENGTH'!$A6:$P6,AL$2)=2,'CABLE LENGTH'!$AL6,0)","v":0},{"$f":"IF(COUNTIF('CABLE LENGTH'!$A6:$P6,AM$1)+COUNTIF('CABLE LENGTH'!$A6:$P6,AM$2)=2,'CABLE LENGTH'!$AL6,0)","v":0},{"$f":"IF(COUNTIF('CABLE LENGTH'!$A6:$P6,AN$1)+COUNTIF('CABLE LENGTH'!$A6:$P6,AN$2)=2,'CABLE LENGTH'!$AL6,0)","v":0},{"$f":"IF(COUNTIF('CABLE LENGTH'!$A6:$P6,AO$1)+COUNTIF('CABLE LENGTH'!$A6:$P6,AO$2)=2,'CABLE LENGTH'!$AL6,0)","v":0},{"$f":"IF(COUNTIF('CABLE LENGTH'!$A6:$P6,AP$1)+COUNTIF('CABLE LENGTH'!$A6:$P6,AP$2)=2,'CABLE LENGTH'!$AL6,0)","v":0},{"$f":"IF(COUNTIF('CABLE LENGTH'!$A6:$P6,AQ$1)+COUNTIF('CABLE LENGTH'!$A6:$P6,AQ$2)=2,'CABLE LENGTH'!$AL6,0)","v":0},{"$f":"IF(COUNTIF('CABLE LENGTH'!$A6:$P6,AR$1)+COUNTIF('CABLE LENGTH'!$A6:$P6,AR$2)=2,'CABLE LENGTH'!$AL6,0)","v":0},{"$f":"IF(COUNTIF('CABLE LENGTH'!$A6:$P6,AS$1)+COUNTIF('CABLE LENGTH'!$A6:$P6,AS$2)=2,'CABLE LENGTH'!$AL6,0)","v":0},{"$f":"IF(COUNTIF('CABLE LENGTH'!$A6:$P6,AT$1)+COUNTIF('CABLE LENGTH'!$A6:$P6,AT$2)=2,'CABLE LENGTH'!$AL6,0)","v":0},{"$f":"IF(COUNTIF('CABLE LENGTH'!$A6:$P6,AU$1)+COUNTIF('CABLE LENGTH'!$A6:$P6,AU$2)=2,'CABLE LENGTH'!$AL6,0)","v":0},{"$f":"IF(COUNTIF('CABLE LENGTH'!$A6:$P6,AV$1)+COUNTIF('CABLE LENGTH'!$A6:$P6,AV$2)=2,'CABLE LENGTH'!$AL6,0)","v":0},{"$f":"IF(COUNTIF('CABLE LENGTH'!$A6:$P6,AW$1)+COUNTIF('CABLE LENGTH'!$A6:$P6,AW$2)=2,'CABLE LENGTH'!$AL6,0)","v":0},{"$f":"IF(COUNTIF('CABLE LENGTH'!$A6:$P6,AX$1)+COUNTIF('CABLE LENGTH'!$A6:$P6,AX$2)=2,'CABLE LENGTH'!$AL6,0)","v":0},{"$f":"IF(COUNTIF('CABLE LENGTH'!$A6:$P6,AY$1)+COUNTIF('CABLE LENGTH'!$A6:$P6,AY$2)=2,'CABLE LENGTH'!$AL6,0)","v":0},{"$f":"IF(COUNTIF('CABLE LENGTH'!$A6:$P6,AZ$1)+COUNTIF('CABLE LENGTH'!$A6:$P6,AZ$2)=2,'CABLE LENGTH'!$AL6,0)","v":0}]
[null,{"$f":"+'CABLE LENGTH'!AK7","v":0},{"$f":"IF(COUNTIF('CABLE LENGTH'!$A7:$P7,C$1)+COUNTIF('CABLE LENGTH'!$B7:$P7,C$2)=2,'CABLE LENGTH'!$AL7,0)","v":0},{"$f":"IF(COUNTIF('CABLE LENGTH'!$A7:$P7,D$1)+COUNTIF('CABLE LENGTH'!$B7:$P7,D$2)=2,'CABLE LENGTH'!$AL7,0)","v":0},{"$f":"IF(COUNTIF('CABLE LENGTH'!$A7:$P7,E$1)+COUNTIF('CABLE LENGTH'!$B7:$P7,E$2)=2,'CABLE LENGTH'!$AL7,0)","v":0},{"$f":"IF(COUNTIF('CABLE LENGTH'!$A7:$P7,F$1)+COUNTIF('CABLE LENGTH'!$B7:$P7,F$2)=2,'CABLE LENGTH'!$AL7,0)","v":0},{"$f":"IF(COUNTIF('CABLE LENGTH'!$A7:$P7,G$1)+COUNTIF('CABLE LENGTH'!$B7:$P7,G$2)=2,'CABLE LENGTH'!$AL7,0)","v":0},{"$f":"IF(COUNTIF('CABLE LENGTH'!$A7:$P7,H$1)+COUNTIF('CABLE LENGTH'!$B7:$P7,H$2)=2,'CABLE LENGTH'!$AL7,0)","v":0},{"$f":"IF(COUNTIF('CABLE LENGTH'!$A7:$P7,I$1)+COUNTIF('CABLE LENGTH'!$B7:$P7,I$2)=2,'CABLE LENGTH'!$AL7,0)","v":0},{"$f":"IF(COUNTIF('CABLE LENGTH'!$A7:$P7,J$1)+COUNTIF('CABLE LENGTH'!$B7:$P7,J$2)=2,'CABLE LENGTH'!$AL7,0)","v":0},{"$f":"IF(COUNTIF('CABLE LENGTH'!$A7:$P7,K$1)+COUNTIF('CABLE LENGTH'!$B7:$P7,K$2)=2,'CABLE LENGTH'!$AL7,0)","v":0},{"$f":"IF(COUNTIF('CABLE LENGTH'!$A7:$P7,L$1)+COUNTIF('CABLE LENGTH'!$B7:$P7,L$2)=2,'CABLE LENGTH'!$AL7,0)","v":0},{"$f":"IF(COUNTIF('CABLE LENGTH'!$A7:$P7,M$1)+COUNTIF('CABLE LENGTH'!$B7:$P7,M$2)=2,'CABLE LENGTH'!$AL7,0)","v":0},{"$f":"IF(COUNTIF('CABLE LENGTH'!$A7:$P7,N$1)+COUNTIF('CABLE LENGTH'!$B7:$P7,N$2)=2,'CABLE LENGTH'!$AL7,0)","v":0},{"$f":"IF(COUNTIF('CABLE LENGTH'!$A7:$P7,O$1)+COUNTIF('CABLE LENGTH'!$B7:$P7,O$2)=2,'CABLE LENGTH'!$AL7,0)","v":0},{"$f":"IF(COUNTIF('CABLE LENGTH'!$A7:$P7,P$1)+COUNTIF('CABLE LENGTH'!$B7:$P7,P$2)=2,'CABLE LENGTH'!$AL7,0)","v":0},{"$f":"IF(COUNTIF('CABLE LENGTH'!$A7:$P7,Q$1)+COUNTIF('CABLE LENGTH'!$B7:$P7,Q$2)=2,'CABLE LENGTH'!$AL7,0)","v":0},{"$f":"IF(COUNTIF('CABLE LENGTH'!$A7:$P7,R$1)+COUNTIF('CABLE LENGTH'!$B7:$P7,R$2)=2,'CABLE LENGTH'!$AL7,0)","v":0},{"$f":"IF(COUNTIF('CABLE LENGTH'!$A7:$P7,S$1)+COUNTIF('CABLE LENGTH'!$B7:$P7,S$2)=2,'CABLE LENGTH'!$AL7,0)","v":0},{"$f":"IF(COUNTIF('CABLE LENGTH'!$A7:$P7,T$1)+COUNTIF('CABLE LENGTH'!$B7:$P7,T$2)=2,'CABLE LENGTH'!$AL7,0)","v":0},{"$f":"IF(COUNTIF('CABLE LENGTH'!$A7:$P7,U$1)+COUNTIF('CABLE LENGTH'!$B7:$P7,U$2)=2,'CABLE LENGTH'!$AL7,0)","v":0},{"$f":"IF(COUNTIF('CABLE LENGTH'!$A7:$P7,V$1)+COUNTIF('CABLE LENGTH'!$B7:$P7,V$2)=2,'CABLE LENGTH'!$AL7,0)","v":0},{"$f":"IF(COUNTIF('CABLE LENGTH'!$A7:$P7,W$1)+COUNTIF('CABLE LENGTH'!$B7:$P7,W$2)=2,'CABLE LENGTH'!$AL7,0)","v":0},{"$f":"IF(COUNTIF('CABLE LENGTH'!$A7:$P7,X$1)+COUNTIF('CABLE LENGTH'!$B7:$P7,X$2)=2,'CABLE LENGTH'!$AL7,0)","v":0},{"$f":"IF(COUNTIF('CABLE LENGTH'!$A7:$P7,Y$1)+COUNTIF('CABLE LENGTH'!$A7:$P7,Y$2)=2,'CABLE LENGTH'!$AL7,0)","v":0},{"$f":"IF(COUNTIF('CABLE LENGTH'!$A7:$P7,Z$1)+COUNTIF('CABLE LENGTH'!$A7:$P7,Z$2)=2,'CABLE LENGTH'!$AL7,0)","v":0},{"$f":"IF(COUNTIF('CABLE LENGTH'!$A7:$P7,AA$1)+COUNTIF('CABLE LENGTH'!$A7:$P7,AA$2)=2,'CABLE LENGTH'!$AL7,0)","v":0},{"$f":"IF(COUNTIF('CABLE LENGTH'!$A7:$P7,AB$1)+COUNTIF('CABLE LENGTH'!$A7:$P7,AB$2)=2,'CABLE LENGTH'!$AL7,0)","v":0},{"$f":"IF(COUNTIF('CABLE LENGTH'!$A7:$P7,AC$1)+COUNTIF('CABLE LENGTH'!$A7:$P7,AC$2)=2,'CABLE LENGTH'!$AL7,0)","v":0},{"$f":"IF(COUNTIF('CABLE LENGTH'!$A7:$P7,AD$1)+COUNTIF('CABLE LENGTH'!$A7:$P7,AD$2)=2,'CABLE LENGTH'!$AL7,0)","v":0},{"$f":"IF(COUNTIF('CABLE LENGTH'!$A7:$P7,AE$1)+COUNTIF('CABLE LENGTH'!$A7:$P7,AE$2)=2,'CABLE LENGTH'!$AL7,0)","v":0},{"$f":"IF(COUNTIF('CABLE LENGTH'!$A7:$P7,AF$1)+COUNTIF('CABLE LENGTH'!$A7:$P7,AF$2)=2,'CABLE LENGTH'!$AL7,0)","v":0},{"$f":"IF(COUNTIF('CABLE LENGTH'!$A7:$P7,AG$1)+COUNTIF('CABLE LENGTH'!$A7:$P7,AG$2)=2,'CABLE LENGTH'!$AL7,0)","v":0},{"$f":"IF(COUNTIF('CABLE LENGTH'!$A7:$P7,AH$1)+COUNTIF('CABLE LENGTH'!$A7:$P7,AH$2)=2,'CABLE LENGTH'!$AL7,0)","v":0},{"$f":"IF(COUNTIF('CABLE LENGTH'!$A7:$P7,AI$1)+COUNTIF('CABLE LENGTH'!$A7:$P7,AI$2)=2,'CABLE LENGTH'!$AL7,0)","v":0},{"$f":"IF(COUNTIF('CABLE LENGTH'!$A7:$P7,AJ$1)+COUNTIF('CABLE LENGTH'!$A7:$P7,AJ$2)=2,'CABLE LENGTH'!$AL7,0)","v":0},{"$f":"IF(COUNTIF('CABLE LENGTH'!$A7:$P7,AK$1)+COUNTIF('CABLE LENGTH'!$A7:$P7,AK$2)=2,'CABLE LENGTH'!$AL7,0)","v":0},{"$f":"IF(COUNTIF('CABLE LENGTH'!$A7:$P7,AL$1)+COUNTIF('CABLE LENGTH'!$A7:$P7,AL$2)=2,'CABLE LENGTH'!$AL7,0)","v":0},{"$f":"IF(COUNTIF('CABLE LENGTH'!$A7:$P7,AM$1)+COUNTIF('CABLE LENGTH'!$A7:$P7,AM$2)=2,'CABLE LENGTH'!$AL7,0)","v":0},{"$f":"IF(COUNTIF('CABLE LENGTH'!$A7:$P7,AN$1)+COUNTIF('CABLE LENGTH'!$A7:$P7,AN$2)=2,'CABLE LENGTH'!$AL7,0)","v":0},{"$f":"IF(COUNTIF('CABLE LENGTH'!$A7:$P7,AO$1)+COUNTIF('CABLE LENGTH'!$A7:$P7,AO$2)=2,'CABLE LENGTH'!$AL7,0)","v":0},{"$f":"IF(COUNTIF('CABLE LENGTH'!$A7:$P7,AP$1)+COUNTIF('CABLE LENGTH'!$A7:$P7,AP$2)=2,'CABLE LENGTH'!$AL7,0)","v":0},{"$f":"IF(COUNTIF('CABLE LENGTH'!$A7:$P7,AQ$1)+COUNTIF('CABLE LENGTH'!$A7:$P7,AQ$2)=2,'CABLE LENGTH'!$AL7,0)","v":0},{"$f":"IF(COUNTIF('CABLE LENGTH'!$A7:$P7,AR$1)+COUNTIF('CABLE LENGTH'!$A7:$P7,AR$2)=2,'CABLE LENGTH'!$AL7,0)","v":0},{"$f":"IF(COUNTIF('CABLE LENGTH'!$A7:$P7,AS$1)+COUNTIF('CABLE LENGTH'!$A7:$P7,AS$2)=2,'CABLE LENGTH'!$AL7,0)","v":0},{"$f":"IF(COUNTIF('CABLE LENGTH'!$A7:$P7,AT$1)+COUNTIF('CABLE LENGTH'!$A7:$P7,AT$2)=2,'CABLE LENGTH'!$AL7,0)","v":0},{"$f":"IF(COUNTIF('CABLE LENGTH'!$A7:$P7,AU$1)+COUNTIF('CABLE LENGTH'!$A7:$P7,AU$2)=2,'CABLE LENGTH'!$AL7,0)","v":0},{"$f":"IF(COUNTIF('CABLE LENGTH'!$A7:$P7,AV$1)+COUNTIF('CABLE LENGTH'!$A7:$P7,AV$2)=2,'CABLE LENGTH'!$AL7,0)","v":0},{"$f":"IF(COUNTIF('CABLE LENGTH'!$A7:$P7,AW$1)+COUNTIF('CABLE LENGTH'!$A7:$P7,AW$2)=2,'CABLE LENGTH'!$AL7,0)","v":0},{"$f":"IF(COUNTIF('CABLE LENGTH'!$A7:$P7,AX$1)+COUNTIF('CABLE LENGTH'!$A7:$P7,AX$2)=2,'CABLE LENGTH'!$AL7,0)","v":0},{"$f":"IF(COUNTIF('CABLE LENGTH'!$A7:$P7,AY$1)+COUNTIF('CABLE LENGTH'!$A7:$P7,AY$2)=2,'CABLE LENGTH'!$AL7,0)","v":0},{"$f":"IF(COUNTIF('CABLE LENGTH'!$A7:$P7,AZ$1)+COUNTIF('CABLE LENGTH'!$A7:$P7,AZ$2)=2,'CABLE LENGTH'!$AL7,0)","v":0}]
[null,{"$f":"+'CABLE LENGTH'!AK8","v":0},{"$f":"IF(COUNTIF('CABLE LENGTH'!$A8:$P8,C$1)+COUNTIF('CABLE LENGTH'!$B8:$P8,C$2)=2,'CABLE LENGTH'!$AL8,0)","v":0},{"$f":"IF(COUNTIF('CABLE LENGTH'!$A8:$P8,D$1)+COUNTIF('CABLE LENGTH'!$B8:$P8,D$2)=2,'CABLE LENGTH'!$AL8,0)","v":0},{"$f":"IF(COUNTIF('CABLE LENGTH'!$A8:$P8,E$1)+COUNTIF('CABLE LENGTH'!$B8:$P8,E$2)=2,'CABLE LENGTH'!$AL8,0)","v":0},{"$f":"IF(COUNTIF('CABLE LENGTH'!$A8:$P8,F$1)+COUNTIF('CABLE LENGTH'!$B8:$P8,F$2)=2,'CABLE LENGTH'!$AL8,0)","v":0},{"$f":"IF(COUNTIF('CABLE LENGTH'!$A8:$P8,G$1)+COUNTIF('CABLE LENGTH'!$B8:$P8,G$2)=2,'CABLE LENGTH'!$AL8,0)","v":0},{"$f":"IF(COUNTIF('CABLE LENGTH'!$A8:$P8,H$1)+COUNTIF('CABLE LENGTH'!$B8:$P8,H$2)=2,'CABLE LENGTH'!$AL8,0)","v":0},{"$f":"IF(COUNTIF('CABLE LENGTH'!$A8:$P8,I$1)+COUNTIF('CABLE LENGTH'!$B8:$P8,I$2)=2,'CABLE LENGTH'!$AL8,0)","v":0},{"$f":"IF(COUNTIF('CABLE LENGTH'!$A8:$P8,J$1)+COUNTIF('CABLE LENGTH'!$B8:$P8,J$2)=2,'CABLE LENGTH'!$AL8,0)","v":0},{"$f":"IF(COUNTIF('CABLE LENGTH'!$A8:$P8,K$1)+COUNTIF('CABLE LENGTH'!$B8:$P8,K$2)=2,'CABLE LENGTH'!$AL8,0)","v":0},{"$f":"IF(COUNTIF('CABLE LENGTH'!$A8:$P8,L$1)+COUNTIF('CABLE LENGTH'!$B8:$P8,L$2)=2,'CABLE LENGTH'!$AL8,0)","v":0},{"$f":"IF(COUNTIF('CABLE LENGTH'!$A8:$P8,M$1)+COUNTIF('CABLE LENGTH'!$B8:$P8,M$2)=2,'CABLE LENGTH'!$AL8,0)","v":0},{"$f":"IF(COUNTIF('CABLE LENGTH'!$A8:$P8,N$1)+COUNTIF('CABLE LENGTH'!$B8:$P8,N$2)=2,'CABLE LENGTH'!$AL8,0)","v":0},{"$f":"IF(COUNTIF('CABLE LENGTH'!$A8:$P8,O$1)+COUNTIF('CABLE LENGTH'!$B8:$P8,O$2)=2,'CABLE LENGTH'!$AL8,0)","v":0},{"$f":"IF(COUNTIF('CABLE LENGTH'!$A8:$P8,P$1)+COUNTIF('CABLE LENGTH'!$B8:$P8,P$2)=2,'CABLE LENGTH'!$AL8,0)","v":0},{"$f":"IF(COUNTIF('CABLE LENGTH'!$A8:$P8,Q$1)+COUNTIF('CABLE LENGTH'!$B8:$P8,Q$2)=2,'CABLE LENGTH'!$AL8,0)","v":0},{"$f":"IF(COUNTIF('CABLE LENGTH'!$A8:$P8,R$1)+COUNTIF('CABLE LENGTH'!$B8:$P8,R$2)=2,'CABLE LENGTH'!$AL8,0)","v":0},{"$f":"IF(COUNTIF('CABLE LENGTH'!$A8:$P8,S$1)+COUNTIF('CABLE LENGTH'!$B8:$P8,S$2)=2,'CABLE LENGTH'!$AL8,0)","v":0},{"$f":"IF(COUNTIF('CABLE LENGTH'!$A8:$P8,T$1)+COUNTIF('CABLE LENGTH'!$B8:$P8,T$2)=2,'CABLE LENGTH'!$AL8,0)","v":0},{"$f":"IF(COUNTIF('CABLE LENGTH'!$A8:$P8,U$1)+COUNTIF('CABLE LENGTH'!$B8:$P8,U$2)=2,'CABLE LENGTH'!$AL8,0)","v":0},{"$f":"IF(COUNTIF('CABLE LENGTH'!$A8:$P8,V$1)+COUNTIF('CABLE LENGTH'!$B8:$P8,V$2)=2,'CABLE LENGTH'!$AL8,0)","v":0},{"$f":"IF(COUNTIF('CABLE LENGTH'!$A8:$P8,W$1)+COUNTIF('CABLE LENGTH'!$B8:$P8,W$2)=2,'CABLE LENGTH'!$AL8,0)","v":0},{"$f":"IF(COUNTIF('CABLE LENGTH'!$A8:$P8,X$1)+COUNTIF('CABLE LENGTH'!$B8:$P8,X$2)=2,'CABLE LENGTH'!$AL8,0)","v":0},{"$f":"IF(COUNTIF('CABLE LENGTH'!$A8:$P8,Y$1)+COUNTIF('CABLE LENGTH'!$A8:$P8,Y$2)=2,'CABLE LENGTH'!$AL8,0)","v":0},{"$f":"IF(COUNTIF('CABLE LENGTH'!$A8:$P8,Z$1)+COUNTIF('CABLE LENGTH'!$A8:$P8,Z$2)=2,'CABLE LENGTH'!$AL8,0)","v":0},{"$f":"IF(COUNTIF('CABLE LENGTH'!$A8:$P8,AA$1)+COUNTIF('CABLE LENGTH'!$A8:$P8,AA$2)=2,'CABLE LENGTH'!$AL8,0)","v":0},{"$f":"IF(COUNTIF('CABLE LENGTH'!$A8:$P8,AB$1)+COUNTIF('CABLE LENGTH'!$A8:$P8,AB$2)=2,'CABLE LENGTH'!$AL8,0)","v":0},{"$f":"IF(COUNTIF('CABLE LENGTH'!$A8:$P8,AC$1)+COUNTIF('CABLE LENGTH'!$A8:$P8,AC$2)=2,'CABLE LENGTH'!$AL8,0)","v":0},{"$f":"IF(COUNTIF('CABLE LENGTH'!$A8:$P8,AD$1)+COUNTIF('CABLE LENGTH'!$A8:$P8,AD$2)=2,'CABLE LENGTH'!$AL8,0)","v":0},{"$f":"IF(COUNTIF('CABLE LENGTH'!$A8:$P8,AE$1)+COUNTIF('CABLE LENGTH'!$A8:$P8,AE$2)=2,'CABLE LENGTH'!$AL8,0)","v":0},{"$f":"IF(COUNTIF('CABLE LENGTH'!$A8:$P8,AF$1)+COUNTIF('CABLE LENGTH'!$A8:$P8,AF$2)=2,'CABLE LENGTH'!$AL8,0)","v":0},{"$f":"IF(COUNTIF('CABLE LENGTH'!$A8:$P8,AG$1)+COUNTIF('CABLE LENGTH'!$A8:$P8,AG$2)=2,'CABLE LENGTH'!$AL8,0)","v":0},{"$f":"IF(COUNTIF('CABLE LENGTH'!$A8:$P8,AH$1)+COUNTIF('CABLE LENGTH'!$A8:$P8,AH$2)=2,'CABLE LENGTH'!$AL8,0)","v":0},{"$f":"IF(COUNTIF('CABLE LENGTH'!$A8:$P8,AI$1)+COUNTIF('CABLE LENGTH'!$A8:$P8,AI$2)=2,'CABLE LENGTH'!$AL8,0)","v":0},{"$f":"IF(COUNTIF('CABLE LENGTH'!$A8:$P8,AJ$1)+COUNTIF('CABLE LENGTH'!$A8:$P8,AJ$2)=2,'CABLE LENGTH'!$AL8,0)","v":0},{"$f":"IF(COUNTIF('CABLE LENGTH'!$A8:$P8,AK$1)+COUNTIF('CABLE LENGTH'!$A8:$P8,AK$2)=2,'CABLE LENGTH'!$AL8,0)","v":0},{"$f":"IF(COUNTIF('CABLE LENGTH'!$A8:$P8,AL$1)+COUNTIF('CABLE LENGTH'!$A8:$P8,AL$2)=2,'CABLE LENGTH'!$AL8,0)","v":0},{"$f":"IF(COUNTIF('CABLE LENGTH'!$A8:$P8,AM$1)+COUNTIF('CABLE LENGTH'!$A8:$P8,AM$2)=2,'CABLE LENGTH'!$AL8,0)","v":0},{"$f":"IF(COUNTIF('CABLE LENGTH'!$A8:$P8,AN$1)+COUNTIF('CABLE LENGTH'!$A8:$P8,AN$2)=2,'CABLE LENGTH'!$AL8,0)","v":0},{"$f":"IF(COUNTIF('CABLE LENGTH'!$A8:$P8,AO$1)+COUNTIF('CABLE LENGTH'!$A8:$P8,AO$2)=2,'CABLE LENGTH'!$AL8,0)","v":0},{"$f":"IF(COUNTIF('CABLE LENGTH'!$A8:$P8,AP$1)+COUNTIF('CABLE LENGTH'!$A8:$P8,AP$2)=2,'CABLE LENGTH'!$AL8,0)","v":0},{"$f":"IF(COUNTIF('CABLE LENGTH'!$A8:$P8,AQ$1)+COUNTIF('CABLE LENGTH'!$A8:$P8,AQ$2)=2,'CABLE LENGTH'!$AL8,0)","v":0},{"$f":"IF(COUNTIF('CABLE LENGTH'!$A8:$P8,AR$1)+COUNTIF('CABLE LENGTH'!$A8:$P8,AR$2)=2,'CABLE LENGTH'!$AL8,0)","v":0},{"$f":"IF(COUNTIF('CABLE LENGTH'!$A8:$P8,AS$1)+COUNTIF('CABLE LENGTH'!$A8:$P8,AS$2)=2,'CABLE LENGTH'!$AL8,0)","v":0},{"$f":"IF(COUNTIF('CABLE LENGTH'!$A8:$P8,AT$1)+COUNTIF('CABLE LENGTH'!$A8:$P8,AT$2)=2,'CABLE LENGTH'!$AL8,0)","v":0},{"$f":"IF(COUNTIF('CABLE LENGTH'!$A8:$P8,AU$1)+COUNTIF('CABLE LENGTH'!$A8:$P8,AU$2)=2,'CABLE LENGTH'!$AL8,0)","v":0},{"$f":"IF(COUNTIF('CABLE LENGTH'!$A8:$P8,AV$1)+COUNTIF('CABLE LENGTH'!$A8:$P8,AV$2)=2,'CABLE LENGTH'!$AL8,0)","v":0},{"$f":"IF(COUNTIF('CABLE LENGTH'!$A8:$P8,AW$1)+COUNTIF('CABLE LENGTH'!$A8:$P8,AW$2)=2,'CABLE LENGTH'!$AL8,0)","v":0},{"$f":"IF(COUNTIF('CABLE LENGTH'!$A8:$P8,AX$1)+COUNTIF('CABLE LENGTH'!$A8:$P8,AX$2)=2,'CABLE LENGTH'!$AL8,0)","v":0},{"$f":"IF(COUNTIF('CABLE LENGTH'!$A8:$P8,AY$1)+COUNTIF('CABLE LENGTH'!$A8:$P8,AY$2)=2,'CABLE LENGTH'!$AL8,0)","v":0},{"$f":"IF(COUNTIF('CABLE LENGTH'!$A8:$P8,AZ$1)+COUNTIF('CABLE LENGTH'!$A8:$P8,AZ$2)=2,'CABLE LENGTH'!$AL8,0)","v":0}]
[null,{"$f":"+'CABLE LENGTH'!AK9","v":0},{"$f":"IF(COUNTIF('CABLE LENGTH'!$A9:$P9,C$1)+COUNTIF('CABLE LENGTH'!$B9:$P9,C$2)=2,'CABLE LENGTH'!$AL9,0)","v":0},{"$f":"IF(COUNTIF('CABLE LENGTH'!$A9:$P9,D$1)+COUNTIF('CABLE LENGTH'!$B9:$P9,D$2)=2,'CABLE LENGTH'!$AL9,0)","v":0},{"$f":"IF(COUNTIF('CABLE LENGTH'!$A9:$P9,E$1)+COUNTIF('CABLE LENGTH'!$B9:$P9,E$2)=2,'CABLE LENGTH'!$AL9,0)","v":0},{"$f":"IF(COUNTIF('CABLE LENGTH'!$A9:$P9,F$1)+COUNTIF('CABLE LENGTH'!$B9:$P9,F$2)=2,'CABLE LENGTH'!$AL9,0)","v":0},{"$f":"IF(COUNTIF('CABLE LENGTH'!$A9:$P9,G$1)+COUNTIF('CABLE LENGTH'!$B9:$P9,G$2)=2,'CABLE LENGTH'!$AL9,0)","v":0},{"$f":"IF(COUNTIF('CABLE LENGTH'!$A9:$P9,H$1)+COUNTIF('CABLE LENGTH'!$B9:$P9,H$2)=2,'CABLE LENGTH'!$AL9,0)","v":0},{"$f":"IF(COUNTIF('CABLE LENGTH'!$A9:$P9,I$1)+COUNTIF('CABLE LENGTH'!$B9:$P9,I$2)=2,'CABLE LENGTH'!$AL9,0)","v":0},{"$f":"IF(COUNTIF('CABLE LENGTH'!$A9:$P9,J$1)+COUNTIF('CABLE LENGTH'!$B9:$P9,J$2)=2,'CABLE LENGTH'!$AL9,0)","v":0},{"$f":"IF(COUNTIF('CABLE LENGTH'!$A9:$P9,K$1)+COUNTIF('CABLE LENGTH'!$B9:$P9,K$2)=2,'CABLE LENGTH'!$AL9,0)","v":0},{"$f":"IF(COUNTIF('CABLE LENGTH'!$A9:$P9,L$1)+COUNTIF('CABLE LENGTH'!$B9:$P9,L$2)=2,'CABLE LENGTH'!$AL9,0)","v":0},{"$f":"IF(COUNTIF('CABLE LENGTH'!$A9:$P9,M$1)+COUNTIF('CABLE LENGTH'!$B9:$P9,M$2)=2,'CABLE LENGTH'!$AL9,0)","v":0},{"$f":"IF(COUNTIF('CABLE LENGTH'!$A9:$P9,N$1)+COUNTIF('CABLE LENGTH'!$B9:$P9,N$2)=2,'CABLE LENGTH'!$AL9,0)","v":0},{"$f":"IF(COUNTIF('CABLE LENGTH'!$A9:$P9,O$1)+COUNTIF('CABLE LENGTH'!$B9:$P9,O$2)=2,'CABLE LENGTH'!$AL9,0)","v":0},{"$f":"IF(COUNTIF('CABLE LENGTH'!$A9:$P9,P$1)+COUNTIF('CABLE LENGTH'!$B9:$P9,P$2)=2,'CABLE LENGTH'!$AL9,0)","v":0},{"$f":"IF(COUNTIF('CABLE LENGTH'!$A9:$P9,Q$1)+COUNTIF('CABLE LENGTH'!$B9:$P9,Q$2)=2,'CABLE LENGTH'!$AL9,0)","v":0},{"$f":"IF(COUNTIF('CABLE LENGTH'!$A9:$P9,R$1)+COUNTIF('CABLE LENGTH'!$B9:$P9,R$2)=2,'CABLE LENGTH'!$AL9,0)","v":0},{"$f":"IF(COUNTIF('CABLE LENGTH'!$A9:$P9,S$1)+COUNTIF('CABLE LENGTH'!$B9:$P9,S$2)=2,'CABLE LENGTH'!$AL9,0)","v":0},{"$f":"IF(COUNTIF('CABLE LENGTH'!$A9:$P9,T$1)+COUNTIF('CABLE LENGTH'!$B9:$P9,T$2)=2,'CABLE LENGTH'!$AL9,0)","v":0},{"$f":"IF(COUNTIF('CABLE LENGTH'!$A9:$P9,U$1)+COUNTIF('CABLE LENGTH'!$B9:$P9,U$2)=2,'CABLE LENGTH'!$AL9,0)","v":0},{"$f":"IF(COUNTIF('CABLE LENGTH'!$A9:$P9,V$1)+COUNTIF('CABLE LENGTH'!$B9:$P9,V$2)=2,'CABLE LENGTH'!$AL9,0)","v":0},{"$f":"IF(COUNTIF('CABLE LENGTH'!$A9:$P9,W$1)+COUNTIF('CABLE LENGTH'!$B9:$P9,W$2)=2,'CABLE LENGTH'!$AL9,0)","v":0},{"$f":"IF(COUNTIF('CABLE LENGTH'!$A9:$P9,X$1)+COUNTIF('CABLE LENGTH'!$B9:$P9,X$2)=2,'CABLE LENGTH'!$AL9,0)","v":0},{"$f":"IF(COUNTIF('CABLE LENGTH'!$A9:$P9,Y$1)+COUNTIF('CABLE LENGTH'!$A9:$P9,Y$2)=2,'CABLE LENGTH'!$AL9,0)","v":0},{"$f":"IF(COUNTIF('CABLE LENGTH'!$A9:$P9,Z$1)+COUNTIF('CABLE LENGTH'!$A9:$P9,Z$2)=2,'CABLE LENGTH'!$AL9,0)","v":0},{"$f":"IF(COUNTIF('CABLE LENGTH'!$A9:$P9,AA$1)+COUNTIF('CABLE LENGTH'!$A9:$P9,AA$2)=2,'CABLE LENGTH'!$AL9,0)","v":0},{"$f":"IF(COUNTIF('CABLE LENGTH'!$A9:$P9,AB$1)+COUNTIF('CABLE LENGTH'!$A9:$P9,AB$2)=2,'CABLE LENGTH'!$AL9,0)","v":0},{"$f":"IF(COUNTIF('CABLE LENGTH'!$A9:$P9,AC$1)+COUNTIF('CABLE LENGTH'!$A9:$P9,AC$2)=2,'CABLE LENGTH'!$AL9,0)","v":0},{"$f":"IF(COUNTIF('CABLE LENGTH'!$A9:$P9,AD$1)+COUNTIF('CABLE LENGTH'!$A9:$P9,AD$2)=2,'CABLE LENGTH'!$AL9,0)","v":0},{"$f":"IF(COUNTIF('CABLE LENGTH'!$A9:$P9,AE$1)+COUNTIF('CABLE LENGTH'!$A9:$P9,AE$2)=2,'CABLE LENGTH'!$AL9,0)","v":0},{"$f":"IF(COUNTIF('CABLE LENGTH'!$A9:$P9,AF$1)+COUNTIF('CABLE LENGTH'!$A9:$P9,AF$2)=2,'CABLE LENGTH'!$AL9,0)","v":0},{"$f":"IF(COUNTIF('CABLE LENGTH'!$A9:$P9,AG$1)+COUNTIF('CABLE LENGTH'!$A9:$P9,AG$2)=2,'CABLE LENGTH'!$AL9,0)","v":0},{"$f":"IF(COUNTIF('CABLE LENGTH'!$A9:$P9,AH$1)+COUNTIF('CABLE LENGTH'!$A9:$P9,AH$2)=2,'CABLE LENGTH'!$AL9,0)","v":0},{"$f":"IF(COUNTIF('CABLE LENGTH'!$A9:$P9,AI$1)+COUNTIF('CABLE LENGTH'!$A9:$P9,AI$2)=2,'CABLE LENGTH'!$AL9,0)","v":0},{"$f":"IF(COUNTIF('CABLE LENGTH'!$A9:$P9,AJ$1)+COUNTIF('CABLE LENGTH'!$A9:$P9,AJ$2)=2,'CABLE LENGTH'!$AL9,0)","v":0},{"$f":"IF(COUNTIF('CABLE LENGTH'!$A9:$P9,AK$1)+COUNTIF('CABLE LENGTH'!$A9:$P9,AK$2)=2,'CABLE LENGTH'!$AL9,0)","v":0},{"$f":"IF(COUNTIF('CABLE LENGTH'!$A9:$P9,AL$1)+COUNTIF('CABLE LENGTH'!$A9:$P9,AL$2)=2,'CABLE LENGTH'!$AL9,0)","v":0},{"$f":"IF(COUNTIF('CABLE LENGTH'!$A9:$P9,AM$1)+COUNTIF('CABLE LENGTH'!$A9:$P9,AM$2)=2,'CABLE LENGTH'!$AL9,0)","v":0},{"$f":"IF(COUNTIF('CABLE LENGTH'!$A9:$P9,AN$1)+COUNTIF('CABLE LENGTH'!$A9:$P9,AN$2)=2,'CABLE LENGTH'!$AL9,0)","v":0},{"$f":"IF(COUNTIF('CABLE LENGTH'!$A9:$P9,AO$1)+COUNTIF('CABLE LENGTH'!$A9:$P9,AO$2)=2,'CABLE LENGTH'!$AL9,0)","v":0},{"$f":"IF(COUNTIF('CABLE LENGTH'!$A9:$P9,AP$1)+COUNTIF('CABLE LENGTH'!$A9:$P9,AP$2)=2,'CABLE LENGTH'!$AL9,0)","v":0},{"$f":"IF(COUNTIF('CABLE LENGTH'!$A9:$P9,AQ$1)+COUNTIF('CABLE LENGTH'!$A9:$P9,AQ$2)=2,'CABLE LENGTH'!$AL9,0)","v":0},{"$f":"IF(COUNTIF('CABLE LENGTH'!$A9:$P9,AR$1)+COUNTIF('CABLE LENGTH'!$A9:$P9,AR$2)=2,'CABLE LENGTH'!$AL9,0)","v":0},{"$f":"IF(COUNTIF('CABLE LENGTH'!$A9:$P9,AS$1)+COUNTIF('CABLE LENGTH'!$A9:$P9,AS$2)=2,'CABLE LENGTH'!$AL9,0)","v":0},{"$f":"IF(COUNTIF('CABLE LENGTH'!$A9:$P9,AT$1)+COUNTIF('CABLE LENGTH'!$A9:$P9,AT$2)=2,'CABLE LENGTH'!$AL9,0)","v":0},{"$f":"IF(COUNTIF('CABLE LENGTH'!$A9:$P9,AU$1)+COUNTIF('CABLE LENGTH'!$A9:$P9,AU$2)=2,'CABLE LENGTH'!$AL9,0)","v":0},{"$f":"IF(COUNTIF('CABLE LENGTH'!$A9:$P9,AV$1)+COUNTIF('CABLE LENGTH'!$A9:$P9,AV$2)=2,'CABLE LENGTH'!$AL9,0)","v":0},{"$f":"IF(COUNTIF('CABLE LENGTH'!$A9:$P9,AW$1)+COUNTIF('CABLE LENGTH'!$A9:$P9,AW$2)=2,'CABLE LENGTH'!$AL9,0)","v":0},{"$f":"IF(COUNTIF('CABLE LENGTH'!$A9:$P9,AX$1)+COUNTIF('CABLE LENGTH'!$A9:$P9,AX$2)=2,'CABLE LENGTH'!$AL9,0)","v":0},{"$f":"IF(COUNTIF('CABLE LENGTH'!$A9:$P9,AY$1)+COUNTIF('CABLE LENGTH'!$A9:$P9,AY$2)=2,'CABLE LENGTH'!$AL9,0)","v":0},{"$f":"IF(COUNTIF('CABLE LENGTH'!$A9:$P9,AZ$1)+COUNTIF('CABLE LENGTH'!$A9:$P9,AZ$2)=2,'CABLE LENGTH'!$AL9,0)","v":0}]
[null,{"$f":"+'CABLE LENGTH'!AK10","v":0},{"$f":"IF(COUNTIF('CABLE LENGTH'!$A10:$P10,C$1)+COUNTIF('CABLE LENGTH'!$B10:$P10,C$2)=2,'CABLE LENGTH'!$AL10,0)","v":0},{"$f":"IF(COUNTIF('CABLE LENGTH'!$A10:$P10,D$1)+COUNTIF('CABLE LENGTH'!$B10:$P10,D$2)=2,'CABLE LENGTH'!$AL10,0)","v":0},{"$f":"IF(COUNTIF('CABLE LENGTH'!$A10:$P10,E$1)+COUNTIF('CABLE LENGTH'!$B10:$P10,E$2)=2,'CABLE LENGTH'!$AL10,0)","v":0},{"$f":"IF(COUNTIF('CABLE LENGTH'!$A10:$P10,F$1)+COUNTIF('CABLE LENGTH'!$B10:$P10,F$2)=2,'CABLE LENGTH'!$AL10,0)","v":0},{"$f":"IF(COUNTIF('CABLE LENGTH'!$A10:$P10,G$1)+COUNTIF('CABLE LENGTH'!$B10:$P10,G$2)=2,'CABLE LENGTH'!$AL10,0)","v":0},{"$f":"IF(COUNTIF('CABLE LENGTH'!$A10:$P10,H$1)+COUNTIF('CABLE LENGTH'!$B10:$P10,H$2)=2,'CABLE LENGTH'!$AL10,0)","v":0},{"$f":"IF(COUNTIF('CABLE LENGTH'!$A10:$P10,I$1)+COUNTIF('CABLE LENGTH'!$B10:$P10,I$2)=2,'CABLE LENGTH'!$AL10,0)","v":0},{"$f":"IF(COUNTIF('CABLE LENGTH'!$A10:$P10,J$1)+COUNTIF('CABLE LENGTH'!$B10:$P10,J$2)=2,'CABLE LENGTH'!$AL10,0)","v":0},{"$f":"IF(COUNTIF('CABLE LENGTH'!$A10:$P10,K$1)+COUNTIF('CABLE LENGTH'!$B10:$P10,K$2)=2,'CABLE LENGTH'!$AL10,0)","v":0},{"$f":"IF(COUNTIF('CABLE LENGTH'!$A10:$P10,L$1)+COUNTIF('CABLE LENGTH'!$B10:$P10,L$2)=2,'CABLE LENGTH'!$AL10,0)","v":0},{"$f":"IF(COUNTIF('CABLE LENGTH'!$A10:$P10,M$1)+COUNTIF('CABLE LENGTH'!$B10:$P10,M$2)=2,'CABLE LENGTH'!$AL10,0)","v":0},{"$f":"IF(COUNTIF('CABLE LENGTH'!$A10:$P10,N$1)+COUNTIF('CABLE LENGTH'!$B10:$P10,N$2)=2,'CABLE LENGTH'!$AL10,0)","v":0},{"$f":"IF(COUNTIF('CABLE LENGTH'!$A10:$P10,O$1)+COUNTIF('CABLE LENGTH'!$B10:$P10,O$2)=2,'CABLE LENGTH'!$AL10,0)","v":0},{"$f":"IF(COUNTIF('CABLE LENGTH'!$A10:$P10,P$1)+COUNTIF('CABLE LENGTH'!$B10:$P10,P$2)=2,'CABLE LENGTH'!$AL10,0)","v":0},{"$f":"IF(COUNTIF('CABLE LENGTH'!$A10:$P10,Q$1)+COUNTIF('CABLE LENGTH'!$B10:$P10,Q$2)=2,'CABLE LENGTH'!$AL10,0)","v":0},{"$f":"IF(COUNTIF('CABLE LENGTH'!$A10:$P10,R$1)+COUNTIF('CABLE LENGTH'!$B10:$P10,R$2)=2,'CABLE LENGTH'!$AL10,0)","v":0},{"$f":"IF(COUNTIF('CABLE LENGTH'!$A10:$P10,S$1)+COUNTIF('CABLE LENGTH'!$B10:$P10,S$2)=2,'CABLE LENGTH'!$AL10,0)","v":0},{"$f":"IF(COUNTIF('CABLE LENGTH'!$A10:$P10,T$1)+COUNTIF('CABLE LENGTH'!$B10:$P10,T$2)=2,'CABLE LENGTH'!$AL10,0)","v":0},{"$f":"IF(COUNTIF('CABLE LENGTH'!$A10:$P10,U$1)+COUNTIF('CABLE LENGTH'!$B10:$P10,U$2)=2,'CABLE LENGTH'!$AL10,0)","v":0},{"$f":"IF(COUNTIF('CABLE LENGTH'!$A10:$P10,V$1)+COUNTIF('CABLE LENGTH'!$B10:$P10,V$2)=2,'CABLE LENGTH'!$AL10,0)","v":0},{"$f":"IF(COUNTIF('CABLE LENGTH'!$A10:$P10,W$1)+COUNTIF('CABLE LENGTH'!$B10:$P10,W$2)=2,'CABLE LENGTH'!$AL10,0)","v":0},{"$f":"IF(COUNTIF('CABLE LENGTH'!$A10:$P10,X$1)+COUNTIF('CABLE LENGTH'!$B10:$P10,X$2)=2,'CABLE LENGTH'!$AL10,0)","v":0},{"$f":"IF(COUNTIF('CABLE LENGTH'!$A10:$P10,Y$1)+COUNTIF('CABLE LENGTH'!$A10:$P10,Y$2)=2,'CABLE LENGTH'!$AL10,0)","v":0},{"$f":"IF(COUNTIF('CABLE LENGTH'!$A10:$P10,Z$1)+COUNTIF('CABLE LENGTH'!$A10:$P10,Z$2)=2,'CABLE LENGTH'!$AL10,0)","v":0},{"$f":"IF(COUNTIF('CABLE LENGTH'!$A10:$P10,AA$1)+COUNTIF('CABLE LENGTH'!$A10:$P10,AA$2)=2,'CABLE LENGTH'!$AL10,0)","v":0},{"$f":"IF(COUNTIF('CABLE LENGTH'!$A10:$P10,AB$1)+COUNTIF('CABLE LENGTH'!$A10:$P10,AB$2)=2,'CABLE LENGTH'!$AL10,0)","v":0},{"$f":"IF(COUNTIF('CABLE LENGTH'!$A10:$P10,AC$1)+COUNTIF('CABLE LENGTH'!$A10:$P10,AC$2)=2,'CABLE LENGTH'!$AL10,0)","v":0},{"$f":"IF(COUNTIF('CABLE LENGTH'!$A10:$P10,AD$1)+COUNTIF('CABLE LENGTH'!$A10:$P10,AD$2)=2,'CABLE LENGTH'!$AL10,0)","v":0},{"$f":"IF(COUNTIF('CABLE LENGTH'!$A10:$P10,AE$1)+COUNTIF('CABLE LENGTH'!$A10:$P10,AE$2)=2,'CABLE LENGTH'!$AL10,0)","v":0},{"$f":"IF(COUNTIF('CABLE LENGTH'!$A10:$P10,AF$1)+COUNTIF('CABLE LENGTH'!$A10:$P10,AF$2)=2,'CABLE LENGTH'!$AL10,0)","v":0},{"$f":"IF(COUNTIF('CABLE LENGTH'!$A10:$P10,AG$1)+COUNTIF('CABLE LENGTH'!$A10:$P10,AG$2)=2,'CABLE LENGTH'!$AL10,0)","v":0},{"$f":"IF(COUNTIF('CABLE LENGTH'!$A10:$P10,AH$1)+COUNTIF('CABLE LENGTH'!$A10:$P10,AH$2)=2,'CABLE LENGTH'!$AL10,0)","v":0},{"$f":"IF(COUNTIF('CABLE LENGTH'!$A10:$P10,AI$1)+COUNTIF('CABLE LENGTH'!$A10:$P10,AI$2)=2,'CABLE LENGTH'!$AL10,0)","v":0},{"$f":"IF(COUNTIF('CABLE LENGTH'!$A10:$P10,AJ$1)+COUNTIF('CABLE LENGTH'!$A10:$P10,AJ$2)=2,'CABLE LENGTH'!$AL10,0)","v":0},{"$f":"IF(COUNTIF('CABLE LENGTH'!$A10:$P10,AK$1)+COUNTIF('CABLE LENGTH'!$A10:$P10,AK$2)=2,'CABLE LENGTH'!$AL10,0)","v":0},{"$f":"IF(COUNTIF('CABLE LENGTH'!$A10:$P10,AL$1)+COUNTIF('CABLE LENGTH'!$A10:$P10,AL$2)=2,'CABLE LENGTH'!$AL10,0)","v":0},{"$f":"IF(COUNTIF('CABLE LENGTH'!$A10:$P10,AM$1)+COUNTIF('CABLE LENGTH'!$A10:$P10,AM$2)=2,'CABLE LENGTH'!$AL10,0)","v":0},{"$f":"IF(COUNTIF('CABLE LENGTH'!$A10:$P10,AN$1)+COUNTIF('CABLE LENGTH'!$A10:$P10,AN$2)=2,'CABLE LENGTH'!$AL10,0)","v":0},{"$f":"IF(COUNTIF('CABLE LENGTH'!$A10:$P10,AO$1)+COUNTIF('CABLE LENGTH'!$A10:$P10,AO$2)=2,'CABLE LENGTH'!$AL10,0)","v":0},{"$f":"IF(COUNTIF('CABLE LENGTH'!$A10:$P10,AP$1)+COUNTIF('CABLE LENGTH'!$A10:$P10,AP$2)=2,'CABLE LENGTH'!$AL10,0)","v":0},{"$f":"IF(COUNTIF('CABLE LENGTH'!$A10:$P10,AQ$1)+COUNTIF('CABLE LENGTH'!$A10:$P10,AQ$2)=2,'CABLE LENGTH'!$AL10,0)","v":0},{"$f":"IF(COUNTIF('CABLE LENGTH'!$A10:$P10,AR$1)+COUNTIF('CABLE LENGTH'!$A10:$P10,AR$2)=2,'CABLE LENGTH'!$AL10,0)","v":0},{"$f":"IF(COUNTIF('CABLE LENGTH'!$A10:$P10,AS$1)+COUNTIF('CABLE LENGTH'!$A10:$P10,AS$2)=2,'CABLE LENGTH'!$AL10,0)","v":0},{"$f":"IF(COUNTIF('CABLE LENGTH'!$A10:$P10,AT$1)+COUNTIF('CABLE LENGTH'!$A10:$P10,AT$2)=2,'CABLE LENGTH'!$AL10,0)","v":0},{"$f":"IF(COUNTIF('CABLE LENGTH'!$A10:$P10,AU$1)+COUNTIF('CABLE LENGTH'!$A10:$P10,AU$2)=2,'CABLE LENGTH'!$AL10,0)","v":0},{"$f":"IF(COUNTIF('CABLE LENGTH'!$A10:$P10,AV$1)+COUNTIF('CABLE LENGTH'!$A10:$P10,AV$2)=2,'CABLE LENGTH'!$AL10,0)","v":0},{"$f":"IF(COUNTIF('CABLE LENGTH'!$A10:$P10,AW$1)+COUNTIF('CABLE LENGTH'!$A10:$P10,AW$2)=2,'CABLE LENGTH'!$AL10,0)","v":0},{"$f":"IF(COUNTIF('CABLE LENGTH'!$A10:$P10,AX$1)+COUNTIF('CABLE LENGTH'!$A10:$P10,AX$2)=2,'CABLE LENGTH'!$AL10,0)","v":0},{"$f":"IF(COUNTIF('CABLE LENGTH'!$A10:$P10,AY$1)+COUNTIF('CABLE LENGTH'!$A10:$P10,AY$2)=2,'CABLE LENGTH'!$AL10,0)","v":0},{"$f":"IF(COUNTIF('CABLE LENGTH'!$A10:$P10,AZ$1)+COUNTIF('CABLE LENGTH'!$A10:$P10,AZ$2)=2,'CABLE LENGTH'!$AL10,0)","v":0}]
[null,{"$f":"+'CABLE LENGTH'!AK11","v":0},{"$f":"IF(COUNTIF('CABLE LENGTH'!$A11:$P11,C$1)+COUNTIF('CABLE LENGTH'!$B11:$P11,C$2)=2,'CABLE LENGTH'!$AL11,0)","v":0},{"$f":"IF(COUNTIF('CABLE LENGTH'!$A11:$P11,D$1)+COUNTIF('CABLE LENGTH'!$B11:$P11,D$2)=2,'CABLE LENGTH'!$AL11,0)","v":0},{"$f":"IF(COUNTIF('CABLE LENGTH'!$A11:$P11,E$1)+COUNTIF('CABLE LENGTH'!$B11:$P11,E$2)=2,'CABLE LENGTH'!$AL11,0)","v":0},{"$f":"IF(COUNTIF('CABLE LENGTH'!$A11:$P11,F$1)+COUNTIF('CABLE LENGTH'!$B11:$P11,F$2)=2,'CABLE LENGTH'!$AL11,0)","v":0},{"$f":"IF(COUNTIF('CABLE LENGTH'!$A11:$P11,G$1)+COUNTIF('CABLE LENGTH'!$B11:$P11,G$2)=2,'CABLE LENGTH'!$AL11,0)","v":0},{"$f":"IF(COUNTIF('CABLE LENGTH'!$A11:$P11,H$1)+COUNTIF('CABLE LENGTH'!$B11:$P11,H$2)=2,'CABLE LENGTH'!$AL11,0)","v":0},{"$f":"IF(COUNTIF('CABLE LENGTH'!$A11:$P11,I$1)+COUNTIF('CABLE LENGTH'!$B11:$P11,I$2)=2,'CABLE LENGTH'!$AL11,0)","v":0},{"$f":"IF(COUNTIF('CABLE LENGTH'!$A11:$P11,J$1)+COUNTIF('CABLE LENGTH'!$B11:$P11,J$2)=2,'CABLE LENGTH'!$AL11,0)","v":0},{"$f":"IF(COUNTIF('CABLE LENGTH'!$A11:$P11,K$1)+COUNTIF('CABLE LENGTH'!$B11:$P11,K$2)=2,'CABLE LENGTH'!$AL11,0)","v":0},{"$f":"IF(COUNTIF('CABLE LENGTH'!$A11:$P11,L$1)+COUNTIF('CABLE LENGTH'!$B11:$P11,L$2)=2,'CABLE LENGTH'!$AL11,0)","v":0},{"$f":"IF(COUNTIF('CABLE LENGTH'!$A11:$P11,M$1)+COUNTIF('CABLE LENGTH'!$B11:$P11,M$2)=2,'CABLE LENGTH'!$AL11,0)","v":0},{"$f":"IF(COUNTIF('CABLE LENGTH'!$A11:$P11,N$1)+COUNTIF('CABLE LENGTH'!$B11:$P11,N$2)=2,'CABLE LENGTH'!$AL11,0)","v":0},{"$f":"IF(COUNTIF('CABLE LENGTH'!$A11:$P11,O$1)+COUNTIF('CABLE LENGTH'!$B11:$P11,O$2)=2,'CABLE LENGTH'!$AL11,0)","v":0},{"$f":"IF(COUNTIF('CABLE LENGTH'!$A11:$P11,P$1)+COUNTIF('CABLE LENGTH'!$B11:$P11,P$2)=2,'CABLE LENGTH'!$AL11,0)","v":0},{"$f":"IF(COUNTIF('CABLE LENGTH'!$A11:$P11,Q$1)+COUNTIF('CABLE LENGTH'!$B11:$P11,Q$2)=2,'CABLE LENGTH'!$AL11,0)","v":0},{"$f":"IF(COUNTIF('CABLE LENGTH'!$A11:$P11,R$1)+COUNTIF('CABLE LENGTH'!$B11:$P11,R$2)=2,'CABLE LENGTH'!$AL11,0)","v":0},{"$f":"IF(COUNTIF('CABLE LENGTH'!$A11:$P11,S$1)+COUNTIF('CABLE LENGTH'!$B11:$P11,S$2)=2,'CABLE LENGTH'!$AL11,0)","v":0},{"$f":"IF(COUNTIF('CABLE LENGTH'!$A11:$P11,T$1)+COUNTIF('CABLE LENGTH'!$B11:$P11,T$2)=2,'CABLE LENGTH'!$AL11,0)","v":0},{"$f":"IF(COUNTIF('CABLE LENGTH'!$A11:$P11,U$1)+COUNTIF('CABLE LENGTH'!$B11:$P11,U$2)=2,'CABLE LENGTH'!$AL11,0)","v":0},{"$f":"IF(COUNTIF('CABLE LENGTH'!$A11:$P11,V$1)+COUNTIF('CABLE LENGTH'!$B11:$P11,V$2)=2,'CABLE LENGTH'!$AL11,0)","v":0},{"$f":"IF(COUNTIF('CABLE LENGTH'!$A11:$P11,W$1)+COUNTIF('CABLE LENGTH'!$B11:$P11,W$2)=2,'CABLE LENGTH'!$AL11,0)","v":0},{"$f":"IF(COUNTIF('CABLE LENGTH'!$A11:$P11,X$1)+COUNTIF('CABLE LENGTH'!$B11:$P11,X$2)=2,'CABLE LENGTH'!$AL11,0)","v":0},{"$f":"IF(COUNTIF('CABLE LENGTH'!$A11:$P11,Y$1)+COUNTIF('CABLE LENGTH'!$A11:$P11,Y$2)=2,'CABLE LENGTH'!$AL11,0)","v":0},{"$f":"IF(COUNTIF('CABLE LENGTH'!$A11:$P11,Z$1)+COUNTIF('CABLE LENGTH'!$A11:$P11,Z$2)=2,'CABLE LENGTH'!$AL11,0)","v":0},{"$f":"IF(COUNTIF('CABLE LENGTH'!$A11:$P11,AA$1)+COUNTIF('CABLE LENGTH'!$A11:$P11,AA$2)=2,'CABLE LENGTH'!$AL11,0)","v":0},{"$f":"IF(COUNTIF('CABLE LENGTH'!$A11:$P11,AB$1)+COUNTIF('CABLE LENGTH'!$A11:$P11,AB$2)=2,'CABLE LENGTH'!$AL11,0)","v":0},{"$f":"IF(COUNTIF('CABLE LENGTH'!$A11:$P11,AC$1)+COUNTIF('CABLE LENGTH'!$A11:$P11,AC$2)=2,'CABLE LENGTH'!$AL11,0)","v":0},{"$f":"IF(COUNTIF('CABLE LENGTH'!$A11:$P11,AD$1)+COUNTIF('CABLE LENGTH'!$A11:$P11,AD$2)=2,'CABLE LENGTH'!$AL11,0)","v":0},{"$f":"IF(COUNTIF('CABLE LENGTH'!$A11:$P11,AE$1)+COUNTIF('CABLE LENGTH'!$A11:$P11,AE$2)=2,'CABLE LENGTH'!$AL11,0)","v":0},{"$f":"IF(COUNTIF('CABLE LENGTH'!$A11:$P11,AF$1)+COUNTIF('CABLE LENGTH'!$A11:$P11,AF$2)=2,'CABLE LENGTH'!$AL11,0)","v":0},{"$f":"IF(COUNTIF('CABLE LENGTH'!$A11:$P11,AG$1)+COUNTIF('CABLE LENGTH'!$A11:$P11,AG$2)=2,'CABLE LENGTH'!$AL11,0)","v":0},{"$f":"IF(COUNTIF('CABLE LENGTH'!$A11:$P11,AH$1)+COUNTIF('CABLE LENGTH'!$A11:$P11,AH$2)=2,'CABLE LENGTH'!$AL11,0)","v":0},{"$f":"IF(COUNTIF('CABLE LENGTH'!$A11:$P11,AI$1)+COUNTIF('CABLE LENGTH'!$A11:$P11,AI$2)=2,'CABLE LENGTH'!$AL11,0)","v":0},{"$f":"IF(COUNTIF('CABLE LENGTH'!$A11:$P11,AJ$1)+COUNTIF('CABLE LENGTH'!$A11:$P11,AJ$2)=2,'CABLE LENGTH'!$AL11,0)","v":0},{"$f":"IF(COUNTIF('CABLE LENGTH'!$A11:$P11,AK$1)+COUNTIF('CABLE LENGTH'!$A11:$P11,AK$2)=2,'CABLE LENGTH'!$AL11,0)","v":0},{"$f":"IF(COUNTIF('CABLE LENGTH'!$A11:$P11,AL$1)+COUNTIF('CABLE LENGTH'!$A11:$P11,AL$2)=2,'CABLE LENGTH'!$AL11,0)","v":0},{"$f":"IF(COUNTIF('CABLE LENGTH'!$A11:$P11,AM$1)+COUNTIF('CABLE LENGTH'!$A11:$P11,AM$2)=2,'CABLE LENGTH'!$AL11,0)","v":0},{"$f":"IF(COUNTIF('CABLE LENGTH'!$A11:$P11,AN$1)+COUNTIF('CABLE LENGTH'!$A11:$P11,AN$2)=2,'CABLE LENGTH'!$AL11,0)","v":0},{"$f":"IF(COUNTIF('CABLE LENGTH'!$A11:$P11,AO$1)+COUNTIF('CABLE LENGTH'!$A11:$P11,AO$2)=2,'CABLE LENGTH'!$AL11,0)","v":0},{"$f":"IF(COUNTIF('CABLE LENGTH'!$A11:$P11,AP$1)+COUNTIF('CABLE LENGTH'!$A11:$P11,AP$2)=2,'CABLE LENGTH'!$AL11,0)","v":0},{"$f":"IF(COUNTIF('CABLE LENGTH'!$A11:$P11,AQ$1)+COUNTIF('CABLE LENGTH'!$A11:$P11,AQ$2)=2,'CABLE LENGTH'!$AL11,0)","v":0},{"$f":"IF(COUNTIF('CABLE LENGTH'!$A11:$P11,AR$1)+COUNTIF('CABLE LENGTH'!$A11:$P11,AR$2)=2,'CABLE LENGTH'!$AL11,0)","v":0},{"$f":"IF(COUNTIF('CABLE LENGTH'!$A11:$P11,AS$1)+COUNTIF('CABLE LENGTH'!$A11:$P11,AS$2)=2,'CABLE LENGTH'!$AL11,0)","v":0},{"$f":"IF(COUNTIF('CABLE LENGTH'!$A11:$P11,AT$1)+COUNTIF('CABLE LENGTH'!$A11:$P11,AT$2)=2,'CABLE LENGTH'!$AL11,0)","v":0},{"$f":"IF(COUNTIF('CABLE LENGTH'!$A11:$P11,AU$1)+COUNTIF('CABLE LENGTH'!$A11:$P11,AU$2)=2,'CABLE LENGTH'!$AL11,0)","v":0},{"$f":"IF(COUNTIF('CABLE LENGTH'!$A11:$P11,AV$1)+COUNTIF('CABLE LENGTH'!$A11:$P11,AV$2)=2,'CABLE LENGTH'!$AL11,0)","v":0},{"$f":"IF(COUNTIF('CABLE LENGTH'!$A11:$P11,AW$1)+COUNTIF('CABLE LENGTH'!$A11:$P11,AW$2)=2,'CABLE LENGTH'!$AL11,0)","v":0},{"$f":"IF(COUNTIF('CABLE LENGTH'!$A11:$P11,AX$1)+COUNTIF('CABLE LENGTH'!$A11:$P11,AX$2)=2,'CABLE LENGTH'!$AL11,0)","v":0},{"$f":"IF(COUNTIF('CABLE LENGTH'!$A11:$P11,AY$1)+COUNTIF('CABLE LENGTH'!$A11:$P11,AY$2)=2,'CABLE LENGTH'!$AL11,0)","v":0},{"$f":"IF(COUNTIF('CABLE LENGTH'!$A11:$P11,AZ$1)+COUNTIF('CABLE LENGTH'!$A11:$P11,AZ$2)=2,'CABLE LENGTH'!$AL11,0)","v":0}]
[null,{"$f":"+'CABLE LENGTH'!AK12","v":0},{"$f":"IF(COUNTIF('CABLE LENGTH'!$A12:$P12,C$1)+COUNTIF('CABLE LENGTH'!$B12:$P12,C$2)=2,'CABLE LENGTH'!$AL12,0)","v":0},{"$f":"IF(COUNTIF('CABLE LENGTH'!$A12:$P12,D$1)+COUNTIF('CABLE LENGTH'!$B12:$P12,D$2)=2,'CABLE LENGTH'!$AL12,0)","v":0},{"$f":"IF(COUNTIF('CABLE LENGTH'!$A12:$P12,E$1)+COUNTIF('CABLE LENGTH'!$B12:$P12,E$2)=2,'CABLE LENGTH'!$AL12,0)","v":0},{"$f":"IF(COUNTIF('CABLE LENGTH'!$A12:$P12,F$1)+COUNTIF('CABLE LENGTH'!$B12:$P12,F$2)=2,'CABLE LENGTH'!$AL12,0)","v":0},{"$f":"IF(COUNTIF('CABLE LENGTH'!$A12:$P12,G$1)+COUNTIF('CABLE LENGTH'!$B12:$P12,G$2)=2,'CABLE LENGTH'!$AL12,0)","v":0},{"$f":"IF(COUNTIF('CABLE LENGTH'!$A12:$P12,H$1)+COUNTIF('CABLE LENGTH'!$B12:$P12,H$2)=2,'CABLE LENGTH'!$AL12,0)","v":0},{"$f":"IF(COUNTIF('CABLE LENGTH'!$A12:$P12,I$1)+COUNTIF('CABLE LENGTH'!$B12:$P12,I$2)=2,'CABLE LENGTH'!$AL12,0)","v":0},{"$f":"IF(COUNTIF('CABLE LENGTH'!$A12:$P12,J$1)+COUNTIF('CABLE LENGTH'!$B12:$P12,J$2)=2,'CABLE LENGTH'!$AL12,0)","v":0},{"$f":"IF(COUNTIF('CABLE LENGTH'!$A12:$P12,K$1)+COUNTIF('CABLE LENGTH'!$B12:$P12,K$2)=2,'CABLE LENGTH'!$AL12,0)","v":0},{"$f":"IF(COUNTIF('CABLE LENGTH'!$A12:$P12,L$1)+COUNTIF('CABLE LENGTH'!$B12:$P12,L$2)=2,'CABLE LENGTH'!$AL12,0)","v":0},{"$f":"IF(COUNTIF('CABLE LENGTH'!$A12:$P12,M$1)+COUNTIF('CABLE LENGTH'!$B12:$P12,M$2)=2,'CABLE LENGTH'!$AL12,0)","v":0},{"$f":"IF(COUNTIF('CABLE LENGTH'!$A12:$P12,N$1)+COUNTIF('CABLE LENGTH'!$B12:$P12,N$2)=2,'CABLE LENGTH'!$AL12,0)","v":0},{"$f":"IF(COUNTIF('CABLE LENGTH'!$A12:$P12,O$1)+COUNTIF('CABLE LENGTH'!$B12:$P12,O$2)=2,'CABLE LENGTH'!$AL12,0)","v":0},{"$f":"IF(COUNTIF('CABLE LENGTH'!$A12:$P12,P$1)+COUNTIF('CABLE LENGTH'!$B12:$P12,P$2)=2,'CABLE LENGTH'!$AL12,0)","v":0},{"$f":"IF(COUNTIF('CABLE LENGTH'!$A12:$P12,Q$1)+COUNTIF('CABLE LENGTH'!$B12:$P12,Q$2)=2,'CABLE LENGTH'!$AL12,0)","v":0},{"$f":"IF(COUNTIF('CABLE LENGTH'!$A12:$P12,R$1)+COUNTIF('CABLE LENGTH'!$B12:$P12,R$2)=2,'CABLE LENGTH'!$AL12,0)","v":0},{"$f":"IF(COUNTIF('CABLE LENGTH'!$A12:$P12,S$1)+COUNTIF('CABLE LENGTH'!$B12:$P12,S$2)=2,'CABLE LENGTH'!$AL12,0)","v":0},{"$f":"IF(COUNTIF('CABLE LENGTH'!$A12:$P12,T$1)+COUNTIF('CABLE LENGTH'!$B12:$P12,T$2)=2,'CABLE LENGTH'!$AL12,0)","v":0},{"$f":"IF(COUNTIF('CABLE LENGTH'!$A12:$P12,U$1)+COUNTIF('CABLE LENGTH'!$B12:$P12,U$2)=2,'CABLE LENGTH'!$AL12,0)","v":0},{"$f":"IF(COUNTIF('CABLE LENGTH'!$A12:$P12,V$1)+COUNTIF('CABLE LENGTH'!$B12:$P12,V$2)=2,'CABLE LENGTH'!$AL12,0)","v":0},{"$f":"IF(COUNTIF('CABLE LENGTH'!$A12:$P12,W$1)+COUNTIF('CABLE LENGTH'!$B12:$P12,W$2)=2,'CABLE LENGTH'!$AL12,0)","v":0},{"$f":"IF(COUNTIF('CABLE LENGTH'!$A12:$P12,X$1)+COUNTIF('CABLE LENGTH'!$B12:$P12,X$2)=2,'CABLE LENGTH'!$AL12,0)","v":0},{"$f":"IF(COUNTIF('CABLE LENGTH'!$A12:$P12,Y$1)+COUNTIF('CABLE LENGTH'!$A12:$P12,Y$2)=2,'CABLE LENGTH'!$AL12,0)","v":0},{"$f":"IF(COUNTIF('CABLE LENGTH'!$A12:$P12,Z$1)+COUNTIF('CABLE LENGTH'!$A12:$P12,Z$2)=2,'CABLE LENGTH'!$AL12,0)","v":0},{"$f":"IF(COUNTIF('CABLE LENGTH'!$A12:$P12,AA$1)+COUNTIF('CABLE LENGTH'!$A12:$P12,AA$2)=2,'CABLE LENGTH'!$AL12,0)","v":0},{"$f":"IF(COUNTIF('CABLE LENGTH'!$A12:$P12,AB$1)+COUNTIF('CABLE LENGTH'!$A12:$P12,AB$2)=2,'CABLE LENGTH'!$AL12,0)","v":0},{"$f":"IF(COUNTIF('CABLE LENGTH'!$A12:$P12,AC$1)+COUNTIF('CABLE LENGTH'!$A12:$P12,AC$2)=2,'CABLE LENGTH'!$AL12,0)","v":0},{"$f":"IF(COUNTIF('CABLE LENGTH'!$A12:$P12,AD$1)+COUNTIF('CABLE LENGTH'!$A12:$P12,AD$2)=2,'CABLE LENGTH'!$AL12,0)","v":0},{"$f":"IF(COUNTIF('CABLE LENGTH'!$A12:$P12,AE$1)+COUNTIF('CABLE LENGTH'!$A12:$P12,AE$2)=2,'CABLE LENGTH'!$AL12,0)","v":0},{"$f":"IF(COUNTIF('CABLE LENGTH'!$A12:$P12,AF$1)+COUNTIF('CABLE LENGTH'!$A12:$P12,AF$2)=2,'CABLE LENGTH'!$AL12,0)","v":0},{"$f":"IF(COUNTIF('CABLE LENGTH'!$A12:$P12,AG$1)+COUNTIF('CABLE LENGTH'!$A12:$P12,AG$2)=2,'CABLE LENGTH'!$AL12,0)","v":0},{"$f":"IF(COUNTIF('CABLE LENGTH'!$A12:$P12,AH$1)+COUNTIF('CABLE LENGTH'!$A12:$P12,AH$2)=2,'CABLE LENGTH'!$AL12,0)","v":0},{"$f":"IF(COUNTIF('CABLE LENGTH'!$A12:$P12,AI$1)+COUNTIF('CABLE LENGTH'!$A12:$P12,AI$2)=2,'CABLE LENGTH'!$AL12,0)","v":0},{"$f":"IF(COUNTIF('CABLE LENGTH'!$A12:$P12,AJ$1)+COUNTIF('CABLE LENGTH'!$A12:$P12,AJ$2)=2,'CABLE LENGTH'!$AL12,0)","v":0},{"$f":"IF(COUNTIF('CABLE LENGTH'!$A12:$P12,AK$1)+COUNTIF('CABLE LENGTH'!$A12:$P12,AK$2)=2,'CABLE LENGTH'!$AL12,0)","v":0},{"$f":"IF(COUNTIF('CABLE LENGTH'!$A12:$P12,AL$1)+COUNTIF('CABLE LENGTH'!$A12:$P12,AL$2)=2,'CABLE LENGTH'!$AL12,0)","v":0},{"$f":"IF(COUNTIF('CABLE LENGTH'!$A12:$P12,AM$1)+COUNTIF('CABLE LENGTH'!$A12:$P12,AM$2)=2,'CABLE LENGTH'!$AL12,0)","v":0},{"$f":"IF(COUNTIF('CABLE LENGTH'!$A12:$P12,AN$1)+COUNTIF('CABLE LENGTH'!$A12:$P12,AN$2)=2,'CABLE LENGTH'!$AL12,0)","v":0},{"$f":"IF(COUNTIF('CABLE LENGTH'!$A12:$P12,AO$1)+COUNTIF('CABLE LENGTH'!$A12:$P12,AO$2)=2,'CABLE LENGTH'!$AL12,0)","v":0},{"$f":"IF(COUNTIF('CABLE LENGTH'!$A12:$P12,AP$1)+COUNTIF('CABLE LENGTH'!$A12:$P12,AP$2)=2,'CABLE LENGTH'!$AL12,0)","v":0},{"$f":"IF(COUNTIF('CABLE LENGTH'!$A12:$P12,AQ$1)+COUNTIF('CABLE LENGTH'!$A12:$P12,AQ$2)=2,'CABLE LENGTH'!$AL12,0)","v":0},{"$f":"IF(COUNTIF('CABLE LENGTH'!$A12:$P12,AR$1)+COUNTIF('CABLE LENGTH'!$A12:$P12,AR$2)=2,'CABLE LENGTH'!$AL12,0)","v":0},{"$f":"IF(COUNTIF('CABLE LENGTH'!$A12:$P12,AS$1)+COUNTIF('CABLE LENGTH'!$A12:$P12,AS$2)=2,'CABLE LENGTH'!$AL12,0)","v":0},{"$f":"IF(COUNTIF('CABLE LENGTH'!$A12:$P12,AT$1)+COUNTIF('CABLE LENGTH'!$A12:$P12,AT$2)=2,'CABLE LENGTH'!$AL12,0)","v":0},{"$f":"IF(COUNTIF('CABLE LENGTH'!$A12:$P12,AU$1)+COUNTIF('CABLE LENGTH'!$A12:$P12,AU$2)=2,'CABLE LENGTH'!$AL12,0)","v":0},{"$f":"IF(COUNTIF('CABLE LENGTH'!$A12:$P12,AV$1)+COUNTIF('CABLE LENGTH'!$A12:$P12,AV$2)=2,'CABLE LENGTH'!$AL12,0)","v":0},{"$f":"IF(COUNTIF('CABLE LENGTH'!$A12:$P12,AW$1)+COUNTIF('CABLE LENGTH'!$A12:$P12,AW$2)=2,'CABLE LENGTH'!$AL12,0)","v":0},{"$f":"IF(COUNTIF('CABLE LENGTH'!$A12:$P12,AX$1)+COUNTIF('CABLE LENGTH'!$A12:$P12,AX$2)=2,'CABLE LENGTH'!$AL12,0)","v":0},{"$f":"IF(COUNTIF('CABLE LENGTH'!$A12:$P12,AY$1)+COUNTIF('CABLE LENGTH'!$A12:$P12,AY$2)=2,'CABLE LENGTH'!$AL12,0)","v":0},{"$f":"IF(COUNTIF('CABLE LENGTH'!$A12:$P12,AZ$1)+COUNTIF('CABLE LENGTH'!$A12:$P12,AZ$2)=2,'CABLE LENGTH'!$AL12,0)","v":0}]
[null,{"$f":"+'CABLE LENGTH'!AK13","v":0},{"$f":"IF(COUNTIF('CABLE LENGTH'!$A13:$P13,C$1)+COUNTIF('CABLE LENGTH'!$B13:$P13,C$2)=2,'CABLE LENGTH'!$AL13,0)","v":0},{"$f":"IF(COUNTIF('CABLE LENGTH'!$A13:$P13,D$1)+COUNTIF('CABLE LENGTH'!$B13:$P13,D$2)=2,'CABLE LENGTH'!$AL13,0)","v":0},{"$f":"IF(COUNTIF('CABLE LENGTH'!$A13:$P13,E$1)+COUNTIF('CABLE LENGTH'!$B13:$P13,E$2)=2,'CABLE LENGTH'!$AL13,0)","v":0},{"$f":"IF(COUNTIF('CABLE LENGTH'!$A13:$P13,F$1)+COUNTIF('CABLE LENGTH'!$B13:$P13,F$2)=2,'CABLE LENGTH'!$AL13,0)","v":0},{"$f":"IF(COUNTIF('CABLE LENGTH'!$A13:$P13,G$1)+COUNTIF('CABLE LENGTH'!$B13:$P13,G$2)=2,'CABLE LENGTH'!$AL13,0)","v":0},{"$f":"IF(COUNTIF('CABLE LENGTH'!$A13:$P13,H$1)+COUNTIF('CABLE LENGTH'!$B13:$P13,H$2)=2,'CABLE LENGTH'!$AL13,0)","v":0},{"$f":"IF(COUNTIF('CABLE LENGTH'!$A13:$P13,I$1)+COUNTIF('CABLE LENGTH'!$B13:$P13,I$2)=2,'CABLE LENGTH'!$AL13,0)","v":0},{"$f":"IF(COUNTIF('CABLE LENGTH'!$A13:$P13,J$1)+COUNTIF('CABLE LENGTH'!$B13:$P13,J$2)=2,'CABLE LENGTH'!$AL13,0)","v":0},{"$f":"IF(COUNTIF('CABLE LENGTH'!$A13:$P13,K$1)+COUNTIF('CABLE LENGTH'!$B13:$P13,K$2)=2,'CABLE LENGTH'!$AL13,0)","v":0},{"$f":"IF(COUNTIF('CABLE LENGTH'!$A13:$P13,L$1)+COUNTIF('CABLE LENGTH'!$B13:$P13,L$2)=2,'CABLE LENGTH'!$AL13,0)","v":0},{"$f":"IF(COUNTIF('CABLE LENGTH'!$A13:$P13,M$1)+COUNTIF('CABLE LENGTH'!$B13:$P13,M$2)=2,'CABLE LENGTH'!$AL13,0)","v":0},{"$f":"IF(COUNTIF('CABLE LENGTH'!$A13:$P13,N$1)+COUNTIF('CABLE LENGTH'!$B13:$P13,N$2)=2,'CABLE LENGTH'!$AL13,0)","v":0},{"$f":"IF(COUNTIF('CABLE LENGTH'!$A13:$P13,O$1)+COUNTIF('CABLE LENGTH'!$B13:$P13,O$2)=2,'CABLE LENGTH'!$AL13,0)","v":0},{"$f":"IF(COUNTIF('CABLE LENGTH'!$A13:$P13,P$1)+COUNTIF('CABLE LENGTH'!$B13:$P13,P$2)=2,'CABLE LENGTH'!$AL13,0)","v":0},{"$f":"IF(COUNTIF('CABLE LENGTH'!$A13:$P13,Q$1)+COUNTIF('CABLE LENGTH'!$B13:$P13,Q$2)=2,'CABLE LENGTH'!$AL13,0)","v":0},{"$f":"IF(COUNTIF('CABLE LENGTH'!$A13:$P13,R$1)+COUNTIF('CABLE LENGTH'!$B13:$P13,R$2)=2,'CABLE LENGTH'!$AL13,0)","v":0},{"$f":"IF(COUNTIF('CABLE LENGTH'!$A13:$P13,S$1)+COUNTIF('CABLE LENGTH'!$B13:$P13,S$2)=2,'CABLE LENGTH'!$AL13,0)","v":0},{"$f":"IF(COUNTIF('CABLE LENGTH'!$A13:$P13,T$1)+COUNTIF('CABLE LENGTH'!$B13:$P13,T$2)=2,'CABLE LENGTH'!$AL13,0)","v":0},{"$f":"IF(COUNTIF('CABLE LENGTH'!$A13:$P13,U$1)+COUNTIF('CABLE LENGTH'!$B13:$P13,U$2)=2,'CABLE LENGTH'!$AL13,0)","v":0},{"$f":"IF(COUNTIF('CABLE LENGTH'!$A13:$P13,V$1)+COUNTIF('CABLE LENGTH'!$B13:$P13,V$2)=2,'CABLE LENGTH'!$AL13,0)","v":0},{"$f":"IF(COUNTIF('CABLE LENGTH'!$A13:$P13,W$1)+COUNTIF('CABLE LENGTH'!$B13:$P13,W$2)=2,'CABLE LENGTH'!$AL13,0)","v":0},{"$f":"IF(COUNTIF('CABLE LENGTH'!$A13:$P13,X$1)+COUNTIF('CABLE LENGTH'!$B13:$P13,X$2)=2,'CABLE LENGTH'!$AL13,0)","v":0},{"$f":"IF(COUNTIF('CABLE LENGTH'!$A13:$P13,Y$1)+COUNTIF('CABLE LENGTH'!$A13:$P13,Y$2)=2,'CABLE LENGTH'!$AL13,0)","v":0},{"$f":"IF(COUNTIF('CABLE LENGTH'!$A13:$P13,Z$1)+COUNTIF('CABLE LENGTH'!$A13:$P13,Z$2)=2,'CABLE LENGTH'!$AL13,0)","v":0},{"$f":"IF(COUNTIF('CABLE LENGTH'!$A13:$P13,AA$1)+COUNTIF('CABLE LENGTH'!$A13:$P13,AA$2)=2,'CABLE LENGTH'!$AL13,0)","v":0},{"$f":"IF(COUNTIF('CABLE LENGTH'!$A13:$P13,AB$1)+COUNTIF('CABLE LENGTH'!$A13:$P13,AB$2)=2,'CABLE LENGTH'!$AL13,0)","v":0},{"$f":"IF(COUNTIF('CABLE LENGTH'!$A13:$P13,AC$1)+COUNTIF('CABLE LENGTH'!$A13:$P13,AC$2)=2,'CABLE LENGTH'!$AL13,0)","v":0},{"$f":"IF(COUNTIF('CABLE LENGTH'!$A13:$P13,AD$1)+COUNTIF('CABLE LENGTH'!$A13:$P13,AD$2)=2,'CABLE LENGTH'!$AL13,0)","v":0},{"$f":"IF(COUNTIF('CABLE LENGTH'!$A13:$P13,AE$1)+COUNTIF('CABLE LENGTH'!$A13:$P13,AE$2)=2,'CABLE LENGTH'!$AL13,0)","v":0},{"$f":"IF(COUNTIF('CABLE LENGTH'!$A13:$P13,AF$1)+COUNTIF('CABLE LENGTH'!$A13:$P13,AF$2)=2,'CABLE LENGTH'!$AL13,0)","v":0},{"$f":"IF(COUNTIF('CABLE LENGTH'!$A13:$P13,AG$1)+COUNTIF('CABLE LENGTH'!$A13:$P13,AG$2)=2,'CABLE LENGTH'!$AL13,0)","v":0},{"$f":"IF(COUNTIF('CABLE LENGTH'!$A13:$P13,AH$1)+COUNTIF('CABLE LENGTH'!$A13:$P13,AH$2)=2,'CABLE LENGTH'!$AL13,0)","v":0},{"$f":"IF(COUNTIF('CABLE LENGTH'!$A13:$P13,AI$1)+COUNTIF('CABLE LENGTH'!$A13:$P13,AI$2)=2,'CABLE LENGTH'!$AL13,0)","v":0},{"$f":"IF(COUNTIF('CABLE LENGTH'!$A13:$P13,AJ$1)+COUNTIF('CABLE LENGTH'!$A13:$P13,AJ$2)=2,'CABLE LENGTH'!$AL13,0)","v":0},{"$f":"IF(COUNTIF('CABLE LENGTH'!$A13:$P13,AK$1)+COUNTIF('CABLE LENGTH'!$A13:$P13,AK$2)=2,'CABLE LENGTH'!$AL13,0)","v":0},{"$f":"IF(COUNTIF('CABLE LENGTH'!$A13:$P13,AL$1)+COUNTIF('CABLE LENGTH'!$A13:$P13,AL$2)=2,'CABLE LENGTH'!$AL13,0)","v":0},{"$f":"IF(COUNTIF('CABLE LENGTH'!$A13:$P13,AM$1)+COUNTIF('CABLE LENGTH'!$A13:$P13,AM$2)=2,'CABLE LENGTH'!$AL13,0)","v":0},{"$f":"IF(COUNTIF('CABLE LENGTH'!$A13:$P13,AN$1)+COUNTIF('CABLE LENGTH'!$A13:$P13,AN$2)=2,'CABLE LENGTH'!$AL13,0)","v":0},{"$f":"IF(COUNTIF('CABLE LENGTH'!$A13:$P13,AO$1)+COUNTIF('CABLE LENGTH'!$A13:$P13,AO$2)=2,'CABLE LENGTH'!$AL13,0)","v":0},{"$f":"IF(COUNTIF('CABLE LENGTH'!$A13:$P13,AP$1)+COUNTIF('CABLE LENGTH'!$A13:$P13,AP$2)=2,'CABLE LENGTH'!$AL13,0)","v":0},{"$f":"IF(COUNTIF('CABLE LENGTH'!$A13:$P13,AQ$1)+COUNTIF('CABLE LENGTH'!$A13:$P13,AQ$2)=2,'CABLE LENGTH'!$AL13,0)","v":0},{"$f":"IF(COUNTIF('CABLE LENGTH'!$A13:$P13,AR$1)+COUNTIF('CABLE LENGTH'!$A13:$P13,AR$2)=2,'CABLE LENGTH'!$AL13,0)","v":0},{"$f":"IF(COUNTIF('CABLE LENGTH'!$A13:$P13,AS$1)+COUNTIF('CABLE LENGTH'!$A13:$P13,AS$2)=2,'CABLE LENGTH'!$AL13,0)","v":0},{"$f":"IF(COUNTIF('CABLE LENGTH'!$A13:$P13,AT$1)+COUNTIF('CABLE LENGTH'!$A13:$P13,AT$2)=2,'CABLE LENGTH'!$AL13,0)","v":0},{"$f":"IF(COUNTIF('CABLE LENGTH'!$A13:$P13,AU$1)+COUNTIF('CABLE LENGTH'!$A13:$P13,AU$2)=2,'CABLE LENGTH'!$AL13,0)","v":0},{"$f":"IF(COUNTIF('CABLE LENGTH'!$A13:$P13,AV$1)+COUNTIF('CABLE LENGTH'!$A13:$P13,AV$2)=2,'CABLE LENGTH'!$AL13,0)","v":0},{"$f":"IF(COUNTIF('CABLE LENGTH'!$A13:$P13,AW$1)+COUNTIF('CABLE LENGTH'!$A13:$P13,AW$2)=2,'CABLE LENGTH'!$AL13,0)","v":0},{"$f":"IF(COUNTIF('CABLE LENGTH'!$A13:$P13,AX$1)+COUNTIF('CABLE LENGTH'!$A13:$P13,AX$2)=2,'CABLE LENGTH'!$AL13,0)","v":0},{"$f":"IF(COUNTIF('CABLE LENGTH'!$A13:$P13,AY$1)+COUNTIF('CABLE LENGTH'!$A13:$P13,AY$2)=2,'CABLE LENGTH'!$AL13,0)","v":0},{"$f":"IF(COUNTIF('CABLE LENGTH'!$A13:$P13,AZ$1)+COUNTIF('CABLE LENGTH'!$A13:$P13,AZ$2)=2,'CABLE LENGTH'!$AL13,0)","v":0}]
[null,{"$f":"+'CABLE LENGTH'!AK14","v":0},{"$f":"IF(COUNTIF('CABLE LENGTH'!$A14:$P14,C$1)+COUNTIF('CABLE LENGTH'!$B14:$P14,C$2)=2,'CABLE LENGTH'!$AL14,0)","v":0},{"$f":"IF(COUNTIF('CABLE LENGTH'!$A14:$P14,D$1)+COUNTIF('CABLE LENGTH'!$B14:$P14,D$2)=2,'CABLE LENGTH'!$AL14,0)","v":0},{"$f":"IF(COUNTIF('CABLE LENGTH'!$A14:$P14,E$1)+COUNTIF('CABLE LENGTH'!$B14:$P14,E$2)=2,'CABLE LENGTH'!$AL14,0)","v":0},{"$f":"IF(COUNTIF('CABLE LENGTH'!$A14:$P14,F$1)+COUNTIF('CABLE LENGTH'!$B14:$P14,F$2)=2,'CABLE LENGTH'!$AL14,0)","v":0},{"$f":"IF(COUNTIF('CABLE LENGTH'!$A14:$P14,G$1)+COUNTIF('CABLE LENGTH'!$B14:$P14,G$2)=2,'CABLE LENGTH'!$AL14,0)","v":0},{"$f":"IF(COUNTIF('CABLE LENGTH'!$A14:$P14,H$1)+COUNTIF('CABLE LENGTH'!$B14:$P14,H$2)=2,'CABLE LENGTH'!$AL14,0)","v":0},{"$f":"IF(COUNTIF('CABLE LENGTH'!$A14:$P14,I$1)+COUNTIF('CABLE LENGTH'!$B14:$P14,I$2)=2,'CABLE LENGTH'!$AL14,0)","v":0},{"$f":"IF(COUNTIF('CABLE LENGTH'!$A14:$P14,J$1)+COUNTIF('CABLE LENGTH'!$B14:$P14,J$2)=2,'CABLE LENGTH'!$AL14,0)","v":0},{"$f":"IF(COUNTIF('CABLE LENGTH'!$A14:$P14,K$1)+COUNTIF('CABLE LENGTH'!$B14:$P14,K$2)=2,'CABLE LENGTH'!$AL14,0)","v":0},{"$f":"IF(COUNTIF('CABLE LENGTH'!$A14:$P14,L$1)+COUNTIF('CABLE LENGTH'!$B14:$P14,L$2)=2,'CABLE LENGTH'!$AL14,0)","v":0},{"$f":"IF(COUNTIF('CABLE LENGTH'!$A14:$P14,M$1)+COUNTIF('CABLE LENGTH'!$B14:$P14,M$2)=2,'CABLE LENGTH'!$AL14,0)","v":0},{"$f":"IF(COUNTIF('CABLE LENGTH'!$A14:$P14,N$1)+COUNTIF('CABLE LENGTH'!$B14:$P14,N$2)=2,'CABLE LENGTH'!$AL14,0)","v":0},{"$f":"IF(COUNTIF('CABLE LENGTH'!$A14:$P14,O$1)+COUNTIF('CABLE LENGTH'!$B14:$P14,O$2)=2,'CABLE LENGTH'!$AL14,0)","v":0},{"$f":"IF(COUNTIF('CABLE LENGTH'!$A14:$P14,P$1)+COUNTIF('CABLE LENGTH'!$B14:$P14,P$2)=2,'CABLE LENGTH'!$AL14,0)","v":0},{"$f":"IF(COUNTIF('CABLE LENGTH'!$A14:$P14,Q$1)+COUNTIF('CABLE LENGTH'!$B14:$P14,Q$2)=2,'CABLE LENGTH'!$AL14,0)","v":0},{"$f":"IF(COUNTIF('CABLE LENGTH'!$A14:$P14,R$1)+COUNTIF('CABLE LENGTH'!$B14:$P14,R$2)=2,'CABLE LENGTH'!$AL14,0)","v":0},{"$f":"IF(COUNTIF('CABLE LENGTH'!$A14:$P14,S$1)+COUNTIF('CABLE LENGTH'!$B14:$P14,S$2)=2,'CABLE LENGTH'!$AL14,0)","v":0},{"$f":"IF(COUNTIF('CABLE LENGTH'!$A14:$P14,T$1)+COUNTIF('CABLE LENGTH'!$B14:$P14,T$2)=2,'CABLE LENGTH'!$AL14,0)","v":0},{"$f":"IF(COUNTIF('CABLE LENGTH'!$A14:$P14,U$1)+COUNTIF('CABLE LENGTH'!$B14:$P14,U$2)=2,'CABLE LENGTH'!$AL14,0)","v":0},{"$f":"IF(COUNTIF('CABLE LENGTH'!$A14:$P14,V$1)+COUNTIF('CABLE LENGTH'!$B14:$P14,V$2)=2,'CABLE LENGTH'!$AL14,0)","v":0},{"$f":"IF(COUNTIF('CABLE LENGTH'!$A14:$P14,W$1)+COUNTIF('CABLE LENGTH'!$B14:$P14,W$2)=2,'CABLE LENGTH'!$AL14,0)","v":0},{"$f":"IF(COUNTIF('CABLE LENGTH'!$A14:$P14,X$1)+COUNTIF('CABLE LENGTH'!$B14:$P14,X$2)=2,'CABLE LENGTH'!$AL14,0)","v":0},{"$f":"IF(COUNTIF('CABLE LENGTH'!$A14:$P14,Y$1)+COUNTIF('CABLE LENGTH'!$A14:$P14,Y$2)=2,'CABLE LENGTH'!$AL14,0)","v":0},{"$f":"IF(COUNTIF('CABLE LENGTH'!$A14:$P14,Z$1)+COUNTIF('CABLE LENGTH'!$A14:$P14,Z$2)=2,'CABLE LENGTH'!$AL14,0)","v":0},{"$f":"IF(COUNTIF('CABLE LENGTH'!$A14:$P14,AA$1)+COUNTIF('CABLE LENGTH'!$A14:$P14,AA$2)=2,'CABLE LENGTH'!$AL14,0)","v":0},{"$f":"IF(COUNTIF('CABLE LENGTH'!$A14:$P14,AB$1)+COUNTIF('CABLE LENGTH'!$A14:$P14,AB$2)=2,'CABLE LENGTH'!$AL14,0)","v":0},{"$f":"IF(COUNTIF('CABLE LENGTH'!$A14:$P14,AC$1)+COUNTIF('CABLE LENGTH'!$A14:$P14,AC$2)=2,'CABLE LENGTH'!$AL14,0)","v":0},{"$f":"IF(COUNTIF('CABLE LENGTH'!$A14:$P14,AD$1)+COUNTIF('CABLE LENGTH'!$A14:$P14,AD$2)=2,'CABLE LENGTH'!$AL14,0)","v":0},{"$f":"IF(COUNTIF('CABLE LENGTH'!$A14:$P14,AE$1)+COUNTIF('CABLE LENGTH'!$A14:$P14,AE$2)=2,'CABLE LENGTH'!$AL14,0)","v":0},{"$f":"IF(COUNTIF('CABLE LENGTH'!$A14:$P14,AF$1)+COUNTIF('CABLE LENGTH'!$A14:$P14,AF$2)=2,'CABLE LENGTH'!$AL14,0)","v":0},{"$f":"IF(COUNTIF('CABLE LENGTH'!$A14:$P14,AG$1)+COUNTIF('CABLE LENGTH'!$A14:$P14,AG$2)=2,'CABLE LENGTH'!$AL14,0)","v":0},{"$f":"IF(COUNTIF('CABLE LENGTH'!$A14:$P14,AH$1)+COUNTIF('CABLE LENGTH'!$A14:$P14,AH$2)=2,'CABLE LENGTH'!$AL14,0)","v":0},{"$f":"IF(COUNTIF('CABLE LENGTH'!$A14:$P14,AI$1)+COUNTIF('CABLE LENGTH'!$A14:$P14,AI$2)=2,'CABLE LENGTH'!$AL14,0)","v":0},{"$f":"IF(COUNTIF('CABLE LENGTH'!$A14:$P14,AJ$1)+COUNTIF('CABLE LENGTH'!$A14:$P14,AJ$2)=2,'CABLE LENGTH'!$AL14,0)","v":0},{"$f":"IF(COUNTIF('CABLE LENGTH'!$A14:$P14,AK$1)+COUNTIF('CABLE LENGTH'!$A14:$P14,AK$2)=2,'CABLE LENGTH'!$AL14,0)","v":0},{"$f":"IF(COUNTIF('CABLE LENGTH'!$A14:$P14,AL$1)+COUNTIF('CABLE LENGTH'!$A14:$P14,AL$2)=2,'CABLE LENGTH'!$AL14,0)","v":0},{"$f":"IF(COUNTIF('CABLE LENGTH'!$A14:$P14,AM$1)+COUNTIF('CABLE LENGTH'!$A14:$P14,AM$2)=2,'CABLE LENGTH'!$AL14,0)","v":0},{"$f":"IF(COUNTIF('CABLE LENGTH'!$A14:$P14,AN$1)+COUNTIF('CABLE LENGTH'!$A14:$P14,AN$2)=2,'CABLE LENGTH'!$AL14,0)","v":0},{"$f":"IF(COUNTIF('CABLE LENGTH'!$A14:$P14,AO$1)+COUNTIF('CABLE LENGTH'!$A14:$P14,AO$2)=2,'CABLE LENGTH'!$AL14,0)","v":0},{"$f":"IF(COUNTIF('CABLE LENGTH'!$A14:$P14,AP$1)+COUNTIF('CABLE LENGTH'!$A14:$P14,AP$2)=2,'CABLE LENGTH'!$AL14,0)","v":0},{"$f":"IF(COUNTIF('CABLE LENGTH'!$A14:$P14,AQ$1)+COUNTIF('CABLE LENGTH'!$A14:$P14,AQ$2)=2,'CABLE LENGTH'!$AL14,0)","v":0},{"$f":"IF(COUNTIF('CABLE LENGTH'!$A14:$P14,AR$1)+COUNTIF('CABLE LENGTH'!$A14:$P14,AR$2)=2,'CABLE LENGTH'!$AL14,0)","v":0},{"$f":"IF(COUNTIF('CABLE LENGTH'!$A14:$P14,AS$1)+COUNTIF('CABLE LENGTH'!$A14:$P14,AS$2)=2,'CABLE LENGTH'!$AL14,0)","v":0},{"$f":"IF(COUNTIF('CABLE LENGTH'!$A14:$P14,AT$1)+COUNTIF('CABLE LENGTH'!$A14:$P14,AT$2)=2,'CABLE LENGTH'!$AL14,0)","v":0},{"$f":"IF(COUNTIF('CABLE LENGTH'!$A14:$P14,AU$1)+COUNTIF('CABLE LENGTH'!$A14:$P14,AU$2)=2,'CABLE LENGTH'!$AL14,0)","v":0},{"$f":"IF(COUNTIF('CABLE LENGTH'!$A14:$P14,AV$1)+COUNTIF('CABLE LENGTH'!$A14:$P14,AV$2)=2,'CABLE LENGTH'!$AL14,0)","v":0},{"$f":"IF(COUNTIF('CABLE LENGTH'!$A14:$P14,AW$1)+COUNTIF('CABLE LENGTH'!$A14:$P14,AW$2)=2,'CABLE LENGTH'!$AL14,0)","v":0},{"$f":"IF(COUNTIF('CABLE LENGTH'!$A14:$P14,AX$1)+COUNTIF('CABLE LENGTH'!$A14:$P14,AX$2)=2,'CABLE LENGTH'!$AL14,0)","v":0},{"$f":"IF(COUNTIF('CABLE LENGTH'!$A14:$P14,AY$1)+COUNTIF('CABLE LENGTH'!$A14:$P14,AY$2)=2,'CABLE LENGTH'!$AL14,0)","v":0},{"$f":"IF(COUNTIF('CABLE LENGTH'!$A14:$P14,AZ$1)+COUNTIF('CABLE LENGTH'!$A14:$P14,AZ$2)=2,'CABLE LENGTH'!$AL14,0)","v":0}]
[null,{"$f":"+'CABLE LENGTH'!AK15","v":0},{"$f":"IF(COUNTIF('CABLE LENGTH'!$A15:$P15,C$1)+COUNTIF('CABLE LENGTH'!$B15:$P15,C$2)=2,'CABLE LENGTH'!$AL15,0)","v":0},{"$f":"IF(COUNTIF('CABLE LENGTH'!$A15:$P15,D$1)+COUNTIF('CABLE LENGTH'!$B15:$P15,D$2)=2,'CABLE LENGTH'!$AL15,0)","v":0},{"$f":"IF(COUNTIF('CABLE LENGTH'!$A15:$P15,E$1)+COUNTIF('CABLE LENGTH'!$B15:$P15,E$2)=2,'CABLE LENGTH'!$AL15,0)","v":0},{"$f":"IF(COUNTIF('CABLE LENGTH'!$A15:$P15,F$1)+COUNTIF('CABLE LENGTH'!$B15:$P15,F$2)=2,'CABLE LENGTH'!$AL15,0)","v":0},{"$f":"IF(COUNTIF('CABLE LENGTH'!$A15:$P15,G$1)+COUNTIF('CABLE LENGTH'!$B15:$P15,G$2)=2,'CABLE LENGTH'!$AL15,0)","v":0},{"$f":"IF(COUNTIF('CABLE LENGTH'!$A15:$P15,H$1)+COUNTIF('CABLE LENGTH'!$B15:$P15,H$2)=2,'CABLE LENGTH'!$AL15,0)","v":0},{"$f":"IF(COUNTIF('CABLE LENGTH'!$A15:$P15,I$1)+COUNTIF('CABLE LENGTH'!$B15:$P15,I$2)=2,'CABLE LENGTH'!$AL15,0)","v":0},{"$f":"IF(COUNTIF('CABLE LENGTH'!$A15:$P15,J$1)+COUNTIF('CABLE LENGTH'!$B15:$P15,J$2)=2,'CABLE LENGTH'!$AL15,0)","v":0},{"$f":"IF(COUNTIF('CABLE LENGTH'!$A15:$P15,K$1)+COUNTIF('CABLE LENGTH'!$B15:$P15,K$2)=2,'CABLE LENGTH'!$AL15,0)","v":0},{"$f":"IF(COUNTIF('CABLE LENGTH'!$A15:$P15,L$1)+COUNTIF('CABLE LENGTH'!$B15:$P15,L$2)=2,'CABLE LENGTH'!$AL15,0)","v":0},{"$f":"IF(COUNTIF('CABLE LENGTH'!$A15:$P15,M$1)+COUNTIF('CABLE LENGTH'!$B15:$P15,M$2)=2,'CABLE LENGTH'!$AL15,0)","v":0},{"$f":"IF(COUNTIF('CABLE LENGTH'!$A15:$P15,N$1)+COUNTIF('CABLE LENGTH'!$B15:$P15,N$2)=2,'CABLE LENGTH'!$AL15,0)","v":0},{"$f":"IF(COUNTIF('CABLE LENGTH'!$A15:$P15,O$1)+COUNTIF('CABLE LENGTH'!$B15:$P15,O$2)=2,'CABLE LENGTH'!$AL15,0)","v":0},{"$f":"IF(COUNTIF('CABLE LENGTH'!$A15:$P15,P$1)+COUNTIF('CABLE LENGTH'!$B15:$P15,P$2)=2,'CABLE LENGTH'!$AL15,0)","v":0},{"$f":"IF(COUNTIF('CABLE LENGTH'!$A15:$P15,Q$1)+COUNTIF('CABLE LENGTH'!$B15:$P15,Q$2)=2,'CABLE LENGTH'!$AL15,0)","v":0},{"$f":"IF(COUNTIF('CABLE LENGTH'!$A15:$P15,R$1)+COUNTIF('CABLE LENGTH'!$B15:$P15,R$2)=2,'CABLE LENGTH'!$AL15,0)","v":0},{"$f":"IF(COUNTIF('CABLE LENGTH'!$A15:$P15,S$1)+COUNTIF('CABLE LENGTH'!$B15:$P15,S$2)=2,'CABLE LENGTH'!$AL15,0)","v":0},{"$f":"IF(COUNTIF('CABLE LENGTH'!$A15:$P15,T$1)+COUNTIF('CABLE LENGTH'!$B15:$P15,T$2)=2,'CABLE LENGTH'!$AL15,0)","v":0},{"$f":"IF(COUNTIF('CABLE LENGTH'!$A15:$P15,U$1)+COUNTIF('CABLE LENGTH'!$B15:$P15,U$2)=2,'CABLE LENGTH'!$AL15,0)","v":0},{"$f":"IF(COUNTIF('CABLE LENGTH'!$A15:$P15,V$1)+COUNTIF('CABLE LENGTH'!$B15:$P15,V$2)=2,'CABLE LENGTH'!$AL15,0)","v":0},{"$f":"IF(COUNTIF('CABLE LENGTH'!$A15:$P15,W$1)+COUNTIF('CABLE LENGTH'!$B15:$P15,W$2)=2,'CABLE LENGTH'!$AL15,0)","v":0},{"$f":"IF(COUNTIF('CABLE LENGTH'!$A15:$P15,X$1)+COUNTIF('CABLE LENGTH'!$B15:$P15,X$2)=2,'CABLE LENGTH'!$AL15,0)","v":0},{"$f":"IF(COUNTIF('CABLE LENGTH'!$A15:$P15,Y$1)+COUNTIF('CABLE LENGTH'!$A15:$P15,Y$2)=2,'CABLE LENGTH'!$AL15,0)","v":0},{"$f":"IF(COUNTIF('CABLE LENGTH'!$A15:$P15,Z$1)+COUNTIF('CABLE LENGTH'!$A15:$P15,Z$2)=2,'CABLE LENGTH'!$AL15,0)","v":0},{"$f":"IF(COUNTIF('CABLE LENGTH'!$A15:$P15,AA$1)+COUNTIF('CABLE LENGTH'!$A15:$P15,AA$2)=2,'CABLE LENGTH'!$AL15,0)","v":0},{"$f":"IF(COUNTIF('CABLE LENGTH'!$A15:$P15,AB$1)+COUNTIF('CABLE LENGTH'!$A15:$P15,AB$2)=2,'CABLE LENGTH'!$AL15,0)","v":0},{"$f":"IF(COUNTIF('CABLE LENGTH'!$A15:$P15,AC$1)+COUNTIF('CABLE LENGTH'!$A15:$P15,AC$2)=2,'CABLE LENGTH'!$AL15,0)","v":0},{"$f":"IF(COUNTIF('CABLE LENGTH'!$A15:$P15,AD$1)+COUNTIF('CABLE LENGTH'!$A15:$P15,AD$2)=2,'CABLE LENGTH'!$AL15,0)","v":0},{"$f":"IF(COUNTIF('CABLE LENGTH'!$A15:$P15,AE$1)+COUNTIF('CABLE LENGTH'!$A15:$P15,AE$2)=2,'CABLE LENGTH'!$AL15,0)","v":0},{"$f":"IF(COUNTIF('CABLE LENGTH'!$A15:$P15,AF$1)+COUNTIF('CABLE LENGTH'!$A15:$P15,AF$2)=2,'CABLE LENGTH'!$AL15,0)","v":0},{"$f":"IF(COUNTIF('CABLE LENGTH'!$A15:$P15,AG$1)+COUNTIF('CABLE LENGTH'!$A15:$P15,AG$2)=2,'CABLE LENGTH'!$AL15,0)","v":0},{"$f":"IF(COUNTIF('CABLE LENGTH'!$A15:$P15,AH$1)+COUNTIF('CABLE LENGTH'!$A15:$P15,AH$2)=2,'CABLE LENGTH'!$AL15,0)","v":0},{"$f":"IF(COUNTIF('CABLE LENGTH'!$A15:$P15,AI$1)+COUNTIF('CABLE LENGTH'!$A15:$P15,AI$2)=2,'CABLE LENGTH'!$AL15,0)","v":0},{"$f":"IF(COUNTIF('CABLE LENGTH'!$A15:$P15,AJ$1)+COUNTIF('CABLE LENGTH'!$A15:$P15,AJ$2)=2,'CABLE LENGTH'!$AL15,0)","v":0},{"$f":"IF(COUNTIF('CABLE LENGTH'!$A15:$P15,AK$1)+COUNTIF('CABLE LENGTH'!$A15:$P15,AK$2)=2,'CABLE LENGTH'!$AL15,0)","v":0},{"$f":"IF(COUNTIF('CABLE LENGTH'!$A15:$P15,AL$1)+COUNTIF('CABLE LENGTH'!$A15:$P15,AL$2)=2,'CABLE LENGTH'!$AL15,0)","v":0},{"$f":"IF(COUNTIF('CABLE LENGTH'!$A15:$P15,AM$1)+COUNTIF('CABLE LENGTH'!$A15:$P15,AM$2)=2,'CABLE LENGTH'!$AL15,0)","v":0},{"$f":"IF(COUNTIF('CABLE LENGTH'!$A15:$P15,AN$1)+COUNTIF('CABLE LENGTH'!$A15:$P15,AN$2)=2,'CABLE LENGTH'!$AL15,0)","v":0},{"$f":"IF(COUNTIF('CABLE LENGTH'!$A15:$P15,AO$1)+COUNTIF('CABLE LENGTH'!$A15:$P15,AO$2)=2,'CABLE LENGTH'!$AL15,0)","v":0},{"$f":"IF(COUNTIF('CABLE LENGTH'!$A15:$P15,AP$1)+COUNTIF('CABLE LENGTH'!$A15:$P15,AP$2)=2,'CABLE LENGTH'!$AL15,0)","v":0},{"$f":"IF(COUNTIF('CABLE LENGTH'!$A15:$P15,AQ$1)+COUNTIF('CABLE LENGTH'!$A15:$P15,AQ$2)=2,'CABLE LENGTH'!$AL15,0)","v":0},{"$f":"IF(COUNTIF('CABLE LENGTH'!$A15:$P15,AR$1)+COUNTIF('CABLE LENGTH'!$A15:$P15,AR$2)=2,'CABLE LENGTH'!$AL15,0)","v":0},{"$f":"IF(COUNTIF('CABLE LENGTH'!$A15:$P15,AS$1)+COUNTIF('CABLE LENGTH'!$A15:$P15,AS$2)=2,'CABLE LENGTH'!$AL15,0)","v":0},{"$f":"IF(COUNTIF('CABLE LENGTH'!$A15:$P15,AT$1)+COUNTIF('CABLE LENGTH'!$A15:$P15,AT$2)=2,'CABLE LENGTH'!$AL15,0)","v":0},{"$f":"IF(COUNTIF('CABLE LENGTH'!$A15:$P15,AU$1)+COUNTIF('CABLE LENGTH'!$A15:$P15,AU$2)=2,'CABLE LENGTH'!$AL15,0)","v":0},{"$f":"IF(COUNTIF('CABLE LENGTH'!$A15:$P15,AV$1)+COUNTIF('CABLE LENGTH'!$A15:$P15,AV$2)=2,'CABLE LENGTH'!$AL15,0)","v":0},{"$f":"IF(COUNTIF('CABLE LENGTH'!$A15:$P15,AW$1)+COUNTIF('CABLE LENGTH'!$A15:$P15,AW$2)=2,'CABLE LENGTH'!$AL15,0)","v":0},{"$f":"IF(COUNTIF('CABLE LENGTH'!$A15:$P15,AX$1)+COUNTIF('CABLE LENGTH'!$A15:$P15,AX$2)=2,'CABLE LENGTH'!$AL15,0)","v":0},{"$f":"IF(COUNTIF('CABLE LENGTH'!$A15:$P15,AY$1)+COUNTIF('CABLE LENGTH'!$A15:$P15,AY$2)=2,'CABLE LENGTH'!$AL15,0)","v":0},{"$f":"IF(COUNTIF('CABLE LENGTH'!$A15:$P15,AZ$1)+COUNTIF('CABLE LENGTH'!$A15:$P15,AZ$2)=2,'CABLE LENGTH'!$AL15,0)","v":0}]
[null,{"$f":"+'CABLE LENGTH'!AK16","v":0},{"$f":"IF(COUNTIF('CABLE LENGTH'!$A16:$P16,C$1)+COUNTIF('CABLE LENGTH'!$B16:$P16,C$2)=2,'CABLE LENGTH'!$AL16,0)","v":0},{"$f":"IF(COUNTIF('CABLE LENGTH'!$A16:$P16,D$1)+COUNTIF('CABLE LENGTH'!$B16:$P16,D$2)=2,'CABLE LENGTH'!$AL16,0)","v":0},{"$f":"IF(COUNTIF('CABLE LENGTH'!$A16:$P16,E$1)+COUNTIF('CABLE LENGTH'!$B16:$P16,E$2)=2,'CABLE LENGTH'!$AL16,0)","v":0},{"$f":"IF(COUNTIF('CABLE LENGTH'!$A16:$P16,F$1)+COUNTIF('CABLE LENGTH'!$B16:$P16,F$2)=2,'CABLE LENGTH'!$AL16,0)","v":0},{"$f":"IF(COUNTIF('CABLE LENGTH'!$A16:$P16,G$1)+COUNTIF('CABLE LENGTH'!$B16:$P16,G$2)=2,'CABLE LENGTH'!$AL16,0)","v":0},{"$f":"IF(COUNTIF('CABLE LENGTH'!$A16:$P16,H$1)+COUNTIF('CABLE LENGTH'!$B16:$P16,H$2)=2,'CABLE LENGTH'!$AL16,0)","v":0},{"$f":"IF(COUNTIF('CABLE LENGTH'!$A16:$P16,I$1)+COUNTIF('CABLE LENGTH'!$B16:$P16,I$2)=2,'CABLE LENGTH'!$AL16,0)","v":0},{"$f":"IF(COUNTIF('CABLE LENGTH'!$A16:$P16,J$1)+COUNTIF('CABLE LENGTH'!$B16:$P16,J$2)=2,'CABLE LENGTH'!$AL16,0)","v":0},{"$f":"IF(COUNTIF('CABLE LENGTH'!$A16:$P16,K$1)+COUNTIF('CABLE LENGTH'!$B16:$P16,K$2)=2,'CABLE LENGTH'!$AL16,0)","v":0},{"$f":"IF(COUNTIF('CABLE LENGTH'!$A16:$P16,L$1)+COUNTIF('CABLE LENGTH'!$B16:$P16,L$2)=2,'CABLE LENGTH'!$AL16,0)","v":0},{"$f":"IF(COUNTIF('CABLE LENGTH'!$A16:$P16,M$1)+COUNTIF('CABLE LENGTH'!$B16:$P16,M$2)=2,'CABLE LENGTH'!$AL16,0)","v":0},{"$f":"IF(COUNTIF('CABLE LENGTH'!$A16:$P16,N$1)+COUNTIF('CABLE LENGTH'!$B16:$P16,N$2)=2,'CABLE LENGTH'!$AL16,0)","v":0},{"$f":"IF(COUNTIF('CABLE LENGTH'!$A16:$P16,O$1)+COUNTIF('CABLE LENGTH'!$B16:$P16,O$2)=2,'CABLE LENGTH'!$AL16,0)","v":0},{"$f":"IF(COUNTIF('CABLE LENGTH'!$A16:$P16,P$1)+COUNTIF('CABLE LENGTH'!$B16:$P16,P$2)=2,'CABLE LENGTH'!$AL16,0)","v":0},{"$f":"IF(COUNTIF('CABLE LENGTH'!$A16:$P16,Q$1)+COUNTIF('CABLE LENGTH'!$B16:$P16,Q$2)=2,'CABLE LENGTH'!$AL16,0)","v":0},{"$f":"IF(COUNTIF('CABLE LENGTH'!$A16:$P16,R$1)+COUNTIF('CABLE LENGTH'!$B16:$P16,R$2)=2,'CABLE LENGTH'!$AL16,0)","v":0},{"$f":"IF(COUNTIF('CABLE LENGTH'!$A16:$P16,S$1)+COUNTIF('CABLE LENGTH'!$B16:$P16,S$2)=2,'CABLE LENGTH'!$AL16,0)","v":0},{"$f":"IF(COUNTIF('CABLE LENGTH'!$A16:$P16,T$1)+COUNTIF('CABLE LENGTH'!$B16:$P16,T$2)=2,'CABLE LENGTH'!$AL16,0)","v":0},{"$f":"IF(COUNTIF('CABLE LENGTH'!$A16:$P16,U$1)+COUNTIF('CABLE LENGTH'!$B16:$P16,U$2)=2,'CABLE LENGTH'!$AL16,0)","v":0},{"$f":"IF(COUNTIF('CABLE LENGTH'!$A16:$P16,V$1)+COUNTIF('CABLE LENGTH'!$B16:$P16,V$2)=2,'CABLE LENGTH'!$AL16,0)","v":0},{"$f":"IF(COUNTIF('CABLE LENGTH'!$A16:$P16,W$1)+COUNTIF('CABLE LENGTH'!$B16:$P16,W$2)=2,'CABLE LENGTH'!$AL16,0)","v":0},{"$f":"IF(COUNTIF('CABLE LENGTH'!$A16:$P16,X$1)+COUNTIF('CABLE LENGTH'!$B16:$P16,X$2)=2,'CABLE LENGTH'!$AL16,0)","v":0},{"$f":"IF(COUNTIF('CABLE LENGTH'!$A16:$P16,Y$1)+COUNTIF('CABLE LENGTH'!$A16:$P16,Y$2)=2,'CABLE LENGTH'!$AL16,0)","v":0},{"$f":"IF(COUNTIF('CABLE LENGTH'!$A16:$P16,Z$1)+COUNTIF('CABLE LENGTH'!$A16:$P16,Z$2)=2,'CABLE LENGTH'!$AL16,0)","v":0},{"$f":"IF(COUNTIF('CABLE LENGTH'!$A16:$P16,AA$1)+COUNTIF('CABLE LENGTH'!$A16:$P16,AA$2)=2,'CABLE LENGTH'!$AL16,0)","v":0},{"$f":"IF(COUNTIF('CABLE LENGTH'!$A16:$P16,AB$1)+COUNTIF('CABLE LENGTH'!$A16:$P16,AB$2)=2,'CABLE LENGTH'!$AL16,0)","v":0},{"$f":"IF(COUNTIF('CABLE LENGTH'!$A16:$P16,AC$1)+COUNTIF('CABLE LENGTH'!$A16:$P16,AC$2)=2,'CABLE LENGTH'!$AL16,0)","v":0},{"$f":"IF(COUNTIF('CABLE LENGTH'!$A16:$P16,AD$1)+COUNTIF('CABLE LENGTH'!$A16:$P16,AD$2)=2,'CABLE LENGTH'!$AL16,0)","v":0},{"$f":"IF(COUNTIF('CABLE LENGTH'!$A16:$P16,AE$1)+COUNTIF('CABLE LENGTH'!$A16:$P16,AE$2)=2,'CABLE LENGTH'!$AL16,0)","v":0},{"$f":"IF(COUNTIF('CABLE LENGTH'!$A16:$P16,AF$1)+COUNTIF('CABLE LENGTH'!$A16:$P16,AF$2)=2,'CABLE LENGTH'!$AL16,0)","v":0},{"$f":"IF(COUNTIF('CABLE LENGTH'!$A16:$P16,AG$1)+COUNTIF('CABLE LENGTH'!$A16:$P16,AG$2)=2,'CABLE LENGTH'!$AL16,0)","v":0},{"$f":"IF(COUNTIF('CABLE LENGTH'!$A16:$P16,AH$1)+COUNTIF('CABLE LENGTH'!$A16:$P16,AH$2)=2,'CABLE LENGTH'!$AL16,0)","v":0},{"$f":"IF(COUNTIF('CABLE LENGTH'!$A16:$P16,AI$1)+COUNTIF('CABLE LENGTH'!$A16:$P16,AI$2)=2,'CABLE LENGTH'!$AL16,0)","v":0},{"$f":"IF(COUNTIF('CABLE LENGTH'!$A16:$P16,AJ$1)+COUNTIF('CABLE LENGTH'!$A16:$P16,AJ$2)=2,'CABLE LENGTH'!$AL16,0)","v":0},{"$f":"IF(COUNTIF('CABLE LENGTH'!$A16:$P16,AK$1)+COUNTIF('CABLE LENGTH'!$A16:$P16,AK$2)=2,'CABLE LENGTH'!$AL16,0)","v":0},{"$f":"IF(COUNTIF('CABLE LENGTH'!$A16:$P16,AL$1)+COUNTIF('CABLE LENGTH'!$A16:$P16,AL$2)=2,'CABLE LENGTH'!$AL16,0)","v":0},{"$f":"IF(COUNTIF('CABLE LENGTH'!$A16:$P16,AM$1)+COUNTIF('CABLE LENGTH'!$A16:$P16,AM$2)=2,'CABLE LENGTH'!$AL16,0)","v":0},{"$f":"IF(COUNTIF('CABLE LENGTH'!$A16:$P16,AN$1)+COUNTIF('CABLE LENGTH'!$A16:$P16,AN$2)=2,'CABLE LENGTH'!$AL16,0)","v":0},{"$f":"IF(COUNTIF('CABLE LENGTH'!$A16:$P16,AO$1)+COUNTIF('CABLE LENGTH'!$A16:$P16,AO$2)=2,'CABLE LENGTH'!$AL16,0)","v":0},{"$f":"IF(COUNTIF('CABLE LENGTH'!$A16:$P16,AP$1)+COUNTIF('CABLE LENGTH'!$A16:$P16,AP$2)=2,'CABLE LENGTH'!$AL16,0)","v":0},{"$f":"IF(COUNTIF('CABLE LENGTH'!$A16:$P16,AQ$1)+COUNTIF('CABLE LENGTH'!$A16:$P16,AQ$2)=2,'CABLE LENGTH'!$AL16,0)","v":0},{"$f":"IF(COUNTIF('CABLE LENGTH'!$A16:$P16,AR$1)+COUNTIF('CABLE LENGTH'!$A16:$P16,AR$2)=2,'CABLE LENGTH'!$AL16,0)","v":0},{"$f":"IF(COUNTIF('CABLE LENGTH'!$A16:$P16,AS$1)+COUNTIF('CABLE LENGTH'!$A16:$P16,AS$2)=2,'CABLE LENGTH'!$AL16,0)","v":0},{"$f":"IF(COUNTIF('CABLE LENGTH'!$A16:$P16,AT$1)+COUNTIF('CABLE LENGTH'!$A16:$P16,AT$2)=2,'CABLE LENGTH'!$AL16,0)","v":0},{"$f":"IF(COUNTIF('CABLE LENGTH'!$A16:$P16,AU$1)+COUNTIF('CABLE LENGTH'!$A16:$P16,AU$2)=2,'CABLE LENGTH'!$AL16,0)","v":0},{"$f":"IF(COUNTIF('CABLE LENGTH'!$A16:$P16,AV$1)+COUNTIF('CABLE LENGTH'!$A16:$P16,AV$2)=2,'CABLE LENGTH'!$AL16,0)","v":0},{"$f":"IF(COUNTIF('CABLE LENGTH'!$A16:$P16,AW$1)+COUNTIF('CABLE LENGTH'!$A16:$P16,AW$2)=2,'CABLE LENGTH'!$AL16,0)","v":0},{"$f":"IF(COUNTIF('CABLE LENGTH'!$A16:$P16,AX$1)+COUNTIF('CABLE LENGTH'!$A16:$P16,AX$2)=2,'CABLE LENGTH'!$AL16,0)","v":0},{"$f":"IF(COUNTIF('CABLE LENGTH'!$A16:$P16,AY$1)+COUNTIF('CABLE LENGTH'!$A16:$P16,AY$2)=2,'CABLE LENGTH'!$AL16,0)","v":0},{"$f":"IF(COUNTIF('CABLE LENGTH'!$A16:$P16,AZ$1)+COUNTIF('CABLE LENGTH'!$A16:$P16,AZ$2)=2,'CABLE LENGTH'!$AL16,0)","v":0}]
[null,{"$f":"+'CABLE LENGTH'!AK17","v":0},{"$f":"IF(COUNTIF('CABLE LENGTH'!$A17:$P17,C$1)+COUNTIF('CABLE LENGTH'!$B17:$P17,C$2)=2,'CABLE LENGTH'!$AL17,0)","v":0},{"$f":"IF(COUNTIF('CABLE LENGTH'!$A17:$P17,D$1)+COUNTIF('CABLE LENGTH'!$B17:$P17,D$2)=2,'CABLE LENGTH'!$AL17,0)","v":0},{"$f":"IF(COUNTIF('CABLE LENGTH'!$A17:$P17,E$1)+COUNTIF('CABLE LENGTH'!$B17:$P17,E$2)=2,'CABLE LENGTH'!$AL17,0)","v":0},{"$f":"IF(COUNTIF('CABLE LENGTH'!$A17:$P17,F$1)+COUNTIF('CABLE LENGTH'!$B17:$P17,F$2)=2,'CABLE LENGTH'!$AL17,0)","v":0},{"$f":"IF(COUNTIF('CABLE LENGTH'!$A17:$P17,G$1)+COUNTIF('CABLE LENGTH'!$B17:$P17,G$2)=2,'CABLE LENGTH'!$AL17,0)","v":0},{"$f":"IF(COUNTIF('CABLE LENGTH'!$A17:$P17,H$1)+COUNTIF('CABLE LENGTH'!$B17:$P17,H$2)=2,'CABLE LENGTH'!$AL17,0)","v":0},{"$f":"IF(COUNTIF('CABLE LENGTH'!$A17:$P17,I$1)+COUNTIF('CABLE LENGTH'!$B17:$P17,I$2)=2,'CABLE LENGTH'!$AL17,0)","v":0},{"$f":"IF(COUNTIF('CABLE LENGTH'!$A17:$P17,J$1)+COUNTIF('CABLE LENGTH'!$B17:$P17,J$2)=2,'CABLE LENGTH'!$AL17,0)","v":0},{"$f":"IF(COUNTIF('CABLE LENGTH'!$A17:$P17,K$1)+COUNTIF('CABLE LENGTH'!$B17:$P17,K$2)=2,'CABLE LENGTH'!$AL17,0)","v":0},{"$f":"IF(COUNTIF('CABLE LENGTH'!$A17:$P17,L$1)+COUNTIF('CABLE LENGTH'!$B17:$P17,L$2)=2,'CABLE LENGTH'!$AL17,0)","v":0},{"$f":"IF(COUNTIF('CABLE LENGTH'!$A17:$P17,M$1)+COUNTIF('CABLE LENGTH'!$B17:$P17,M$2)=2,'CABLE LENGTH'!$AL17,0)","v":0},{"$f":"IF(COUNTIF('CABLE LENGTH'!$A17:$P17,N$1)+COUNTIF('CABLE LENGTH'!$B17:$P17,N$2)=2,'CABLE LENGTH'!$AL17,0)","v":0},{"$f":"IF(COUNTIF('CABLE LENGTH'!$A17:$P17,O$1)+COUNTIF('CABLE LENGTH'!$B17:$P17,O$2)=2,'CABLE LENGTH'!$AL17,0)","v":0},{"$f":"IF(COUNTIF('CABLE LENGTH'!$A17:$P17,P$1)+COUNTIF('CABLE LENGTH'!$B17:$P17,P$2)=2,'CABLE LENGTH'!$AL17,0)","v":0},{"$f":"IF(COUNTIF('CABLE LENGTH'!$A17:$P17,Q$1)+COUNTIF('CABLE LENGTH'!$B17:$P17,Q$2)=2,'CABLE LENGTH'!$AL17,0)","v":0},{"$f":"IF(COUNTIF('CABLE LENGTH'!$A17:$P17,R$1)+COUNTIF('CABLE LENGTH'!$B17:$P17,R$2)=2,'CABLE LENGTH'!$AL17,0)","v":0},{"$f":"IF(COUNTIF('CABLE LENGTH'!$A17:$P17,S$1)+COUNTIF('CABLE LENGTH'!$B17:$P17,S$2)=2,'CABLE LENGTH'!$AL17,0)","v":0},{"$f":"IF(COUNTIF('CABLE LENGTH'!$A17:$P17,T$1)+COUNTIF('CABLE LENGTH'!$B17:$P17,T$2)=2,'CABLE LENGTH'!$AL17,0)","v":0},{"$f":"IF(COUNTIF('CABLE LENGTH'!$A17:$P17,U$1)+COUNTIF('CABLE LENGTH'!$B17:$P17,U$2)=2,'CABLE LENGTH'!$AL17,0)","v":0},{"$f":"IF(COUNTIF('CABLE LENGTH'!$A17:$P17,V$1)+COUNTIF('CABLE LENGTH'!$B17:$P17,V$2)=2,'CABLE LENGTH'!$AL17,0)","v":0},{"$f":"IF(COUNTIF('CABLE LENGTH'!$A17:$P17,W$1)+COUNTIF('CABLE LENGTH'!$B17:$P17,W$2)=2,'CABLE LENGTH'!$AL17,0)","v":0},{"$f":"IF(COUNTIF('CABLE LENGTH'!$A17:$P17,X$1)+COUNTIF('CABLE LENGTH'!$B17:$P17,X$2)=2,'CABLE LENGTH'!$AL17,0)","v":0},{"$f":"IF(COUNTIF('CABLE LENGTH'!$A17:$P17,Y$1)+COUNTIF('CABLE LENGTH'!$A17:$P17,Y$2)=2,'CABLE LENGTH'!$AL17,0)","v":0},{"$f":"IF(COUNTIF('CABLE LENGTH'!$A17:$P17,Z$1)+COUNTIF('CABLE LENGTH'!$A17:$P17,Z$2)=2,'CABLE LENGTH'!$AL17,0)","v":0},{"$f":"IF(COUNTIF('CABLE LENGTH'!$A17:$P17,AA$1)+COUNTIF('CABLE LENGTH'!$A17:$P17,AA$2)=2,'CABLE LENGTH'!$AL17,0)","v":0},{"$f":"IF(COUNTIF('CABLE LENGTH'!$A17:$P17,AB$1)+COUNTIF('CABLE LENGTH'!$A17:$P17,AB$2)=2,'CABLE LENGTH'!$AL17,0)","v":0},{"$f":"IF(COUNTIF('CABLE LENGTH'!$A17:$P17,AC$1)+COUNTIF('CABLE LENGTH'!$A17:$P17,AC$2)=2,'CABLE LENGTH'!$AL17,0)","v":0},{"$f":"IF(COUNTIF('CABLE LENGTH'!$A17:$P17,AD$1)+COUNTIF('CABLE LENGTH'!$A17:$P17,AD$2)=2,'CABLE LENGTH'!$AL17,0)","v":0},{"$f":"IF(COUNTIF('CABLE LENGTH'!$A17:$P17,AE$1)+COUNTIF('CABLE LENGTH'!$A17:$P17,AE$2)=2,'CABLE LENGTH'!$AL17,0)","v":0},{"$f":"IF(COUNTIF('CABLE LENGTH'!$A17:$P17,AF$1)+COUNTIF('CABLE LENGTH'!$A17:$P17,AF$2)=2,'CABLE LENGTH'!$AL17,0)","v":0},{"$f":"IF(COUNTIF('CABLE LENGTH'!$A17:$P17,AG$1)+COUNTIF('CABLE LENGTH'!$A17:$P17,AG$2)=2,'CABLE LENGTH'!$AL17,0)","v":0},{"$f":"IF(COUNTIF('CABLE LENGTH'!$A17:$P17,AH$1)+COUNTIF('CABLE LENGTH'!$A17:$P17,AH$2)=2,'CABLE LENGTH'!$AL17,0)","v":0},{"$f":"IF(COUNTIF('CABLE LENGTH'!$A17:$P17,AI$1)+COUNTIF('CABLE LENGTH'!$A17:$P17,AI$2)=2,'CABLE LENGTH'!$AL17,0)","v":0},{"$f":"IF(COUNTIF('CABLE LENGTH'!$A17:$P17,AJ$1)+COUNTIF('CABLE LENGTH'!$A17:$P17,AJ$2)=2,'CABLE LENGTH'!$AL17,0)","v":0},{"$f":"IF(COUNTIF('CABLE LENGTH'!$A17:$P17,AK$1)+COUNTIF('CABLE LENGTH'!$A17:$P17,AK$2)=2,'CABLE LENGTH'!$AL17,0)","v":0},{"$f":"IF(COUNTIF('CABLE LENGTH'!$A17:$P17,AL$1)+COUNTIF('CABLE LENGTH'!$A17:$P17,AL$2)=2,'CABLE LENGTH'!$AL17,0)","v":0},{"$f":"IF(COUNTIF('CABLE LENGTH'!$A17:$P17,AM$1)+COUNTIF('CABLE LENGTH'!$A17:$P17,AM$2)=2,'CABLE LENGTH'!$AL17,0)","v":0},{"$f":"IF(COUNTIF('CABLE LENGTH'!$A17:$P17,AN$1)+COUNTIF('CABLE LENGTH'!$A17:$P17,AN$2)=2,'CABLE LENGTH'!$AL17,0)","v":0},{"$f":"IF(COUNTIF('CABLE LENGTH'!$A17:$P17,AO$1)+COUNTIF('CABLE LENGTH'!$A17:$P17,AO$2)=2,'CABLE LENGTH'!$AL17,0)","v":0},{"$f":"IF(COUNTIF('CABLE LENGTH'!$A17:$P17,AP$1)+COUNTIF('CABLE LENGTH'!$A17:$P17,AP$2)=2,'CABLE LENGTH'!$AL17,0)","v":0},{"$f":"IF(COUNTIF('CABLE LENGTH'!$A17:$P17,AQ$1)+COUNTIF('CABLE LENGTH'!$A17:$P17,AQ$2)=2,'CABLE LENGTH'!$AL17,0)","v":0},{"$f":"IF(COUNTIF('CABLE LENGTH'!$A17:$P17,AR$1)+COUNTIF('CABLE LENGTH'!$A17:$P17,AR$2)=2,'CABLE LENGTH'!$AL17,0)","v":0},{"$f":"IF(COUNTIF('CABLE LENGTH'!$A17:$P17,AS$1)+COUNTIF('CABLE LENGTH'!$A17:$P17,AS$2)=2,'CABLE LENGTH'!$AL17,0)","v":0},{"$f":"IF(COUNTIF('CABLE LENGTH'!$A17:$P17,AT$1)+COUNTIF('CABLE LENGTH'!$A17:$P17,AT$2)=2,'CABLE LENGTH'!$AL17,0)","v":0},{"$f":"IF(COUNTIF('CABLE LENGTH'!$A17:$P17,AU$1)+COUNTIF('CABLE LENGTH'!$A17:$P17,AU$2)=2,'CABLE LENGTH'!$AL17,0)","v":0},{"$f":"IF(COUNTIF('CABLE LENGTH'!$A17:$P17,AV$1)+COUNTIF('CABLE LENGTH'!$A17:$P17,AV$2)=2,'CABLE LENGTH'!$AL17,0)","v":0},{"$f":"IF(COUNTIF('CABLE LENGTH'!$A17:$P17,AW$1)+COUNTIF('CABLE LENGTH'!$A17:$P17,AW$2)=2,'CABLE LENGTH'!$AL17,0)","v":0},{"$f":"IF(COUNTIF('CABLE LENGTH'!$A17:$P17,AX$1)+COUNTIF('CABLE LENGTH'!$A17:$P17,AX$2)=2,'CABLE LENGTH'!$AL17,0)","v":0},{"$f":"IF(COUNTIF('CABLE LENGTH'!$A17:$P17,AY$1)+COUNTIF('CABLE LENGTH'!$A17:$P17,AY$2)=2,'CABLE LENGTH'!$AL17,0)","v":0},{"$f":"IF(COUNTIF('CABLE LENGTH'!$A17:$P17,AZ$1)+COUNTIF('CABLE LENGTH'!$A17:$P17,AZ$2)=2,'CABLE LENGTH'!$AL17,0)","v":0}]
[null,{"$f":"+'CABLE LENGTH'!AK18","v":0},{"$f":"IF(COUNTIF('CABLE LENGTH'!$A18:$P18,C$1)+COUNTIF('CABLE LENGTH'!$B18:$P18,C$2)=2,'CABLE LENGTH'!$AL18,0)","v":0},{"$f":"IF(COUNTIF('CABLE LENGTH'!$A18:$P18,D$1)+COUNTIF('CABLE LENGTH'!$B18:$P18,D$2)=2,'CABLE LENGTH'!$AL18,0)","v":0},{"$f":"IF(COUNTIF('CABLE LENGTH'!$A18:$P18,E$1)+COUNTIF('CABLE LENGTH'!$B18:$P18,E$2)=2,'CABLE LENGTH'!$AL18,0)","v":0},{"$f":"IF(COUNTIF('CABLE LENGTH'!$A18:$P18,F$1)+COUNTIF('CABLE LENGTH'!$B18:$P18,F$2)=2,'CABLE LENGTH'!$AL18,0)","v":0},{"$f":"IF(COUNTIF('CABLE LENGTH'!$A18:$P18,G$1)+COUNTIF('CABLE LENGTH'!$B18:$P18,G$2)=2,'CABLE LENGTH'!$AL18,0)","v":0},{"$f":"IF(COUNTIF('CABLE LENGTH'!$A18:$P18,H$1)+COUNTIF('CABLE LENGTH'!$B18:$P18,H$2)=2,'CABLE LENGTH'!$AL18,0)","v":0},{"$f":"IF(COUNTIF('CABLE LENGTH'!$A18:$P18,I$1)+COUNTIF('CABLE LENGTH'!$B18:$P18,I$2)=2,'CABLE LENGTH'!$AL18,0)","v":0},{"$f":"IF(COUNTIF('CABLE LENGTH'!$A18:$P18,J$1)+COUNTIF('CABLE LENGTH'!$B18:$P18,J$2)=2,'CABLE LENGTH'!$AL18,0)","v":0},{"$f":"IF(COUNTIF('CABLE LENGTH'!$A18:$P18,K$1)+COUNTIF('CABLE LENGTH'!$B18:$P18,K$2)=2,'CABLE LENGTH'!$AL18,0)","v":0},{"$f":"IF(COUNTIF('CABLE LENGTH'!$A18:$P18,L$1)+COUNTIF('CABLE LENGTH'!$B18:$P18,L$2)=2,'CABLE LENGTH'!$AL18,0)","v":0},{"$f":"IF(COUNTIF('CABLE LENGTH'!$A18:$P18,M$1)+COUNTIF('CABLE LENGTH'!$B18:$P18,M$2)=2,'CABLE LENGTH'!$AL18,0)","v":0},{"$f":"IF(COUNTIF('CABLE LENGTH'!$A18:$P18,N$1)+COUNTIF('CABLE LENGTH'!$B18:$P18,N$2)=2,'CABLE LENGTH'!$AL18,0)","v":0},{"$f":"IF(COUNTIF('CABLE LENGTH'!$A18:$P18,O$1)+COUNTIF('CABLE LENGTH'!$B18:$P18,O$2)=2,'CABLE LENGTH'!$AL18,0)","v":0},{"$f":"IF(COUNTIF('CABLE LENGTH'!$A18:$P18,P$1)+COUNTIF('CABLE LENGTH'!$B18:$P18,P$2)=2,'CABLE LENGTH'!$AL18,0)","v":0},{"$f":"IF(COUNTIF('CABLE LENGTH'!$A18:$P18,Q$1)+COUNTIF('CABLE LENGTH'!$B18:$P18,Q$2)=2,'CABLE LENGTH'!$AL18,0)","v":0},{"$f":"IF(COUNTIF('CABLE LENGTH'!$A18:$P18,R$1)+COUNTIF('CABLE LENGTH'!$B18:$P18,R$2)=2,'CABLE LENGTH'!$AL18,0)","v":0},{"$f":"IF(COUNTIF('CABLE LENGTH'!$A18:$P18,S$1)+COUNTIF('CABLE LENGTH'!$B18:$P18,S$2)=2,'CABLE LENGTH'!$AL18,0)","v":0},{"$f":"IF(COUNTIF('CABLE LENGTH'!$A18:$P18,T$1)+COUNTIF('CABLE LENGTH'!$B18:$P18,T$2)=2,'CABLE LENGTH'!$AL18,0)","v":0},{"$f":"IF(COUNTIF('CABLE LENGTH'!$A18:$P18,U$1)+COUNTIF('CABLE LENGTH'!$B18:$P18,U$2)=2,'CABLE LENGTH'!$AL18,0)","v":0},{"$f":"IF(COUNTIF('CABLE LENGTH'!$A18:$P18,V$1)+COUNTIF('CABLE LENGTH'!$B18:$P18,V$2)=2,'CABLE LENGTH'!$AL18,0)","v":0},{"$f":"IF(COUNTIF('CABLE LENGTH'!$A18:$P18,W$1)+COUNTIF('CABLE LENGTH'!$B18:$P18,W$2)=2,'CABLE LENGTH'!$AL18,0)","v":0},{"$f":"IF(COUNTIF('CABLE LENGTH'!$A18:$P18,X$1)+COUNTIF('CABLE LENGTH'!$B18:$P18,X$2)=2,'CABLE LENGTH'!$AL18,0)","v":0},{"$f":"IF(COUNTIF('CABLE LENGTH'!$A18:$P18,Y$1)+COUNTIF('CABLE LENGTH'!$A18:$P18,Y$2)=2,'CABLE LENGTH'!$AL18,0)","v":0},{"$f":"IF(COUNTIF('CABLE LENGTH'!$A18:$P18,Z$1)+COUNTIF('CABLE LENGTH'!$A18:$P18,Z$2)=2,'CABLE LENGTH'!$AL18,0)","v":0},{"$f":"IF(COUNTIF('CABLE LENGTH'!$A18:$P18,AA$1)+COUNTIF('CABLE LENGTH'!$A18:$P18,AA$2)=2,'CABLE LENGTH'!$AL18,0)","v":0},{"$f":"IF(COUNTIF('CABLE LENGTH'!$A18:$P18,AB$1)+COUNTIF('CABLE LENGTH'!$A18:$P18,AB$2)=2,'CABLE LENGTH'!$AL18,0)","v":0},{"$f":"IF(COUNTIF('CABLE LENGTH'!$A18:$P18,AC$1)+COUNTIF('CABLE LENGTH'!$A18:$P18,AC$2)=2,'CABLE LENGTH'!$AL18,0)","v":0},{"$f":"IF(COUNTIF('CABLE LENGTH'!$A18:$P18,AD$1)+COUNTIF('CABLE LENGTH'!$A18:$P18,AD$2)=2,'CABLE LENGTH'!$AL18,0)","v":0},{"$f":"IF(COUNTIF('CABLE LENGTH'!$A18:$P18,AE$1)+COUNTIF('CABLE LENGTH'!$A18:$P18,AE$2)=2,'CABLE LENGTH'!$AL18,0)","v":0},{"$f":"IF(COUNTIF('CABLE LENGTH'!$A18:$P18,AF$1)+COUNTIF('CABLE LENGTH'!$A18:$P18,AF$2)=2,'CABLE LENGTH'!$AL18,0)","v":0},{"$f":"IF(COUNTIF('CABLE LENGTH'!$A18:$P18,AG$1)+COUNTIF('CABLE LENGTH'!$A18:$P18,AG$2)=2,'CABLE LENGTH'!$AL18,0)","v":0},{"$f":"IF(COUNTIF('CABLE LENGTH'!$A18:$P18,AH$1)+COUNTIF('CABLE LENGTH'!$A18:$P18,AH$2)=2,'CABLE LENGTH'!$AL18,0)","v":0},{"$f":"IF(COUNTIF('CABLE LENGTH'!$A18:$P18,AI$1)+COUNTIF('CABLE LENGTH'!$A18:$P18,AI$2)=2,'CABLE LENGTH'!$AL18,0)","v":0},{"$f":"IF(COUNTIF('CABLE LENGTH'!$A18:$P18,AJ$1)+COUNTIF('CABLE LENGTH'!$A18:$P18,AJ$2)=2,'CABLE LENGTH'!$AL18,0)","v":0},{"$f":"IF(COUNTIF('CABLE LENGTH'!$A18:$P18,AK$1)+COUNTIF('CABLE LENGTH'!$A18:$P18,AK$2)=2,'CABLE LENGTH'!$AL18,0)","v":0},{"$f":"IF(COUNTIF('CABLE LENGTH'!$A18:$P18,AL$1)+COUNTIF('CABLE LENGTH'!$A18:$P18,AL$2)=2,'CABLE LENGTH'!$AL18,0)","v":0},{"$f":"IF(COUNTIF('CABLE LENGTH'!$A18:$P18,AM$1)+COUNTIF('CABLE LENGTH'!$A18:$P18,AM$2)=2,'CABLE LENGTH'!$AL18,0)","v":0},{"$f":"IF(COUNTIF('CABLE LENGTH'!$A18:$P18,AN$1)+COUNTIF('CABLE LENGTH'!$A18:$P18,AN$2)=2,'CABLE LENGTH'!$AL18,0)","v":0},{"$f":"IF(COUNTIF('CABLE LENGTH'!$A18:$P18,AO$1)+COUNTIF('CABLE LENGTH'!$A18:$P18,AO$2)=2,'CABLE LENGTH'!$AL18,0)","v":0},{"$f":"IF(COUNTIF('CABLE LENGTH'!$A18:$P18,AP$1)+COUNTIF('CABLE LENGTH'!$A18:$P18,AP$2)=2,'CABLE LENGTH'!$AL18,0)","v":0},{"$f":"IF(COUNTIF('CABLE LENGTH'!$A18:$P18,AQ$1)+COUNTIF('CABLE LENGTH'!$A18:$P18,AQ$2)=2,'CABLE LENGTH'!$AL18,0)","v":0},{"$f":"IF(COUNTIF('CABLE LENGTH'!$A18:$P18,AR$1)+COUNTIF('CABLE LENGTH'!$A18:$P18,AR$2)=2,'CABLE LENGTH'!$AL18,0)","v":0},{"$f":"IF(COUNTIF('CABLE LENGTH'!$A18:$P18,AS$1)+COUNTIF('CABLE LENGTH'!$A18:$P18,AS$2)=2,'CABLE LENGTH'!$AL18,0)","v":0},{"$f":"IF(COUNTIF('CABLE LENGTH'!$A18:$P18,AT$1)+COUNTIF('CABLE LENGTH'!$A18:$P18,AT$2)=2,'CABLE LENGTH'!$AL18,0)","v":0},{"$f":"IF(COUNTIF('CABLE LENGTH'!$A18:$P18,AU$1)+COUNTIF('CABLE LENGTH'!$A18:$P18,AU$2)=2,'CABLE LENGTH'!$AL18,0)","v":0},{"$f":"IF(COUNTIF('CABLE LENGTH'!$A18:$P18,AV$1)+COUNTIF('CABLE LENGTH'!$A18:$P18,AV$2)=2,'CABLE LENGTH'!$AL18,0)","v":0},{"$f":"IF(COUNTIF('CABLE LENGTH'!$A18:$P18,AW$1)+COUNTIF('CABLE LENGTH'!$A18:$P18,AW$2)=2,'CABLE LENGTH'!$AL18,0)","v":0},{"$f":"IF(COUNTIF('CABLE LENGTH'!$A18:$P18,AX$1)+COUNTIF('CABLE LENGTH'!$A18:$P18,AX$2)=2,'CABLE LENGTH'!$AL18,0)","v":0},{"$f":"IF(COUNTIF('CABLE LENGTH'!$A18:$P18,AY$1)+COUNTIF('CABLE LENGTH'!$A18:$P18,AY$2)=2,'CABLE LENGTH'!$AL18,0)","v":0},{"$f":"IF(COUNTIF('CABLE LENGTH'!$A18:$P18,AZ$1)+COUNTIF('CABLE LENGTH'!$A18:$P18,AZ$2)=2,'CABLE LENGTH'!$AL18,0)","v":0}]
[null,{"$f":"+'CABLE LENGTH'!AK19","v":0},{"$f":"IF(COUNTIF('CABLE LENGTH'!$A19:$P19,C$1)+COUNTIF('CABLE LENGTH'!$B19:$P19,C$2)=2,'CABLE LENGTH'!$AL19,0)","v":0},{"$f":"IF(COUNTIF('CABLE LENGTH'!$A19:$P19,D$1)+COUNTIF('CABLE LENGTH'!$B19:$P19,D$2)=2,'CABLE LENGTH'!$AL19,0)","v":0},{"$f":"IF(COUNTIF('CABLE LENGTH'!$A19:$P19,E$1)+COUNTIF('CABLE LENGTH'!$B19:$P19,E$2)=2,'CABLE LENGTH'!$AL19,0)","v":0},{"$f":"IF(COUNTIF('CABLE LENGTH'!$A19:$P19,F$1)+COUNTIF('CABLE LENGTH'!$B19:$P19,F$2)=2,'CABLE LENGTH'!$AL19,0)","v":0},{"$f":"IF(COUNTIF('CABLE LENGTH'!$A19:$P19,G$1)+COUNTIF('CABLE LENGTH'!$B19:$P19,G$2)=2,'CABLE LENGTH'!$AL19,0)","v":0},{"$f":"IF(COUNTIF('CABLE LENGTH'!$A19:$P19,H$1)+COUNTIF('CABLE LENGTH'!$B19:$P19,H$2)=2,'CABLE LENGTH'!$AL19,0)","v":0},{"$f":"IF(COUNTIF('CABLE LENGTH'!$A19:$P19,I$1)+COUNTIF('CABLE LENGTH'!$B19:$P19,I$2)=2,'CABLE LENGTH'!$AL19,0)","v":0},{"$f":"IF(COUNTIF('CABLE LENGTH'!$A19:$P19,J$1)+COUNTIF('CABLE LENGTH'!$B19:$P19,J$2)=2,'CABLE LENGTH'!$AL19,0)","v":0},{"$f":"IF(COUNTIF('CABLE LENGTH'!$A19:$P19,K$1)+COUNTIF('CABLE LENGTH'!$B19:$P19,K$2)=2,'CABLE LENGTH'!$AL19,0)","v":0},{"$f":"IF(COUNTIF('CABLE LENGTH'!$A19:$P19,L$1)+COUNTIF('CABLE LENGTH'!$B19:$P19,L$2)=2,'CABLE LENGTH'!$AL19,0)","v":0},{"$f":"IF(COUNTIF('CABLE LENGTH'!$A19:$P19,M$1)+COUNTIF('CABLE LENGTH'!$B19:$P19,M$2)=2,'CABLE LENGTH'!$AL19,0)","v":0},{"$f":"IF(COUNTIF('CABLE LENGTH'!$A19:$P19,N$1)+COUNTIF('CABLE LENGTH'!$B19:$P19,N$2)=2,'CABLE LENGTH'!$AL19,0)","v":0},{"$f":"IF(COUNTIF('CABLE LENGTH'!$A19:$P19,O$1)+COUNTIF('CABLE LENGTH'!$B19:$P19,O$2)=2,'CABLE LENGTH'!$AL19,0)","v":0},{"$f":"IF(COUNTIF('CABLE LENGTH'!$A19:$P19,P$1)+COUNTIF('CABLE LENGTH'!$B19:$P19,P$2)=2,'CABLE LENGTH'!$AL19,0)","v":0},{"$f":"IF(COUNTIF('CABLE LENGTH'!$A19:$P19,Q$1)+COUNTIF('CABLE LENGTH'!$B19:$P19,Q$2)=2,'CABLE LENGTH'!$AL19,0)","v":0},{"$f":"IF(COUNTIF('CABLE LENGTH'!$A19:$P19,R$1)+COUNTIF('CABLE LENGTH'!$B19:$P19,R$2)=2,'CABLE LENGTH'!$AL19,0)","v":0},{"$f":"IF(COUNTIF('CABLE LENGTH'!$A19:$P19,S$1)+COUNTIF('CABLE LENGTH'!$B19:$P19,S$2)=2,'CABLE LENGTH'!$AL19,0)","v":0},{"$f":"IF(COUNTIF('CABLE LENGTH'!$A19:$P19,T$1)+COUNTIF('CABLE LENGTH'!$B19:$P19,T$2)=2,'CABLE LENGTH'!$AL19,0)","v":0},{"$f":"IF(COUNTIF('CABLE LENGTH'!$A19:$P19,U$1)+COUNTIF('CABLE LENGTH'!$B19:$P19,U$2)=2,'CABLE LENGTH'!$AL19,0)","v":0},{"$f":"IF(COUNTIF('CABLE LENGTH'!$A19:$P19,V$1)+COUNTIF('CABLE LENGTH'!$B19:$P19,V$2)=2,'CABLE LENGTH'!$AL19,0)","v":0},{"$f":"IF(COUNTIF('CABLE LENGTH'!$A19:$P19,W$1)+COUNTIF('CABLE LENGTH'!$B19:$P19,W$2)=2,'CABLE LENGTH'!$AL19,0)","v":0},{"$f":"IF(COUNTIF('CABLE LENGTH'!$A19:$P19,X$1)+COUNTIF('CABLE LENGTH'!$B19:$P19,X$2)=2,'CABLE LENGTH'!$AL19,0)","v":0},{"$f":"IF(COUNTIF('CABLE LENGTH'!$A19:$P19,Y$1)+COUNTIF('CABLE LENGTH'!$A19:$P19,Y$2)=2,'CABLE LENGTH'!$AL19,0)","v":0},{"$f":"IF(COUNTIF('CABLE LENGTH'!$A19:$P19,Z$1)+COUNTIF('CABLE LENGTH'!$A19:$P19,Z$2)=2,'CABLE LENGTH'!$AL19,0)","v":0},{"$f":"IF(COUNTIF('CABLE LENGTH'!$A19:$P19,AA$1)+COUNTIF('CABLE LENGTH'!$A19:$P19,AA$2)=2,'CABLE LENGTH'!$AL19,0)","v":0},{"$f":"IF(COUNTIF('CABLE LENGTH'!$A19:$P19,AB$1)+COUNTIF('CABLE LENGTH'!$A19:$P19,AB$2)=2,'CABLE LENGTH'!$AL19,0)","v":0},{"$f":"IF(COUNTIF('CABLE LENGTH'!$A19:$P19,AC$1)+COUNTIF('CABLE LENGTH'!$A19:$P19,AC$2)=2,'CABLE LENGTH'!$AL19,0)","v":0},{"$f":"IF(COUNTIF('CABLE LENGTH'!$A19:$P19,AD$1)+COUNTIF('CABLE LENGTH'!$A19:$P19,AD$2)=2,'CABLE LENGTH'!$AL19,0)","v":0},{"$f":"IF(COUNTIF('CABLE LENGTH'!$A19:$P19,AE$1)+COUNTIF('CABLE LENGTH'!$A19:$P19,AE$2)=2,'CABLE LENGTH'!$AL19,0)","v":0},{"$f":"IF(COUNTIF('CABLE LENGTH'!$A19:$P19,AF$1)+COUNTIF('CABLE LENGTH'!$A19:$P19,AF$2)=2,'CABLE LENGTH'!$AL19,0)","v":0},{"$f":"IF(COUNTIF('CABLE LENGTH'!$A19:$P19,AG$1)+COUNTIF('CABLE LENGTH'!$A19:$P19,AG$2)=2,'CABLE LENGTH'!$AL19,0)","v":0},{"$f":"IF(COUNTIF('CABLE LENGTH'!$A19:$P19,AH$1)+COUNTIF('CABLE LENGTH'!$A19:$P19,AH$2)=2,'CABLE LENGTH'!$AL19,0)","v":0},{"$f":"IF(COUNTIF('CABLE LENGTH'!$A19:$P19,AI$1)+COUNTIF('CABLE LENGTH'!$A19:$P19,AI$2)=2,'CABLE LENGTH'!$AL19,0)","v":0},{"$f":"IF(COUNTIF('CABLE LENGTH'!$A19:$P19,AJ$1)+COUNTIF('CABLE LENGTH'!$A19:$P19,AJ$2)=2,'CABLE LENGTH'!$AL19,0)","v":0},{"$f":"IF(COUNTIF('CABLE LENGTH'!$A19:$P19,AK$1)+COUNTIF('CABLE LENGTH'!$A19:$P19,AK$2)=2,'CABLE LENGTH'!$AL19,0)","v":0},{"$f":"IF(COUNTIF('CABLE LENGTH'!$A19:$P19,AL$1)+COUNTIF('CABLE LENGTH'!$A19:$P19,AL$2)=2,'CABLE LENGTH'!$AL19,0)","v":0},{"$f":"IF(COUNTIF('CABLE LENGTH'!$A19:$P19,AM$1)+COUNTIF('CABLE LENGTH'!$A19:$P19,AM$2)=2,'CABLE LENGTH'!$AL19,0)","v":0},{"$f":"IF(COUNTIF('CABLE LENGTH'!$A19:$P19,AN$1)+COUNTIF('CABLE LENGTH'!$A19:$P19,AN$2)=2,'CABLE LENGTH'!$AL19,0)","v":0},{"$f":"IF(COUNTIF('CABLE LENGTH'!$A19:$P19,AO$1)+COUNTIF('CABLE LENGTH'!$A19:$P19,AO$2)=2,'CABLE LENGTH'!$AL19,0)","v":0},{"$f":"IF(COUNTIF('CABLE LENGTH'!$A19:$P19,AP$1)+COUNTIF('CABLE LENGTH'!$A19:$P19,AP$2)=2,'CABLE LENGTH'!$AL19,0)","v":0},{"$f":"IF(COUNTIF('CABLE LENGTH'!$A19:$P19,AQ$1)+COUNTIF('CABLE LENGTH'!$A19:$P19,AQ$2)=2,'CABLE LENGTH'!$AL19,0)","v":0},{"$f":"IF(COUNTIF('CABLE LENGTH'!$A19:$P19,AR$1)+COUNTIF('CABLE LENGTH'!$A19:$P19,AR$2)=2,'CABLE LENGTH'!$AL19,0)","v":0},{"$f":"IF(COUNTIF('CABLE LENGTH'!$A19:$P19,AS$1)+COUNTIF('CABLE LENGTH'!$A19:$P19,AS$2)=2,'CABLE LENGTH'!$AL19,0)","v":0},{"$f":"IF(COUNTIF('CABLE LENGTH'!$A19:$P19,AT$1)+COUNTIF('CABLE LENGTH'!$A19:$P19,AT$2)=2,'CABLE LENGTH'!$AL19,0)","v":0},{"$f":"IF(COUNTIF('CABLE LENGTH'!$A19:$P19,AU$1)+COUNTIF('CABLE LENGTH'!$A19:$P19,AU$2)=2,'CABLE LENGTH'!$AL19,0)","v":0},{"$f":"IF(COUNTIF('CABLE LENGTH'!$A19:$P19,AV$1)+COUNTIF('CABLE LENGTH'!$A19:$P19,AV$2)=2,'CABLE LENGTH'!$AL19,0)","v":0},{"$f":"IF(COUNTIF('CABLE LENGTH'!$A19:$P19,AW$1)+COUNTIF('CABLE LENGTH'!$A19:$P19,AW$2)=2,'CABLE LENGTH'!$AL19,0)","v":0},{"$f":"IF(COUNTIF('CABLE LENGTH'!$A19:$P19,AX$1)+COUNTIF('CABLE LENGTH'!$A19:$P19,AX$2)=2,'CABLE LENGTH'!$AL19,0)","v":0},{"$f":"IF(COUNTIF('CABLE LENGTH'!$A19:$P19,AY$1)+COUNTIF('CABLE LENGTH'!$A19:$P19,AY$2)=2,'CABLE LENGTH'!$AL19,0)","v":0},{"$f":"IF(COUNTIF('CABLE LENGTH'!$A19:$P19,AZ$1)+COUNTIF('CABLE LENGTH'!$A19:$P19,AZ$2)=2,'CABLE LENGTH'!$AL19,0)","v":0}]
[null,{"$f":"+'CABLE LENGTH'!AK20","v":0},{"$f":"IF(COUNTIF('CABLE LENGTH'!$A20:$P20,C$1)+COUNTIF('CABLE LENGTH'!$B20:$P20,C$2)=2,'CABLE LENGTH'!$AL20,0)","v":0},{"$f":"IF(COUNTIF('CABLE LENGTH'!$A20:$P20,D$1)+COUNTIF('CABLE LENGTH'!$B20:$P20,D$2)=2,'CABLE LENGTH'!$AL20,0)","v":0},{"$f":"IF(COUNTIF('CABLE LENGTH'!$A20:$P20,E$1)+COUNTIF('CABLE LENGTH'!$B20:$P20,E$2)=2,'CABLE LENGTH'!$AL20,0)","v":0},{"$f":"IF(COUNTIF('CABLE LENGTH'!$A20:$P20,F$1)+COUNTIF('CABLE LENGTH'!$B20:$P20,F$2)=2,'CABLE LENGTH'!$AL20,0)","v":0},{"$f":"IF(COUNTIF('CABLE LENGTH'!$A20:$P20,G$1)+COUNTIF('CABLE LENGTH'!$B20:$P20,G$2)=2,'CABLE LENGTH'!$AL20,0)","v":0},{"$f":"IF(COUNTIF('CABLE LENGTH'!$A20:$P20,H$1)+COUNTIF('CABLE LENGTH'!$B20:$P20,H$2)=2,'CABLE LENGTH'!$AL20,0)","v":0},{"$f":"IF(COUNTIF('CABLE LENGTH'!$A20:$P20,I$1)+COUNTIF('CABLE LENGTH'!$B20:$P20,I$2)=2,'CABLE LENGTH'!$AL20,0)","v":0},{"$f":"IF(COUNTIF('CABLE LENGTH'!$A20:$P20,J$1)+COUNTIF('CABLE LENGTH'!$B20:$P20,J$2)=2,'CABLE LENGTH'!$AL20,0)","v":0},{"$f":"IF(COUNTIF('CABLE LENGTH'!$A20:$P20,K$1)+COUNTIF('CABLE LENGTH'!$B20:$P20,K$2)=2,'CABLE LENGTH'!$AL20,0)","v":0},{"$f":"IF(COUNTIF('CABLE LENGTH'!$A20:$P20,L$1)+COUNTIF('CABLE LENGTH'!$B20:$P20,L$2)=2,'CABLE LENGTH'!$AL20,0)","v":0},{"$f":"IF(COUNTIF('CABLE LENGTH'!$A20:$P20,M$1)+COUNTIF('CABLE LENGTH'!$B20:$P20,M$2)=2,'CABLE LENGTH'!$AL20,0)","v":0},{"$f":"IF(COUNTIF('CABLE LENGTH'!$A20:$P20,N$1)+COUNTIF('CABLE LENGTH'!$B20:$P20,N$2)=2,'CABLE LENGTH'!$AL20,0)","v":0},{"$f":"IF(COUNTIF('CABLE LENGTH'!$A20:$P20,O$1)+COUNTIF('CABLE LENGTH'!$B20:$P20,O$2)=2,'CABLE LENGTH'!$AL20,0)","v":0},{"$f":"IF(COUNTIF('CABLE LENGTH'!$A20:$P20,P$1)+COUNTIF('CABLE LENGTH'!$B20:$P20,P$2)=2,'CABLE LENGTH'!$AL20,0)","v":0},{"$f":"IF(COUNTIF('CABLE LENGTH'!$A20:$P20,Q$1)+COUNTIF('CABLE LENGTH'!$B20:$P20,Q$2)=2,'CABLE LENGTH'!$AL20,0)","v":0},{"$f":"IF(COUNTIF('CABLE LENGTH'!$A20:$P20,R$1)+COUNTIF('CABLE LENGTH'!$B20:$P20,R$2)=2,'CABLE LENGTH'!$AL20,0)","v":0},{"$f":"IF(COUNTIF('CABLE LENGTH'!$A20:$P20,S$1)+COUNTIF('CABLE LENGTH'!$B20:$P20,S$2)=2,'CABLE LENGTH'!$AL20,0)","v":0},{"$f":"IF(COUNTIF('CABLE LENGTH'!$A20:$P20,T$1)+COUNTIF('CABLE LENGTH'!$B20:$P20,T$2)=2,'CABLE LENGTH'!$AL20,0)","v":0},{"$f":"IF(COUNTIF('CABLE LENGTH'!$A20:$P20,U$1)+COUNTIF('CABLE LENGTH'!$B20:$P20,U$2)=2,'CABLE LENGTH'!$AL20,0)","v":0},{"$f":"IF(COUNTIF('CABLE LENGTH'!$A20:$P20,V$1)+COUNTIF('CABLE LENGTH'!$B20:$P20,V$2)=2,'CABLE LENGTH'!$AL20,0)","v":0},{"$f":"IF(COUNTIF('CABLE LENGTH'!$A20:$P20,W$1)+COUNTIF('CABLE LENGTH'!$B20:$P20,W$2)=2,'CABLE LENGTH'!$AL20,0)","v":0},{"$f":"IF(COUNTIF('CABLE LENGTH'!$A20:$P20,X$1)+COUNTIF('CABLE LENGTH'!$B20:$P20,X$2)=2,'CABLE LENGTH'!$AL20,0)","v":0},{"$f":"IF(COUNTIF('CABLE LENGTH'!$A20:$P20,Y$1)+COUNTIF('CABLE LENGTH'!$A20:$P20,Y$2)=2,'CABLE LENGTH'!$AL20,0)","v":0},{"$f":"IF(COUNTIF('CABLE LENGTH'!$A20:$P20,Z$1)+COUNTIF('CABLE LENGTH'!$A20:$P20,Z$2)=2,'CABLE LENGTH'!$AL20,0)","v":0},{"$f":"IF(COUNTIF('CABLE LENGTH'!$A20:$P20,AA$1)+COUNTIF('CABLE LENGTH'!$A20:$P20,AA$2)=2,'CABLE LENGTH'!$AL20,0)","v":0},{"$f":"IF(COUNTIF('CABLE LENGTH'!$A20:$P20,AB$1)+COUNTIF('CABLE LENGTH'!$A20:$P20,AB$2)=2,'CABLE LENGTH'!$AL20,0)","v":0},{"$f":"IF(COUNTIF('CABLE LENGTH'!$A20:$P20,AC$1)+COUNTIF('CABLE LENGTH'!$A20:$P20,AC$2)=2,'CABLE LENGTH'!$AL20,0)","v":0},{"$f":"IF(COUNTIF('CABLE LENGTH'!$A20:$P20,AD$1)+COUNTIF('CABLE LENGTH'!$A20:$P20,AD$2)=2,'CABLE LENGTH'!$AL20,0)","v":0},{"$f":"IF(COUNTIF('CABLE LENGTH'!$A20:$P20,AE$1)+COUNTIF('CABLE LENGTH'!$A20:$P20,AE$2)=2,'CABLE LENGTH'!$AL20,0)","v":0},{"$f":"IF(COUNTIF('CABLE LENGTH'!$A20:$P20,AF$1)+COUNTIF('CABLE LENGTH'!$A20:$P20,AF$2)=2,'CABLE LENGTH'!$AL20,0)","v":0},{"$f":"IF(COUNTIF('CABLE LENGTH'!$A20:$P20,AG$1)+COUNTIF('CABLE LENGTH'!$A20:$P20,AG$2)=2,'CABLE LENGTH'!$AL20,0)","v":0},{"$f":"IF(COUNTIF('CABLE LENGTH'!$A20:$P20,AH$1)+COUNTIF('CABLE LENGTH'!$A20:$P20,AH$2)=2,'CABLE LENGTH'!$AL20,0)","v":0},{"$f":"IF(COUNTIF('CABLE LENGTH'!$A20:$P20,AI$1)+COUNTIF('CABLE LENGTH'!$A20:$P20,AI$2)=2,'CABLE LENGTH'!$AL20,0)","v":0},{"$f":"IF(COUNTIF('CABLE LENGTH'!$A20:$P20,AJ$1)+COUNTIF('CABLE LENGTH'!$A20:$P20,AJ$2)=2,'CABLE LENGTH'!$AL20,0)","v":0},{"$f":"IF(COUNTIF('CABLE LENGTH'!$A20:$P20,AK$1)+COUNTIF('CABLE LENGTH'!$A20:$P20,AK$2)=2,'CABLE LENGTH'!$AL20,0)","v":0},{"$f":"IF(COUNTIF('CABLE LENGTH'!$A20:$P20,AL$1)+COUNTIF('CABLE LENGTH'!$A20:$P20,AL$2)=2,'CABLE LENGTH'!$AL20,0)","v":0},{"$f":"IF(COUNTIF('CABLE LENGTH'!$A20:$P20,AM$1)+COUNTIF('CABLE LENGTH'!$A20:$P20,AM$2)=2,'CABLE LENGTH'!$AL20,0)","v":0},{"$f":"IF(COUNTIF('CABLE LENGTH'!$A20:$P20,AN$1)+COUNTIF('CABLE LENGTH'!$A20:$P20,AN$2)=2,'CABLE LENGTH'!$AL20,0)","v":0},{"$f":"IF(COUNTIF('CABLE LENGTH'!$A20:$P20,AO$1)+COUNTIF('CABLE LENGTH'!$A20:$P20,AO$2)=2,'CABLE LENGTH'!$AL20,0)","v":0},{"$f":"IF(COUNTIF('CABLE LENGTH'!$A20:$P20,AP$1)+COUNTIF('CABLE LENGTH'!$A20:$P20,AP$2)=2,'CABLE LENGTH'!$AL20,0)","v":0},{"$f":"IF(COUNTIF('CABLE LENGTH'!$A20:$P20,AQ$1)+COUNTIF('CABLE LENGTH'!$A20:$P20,AQ$2)=2,'CABLE LENGTH'!$AL20,0)","v":0},{"$f":"IF(COUNTIF('CABLE LENGTH'!$A20:$P20,AR$1)+COUNTIF('CABLE LENGTH'!$A20:$P20,AR$2)=2,'CABLE LENGTH'!$AL20,0)","v":0},{"$f":"IF(COUNTIF('CABLE LENGTH'!$A20:$P20,AS$1)+COUNTIF('CABLE LENGTH'!$A20:$P20,AS$2)=2,'CABLE LENGTH'!$AL20,0)","v":0},{"$f":"IF(COUNTIF('CABLE LENGTH'!$A20:$P20,AT$1)+COUNTIF('CABLE LENGTH'!$A20:$P20,AT$2)=2,'CABLE LENGTH'!$AL20,0)","v":0},{"$f":"IF(COUNTIF('CABLE LENGTH'!$A20:$P20,AU$1)+COUNTIF('CABLE LENGTH'!$A20:$P20,AU$2)=2,'CABLE LENGTH'!$AL20,0)","v":0},{"$f":"IF(COUNTIF('CABLE LENGTH'!$A20:$P20,AV$1)+COUNTIF('CABLE LENGTH'!$A20:$P20,AV$2)=2,'CABLE LENGTH'!$AL20,0)","v":0},{"$f":"IF(COUNTIF('CABLE LENGTH'!$A20:$P20,AW$1)+COUNTIF('CABLE LENGTH'!$A20:$P20,AW$2)=2,'CABLE LENGTH'!$AL20,0)","v":0},{"$f":"IF(COUNTIF('CABLE LENGTH'!$A20:$P20,AX$1)+COUNTIF('CABLE LENGTH'!$A20:$P20,AX$2)=2,'CABLE LENGTH'!$AL20,0)","v":0},{"$f":"IF(COUNTIF('CABLE LENGTH'!$A20:$P20,AY$1)+COUNTIF('CABLE LENGTH'!$A20:$P20,AY$2)=2,'CABLE LENGTH'!$AL20,0)","v":0},{"$f":"IF(COUNTIF('CABLE LENGTH'!$A20:$P20,AZ$1)+COUNTIF('CABLE LENGTH'!$A20:$P20,AZ$2)=2,'CABLE LENGTH'!$AL20,0)","v":0}]
[null,{"$f":"+'CABLE LENGTH'!AK21","v":0},{"$f":"IF(COUNTIF('CABLE LENGTH'!$A21:$P21,C$1)+COUNTIF('CABLE LENGTH'!$B21:$P21,C$2)=2,'CABLE LENGTH'!$AL21,0)","v":0},{"$f":"IF(COUNTIF('CABLE LENGTH'!$A21:$P21,D$1)+COUNTIF('CABLE LENGTH'!$B21:$P21,D$2)=2,'CABLE LENGTH'!$AL21,0)","v":0},{"$f":"IF(COUNTIF('CABLE LENGTH'!$A21:$P21,E$1)+COUNTIF('CABLE LENGTH'!$B21:$P21,E$2)=2,'CABLE LENGTH'!$AL21,0)","v":0},{"$f":"IF(COUNTIF('CABLE LENGTH'!$A21:$P21,F$1)+COUNTIF('CABLE LENGTH'!$B21:$P21,F$2)=2,'CABLE LENGTH'!$AL21,0)","v":0},{"$f":"IF(COUNTIF('CABLE LENGTH'!$A21:$P21,G$1)+COUNTIF('CABLE LENGTH'!$B21:$P21,G$2)=2,'CABLE LENGTH'!$AL21,0)","v":0},{"$f":"IF(COUNTIF('CABLE LENGTH'!$A21:$P21,H$1)+COUNTIF('CABLE LENGTH'!$B21:$P21,H$2)=2,'CABLE LENGTH'!$AL21,0)","v":0},{"$f":"IF(COUNTIF('CABLE LENGTH'!$A21:$P21,I$1)+COUNTIF('CABLE LENGTH'!$B21:$P21,I$2)=2,'CABLE LENGTH'!$AL21,0)","v":0},{"$f":"IF(COUNTIF('CABLE LENGTH'!$A21:$P21,J$1)+COUNTIF('CABLE LENGTH'!$B21:$P21,J$2)=2,'CABLE LENGTH'!$AL21,0)","v":0},{"$f":"IF(COUNTIF('CABLE LENGTH'!$A21:$P21,K$1)+COUNTIF('CABLE LENGTH'!$B21:$P21,K$2)=2,'CABLE LENGTH'!$AL21,0)","v":0},{"$f":"IF(COUNTIF('CABLE LENGTH'!$A21:$P21,L$1)+COUNTIF('CABLE LENGTH'!$B21:$P21,L$2)=2,'CABLE LENGTH'!$AL21,0)","v":0},{"$f":"IF(COUNTIF('CABLE LENGTH'!$A21:$P21,M$1)+COUNTIF('CABLE LENGTH'!$B21:$P21,M$2)=2,'CABLE LENGTH'!$AL21,0)","v":0},{"$f":"IF(COUNTIF('CABLE LENGTH'!$A21:$P21,N$1)+COUNTIF('CABLE LENGTH'!$B21:$P21,N$2)=2,'CABLE LENGTH'!$AL21,0)","v":0},{"$f":"IF(COUNTIF('CABLE LENGTH'!$A21:$P21,O$1)+COUNTIF('CABLE LENGTH'!$B21:$P21,O$2)=2,'CABLE LENGTH'!$AL21,0)","v":0},{"$f":"IF(COUNTIF('CABLE LENGTH'!$A21:$P21,P$1)+COUNTIF('CABLE LENGTH'!$B21:$P21,P$2)=2,'CABLE LENGTH'!$AL21,0)","v":0},{"$f":"IF(COUNTIF('CABLE LENGTH'!$A21:$P21,Q$1)+COUNTIF('CABLE LENGTH'!$B21:$P21,Q$2)=2,'CABLE LENGTH'!$AL21,0)","v":0},{"$f":"IF(COUNTIF('CABLE LENGTH'!$A21:$P21,R$1)+COUNTIF('CABLE LENGTH'!$B21:$P21,R$2)=2,'CABLE LENGTH'!$AL21,0)","v":0},{"$f":"IF(COUNTIF('CABLE LENGTH'!$A21:$P21,S$1)+COUNTIF('CABLE LENGTH'!$B21:$P21,S$2)=2,'CABLE LENGTH'!$AL21,0)","v":0},{"$f":"IF(COUNTIF('CABLE LENGTH'!$A21:$P21,T$1)+COUNTIF('CABLE LENGTH'!$B21:$P21,T$2)=2,'CABLE LENGTH'!$AL21,0)","v":0},{"$f":"IF(COUNTIF('CABLE LENGTH'!$A21:$P21,U$1)+COUNTIF('CABLE LENGTH'!$B21:$P21,U$2)=2,'CABLE LENGTH'!$AL21,0)","v":0},{"$f":"IF(COUNTIF('CABLE LENGTH'!$A21:$P21,V$1)+COUNTIF('CABLE LENGTH'!$B21:$P21,V$2)=2,'CABLE LENGTH'!$AL21,0)","v":0},{"$f":"IF(COUNTIF('CABLE LENGTH'!$A21:$P21,W$1)+COUNTIF('CABLE LENGTH'!$B21:$P21,W$2)=2,'CABLE LENGTH'!$AL21,0)","v":0},{"$f":"IF(COUNTIF('CABLE LENGTH'!$A21:$P21,X$1)+COUNTIF('CABLE LENGTH'!$B21:$P21,X$2)=2,'CABLE LENGTH'!$AL21,0)","v":0},{"$f":"IF(COUNTIF('CABLE LENGTH'!$A21:$P21,Y$1)+COUNTIF('CABLE LENGTH'!$A21:$P21,Y$2)=2,'CABLE LENGTH'!$AL21,0)","v":0},{"$f":"IF(COUNTIF('CABLE LENGTH'!$A21:$P21,Z$1)+COUNTIF('CABLE LENGTH'!$A21:$P21,Z$2)=2,'CABLE LENGTH'!$AL21,0)","v":0},{"$f":"IF(COUNTIF('CABLE LENGTH'!$A21:$P21,AA$1)+COUNTIF('CABLE LENGTH'!$A21:$P21,AA$2)=2,'CABLE LENGTH'!$AL21,0)","v":0},{"$f":"IF(COUNTIF('CABLE LENGTH'!$A21:$P21,AB$1)+COUNTIF('CABLE LENGTH'!$A21:$P21,AB$2)=2,'CABLE LENGTH'!$AL21,0)","v":0},{"$f":"IF(COUNTIF('CABLE LENGTH'!$A21:$P21,AC$1)+COUNTIF('CABLE LENGTH'!$A21:$P21,AC$2)=2,'CABLE LENGTH'!$AL21,0)","v":0},{"$f":"IF(COUNTIF('CABLE LENGTH'!$A21:$P21,AD$1)+COUNTIF('CABLE LENGTH'!$A21:$P21,AD$2)=2,'CABLE LENGTH'!$AL21,0)","v":0},{"$f":"IF(COUNTIF('CABLE LENGTH'!$A21:$P21,AE$1)+COUNTIF('CABLE LENGTH'!$A21:$P21,AE$2)=2,'CABLE LENGTH'!$AL21,0)","v":0},{"$f":"IF(COUNTIF('CABLE LENGTH'!$A21:$P21,AF$1)+COUNTIF('CABLE LENGTH'!$A21:$P21,AF$2)=2,'CABLE LENGTH'!$AL21,0)","v":0},{"$f":"IF(COUNTIF('CABLE LENGTH'!$A21:$P21,AG$1)+COUNTIF('CABLE LENGTH'!$A21:$P21,AG$2)=2,'CABLE LENGTH'!$AL21,0)","v":0},{"$f":"IF(COUNTIF('CABLE LENGTH'!$A21:$P21,AH$1)+COUNTIF('CABLE LENGTH'!$A21:$P21,AH$2)=2,'CABLE LENGTH'!$AL21,0)","v":0},{"$f":"IF(COUNTIF('CABLE LENGTH'!$A21:$P21,AI$1)+COUNTIF('CABLE LENGTH'!$A21:$P21,AI$2)=2,'CABLE LENGTH'!$AL21,0)","v":0},{"$f":"IF(COUNTIF('CABLE LENGTH'!$A21:$P21,AJ$1)+COUNTIF('CABLE LENGTH'!$A21:$P21,AJ$2)=2,'CABLE LENGTH'!$AL21,0)","v":0},{"$f":"IF(COUNTIF('CABLE LENGTH'!$A21:$P21,AK$1)+COUNTIF('CABLE LENGTH'!$A21:$P21,AK$2)=2,'CABLE LENGTH'!$AL21,0)","v":0},{"$f":"IF(COUNTIF('CABLE LENGTH'!$A21:$P21,AL$1)+COUNTIF('CABLE LENGTH'!$A21:$P21,AL$2)=2,'CABLE LENGTH'!$AL21,0)","v":0},{"$f":"IF(COUNTIF('CABLE LENGTH'!$A21:$P21,AM$1)+COUNTIF('CABLE LENGTH'!$A21:$P21,AM$2)=2,'CABLE LENGTH'!$AL21,0)","v":0},{"$f":"IF(COUNTIF('CABLE LENGTH'!$A21:$P21,AN$1)+COUNTIF('CABLE LENGTH'!$A21:$P21,AN$2)=2,'CABLE LENGTH'!$AL21,0)","v":0},{"$f":"IF(COUNTIF('CABLE LENGTH'!$A21:$P21,AO$1)+COUNTIF('CABLE LENGTH'!$A21:$P21,AO$2)=2,'CABLE LENGTH'!$AL21,0)","v":0},{"$f":"IF(COUNTIF('CABLE LENGTH'!$A21:$P21,AP$1)+COUNTIF('CABLE LENGTH'!$A21:$P21,AP$2)=2,'CABLE LENGTH'!$AL21,0)","v":0},{"$f":"IF(COUNTIF('CABLE LENGTH'!$A21:$P21,AQ$1)+COUNTIF('CABLE LENGTH'!$A21:$P21,AQ$2)=2,'CABLE LENGTH'!$AL21,0)","v":0},{"$f":"IF(COUNTIF('CABLE LENGTH'!$A21:$P21,AR$1)+COUNTIF('CABLE LENGTH'!$A21:$P21,AR$2)=2,'CABLE LENGTH'!$AL21,0)","v":0},{"$f":"IF(COUNTIF('CABLE LENGTH'!$A21:$P21,AS$1)+COUNTIF('CABLE LENGTH'!$A21:$P21,AS$2)=2,'CABLE LENGTH'!$AL21,0)","v":0},{"$f":"IF(COUNTIF('CABLE LENGTH'!$A21:$P21,AT$1)+COUNTIF('CABLE LENGTH'!$A21:$P21,AT$2)=2,'CABLE LENGTH'!$AL21,0)","v":0},{"$f":"IF(COUNTIF('CABLE LENGTH'!$A21:$P21,AU$1)+COUNTIF('CABLE LENGTH'!$A21:$P21,AU$2)=2,'CABLE LENGTH'!$AL21,0)","v":0},{"$f":"IF(COUNTIF('CABLE LENGTH'!$A21:$P21,AV$1)+COUNTIF('CABLE LENGTH'!$A21:$P21,AV$2)=2,'CABLE LENGTH'!$AL21,0)","v":0},{"$f":"IF(COUNTIF('CABLE LENGTH'!$A21:$P21,AW$1)+COUNTIF('CABLE LENGTH'!$A21:$P21,AW$2)=2,'CABLE LENGTH'!$AL21,0)","v":0},{"$f":"IF(COUNTIF('CABLE LENGTH'!$A21:$P21,AX$1)+COUNTIF('CABLE LENGTH'!$A21:$P21,AX$2)=2,'CABLE LENGTH'!$AL21,0)","v":0},{"$f":"IF(COUNTIF('CABLE LENGTH'!$A21:$P21,AY$1)+COUNTIF('CABLE LENGTH'!$A21:$P21,AY$2)=2,'CABLE LENGTH'!$AL21,0)","v":0},{"$f":"IF(COUNTIF('CABLE LENGTH'!$A21:$P21,AZ$1)+COUNTIF('CABLE LENGTH'!$A21:$P21,AZ$2)=2,'CABLE LENGTH'!$AL21,0)","v":0}]
[null,{"$f":"+'CABLE LENGTH'!AK22","v":0},{"$f":"IF(COUNTIF('CABLE LENGTH'!$A22:$P22,C$1)+COUNTIF('CABLE LENGTH'!$B22:$P22,C$2)=2,'CABLE LENGTH'!$AL22,0)","v":0},{"$f":"IF(COUNTIF('CABLE LENGTH'!$A22:$P22,D$1)+COUNTIF('CABLE LENGTH'!$B22:$P22,D$2)=2,'CABLE LENGTH'!$AL22,0)","v":0},{"$f":"IF(COUNTIF('CABLE LENGTH'!$A22:$P22,E$1)+COUNTIF('CABLE LENGTH'!$B22:$P22,E$2)=2,'CABLE LENGTH'!$AL22,0)","v":0},{"$f":"IF(COUNTIF('CABLE LENGTH'!$A22:$P22,F$1)+COUNTIF('CABLE LENGTH'!$B22:$P22,F$2)=2,'CABLE LENGTH'!$AL22,0)","v":0},{"$f":"IF(COUNTIF('CABLE LENGTH'!$A22:$P22,G$1)+COUNTIF('CABLE LENGTH'!$B22:$P22,G$2)=2,'CABLE LENGTH'!$AL22,0)","v":0},{"$f":"IF(COUNTIF('CABLE LENGTH'!$A22:$P22,H$1)+COUNTIF('CABLE LENGTH'!$B22:$P22,H$2)=2,'CABLE LENGTH'!$AL22,0)","v":0},{"$f":"IF(COUNTIF('CABLE LENGTH'!$A22:$P22,I$1)+COUNTIF('CABLE LENGTH'!$B22:$P22,I$2)=2,'CABLE LENGTH'!$AL22,0)","v":0},{"$f":"IF(COUNTIF('CABLE LENGTH'!$A22:$P22,J$1)+COUNTIF('CABLE LENGTH'!$B22:$P22,J$2)=2,'CABLE LENGTH'!$AL22,0)","v":0},{"$f":"IF(COUNTIF('CABLE LENGTH'!$A22:$P22,K$1)+COUNTIF('CABLE LENGTH'!$B22:$P22,K$2)=2,'CABLE LENGTH'!$AL22,0)","v":0},{"$f":"IF(COUNTIF('CABLE LENGTH'!$A22:$P22,L$1)+COUNTIF('CABLE LENGTH'!$B22:$P22,L$2)=2,'CABLE LENGTH'!$AL22,0)","v":0},{"$f":"IF(COUNTIF('CABLE LENGTH'!$A22:$P22,M$1)+COUNTIF('CABLE LENGTH'!$B22:$P22,M$2)=2,'CABLE LENGTH'!$AL22,0)","v":0},{"$f":"IF(COUNTIF('CABLE LENGTH'!$A22:$P22,N$1)+COUNTIF('CABLE LENGTH'!$B22:$P22,N$2)=2,'CABLE LENGTH'!$AL22,0)","v":0},{"$f":"IF(COUNTIF('CABLE LENGTH'!$A22:$P22,O$1)+COUNTIF('CABLE LENGTH'!$B22:$P22,O$2)=2,'CABLE LENGTH'!$AL22,0)","v":0},{"$f":"IF(COUNTIF('CABLE LENGTH'!$A22:$P22,P$1)+COUNTIF('CABLE LENGTH'!$B22:$P22,P$2)=2,'CABLE LENGTH'!$AL22,0)","v":0},{"$f":"IF(COUNTIF('CABLE LENGTH'!$A22:$P22,Q$1)+COUNTIF('CABLE LENGTH'!$B22:$P22,Q$2)=2,'CABLE LENGTH'!$AL22,0)","v":0},{"$f":"IF(COUNTIF('CABLE LENGTH'!$A22:$P22,R$1)+COUNTIF('CABLE LENGTH'!$B22:$P22,R$2)=2,'CABLE LENGTH'!$AL22,0)","v":0},{"$f":"IF(COUNTIF('CABLE LENGTH'!$A22:$P22,S$1)+COUNTIF('CABLE LENGTH'!$B22:$P22,S$2)=2,'CABLE LENGTH'!$AL22,0)","v":0},{"$f":"IF(COUNTIF('CABLE LENGTH'!$A22:$P22,T$1)+COUNTIF('CABLE LENGTH'!$B22:$P22,T$2)=2,'CABLE LENGTH'!$AL22,0)","v":0},{"$f":"IF(COUNTIF('CABLE LENGTH'!$A22:$P22,U$1)+COUNTIF('CABLE LENGTH'!$B22:$P22,U$2)=2,'CABLE LENGTH'!$AL22,0)","v":0},{"$f":"IF(COUNTIF('CABLE LENGTH'!$A22:$P22,V$1)+COUNTIF('CABLE LENGTH'!$B22:$P22,V$2)=2,'CABLE LENGTH'!$AL22,0)","v":0},{"$f":"IF(COUNTIF('CABLE LENGTH'!$A22:$P22,W$1)+COUNTIF('CABLE LENGTH'!$B22:$P22,W$2)=2,'CABLE LENGTH'!$AL22,0)","v":0},{"$f":"IF(COUNTIF('CABLE LENGTH'!$A22:$P22,X$1)+COUNTIF('CABLE LENGTH'!$B22:$P22,X$2)=2,'CABLE LENGTH'!$AL22,0)","v":0},{"$f":"IF(COUNTIF('CABLE LENGTH'!$A22:$P22,Y$1)+COUNTIF('CABLE LENGTH'!$A22:$P22,Y$2)=2,'CABLE LENGTH'!$AL22,0)","v":0},{"$f":"IF(COUNTIF('CABLE LENGTH'!$A22:$P22,Z$1)+COUNTIF('CABLE LENGTH'!$A22:$P22,Z$2)=2,'CABLE LENGTH'!$AL22,0)","v":0},{"$f":"IF(COUNTIF('CABLE LENGTH'!$A22:$P22,AA$1)+COUNTIF('CABLE LENGTH'!$A22:$P22,AA$2)=2,'CABLE LENGTH'!$AL22,0)","v":0},{"$f":"IF(COUNTIF('CABLE LENGTH'!$A22:$P22,AB$1)+COUNTIF('CABLE LENGTH'!$A22:$P22,AB$2)=2,'CABLE LENGTH'!$AL22,0)","v":0},{"$f":"IF(COUNTIF('CABLE LENGTH'!$A22:$P22,AC$1)+COUNTIF('CABLE LENGTH'!$A22:$P22,AC$2)=2,'CABLE LENGTH'!$AL22,0)","v":0},{"$f":"IF(COUNTIF('CABLE LENGTH'!$A22:$P22,AD$1)+COUNTIF('CABLE LENGTH'!$A22:$P22,AD$2)=2,'CABLE LENGTH'!$AL22,0)","v":0},{"$f":"IF(COUNTIF('CABLE LENGTH'!$A22:$P22,AE$1)+COUNTIF('CABLE LENGTH'!$A22:$P22,AE$2)=2,'CABLE LENGTH'!$AL22,0)","v":0},{"$f":"IF(COUNTIF('CABLE LENGTH'!$A22:$P22,AF$1)+COUNTIF('CABLE LENGTH'!$A22:$P22,AF$2)=2,'CABLE LENGTH'!$AL22,0)","v":0},{"$f":"IF(COUNTIF('CABLE LENGTH'!$A22:$P22,AG$1)+COUNTIF('CABLE LENGTH'!$A22:$P22,AG$2)=2,'CABLE LENGTH'!$AL22,0)","v":0},{"$f":"IF(COUNTIF('CABLE LENGTH'!$A22:$P22,AH$1)+COUNTIF('CABLE LENGTH'!$A22:$P22,AH$2)=2,'CABLE LENGTH'!$AL22,0)","v":0},{"$f":"IF(COUNTIF('CABLE LENGTH'!$A22:$P22,AI$1)+COUNTIF('CABLE LENGTH'!$A22:$P22,AI$2)=2,'CABLE LENGTH'!$AL22,0)","v":0},{"$f":"IF(COUNTIF('CABLE LENGTH'!$A22:$P22,AJ$1)+COUNTIF('CABLE LENGTH'!$A22:$P22,AJ$2)=2,'CABLE LENGTH'!$AL22,0)","v":0},{"$f":"IF(COUNTIF('CABLE LENGTH'!$A22:$P22,AK$1)+COUNTIF('CABLE LENGTH'!$A22:$P22,AK$2)=2,'CABLE LENGTH'!$AL22,0)","v":0},{"$f":"IF(COUNTIF('CABLE LENGTH'!$A22:$P22,AL$1)+COUNTIF('CABLE LENGTH'!$A22:$P22,AL$2)=2,'CABLE LENGTH'!$AL22,0)","v":0},{"$f":"IF(COUNTIF('CABLE LENGTH'!$A22:$P22,AM$1)+COUNTIF('CABLE LENGTH'!$A22:$P22,AM$2)=2,'CABLE LENGTH'!$AL22,0)","v":0},{"$f":"IF(COUNTIF('CABLE LENGTH'!$A22:$P22,AN$1)+COUNTIF('CABLE LENGTH'!$A22:$P22,AN$2)=2,'CABLE LENGTH'!$AL22,0)","v":0},{"$f":"IF(COUNTIF('CABLE LENGTH'!$A22:$P22,AO$1)+COUNTIF('CABLE LENGTH'!$A22:$P22,AO$2)=2,'CABLE LENGTH'!$AL22,0)","v":0},{"$f":"IF(COUNTIF('CABLE LENGTH'!$A22:$P22,AP$1)+COUNTIF('CABLE LENGTH'!$A22:$P22,AP$2)=2,'CABLE LENGTH'!$AL22,0)","v":0},{"$f":"IF(COUNTIF('CABLE LENGTH'!$A22:$P22,AQ$1)+COUNTIF('CABLE LENGTH'!$A22:$P22,AQ$2)=2,'CABLE LENGTH'!$AL22,0)","v":0},{"$f":"IF(COUNTIF('CABLE LENGTH'!$A22:$P22,AR$1)+COUNTIF('CABLE LENGTH'!$A22:$P22,AR$2)=2,'CABLE LENGTH'!$AL22,0)","v":0},{"$f":"IF(COUNTIF('CABLE LENGTH'!$A22:$P22,AS$1)+COUNTIF('CABLE LENGTH'!$A22:$P22,AS$2)=2,'CABLE LENGTH'!$AL22,0)","v":0},{"$f":"IF(COUNTIF('CABLE LENGTH'!$A22:$P22,AT$1)+COUNTIF('CABLE LENGTH'!$A22:$P22,AT$2)=2,'CABLE LENGTH'!$AL22,0)","v":0},{"$f":"IF(COUNTIF('CABLE LENGTH'!$A22:$P22,AU$1)+COUNTIF('CABLE LENGTH'!$A22:$P22,AU$2)=2,'CABLE LENGTH'!$AL22,0)","v":0},{"$f":"IF(COUNTIF('CABLE LENGTH'!$A22:$P22,AV$1)+COUNTIF('CABLE LENGTH'!$A22:$P22,AV$2)=2,'CABLE LENGTH'!$AL22,0)","v":0},{"$f":"IF(COUNTIF('CABLE LENGTH'!$A22:$P22,AW$1)+COUNTIF('CABLE LENGTH'!$A22:$P22,AW$2)=2,'CABLE LENGTH'!$AL22,0)","v":0},{"$f":"IF(COUNTIF('CABLE LENGTH'!$A22:$P22,AX$1)+COUNTIF('CABLE LENGTH'!$A22:$P22,AX$2)=2,'CABLE LENGTH'!$AL22,0)","v":0},{"$f":"IF(COUNTIF('CABLE LENGTH'!$A22:$P22,AY$1)+COUNTIF('CABLE LENGTH'!$A22:$P22,AY$2)=2,'CABLE LENGTH'!$AL22,0)","v":0},{"$f":"IF(COUNTIF('CABLE LENGTH'!$A22:$P22,AZ$1)+COUNTIF('CABLE LENGTH'!$A22:$P22,AZ$2)=2,'CABLE LENGTH'!$AL22,0)","v":0}]
[null,{"$f":"+'CABLE LENGTH'!AK23","v":0},{"$f":"IF(COUNTIF('CABLE LENGTH'!$A23:$P23,C$1)+COUNTIF('CABLE LENGTH'!$B23:$P23,C$2)=2,'CABLE LENGTH'!$AL23,0)","v":0},{"$f":"IF(COUNTIF('CABLE LENGTH'!$A23:$P23,D$1)+COUNTIF('CABLE LENGTH'!$B23:$P23,D$2)=2,'CABLE LENGTH'!$AL23,0)","v":0},{"$f":"IF(COUNTIF('CABLE LENGTH'!$A23:$P23,E$1)+COUNTIF('CABLE LENGTH'!$B23:$P23,E$2)=2,'CABLE LENGTH'!$AL23,0)","v":0},{"$f":"IF(COUNTIF('CABLE LENGTH'!$A23:$P23,F$1)+COUNTIF('CABLE LENGTH'!$B23:$P23,F$2)=2,'CABLE LENGTH'!$AL23,0)","v":0},{"$f":"IF(COUNTIF('CABLE LENGTH'!$A23:$P23,G$1)+COUNTIF('CABLE LENGTH'!$B23:$P23,G$2)=2,'CABLE LENGTH'!$AL23,0)","v":0},{"$f":"IF(COUNTIF('CABLE LENGTH'!$A23:$P23,H$1)+COUNTIF('CABLE LENGTH'!$B23:$P23,H$2)=2,'CABLE LENGTH'!$AL23,0)","v":0},{"$f":"IF(COUNTIF('CABLE LENGTH'!$A23:$P23,I$1)+COUNTIF('CABLE LENGTH'!$B23:$P23,I$2)=2,'CABLE LENGTH'!$AL23,0)","v":0},{"$f":"IF(COUNTIF('CABLE LENGTH'!$A23:$P23,J$1)+COUNTIF('CABLE LENGTH'!$B23:$P23,J$2)=2,'CABLE LENGTH'!$AL23,0)","v":0},{"$f":"IF(COUNTIF('CABLE LENGTH'!$A23:$P23,K$1)+COUNTIF('CABLE LENGTH'!$B23:$P23,K$2)=2,'CABLE LENGTH'!$AL23,0)","v":0},{"$f":"IF(COUNTIF('CABLE LENGTH'!$A23:$P23,L$1)+COUNTIF('CABLE LENGTH'!$B23:$P23,L$2)=2,'CABLE LENGTH'!$AL23,0)","v":0},{"$f":"IF(COUNTIF('CABLE LENGTH'!$A23:$P23,M$1)+COUNTIF('CABLE LENGTH'!$B23:$P23,M$2)=2,'CABLE LENGTH'!$AL23,0)","v":0},{"$f":"IF(COUNTIF('CABLE LENGTH'!$A23:$P23,N$1)+COUNTIF('CABLE LENGTH'!$B23:$P23,N$2)=2,'CABLE LENGTH'!$AL23,0)","v":0},{"$f":"IF(COUNTIF('CABLE LENGTH'!$A23:$P23,O$1)+COUNTIF('CABLE LENGTH'!$B23:$P23,O$2)=2,'CABLE LENGTH'!$AL23,0)","v":0},{"$f":"IF(COUNTIF('CABLE LENGTH'!$A23:$P23,P$1)+COUNTIF('CABLE LENGTH'!$B23:$P23,P$2)=2,'CABLE LENGTH'!$AL23,0)","v":0},{"$f":"IF(COUNTIF('CABLE LENGTH'!$A23:$P23,Q$1)+COUNTIF('CABLE LENGTH'!$B23:$P23,Q$2)=2,'CABLE LENGTH'!$AL23,0)","v":0},{"$f":"IF(COUNTIF('CABLE LENGTH'!$A23:$P23,R$1)+COUNTIF('CABLE LENGTH'!$B23:$P23,R$2)=2,'CABLE LENGTH'!$AL23,0)","v":0},{"$f":"IF(COUNTIF('CABLE LENGTH'!$A23:$P23,S$1)+COUNTIF('CABLE LENGTH'!$B23:$P23,S$2)=2,'CABLE LENGTH'!$AL23,0)","v":0},{"$f":"IF(COUNTIF('CABLE LENGTH'!$A23:$P23,T$1)+COUNTIF('CABLE LENGTH'!$B23:$P23,T$2)=2,'CABLE LENGTH'!$AL23,0)","v":0},{"$f":"IF(COUNTIF('CABLE LENGTH'!$A23:$P23,U$1)+COUNTIF('CABLE LENGTH'!$B23:$P23,U$2)=2,'CABLE LENGTH'!$AL23,0)","v":0},{"$f":"IF(COUNTIF('CABLE LENGTH'!$A23:$P23,V$1)+COUNTIF('CABLE LENGTH'!$B23:$P23,V$2)=2,'CABLE LENGTH'!$AL23,0)","v":0},{"$f":"IF(COUNTIF('CABLE LENGTH'!$A23:$P23,W$1)+COUNTIF('CABLE LENGTH'!$B23:$P23,W$2)=2,'CABLE LENGTH'!$AL23,0)","v":0},{"$f":"IF(COUNTIF('CABLE LENGTH'!$A23:$P23,X$1)+COUNTIF('CABLE LENGTH'!$B23:$P23,X$2)=2,'CABLE LENGTH'!$AL23,0)","v":0},{"$f":"IF(COUNTIF('CABLE LENGTH'!$A23:$P23,Y$1)+COUNTIF('CABLE LENGTH'!$A23:$P23,Y$2)=2,'CABLE LENGTH'!$AL23,0)","v":0},{"$f":"IF(COUNTIF('CABLE LENGTH'!$A23:$P23,Z$1)+COUNTIF('CABLE LENGTH'!$A23:$P23,Z$2)=2,'CABLE LENGTH'!$AL23,0)","v":0},{"$f":"IF(COUNTIF('CABLE LENGTH'!$A23:$P23,AA$1)+COUNTIF('CABLE LENGTH'!$A23:$P23,AA$2)=2,'CABLE LENGTH'!$AL23,0)","v":0},{"$f":"IF(COUNTIF('CABLE LENGTH'!$A23:$P23,AB$1)+COUNTIF('CABLE LENGTH'!$A23:$P23,AB$2)=2,'CABLE LENGTH'!$AL23,0)","v":0},{"$f":"IF(COUNTIF('CABLE LENGTH'!$A23:$P23,AC$1)+COUNTIF('CABLE LENGTH'!$A23:$P23,AC$2)=2,'CABLE LENGTH'!$AL23,0)","v":0},{"$f":"IF(COUNTIF('CABLE LENGTH'!$A23:$P23,AD$1)+COUNTIF('CABLE LENGTH'!$A23:$P23,AD$2)=2,'CABLE LENGTH'!$AL23,0)","v":0},{"$f":"IF(COUNTIF('CABLE LENGTH'!$A23:$P23,AE$1)+COUNTIF('CABLE LENGTH'!$A23:$P23,AE$2)=2,'CABLE LENGTH'!$AL23,0)","v":0},{"$f":"IF(COUNTIF('CABLE LENGTH'!$A23:$P23,AF$1)+COUNTIF('CABLE LENGTH'!$A23:$P23,AF$2)=2,'CABLE LENGTH'!$AL23,0)","v":0},{"$f":"IF(COUNTIF('CABLE LENGTH'!$A23:$P23,AG$1)+COUNTIF('CABLE LENGTH'!$A23:$P23,AG$2)=2,'CABLE LENGTH'!$AL23,0)","v":0},{"$f":"IF(COUNTIF('CABLE LENGTH'!$A23:$P23,AH$1)+COUNTIF('CABLE LENGTH'!$A23:$P23,AH$2)=2,'CABLE LENGTH'!$AL23,0)","v":0},{"$f":"IF(COUNTIF('CABLE LENGTH'!$A23:$P23,AI$1)+COUNTIF('CABLE LENGTH'!$A23:$P23,AI$2)=2,'CABLE LENGTH'!$AL23,0)","v":0},{"$f":"IF(COUNTIF('CABLE LENGTH'!$A23:$P23,AJ$1)+COUNTIF('CABLE LENGTH'!$A23:$P23,AJ$2)=2,'CABLE LENGTH'!$AL23,0)","v":0},{"$f":"IF(COUNTIF('CABLE LENGTH'!$A23:$P23,AK$1)+COUNTIF('CABLE LENGTH'!$A23:$P23,AK$2)=2,'CABLE LENGTH'!$AL23,0)","v":0},{"$f":"IF(COUNTIF('CABLE LENGTH'!$A23:$P23,AL$1)+COUNTIF('CABLE LENGTH'!$A23:$P23,AL$2)=2,'CABLE LENGTH'!$AL23,0)","v":0},{"$f":"IF(COUNTIF('CABLE LENGTH'!$A23:$P23,AM$1)+COUNTIF('CABLE LENGTH'!$A23:$P23,AM$2)=2,'CABLE LENGTH'!$AL23,0)","v":0},{"$f":"IF(COUNTIF('CABLE LENGTH'!$A23:$P23,AN$1)+COUNTIF('CABLE LENGTH'!$A23:$P23,AN$2)=2,'CABLE LENGTH'!$AL23,0)","v":0},{"$f":"IF(COUNTIF('CABLE LENGTH'!$A23:$P23,AO$1)+COUNTIF('CABLE LENGTH'!$A23:$P23,AO$2)=2,'CABLE LENGTH'!$AL23,0)","v":0},{"$f":"IF(COUNTIF('CABLE LENGTH'!$A23:$P23,AP$1)+COUNTIF('CABLE LENGTH'!$A23:$P23,AP$2)=2,'CABLE LENGTH'!$AL23,0)","v":0},{"$f":"IF(COUNTIF('CABLE LENGTH'!$A23:$P23,AQ$1)+COUNTIF('CABLE LENGTH'!$A23:$P23,AQ$2)=2,'CABLE LENGTH'!$AL23,0)","v":0},{"$f":"IF(COUNTIF('CABLE LENGTH'!$A23:$P23,AR$1)+COUNTIF('CABLE LENGTH'!$A23:$P23,AR$2)=2,'CABLE LENGTH'!$AL23,0)","v":0},{"$f":"IF(COUNTIF('CABLE LENGTH'!$A23:$P23,AS$1)+COUNTIF('CABLE LENGTH'!$A23:$P23,AS$2)=2,'CABLE LENGTH'!$AL23,0)","v":0},{"$f":"IF(COUNTIF('CABLE LENGTH'!$A23:$P23,AT$1)+COUNTIF('CABLE LENGTH'!$A23:$P23,AT$2)=2,'CABLE LENGTH'!$AL23,0)","v":0},{"$f":"IF(COUNTIF('CABLE LENGTH'!$A23:$P23,AU$1)+COUNTIF('CABLE LENGTH'!$A23:$P23,AU$2)=2,'CABLE LENGTH'!$AL23,0)","v":0},{"$f":"IF(COUNTIF('CABLE LENGTH'!$A23:$P23,AV$1)+COUNTIF('CABLE LENGTH'!$A23:$P23,AV$2)=2,'CABLE LENGTH'!$AL23,0)","v":0},{"$f":"IF(COUNTIF('CABLE LENGTH'!$A23:$P23,AW$1)+COUNTIF('CABLE LENGTH'!$A23:$P23,AW$2)=2,'CABLE LENGTH'!$AL23,0)","v":0},{"$f":"IF(COUNTIF('CABLE LENGTH'!$A23:$P23,AX$1)+COUNTIF('CABLE LENGTH'!$A23:$P23,AX$2)=2,'CABLE LENGTH'!$AL23,0)","v":0},{"$f":"IF(COUNTIF('CABLE LENGTH'!$A23:$P23,AY$1)+COUNTIF('CABLE LENGTH'!$A23:$P23,AY$2)=2,'CABLE LENGTH'!$AL23,0)","v":0},{"$f":"IF(COUNTIF('CABLE LENGTH'!$A23:$P23,AZ$1)+COUNTIF('CABLE LENGTH'!$A23:$P23,AZ$2)=2,'CABLE LENGTH'!$AL23,0)","v":0}]
[null,{"$f":"+'CABLE LENGTH'!AK24","v":0},{"$f":"IF(COUNTIF('CABLE LENGTH'!$A24:$P24,C$1)+COUNTIF('CABLE LENGTH'!$B24:$P24,C$2)=2,'CABLE LENGTH'!$AL24,0)","v":0},{"$f":"IF(COUNTIF('CABLE LENGTH'!$A24:$P24,D$1)+COUNTIF('CABLE LENGTH'!$B24:$P24,D$2)=2,'CABLE LENGTH'!$AL24,0)","v":0},{"$f":"IF(COUNTIF('CABLE LENGTH'!$A24:$P24,E$1)+COUNTIF('CABLE LENGTH'!$B24:$P24,E$2)=2,'CABLE LENGTH'!$AL24,0)","v":0},{"$f":"IF(COUNTIF('CABLE LENGTH'!$A24:$P24,F$1)+COUNTIF('CABLE LENGTH'!$B24:$P24,F$2)=2,'CABLE LENGTH'!$AL24,0)","v":0},{"$f":"IF(COUNTIF('CABLE LENGTH'!$A24:$P24,G$1)+COUNTIF('CABLE LENGTH'!$B24:$P24,G$2)=2,'CABLE LENGTH'!$AL24,0)","v":0},{"$f":"IF(COUNTIF('CABLE LENGTH'!$A24:$P24,H$1)+COUNTIF('CABLE LENGTH'!$B24:$P24,H$2)=2,'CABLE LENGTH'!$AL24,0)","v":0},{"$f":"IF(COUNTIF('CABLE LENGTH'!$A24:$P24,I$1)+COUNTIF('CABLE LENGTH'!$B24:$P24,I$2)=2,'CABLE LENGTH'!$AL24,0)","v":0},{"$f":"IF(COUNTIF('CABLE LENGTH'!$A24:$P24,J$1)+COUNTIF('CABLE LENGTH'!$B24:$P24,J$2)=2,'CABLE LENGTH'!$AL24,0)","v":0},{"$f":"IF(COUNTIF('CABLE LENGTH'!$A24:$P24,K$1)+COUNTIF('CABLE LENGTH'!$B24:$P24,K$2)=2,'CABLE LENGTH'!$AL24,0)","v":0},{"$f":"IF(COUNTIF('CABLE LENGTH'!$A24:$P24,L$1)+COUNTIF('CABLE LENGTH'!$B24:$P24,L$2)=2,'CABLE LENGTH'!$AL24,0)","v":0},{"$f":"IF(COUNTIF('CABLE LENGTH'!$A24:$P24,M$1)+COUNTIF('CABLE LENGTH'!$B24:$P24,M$2)=2,'CABLE LENGTH'!$AL24,0)","v":0},{"$f":"IF(COUNTIF('CABLE LENGTH'!$A24:$P24,N$1)+COUNTIF('CABLE LENGTH'!$B24:$P24,N$2)=2,'CABLE LENGTH'!$AL24,0)","v":0},{"$f":"IF(COUNTIF('CABLE LENGTH'!$A24:$P24,O$1)+COUNTIF('CABLE LENGTH'!$B24:$P24,O$2)=2,'CABLE LENGTH'!$AL24,0)","v":0},{"$f":"IF(COUNTIF('CABLE LENGTH'!$A24:$P24,P$1)+COUNTIF('CABLE LENGTH'!$B24:$P24,P$2)=2,'CABLE LENGTH'!$AL24,0)","v":0},{"$f":"IF(COUNTIF('CABLE LENGTH'!$A24:$P24,Q$1)+COUNTIF('CABLE LENGTH'!$B24:$P24,Q$2)=2,'CABLE LENGTH'!$AL24,0)","v":0},{"$f":"IF(COUNTIF('CABLE LENGTH'!$A24:$P24,R$1)+COUNTIF('CABLE LENGTH'!$B24:$P24,R$2)=2,'CABLE LENGTH'!$AL24,0)","v":0},{"$f":"IF(COUNTIF('CABLE LENGTH'!$A24:$P24,S$1)+COUNTIF('CABLE LENGTH'!$B24:$P24,S$2)=2,'CABLE LENGTH'!$AL24,0)","v":0},{"$f":"IF(COUNTIF('CABLE LENGTH'!$A24:$P24,T$1)+COUNTIF('CABLE LENGTH'!$B24:$P24,T$2)=2,'CABLE LENGTH'!$AL24,0)","v":0},{"$f":"IF(COUNTIF('CABLE LENGTH'!$A24:$P24,U$1)+COUNTIF('CABLE LENGTH'!$B24:$P24,U$2)=2,'CABLE LENGTH'!$AL24,0)","v":0},{"$f":"IF(COUNTIF('CABLE LENGTH'!$A24:$P24,V$1)+COUNTIF('CABLE LENGTH'!$B24:$P24,V$2)=2,'CABLE LENGTH'!$AL24,0)","v":0},{"$f":"IF(COUNTIF('CABLE LENGTH'!$A24:$P24,W$1)+COUNTIF('CABLE LENGTH'!$B24:$P24,W$2)=2,'CABLE LENGTH'!$AL24,0)","v":0},{"$f":"IF(COUNTIF('CABLE LENGTH'!$A24:$P24,X$1)+COUNTIF('CABLE LENGTH'!$B24:$P24,X$2)=2,'CABLE LENGTH'!$AL24,0)","v":0},{"$f":"IF(COUNTIF('CABLE LENGTH'!$A24:$P24,Y$1)+COUNTIF('CABLE LENGTH'!$A24:$P24,Y$2)=2,'CABLE LENGTH'!$AL24,0)","v":0},{"$f":"IF(COUNTIF('CABLE LENGTH'!$A24:$P24,Z$1)+COUNTIF('CABLE LENGTH'!$A24:$P24,Z$2)=2,'CABLE LENGTH'!$AL24,0)","v":0},{"$f":"IF(COUNTIF('CABLE LENGTH'!$A24:$P24,AA$1)+COUNTIF('CABLE LENGTH'!$A24:$P24,AA$2)=2,'CABLE LENGTH'!$AL24,0)","v":0},{"$f":"IF(COUNTIF('CABLE LENGTH'!$A24:$P24,AB$1)+COUNTIF('CABLE LENGTH'!$A24:$P24,AB$2)=2,'CABLE LENGTH'!$AL24,0)","v":0},{"$f":"IF(COUNTIF('CABLE LENGTH'!$A24:$P24,AC$1)+COUNTIF('CABLE LENGTH'!$A24:$P24,AC$2)=2,'CABLE LENGTH'!$AL24,0)","v":0},{"$f":"IF(COUNTIF('CABLE LENGTH'!$A24:$P24,AD$1)+COUNTIF('CABLE LENGTH'!$A24:$P24,AD$2)=2,'CABLE LENGTH'!$AL24,0)","v":0},{"$f":"IF(COUNTIF('CABLE LENGTH'!$A24:$P24,AE$1)+COUNTIF('CABLE LENGTH'!$A24:$P24,AE$2)=2,'CABLE LENGTH'!$AL24,0)","v":0},{"$f":"IF(COUNTIF('CABLE LENGTH'!$A24:$P24,AF$1)+COUNTIF('CABLE LENGTH'!$A24:$P24,AF$2)=2,'CABLE LENGTH'!$AL24,0)","v":0},{"$f":"IF(COUNTIF('CABLE LENGTH'!$A24:$P24,AG$1)+COUNTIF('CABLE LENGTH'!$A24:$P24,AG$2)=2,'CABLE LENGTH'!$AL24,0)","v":0},{"$f":"IF(COUNTIF('CABLE LENGTH'!$A24:$P24,AH$1)+COUNTIF('CABLE LENGTH'!$A24:$P24,AH$2)=2,'CABLE LENGTH'!$AL24,0)","v":0},{"$f":"IF(COUNTIF('CABLE LENGTH'!$A24:$P24,AI$1)+COUNTIF('CABLE LENGTH'!$A24:$P24,AI$2)=2,'CABLE LENGTH'!$AL24,0)","v":0},{"$f":"IF(COUNTIF('CABLE LENGTH'!$A24:$P24,AJ$1)+COUNTIF('CABLE LENGTH'!$A24:$P24,AJ$2)=2,'CABLE LENGTH'!$AL24,0)","v":0},{"$f":"IF(COUNTIF('CABLE LENGTH'!$A24:$P24,AK$1)+COUNTIF('CABLE LENGTH'!$A24:$P24,AK$2)=2,'CABLE LENGTH'!$AL24,0)","v":0},{"$f":"IF(COUNTIF('CABLE LENGTH'!$A24:$P24,AL$1)+COUNTIF('CABLE LENGTH'!$A24:$P24,AL$2)=2,'CABLE LENGTH'!$AL24,0)","v":0},{"$f":"IF(COUNTIF('CABLE LENGTH'!$A24:$P24,AM$1)+COUNTIF('CABLE LENGTH'!$A24:$P24,AM$2)=2,'CABLE LENGTH'!$AL24,0)","v":0},{"$f":"IF(COUNTIF('CABLE LENGTH'!$A24:$P24,AN$1)+COUNTIF('CABLE LENGTH'!$A24:$P24,AN$2)=2,'CABLE LENGTH'!$AL24,0)","v":0},{"$f":"IF(COUNTIF('CABLE LENGTH'!$A24:$P24,AO$1)+COUNTIF('CABLE LENGTH'!$A24:$P24,AO$2)=2,'CABLE LENGTH'!$AL24,0)","v":0},{"$f":"IF(COUNTIF('CABLE LENGTH'!$A24:$P24,AP$1)+COUNTIF('CABLE LENGTH'!$A24:$P24,AP$2)=2,'CABLE LENGTH'!$AL24,0)","v":0},{"$f":"IF(COUNTIF('CABLE LENGTH'!$A24:$P24,AQ$1)+COUNTIF('CABLE LENGTH'!$A24:$P24,AQ$2)=2,'CABLE LENGTH'!$AL24,0)","v":0},{"$f":"IF(COUNTIF('CABLE LENGTH'!$A24:$P24,AR$1)+COUNTIF('CABLE LENGTH'!$A24:$P24,AR$2)=2,'CABLE LENGTH'!$AL24,0)","v":0},{"$f":"IF(COUNTIF('CABLE LENGTH'!$A24:$P24,AS$1)+COUNTIF('CABLE LENGTH'!$A24:$P24,AS$2)=2,'CABLE LENGTH'!$AL24,0)","v":0},{"$f":"IF(COUNTIF('CABLE LENGTH'!$A24:$P24,AT$1)+COUNTIF('CABLE LENGTH'!$A24:$P24,AT$2)=2,'CABLE LENGTH'!$AL24,0)","v":0},{"$f":"IF(COUNTIF('CABLE LENGTH'!$A24:$P24,AU$1)+COUNTIF('CABLE LENGTH'!$A24:$P24,AU$2)=2,'CABLE LENGTH'!$AL24,0)","v":0},{"$f":"IF(COUNTIF('CABLE LENGTH'!$A24:$P24,AV$1)+COUNTIF('CABLE LENGTH'!$A24:$P24,AV$2)=2,'CABLE LENGTH'!$AL24,0)","v":0},{"$f":"IF(COUNTIF('CABLE LENGTH'!$A24:$P24,AW$1)+COUNTIF('CABLE LENGTH'!$A24:$P24,AW$2)=2,'CABLE LENGTH'!$AL24,0)","v":0},{"$f":"IF(COUNTIF('CABLE LENGTH'!$A24:$P24,AX$1)+COUNTIF('CABLE LENGTH'!$A24:$P24,AX$2)=2,'CABLE LENGTH'!$AL24,0)","v":0},{"$f":"IF(COUNTIF('CABLE LENGTH'!$A24:$P24,AY$1)+COUNTIF('CABLE LENGTH'!$A24:$P24,AY$2)=2,'CABLE LENGTH'!$AL24,0)","v":0},{"$f":"IF(COUNTIF('CABLE LENGTH'!$A24:$P24,AZ$1)+COUNTIF('CABLE LENGTH'!$A24:$P24,AZ$2)=2,'CABLE LENGTH'!$AL24,0)","v":0}]
[null,{"$f":"+'CABLE LENGTH'!AK25","v":0},{"$f":"IF(COUNTIF('CABLE LENGTH'!$A25:$P25,C$1)+COUNTIF('CABLE LENGTH'!$B25:$P25,C$2)=2,'CABLE LENGTH'!$AL25,0)","v":0},{"$f":"IF(COUNTIF('CABLE LENGTH'!$A25:$P25,D$1)+COUNTIF('CABLE LENGTH'!$B25:$P25,D$2)=2,'CABLE LENGTH'!$AL25,0)","v":0},{"$f":"IF(COUNTIF('CABLE LENGTH'!$A25:$P25,E$1)+COUNTIF('CABLE LENGTH'!$B25:$P25,E$2)=2,'CABLE LENGTH'!$AL25,0)","v":0},{"$f":"IF(COUNTIF('CABLE LENGTH'!$A25:$P25,F$1)+COUNTIF('CABLE LENGTH'!$B25:$P25,F$2)=2,'CABLE LENGTH'!$AL25,0)","v":0},{"$f":"IF(COUNTIF('CABLE LENGTH'!$A25:$P25,G$1)+COUNTIF('CABLE LENGTH'!$B25:$P25,G$2)=2,'CABLE LENGTH'!$AL25,0)","v":0},{"$f":"IF(COUNTIF('CABLE LENGTH'!$A25:$P25,H$1)+COUNTIF('CABLE LENGTH'!$B25:$P25,H$2)=2,'CABLE LENGTH'!$AL25,0)","v":0},{"$f":"IF(COUNTIF('CABLE LENGTH'!$A25:$P25,I$1)+COUNTIF('CABLE LENGTH'!$B25:$P25,I$2)=2,'CABLE LENGTH'!$AL25,0)","v":0},{"$f":"IF(COUNTIF('CABLE LENGTH'!$A25:$P25,J$1)+COUNTIF('CABLE LENGTH'!$B25:$P25,J$2)=2,'CABLE LENGTH'!$AL25,0)","v":0},{"$f":"IF(COUNTIF('CABLE LENGTH'!$A25:$P25,K$1)+COUNTIF('CABLE LENGTH'!$B25:$P25,K$2)=2,'CABLE LENGTH'!$AL25,0)","v":0},{"$f":"IF(COUNTIF('CABLE LENGTH'!$A25:$P25,L$1)+COUNTIF('CABLE LENGTH'!$B25:$P25,L$2)=2,'CABLE LENGTH'!$AL25,0)","v":0},{"$f":"IF(COUNTIF('CABLE LENGTH'!$A25:$P25,M$1)+COUNTIF('CABLE LENGTH'!$B25:$P25,M$2)=2,'CABLE LENGTH'!$AL25,0)","v":0},{"$f":"IF(COUNTIF('CABLE LENGTH'!$A25:$P25,N$1)+COUNTIF('CABLE LENGTH'!$B25:$P25,N$2)=2,'CABLE LENGTH'!$AL25,0)","v":0},{"$f":"IF(COUNTIF('CABLE LENGTH'!$A25:$P25,O$1)+COUNTIF('CABLE LENGTH'!$B25:$P25,O$2)=2,'CABLE LENGTH'!$AL25,0)","v":0},{"$f":"IF(COUNTIF('CABLE LENGTH'!$A25:$P25,P$1)+COUNTIF('CABLE LENGTH'!$B25:$P25,P$2)=2,'CABLE LENGTH'!$AL25,0)","v":0},{"$f":"IF(COUNTIF('CABLE LENGTH'!$A25:$P25,Q$1)+COUNTIF('CABLE LENGTH'!$B25:$P25,Q$2)=2,'CABLE LENGTH'!$AL25,0)","v":0},{"$f":"IF(COUNTIF('CABLE LENGTH'!$A25:$P25,R$1)+COUNTIF('CABLE LENGTH'!$B25:$P25,R$2)=2,'CABLE LENGTH'!$AL25,0)","v":0},{"$f":"IF(COUNTIF('CABLE LENGTH'!$A25:$P25,S$1)+COUNTIF('CABLE LENGTH'!$B25:$P25,S$2)=2,'CABLE LENGTH'!$AL25,0)","v":0},{"$f":"IF(COUNTIF('CABLE LENGTH'!$A25:$P25,T$1)+COUNTIF('CABLE LENGTH'!$B25:$P25,T$2)=2,'CABLE LENGTH'!$AL25,0)","v":0},{"$f":"IF(COUNTIF('CABLE LENGTH'!$A25:$P25,U$1)+COUNTIF('CABLE LENGTH'!$B25:$P25,U$2)=2,'CABLE LENGTH'!$AL25,0)","v":0},{"$f":"IF(COUNTIF('CABLE LENGTH'!$A25:$P25,V$1)+COUNTIF('CABLE LENGTH'!$B25:$P25,V$2)=2,'CABLE LENGTH'!$AL25,0)","v":0},{"$f":"IF(COUNTIF('CABLE LENGTH'!$A25:$P25,W$1)+COUNTIF('CABLE LENGTH'!$B25:$P25,W$2)=2,'CABLE LENGTH'!$AL25,0)","v":0},{"$f":"IF(COUNTIF('CABLE LENGTH'!$A25:$P25,X$1)+COUNTIF('CABLE LENGTH'!$B25:$P25,X$2)=2,'CABLE LENGTH'!$AL25,0)","v":0},{"$f":"IF(COUNTIF('CABLE LENGTH'!$A25:$P25,Y$1)+COUNTIF('CABLE LENGTH'!$A25:$P25,Y$2)=2,'CABLE LENGTH'!$AL25,0)","v":0},{"$f":"IF(COUNTIF('CABLE LENGTH'!$A25:$P25,Z$1)+COUNTIF('CABLE LENGTH'!$A25:$P25,Z$2)=2,'CABLE LENGTH'!$AL25,0)","v":0},{"$f":"IF(COUNTIF('CABLE LENGTH'!$A25:$P25,AA$1)+COUNTIF('CABLE LENGTH'!$A25:$P25,AA$2)=2,'CABLE LENGTH'!$AL25,0)","v":0},{"$f":"IF(COUNTIF('CABLE LENGTH'!$A25:$P25,AB$1)+COUNTIF('CABLE LENGTH'!$A25:$P25,AB$2)=2,'CABLE LENGTH'!$AL25,0)","v":0},{"$f":"IF(COUNTIF('CABLE LENGTH'!$A25:$P25,AC$1)+COUNTIF('CABLE LENGTH'!$A25:$P25,AC$2)=2,'CABLE LENGTH'!$AL25,0)","v":0},{"$f":"IF(COUNTIF('CABLE LENGTH'!$A25:$P25,AD$1)+COUNTIF('CABLE LENGTH'!$A25:$P25,AD$2)=2,'CABLE LENGTH'!$AL25,0)","v":0},{"$f":"IF(COUNTIF('CABLE LENGTH'!$A25:$P25,AE$1)+COUNTIF('CABLE LENGTH'!$A25:$P25,AE$2)=2,'CABLE LENGTH'!$AL25,0)","v":0},{"$f":"IF(COUNTIF('CABLE LENGTH'!$A25:$P25,AF$1)+COUNTIF('CABLE LENGTH'!$A25:$P25,AF$2)=2,'CABLE LENGTH'!$AL25,0)","v":0},{"$f":"IF(COUNTIF('CABLE LENGTH'!$A25:$P25,AG$1)+COUNTIF('CABLE LENGTH'!$A25:$P25,AG$2)=2,'CABLE LENGTH'!$AL25,0)","v":0},{"$f":"IF(COUNTIF('CABLE LENGTH'!$A25:$P25,AH$1)+COUNTIF('CABLE LENGTH'!$A25:$P25,AH$2)=2,'CABLE LENGTH'!$AL25,0)","v":0},{"$f":"IF(COUNTIF('CABLE LENGTH'!$A25:$P25,AI$1)+COUNTIF('CABLE LENGTH'!$A25:$P25,AI$2)=2,'CABLE LENGTH'!$AL25,0)","v":0},{"$f":"IF(COUNTIF('CABLE LENGTH'!$A25:$P25,AJ$1)+COUNTIF('CABLE LENGTH'!$A25:$P25,AJ$2)=2,'CABLE LENGTH'!$AL25,0)","v":0},{"$f":"IF(COUNTIF('CABLE LENGTH'!$A25:$P25,AK$1)+COUNTIF('CABLE LENGTH'!$A25:$P25,AK$2)=2,'CABLE LENGTH'!$AL25,0)","v":0},{"$f":"IF(COUNTIF('CABLE LENGTH'!$A25:$P25,AL$1)+COUNTIF('CABLE LENGTH'!$A25:$P25,AL$2)=2,'CABLE LENGTH'!$AL25,0)","v":0},{"$f":"IF(COUNTIF('CABLE LENGTH'!$A25:$P25,AM$1)+COUNTIF('CABLE LENGTH'!$A25:$P25,AM$2)=2,'CABLE LENGTH'!$AL25,0)","v":0},{"$f":"IF(COUNTIF('CABLE LENGTH'!$A25:$P25,AN$1)+COUNTIF('CABLE LENGTH'!$A25:$P25,AN$2)=2,'CABLE LENGTH'!$AL25,0)","v":0},{"$f":"IF(COUNTIF('CABLE LENGTH'!$A25:$P25,AO$1)+COUNTIF('CABLE LENGTH'!$A25:$P25,AO$2)=2,'CABLE LENGTH'!$AL25,0)","v":0},{"$f":"IF(COUNTIF('CABLE LENGTH'!$A25:$P25,AP$1)+COUNTIF('CABLE LENGTH'!$A25:$P25,AP$2)=2,'CABLE LENGTH'!$AL25,0)","v":0},{"$f":"IF(COUNTIF('CABLE LENGTH'!$A25:$P25,AQ$1)+COUNTIF('CABLE LENGTH'!$A25:$P25,AQ$2)=2,'CABLE LENGTH'!$AL25,0)","v":0},{"$f":"IF(COUNTIF('CABLE LENGTH'!$A25:$P25,AR$1)+COUNTIF('CABLE LENGTH'!$A25:$P25,AR$2)=2,'CABLE LENGTH'!$AL25,0)","v":0},{"$f":"IF(COUNTIF('CABLE LENGTH'!$A25:$P25,AS$1)+COUNTIF('CABLE LENGTH'!$A25:$P25,AS$2)=2,'CABLE LENGTH'!$AL25,0)","v":0},{"$f":"IF(COUNTIF('CABLE LENGTH'!$A25:$P25,AT$1)+COUNTIF('CABLE LENGTH'!$A25:$P25,AT$2)=2,'CABLE LENGTH'!$AL25,0)","v":0},{"$f":"IF(COUNTIF('CABLE LENGTH'!$A25:$P25,AU$1)+COUNTIF('CABLE LENGTH'!$A25:$P25,AU$2)=2,'CABLE LENGTH'!$AL25,0)","v":0},{"$f":"IF(COUNTIF('CABLE LENGTH'!$A25:$P25,AV$1)+COUNTIF('CABLE LENGTH'!$A25:$P25,AV$2)=2,'CABLE LENGTH'!$AL25,0)","v":0},{"$f":"IF(COUNTIF('CABLE LENGTH'!$A25:$P25,AW$1)+COUNTIF('CABLE LENGTH'!$A25:$P25,AW$2)=2,'CABLE LENGTH'!$AL25,0)","v":0},{"$f":"IF(COUNTIF('CABLE LENGTH'!$A25:$P25,AX$1)+COUNTIF('CABLE LENGTH'!$A25:$P25,AX$2)=2,'CABLE LENGTH'!$AL25,0)","v":0},{"$f":"IF(COUNTIF('CABLE LENGTH'!$A25:$P25,AY$1)+COUNTIF('CABLE LENGTH'!$A25:$P25,AY$2)=2,'CABLE LENGTH'!$AL25,0)","v":0},{"$f":"IF(COUNTIF('CABLE LENGTH'!$A25:$P25,AZ$1)+COUNTIF('CABLE LENGTH'!$A25:$P25,AZ$2)=2,'CABLE LENGTH'!$AL25,0)","v":0}]
[null,{"$f":"+'CABLE LENGTH'!AK26","v":0},{"$f":"IF(COUNTIF('CABLE LENGTH'!$A26:$P26,C$1)+COUNTIF('CABLE LENGTH'!$B26:$P26,C$2)=2,'CABLE LENGTH'!$AL26,0)","v":0},{"$f":"IF(COUNTIF('CABLE LENGTH'!$A26:$P26,D$1)+COUNTIF('CABLE LENGTH'!$B26:$P26,D$2)=2,'CABLE LENGTH'!$AL26,0)","v":0},{"$f":"IF(COUNTIF('CABLE LENGTH'!$A26:$P26,E$1)+COUNTIF('CABLE LENGTH'!$B26:$P26,E$2)=2,'CABLE LENGTH'!$AL26,0)","v":0},{"$f":"IF(COUNTIF('CABLE LENGTH'!$A26:$P26,F$1)+COUNTIF('CABLE LENGTH'!$B26:$P26,F$2)=2,'CABLE LENGTH'!$AL26,0)","v":0},{"$f":"IF(COUNTIF('CABLE LENGTH'!$A26:$P26,G$1)+COUNTIF('CABLE LENGTH'!$B26:$P26,G$2)=2,'CABLE LENGTH'!$AL26,0)","v":0},{"$f":"IF(COUNTIF('CABLE LENGTH'!$A26:$P26,H$1)+COUNTIF('CABLE LENGTH'!$B26:$P26,H$2)=2,'CABLE LENGTH'!$AL26,0)","v":0},{"$f":"IF(COUNTIF('CABLE LENGTH'!$A26:$P26,I$1)+COUNTIF('CABLE LENGTH'!$B26:$P26,I$2)=2,'CABLE LENGTH'!$AL26,0)","v":0},{"$f":"IF(COUNTIF('CABLE LENGTH'!$A26:$P26,J$1)+COUNTIF('CABLE LENGTH'!$B26:$P26,J$2)=2,'CABLE LENGTH'!$AL26,0)","v":0},{"$f":"IF(COUNTIF('CABLE LENGTH'!$A26:$P26,K$1)+COUNTIF('CABLE LENGTH'!$B26:$P26,K$2)=2,'CABLE LENGTH'!$AL26,0)","v":0},{"$f":"IF(COUNTIF('CABLE LENGTH'!$A26:$P26,L$1)+COUNTIF('CABLE LENGTH'!$B26:$P26,L$2)=2,'CABLE LENGTH'!$AL26,0)","v":0},{"$f":"IF(COUNTIF('CABLE LENGTH'!$A26:$P26,M$1)+COUNTIF('CABLE LENGTH'!$B26:$P26,M$2)=2,'CABLE LENGTH'!$AL26,0)","v":0},{"$f":"IF(COUNTIF('CABLE LENGTH'!$A26:$P26,N$1)+COUNTIF('CABLE LENGTH'!$B26:$P26,N$2)=2,'CABLE LENGTH'!$AL26,0)","v":0},{"$f":"IF(COUNTIF('CABLE LENGTH'!$A26:$P26,O$1)+COUNTIF('CABLE LENGTH'!$B26:$P26,O$2)=2,'CABLE LENGTH'!$AL26,0)","v":0},{"$f":"IF(COUNTIF('CABLE LENGTH'!$A26:$P26,P$1)+COUNTIF('CABLE LENGTH'!$B26:$P26,P$2)=2,'CABLE LENGTH'!$AL26,0)","v":0},{"$f":"IF(COUNTIF('CABLE LENGTH'!$A26:$P26,Q$1)+COUNTIF('CABLE LENGTH'!$B26:$P26,Q$2)=2,'CABLE LENGTH'!$AL26,0)","v":0},{"$f":"IF(COUNTIF('CABLE LENGTH'!$A26:$P26,R$1)+COUNTIF('CABLE LENGTH'!$B26:$P26,R$2)=2,'CABLE LENGTH'!$AL26,0)","v":0},{"$f":"IF(COUNTIF('CABLE LENGTH'!$A26:$P26,S$1)+COUNTIF('CABLE LENGTH'!$B26:$P26,S$2)=2,'CABLE LENGTH'!$AL26,0)","v":0},{"$f":"IF(COUNTIF('CABLE LENGTH'!$A26:$P26,T$1)+COUNTIF('CABLE LENGTH'!$B26:$P26,T$2)=2,'CABLE LENGTH'!$AL26,0)","v":0},{"$f":"IF(COUNTIF('CABLE LENGTH'!$A26:$P26,U$1)+COUNTIF('CABLE LENGTH'!$B26:$P26,U$2)=2,'CABLE LENGTH'!$AL26,0)","v":0},{"$f":"IF(COUNTIF('CABLE LENGTH'!$A26:$P26,V$1)+COUNTIF('CABLE LENGTH'!$B26:$P26,V$2)=2,'CABLE LENGTH'!$AL26,0)","v":0},{"$f":"IF(COUNTIF('CABLE LENGTH'!$A26:$P26,W$1)+COUNTIF('CABLE LENGTH'!$B26:$P26,W$2)=2,'CABLE LENGTH'!$AL26,0)","v":0},{"$f":"IF(COUNTIF('CABLE LENGTH'!$A26:$P26,X$1)+COUNTIF('CABLE LENGTH'!$B26:$P26,X$2)=2,'CABLE LENGTH'!$AL26,0)","v":0},{"$f":"IF(COUNTIF('CABLE LENGTH'!$A26:$P26,Y$1)+COUNTIF('CABLE LENGTH'!$A26:$P26,Y$2)=2,'CABLE LENGTH'!$AL26,0)","v":0},{"$f":"IF(COUNTIF('CABLE LENGTH'!$A26:$P26,Z$1)+COUNTIF('CABLE LENGTH'!$A26:$P26,Z$2)=2,'CABLE LENGTH'!$AL26,0)","v":0},{"$f":"IF(COUNTIF('CABLE LENGTH'!$A26:$P26,AA$1)+COUNTIF('CABLE LENGTH'!$A26:$P26,AA$2)=2,'CABLE LENGTH'!$AL26,0)","v":0},{"$f":"IF(COUNTIF('CABLE LENGTH'!$A26:$P26,AB$1)+COUNTIF('CABLE LENGTH'!$A26:$P26,AB$2)=2,'CABLE LENGTH'!$AL26,0)","v":0},{"$f":"IF(COUNTIF('CABLE LENGTH'!$A26:$P26,AC$1)+COUNTIF('CABLE LENGTH'!$A26:$P26,AC$2)=2,'CABLE LENGTH'!$AL26,0)","v":0},{"$f":"IF(COUNTIF('CABLE LENGTH'!$A26:$P26,AD$1)+COUNTIF('CABLE LENGTH'!$A26:$P26,AD$2)=2,'CABLE LENGTH'!$AL26,0)","v":0},{"$f":"IF(COUNTIF('CABLE LENGTH'!$A26:$P26,AE$1)+COUNTIF('CABLE LENGTH'!$A26:$P26,AE$2)=2,'CABLE LENGTH'!$AL26,0)","v":0},{"$f":"IF(COUNTIF('CABLE LENGTH'!$A26:$P26,AF$1)+COUNTIF('CABLE LENGTH'!$A26:$P26,AF$2)=2,'CABLE LENGTH'!$AL26,0)","v":0},{"$f":"IF(COUNTIF('CABLE LENGTH'!$A26:$P26,AG$1)+COUNTIF('CABLE LENGTH'!$A26:$P26,AG$2)=2,'CABLE LENGTH'!$AL26,0)","v":0},{"$f":"IF(COUNTIF('CABLE LENGTH'!$A26:$P26,AH$1)+COUNTIF('CABLE LENGTH'!$A26:$P26,AH$2)=2,'CABLE LENGTH'!$AL26,0)","v":0},{"$f":"IF(COUNTIF('CABLE LENGTH'!$A26:$P26,AI$1)+COUNTIF('CABLE LENGTH'!$A26:$P26,AI$2)=2,'CABLE LENGTH'!$AL26,0)","v":0},{"$f":"IF(COUNTIF('CABLE LENGTH'!$A26:$P26,AJ$1)+COUNTIF('CABLE LENGTH'!$A26:$P26,AJ$2)=2,'CABLE LENGTH'!$AL26,0)","v":0},{"$f":"IF(COUNTIF('CABLE LENGTH'!$A26:$P26,AK$1)+COUNTIF('CABLE LENGTH'!$A26:$P26,AK$2)=2,'CABLE LENGTH'!$AL26,0)","v":0},{"$f":"IF(COUNTIF('CABLE LENGTH'!$A26:$P26,AL$1)+COUNTIF('CABLE LENGTH'!$A26:$P26,AL$2)=2,'CABLE LENGTH'!$AL26,0)","v":0},{"$f":"IF(COUNTIF('CABLE LENGTH'!$A26:$P26,AM$1)+COUNTIF('CABLE LENGTH'!$A26:$P26,AM$2)=2,'CABLE LENGTH'!$AL26,0)","v":0},{"$f":"IF(COUNTIF('CABLE LENGTH'!$A26:$P26,AN$1)+COUNTIF('CABLE LENGTH'!$A26:$P26,AN$2)=2,'CABLE LENGTH'!$AL26,0)","v":0},{"$f":"IF(COUNTIF('CABLE LENGTH'!$A26:$P26,AO$1)+COUNTIF('CABLE LENGTH'!$A26:$P26,AO$2)=2,'CABLE LENGTH'!$AL26,0)","v":0},{"$f":"IF(COUNTIF('CABLE LENGTH'!$A26:$P26,AP$1)+COUNTIF('CABLE LENGTH'!$A26:$P26,AP$2)=2,'CABLE LENGTH'!$AL26,0)","v":0},{"$f":"IF(COUNTIF('CABLE LENGTH'!$A26:$P26,AQ$1)+COUNTIF('CABLE LENGTH'!$A26:$P26,AQ$2)=2,'CABLE LENGTH'!$AL26,0)","v":0},{"$f":"IF(COUNTIF('CABLE LENGTH'!$A26:$P26,AR$1)+COUNTIF('CABLE LENGTH'!$A26:$P26,AR$2)=2,'CABLE LENGTH'!$AL26,0)","v":0},{"$f":"IF(COUNTIF('CABLE LENGTH'!$A26:$P26,AS$1)+COUNTIF('CABLE LENGTH'!$A26:$P26,AS$2)=2,'CABLE LENGTH'!$AL26,0)","v":0},{"$f":"IF(COUNTIF('CABLE LENGTH'!$A26:$P26,AT$1)+COUNTIF('CABLE LENGTH'!$A26:$P26,AT$2)=2,'CABLE LENGTH'!$AL26,0)","v":0},{"$f":"IF(COUNTIF('CABLE LENGTH'!$A26:$P26,AU$1)+COUNTIF('CABLE LENGTH'!$A26:$P26,AU$2)=2,'CABLE LENGTH'!$AL26,0)","v":0},{"$f":"IF(COUNTIF('CABLE LENGTH'!$A26:$P26,AV$1)+COUNTIF('CABLE LENGTH'!$A26:$P26,AV$2)=2,'CABLE LENGTH'!$AL26,0)","v":0},{"$f":"IF(COUNTIF('CABLE LENGTH'!$A26:$P26,AW$1)+COUNTIF('CABLE LENGTH'!$A26:$P26,AW$2)=2,'CABLE LENGTH'!$AL26,0)","v":0},{"$f":"IF(COUNTIF('CABLE LENGTH'!$A26:$P26,AX$1)+COUNTIF('CABLE LENGTH'!$A26:$P26,AX$2)=2,'CABLE LENGTH'!$AL26,0)","v":0},{"$f":"IF(COUNTIF('CABLE LENGTH'!$A26:$P26,AY$1)+COUNTIF('CABLE LENGTH'!$A26:$P26,AY$2)=2,'CABLE LENGTH'!$AL26,0)","v":0},{"$f":"IF(COUNTIF('CABLE LENGTH'!$A26:$P26,AZ$1)+COUNTIF('CABLE LENGTH'!$A26:$P26,AZ$2)=2,'CABLE LENGTH'!$AL26,0)","v":0}]
[null,{"$f":"+'CABLE LENGTH'!AK27","v":0},{"$f":"IF(COUNTIF('CABLE LENGTH'!$A27:$P27,C$1)+COUNTIF('CABLE LENGTH'!$B27:$P27,C$2)=2,'CABLE LENGTH'!$AL27,0)","v":0},{"$f":"IF(COUNTIF('CABLE LENGTH'!$A27:$P27,D$1)+COUNTIF('CABLE LENGTH'!$B27:$P27,D$2)=2,'CABLE LENGTH'!$AL27,0)","v":0},{"$f":"IF(COUNTIF('CABLE LENGTH'!$A27:$P27,E$1)+COUNTIF('CABLE LENGTH'!$B27:$P27,E$2)=2,'CABLE LENGTH'!$AL27,0)","v":0},{"$f":"IF(COUNTIF('CABLE LENGTH'!$A27:$P27,F$1)+COUNTIF('CABLE LENGTH'!$B27:$P27,F$2)=2,'CABLE LENGTH'!$AL27,0)","v":0},{"$f":"IF(COUNTIF('CABLE LENGTH'!$A27:$P27,G$1)+COUNTIF('CABLE LENGTH'!$B27:$P27,G$2)=2,'CABLE LENGTH'!$AL27,0)","v":0},{"$f":"IF(COUNTIF('CABLE LENGTH'!$A27:$P27,H$1)+COUNTIF('CABLE LENGTH'!$B27:$P27,H$2)=2,'CABLE LENGTH'!$AL27,0)","v":0},{"$f":"IF(COUNTIF('CABLE LENGTH'!$A27:$P27,I$1)+COUNTIF('CABLE LENGTH'!$B27:$P27,I$2)=2,'CABLE LENGTH'!$AL27,0)","v":0},{"$f":"IF(COUNTIF('CABLE LENGTH'!$A27:$P27,J$1)+COUNTIF('CABLE LENGTH'!$B27:$P27,J$2)=2,'CABLE LENGTH'!$AL27,0)","v":0},{"$f":"IF(COUNTIF('CABLE LENGTH'!$A27:$P27,K$1)+COUNTIF('CABLE LENGTH'!$B27:$P27,K$2)=2,'CABLE LENGTH'!$AL27,0)","v":0},{"$f":"IF(COUNTIF('CABLE LENGTH'!$A27:$P27,L$1)+COUNTIF('CABLE LENGTH'!$B27:$P27,L$2)=2,'CABLE LENGTH'!$AL27,0)","v":0},{"$f":"IF(COUNTIF('CABLE LENGTH'!$A27:$P27,M$1)+COUNTIF('CABLE LENGTH'!$B27:$P27,M$2)=2,'CABLE LENGTH'!$AL27,0)","v":0},{"$f":"IF(COUNTIF('CABLE LENGTH'!$A27:$P27,N$1)+COUNTIF('CABLE LENGTH'!$B27:$P27,N$2)=2,'CABLE LENGTH'!$AL27,0)","v":0},{"$f":"IF(COUNTIF('CABLE LENGTH'!$A27:$P27,O$1)+COUNTIF('CABLE LENGTH'!$B27:$P27,O$2)=2,'CABLE LENGTH'!$AL27,0)","v":0},{"$f":"IF(COUNTIF('CABLE LENGTH'!$A27:$P27,P$1)+COUNTIF('CABLE LENGTH'!$B27:$P27,P$2)=2,'CABLE LENGTH'!$AL27,0)","v":0},{"$f":"IF(COUNTIF('CABLE LENGTH'!$A27:$P27,Q$1)+COUNTIF('CABLE LENGTH'!$B27:$P27,Q$2)=2,'CABLE LENGTH'!$AL27,0)","v":0},{"$f":"IF(COUNTIF('CABLE LENGTH'!$A27:$P27,R$1)+COUNTIF('CABLE LENGTH'!$B27:$P27,R$2)=2,'CABLE LENGTH'!$AL27,0)","v":0},{"$f":"IF(COUNTIF('CABLE LENGTH'!$A27:$P27,S$1)+COUNTIF('CABLE LENGTH'!$B27:$P27,S$2)=2,'CABLE LENGTH'!$AL27,0)","v":0},{"$f":"IF(COUNTIF('CABLE LENGTH'!$A27:$P27,T$1)+COUNTIF('CABLE LENGTH'!$B27:$P27,T$2)=2,'CABLE LENGTH'!$AL27,0)","v":0},{"$f":"IF(COUNTIF('CABLE LENGTH'!$A27:$P27,U$1)+COUNTIF('CABLE LENGTH'!$B27:$P27,U$2)=2,'CABLE LENGTH'!$AL27,0)","v":0},{"$f":"IF(COUNTIF('CABLE LENGTH'!$A27:$P27,V$1)+COUNTIF('CABLE LENGTH'!$B27:$P27,V$2)=2,'CABLE LENGTH'!$AL27,0)","v":0},{"$f":"IF(COUNTIF('CABLE LENGTH'!$A27:$P27,W$1)+COUNTIF('CABLE LENGTH'!$B27:$P27,W$2)=2,'CABLE LENGTH'!$AL27,0)","v":0},{"$f":"IF(COUNTIF('CABLE LENGTH'!$A27:$P27,X$1)+COUNTIF('CABLE LENGTH'!$B27:$P27,X$2)=2,'CABLE LENGTH'!$AL27,0)","v":0},{"$f":"IF(COUNTIF('CABLE LENGTH'!$A27:$P27,Y$1)+COUNTIF('CABLE LENGTH'!$A27:$P27,Y$2)=2,'CABLE LENGTH'!$AL27,0)","v":0},{"$f":"IF(COUNTIF('CABLE LENGTH'!$A27:$P27,Z$1)+COUNTIF('CABLE LENGTH'!$A27:$P27,Z$2)=2,'CABLE LENGTH'!$AL27,0)","v":0},{"$f":"IF(COUNTIF('CABLE LENGTH'!$A27:$P27,AA$1)+COUNTIF('CABLE LENGTH'!$A27:$P27,AA$2)=2,'CABLE LENGTH'!$AL27,0)","v":0},{"$f":"IF(COUNTIF('CABLE LENGTH'!$A27:$P27,AB$1)+COUNTIF('CABLE LENGTH'!$A27:$P27,AB$2)=2,'CABLE LENGTH'!$AL27,0)","v":0},{"$f":"IF(COUNTIF('CABLE LENGTH'!$A27:$P27,AC$1)+COUNTIF('CABLE LENGTH'!$A27:$P27,AC$2)=2,'CABLE LENGTH'!$AL27,0)","v":0},{"$f":"IF(COUNTIF('CABLE LENGTH'!$A27:$P27,AD$1)+COUNTIF('CABLE LENGTH'!$A27:$P27,AD$2)=2,'CABLE LENGTH'!$AL27,0)","v":0},{"$f":"IF(COUNTIF('CABLE LENGTH'!$A27:$P27,AE$1)+COUNTIF('CABLE LENGTH'!$A27:$P27,AE$2)=2,'CABLE LENGTH'!$AL27,0)","v":0},{"$f":"IF(COUNTIF('CABLE LENGTH'!$A27:$P27,AF$1)+COUNTIF('CABLE LENGTH'!$A27:$P27,AF$2)=2,'CABLE LENGTH'!$AL27,0)","v":0},{"$f":"IF(COUNTIF('CABLE LENGTH'!$A27:$P27,AG$1)+COUNTIF('CABLE LENGTH'!$A27:$P27,AG$2)=2,'CABLE LENGTH'!$AL27,0)","v":0},{"$f":"IF(COUNTIF('CABLE LENGTH'!$A27:$P27,AH$1)+COUNTIF('CABLE LENGTH'!$A27:$P27,AH$2)=2,'CABLE LENGTH'!$AL27,0)","v":0},{"$f":"IF(COUNTIF('CABLE LENGTH'!$A27:$P27,AI$1)+COUNTIF('CABLE LENGTH'!$A27:$P27,AI$2)=2,'CABLE LENGTH'!$AL27,0)","v":0},{"$f":"IF(COUNTIF('CABLE LENGTH'!$A27:$P27,AJ$1)+COUNTIF('CABLE LENGTH'!$A27:$P27,AJ$2)=2,'CABLE LENGTH'!$AL27,0)","v":0},{"$f":"IF(COUNTIF('CABLE LENGTH'!$A27:$P27,AK$1)+COUNTIF('CABLE LENGTH'!$A27:$P27,AK$2)=2,'CABLE LENGTH'!$AL27,0)","v":0},{"$f":"IF(COUNTIF('CABLE LENGTH'!$A27:$P27,AL$1)+COUNTIF('CABLE LENGTH'!$A27:$P27,AL$2)=2,'CABLE LENGTH'!$AL27,0)","v":0},{"$f":"IF(COUNTIF('CABLE LENGTH'!$A27:$P27,AM$1)+COUNTIF('CABLE LENGTH'!$A27:$P27,AM$2)=2,'CABLE LENGTH'!$AL27,0)","v":0},{"$f":"IF(COUNTIF('CABLE LENGTH'!$A27:$P27,AN$1)+COUNTIF('CABLE LENGTH'!$A27:$P27,AN$2)=2,'CABLE LENGTH'!$AL27,0)","v":0},{"$f":"IF(COUNTIF('CABLE LENGTH'!$A27:$P27,AO$1)+COUNTIF('CABLE LENGTH'!$A27:$P27,AO$2)=2,'CABLE LENGTH'!$AL27,0)","v":0},{"$f":"IF(COUNTIF('CABLE LENGTH'!$A27:$P27,AP$1)+COUNTIF('CABLE LENGTH'!$A27:$P27,AP$2)=2,'CABLE LENGTH'!$AL27,0)","v":0},{"$f":"IF(COUNTIF('CABLE LENGTH'!$A27:$P27,AQ$1)+COUNTIF('CABLE LENGTH'!$A27:$P27,AQ$2)=2,'CABLE LENGTH'!$AL27,0)","v":0},{"$f":"IF(COUNTIF('CABLE LENGTH'!$A27:$P27,AR$1)+COUNTIF('CABLE LENGTH'!$A27:$P27,AR$2)=2,'CABLE LENGTH'!$AL27,0)","v":0},{"$f":"IF(COUNTIF('CABLE LENGTH'!$A27:$P27,AS$1)+COUNTIF('CABLE LENGTH'!$A27:$P27,AS$2)=2,'CABLE LENGTH'!$AL27,0)","v":0},{"$f":"IF(COUNTIF('CABLE LENGTH'!$A27:$P27,AT$1)+COUNTIF('CABLE LENGTH'!$A27:$P27,AT$2)=2,'CABLE LENGTH'!$AL27,0)","v":0},{"$f":"IF(COUNTIF('CABLE LENGTH'!$A27:$P27,AU$1)+COUNTIF('CABLE LENGTH'!$A27:$P27,AU$2)=2,'CABLE LENGTH'!$AL27,0)","v":0},{"$f":"IF(COUNTIF('CABLE LENGTH'!$A27:$P27,AV$1)+COUNTIF('CABLE LENGTH'!$A27:$P27,AV$2)=2,'CABLE LENGTH'!$AL27,0)","v":0},{"$f":"IF(COUNTIF('CABLE LENGTH'!$A27:$P27,AW$1)+COUNTIF('CABLE LENGTH'!$A27:$P27,AW$2)=2,'CABLE LENGTH'!$AL27,0)","v":0},{"$f":"IF(COUNTIF('CABLE LENGTH'!$A27:$P27,AX$1)+COUNTIF('CABLE LENGTH'!$A27:$P27,AX$2)=2,'CABLE LENGTH'!$AL27,0)","v":0},{"$f":"IF(COUNTIF('CABLE LENGTH'!$A27:$P27,AY$1)+COUNTIF('CABLE LENGTH'!$A27:$P27,AY$2)=2,'CABLE LENGTH'!$AL27,0)","v":0},{"$f":"IF(COUNTIF('CABLE LENGTH'!$A27:$P27,AZ$1)+COUNTIF('CABLE LENGTH'!$A27:$P27,AZ$2)=2,'CABLE LENGTH'!$AL27,0)","v":0}]
[null,{"$f":"+'CABLE LENGTH'!AK28","v":0},{"$f":"IF(COUNTIF('CABLE LENGTH'!$A28:$P28,C$1)+COUNTIF('CABLE LENGTH'!$B28:$P28,C$2)=2,'CABLE LENGTH'!$AL28,0)","v":0},{"$f":"IF(COUNTIF('CABLE LENGTH'!$A28:$P28,D$1)+COUNTIF('CABLE LENGTH'!$B28:$P28,D$2)=2,'CABLE LENGTH'!$AL28,0)","v":0},{"$f":"IF(COUNTIF('CABLE LENGTH'!$A28:$P28,E$1)+COUNTIF('CABLE LENGTH'!$B28:$P28,E$2)=2,'CABLE LENGTH'!$AL28,0)","v":0},{"$f":"IF(COUNTIF('CABLE LENGTH'!$A28:$P28,F$1)+COUNTIF('CABLE LENGTH'!$B28:$P28,F$2)=2,'CABLE LENGTH'!$AL28,0)","v":0},{"$f":"IF(COUNTIF('CABLE LENGTH'!$A28:$P28,G$1)+COUNTIF('CABLE LENGTH'!$B28:$P28,G$2)=2,'CABLE LENGTH'!$AL28,0)","v":0},{"$f":"IF(COUNTIF('CABLE LENGTH'!$A28:$P28,H$1)+COUNTIF('CABLE LENGTH'!$B28:$P28,H$2)=2,'CABLE LENGTH'!$AL28,0)","v":0},{"$f":"IF(COUNTIF('CABLE LENGTH'!$A28:$P28,I$1)+COUNTIF('CABLE LENGTH'!$B28:$P28,I$2)=2,'CABLE LENGTH'!$AL28,0)","v":0},{"$f":"IF(COUNTIF('CABLE LENGTH'!$A28:$P28,J$1)+COUNTIF('CABLE LENGTH'!$B28:$P28,J$2)=2,'CABLE LENGTH'!$AL28,0)","v":0},{"$f":"IF(COUNTIF('CABLE LENGTH'!$A28:$P28,K$1)+COUNTIF('CABLE LENGTH'!$B28:$P28,K$2)=2,'CABLE LENGTH'!$AL28,0)","v":0},{"$f":"IF(COUNTIF('CABLE LENGTH'!$A28:$P28,L$1)+COUNTIF('CABLE LENGTH'!$B28:$P28,L$2)=2,'CABLE LENGTH'!$AL28,0)","v":0},{"$f":"IF(COUNTIF('CABLE LENGTH'!$A28:$P28,M$1)+COUNTIF('CABLE LENGTH'!$B28:$P28,M$2)=2,'CABLE LENGTH'!$AL28,0)","v":0},{"$f":"IF(COUNTIF('CABLE LENGTH'!$A28:$P28,N$1)+COUNTIF('CABLE LENGTH'!$B28:$P28,N$2)=2,'CABLE LENGTH'!$AL28,0)","v":0},{"$f":"IF(COUNTIF('CABLE LENGTH'!$A28:$P28,O$1)+COUNTIF('CABLE LENGTH'!$B28:$P28,O$2)=2,'CABLE LENGTH'!$AL28,0)","v":0},{"$f":"IF(COUNTIF('CABLE LENGTH'!$A28:$P28,P$1)+COUNTIF('CABLE LENGTH'!$B28:$P28,P$2)=2,'CABLE LENGTH'!$AL28,0)","v":0},{"$f":"IF(COUNTIF('CABLE LENGTH'!$A28:$P28,Q$1)+COUNTIF('CABLE LENGTH'!$B28:$P28,Q$2)=2,'CABLE LENGTH'!$AL28,0)","v":0},{"$f":"IF(COUNTIF('CABLE LENGTH'!$A28:$P28,R$1)+COUNTIF('CABLE LENGTH'!$B28:$P28,R$2)=2,'CABLE LENGTH'!$AL28,0)","v":0},{"$f":"IF(COUNTIF('CABLE LENGTH'!$A28:$P28,S$1)+COUNTIF('CABLE LENGTH'!$B28:$P28,S$2)=2,'CABLE LENGTH'!$AL28,0)","v":0},{"$f":"IF(COUNTIF('CABLE LENGTH'!$A28:$P28,T$1)+COUNTIF('CABLE LENGTH'!$B28:$P28,T$2)=2,'CABLE LENGTH'!$AL28,0)","v":0},{"$f":"IF(COUNTIF('CABLE LENGTH'!$A28:$P28,U$1)+COUNTIF('CABLE LENGTH'!$B28:$P28,U$2)=2,'CABLE LENGTH'!$AL28,0)","v":0},{"$f":"IF(COUNTIF('CABLE LENGTH'!$A28:$P28,V$1)+COUNTIF('CABLE LENGTH'!$B28:$P28,V$2)=2,'CABLE LENGTH'!$AL28,0)","v":0},{"$f":"IF(COUNTIF('CABLE LENGTH'!$A28:$P28,W$1)+COUNTIF('CABLE LENGTH'!$B28:$P28,W$2)=2,'CABLE LENGTH'!$AL28,0)","v":0},{"$f":"IF(COUNTIF('CABLE LENGTH'!$A28:$P28,X$1)+COUNTIF('CABLE LENGTH'!$B28:$P28,X$2)=2,'CABLE LENGTH'!$AL28,0)","v":0},{"$f":"IF(COUNTIF('CABLE LENGTH'!$A28:$P28,Y$1)+COUNTIF('CABLE LENGTH'!$A28:$P28,Y$2)=2,'CABLE LENGTH'!$AL28,0)","v":0},{"$f":"IF(COUNTIF('CABLE LENGTH'!$A28:$P28,Z$1)+COUNTIF('CABLE LENGTH'!$A28:$P28,Z$2)=2,'CABLE LENGTH'!$AL28,0)","v":0},{"$f":"IF(COUNTIF('CABLE LENGTH'!$A28:$P28,AA$1)+COUNTIF('CABLE LENGTH'!$A28:$P28,AA$2)=2,'CABLE LENGTH'!$AL28,0)","v":0},{"$f":"IF(COUNTIF('CABLE LENGTH'!$A28:$P28,AB$1)+COUNTIF('CABLE LENGTH'!$A28:$P28,AB$2)=2,'CABLE LENGTH'!$AL28,0)","v":0},{"$f":"IF(COUNTIF('CABLE LENGTH'!$A28:$P28,AC$1)+COUNTIF('CABLE LENGTH'!$A28:$P28,AC$2)=2,'CABLE LENGTH'!$AL28,0)","v":0},{"$f":"IF(COUNTIF('CABLE LENGTH'!$A28:$P28,AD$1)+COUNTIF('CABLE LENGTH'!$A28:$P28,AD$2)=2,'CABLE LENGTH'!$AL28,0)","v":0},{"$f":"IF(COUNTIF('CABLE LENGTH'!$A28:$P28,AE$1)+COUNTIF('CABLE LENGTH'!$A28:$P28,AE$2)=2,'CABLE LENGTH'!$AL28,0)","v":0},{"$f":"IF(COUNTIF('CABLE LENGTH'!$A28:$P28,AF$1)+COUNTIF('CABLE LENGTH'!$A28:$P28,AF$2)=2,'CABLE LENGTH'!$AL28,0)","v":0},{"$f":"IF(COUNTIF('CABLE LENGTH'!$A28:$P28,AG$1)+COUNTIF('CABLE LENGTH'!$A28:$P28,AG$2)=2,'CABLE LENGTH'!$AL28,0)","v":0},{"$f":"IF(COUNTIF('CABLE LENGTH'!$A28:$P28,AH$1)+COUNTIF('CABLE LENGTH'!$A28:$P28,AH$2)=2,'CABLE LENGTH'!$AL28,0)","v":0},{"$f":"IF(COUNTIF('CABLE LENGTH'!$A28:$P28,AI$1)+COUNTIF('CABLE LENGTH'!$A28:$P28,AI$2)=2,'CABLE LENGTH'!$AL28,0)","v":0},{"$f":"IF(COUNTIF('CABLE LENGTH'!$A28:$P28,AJ$1)+COUNTIF('CABLE LENGTH'!$A28:$P28,AJ$2)=2,'CABLE LENGTH'!$AL28,0)","v":0},{"$f":"IF(COUNTIF('CABLE LENGTH'!$A28:$P28,AK$1)+COUNTIF('CABLE LENGTH'!$A28:$P28,AK$2)=2,'CABLE LENGTH'!$AL28,0)","v":0},{"$f":"IF(COUNTIF('CABLE LENGTH'!$A28:$P28,AL$1)+COUNTIF('CABLE LENGTH'!$A28:$P28,AL$2)=2,'CABLE LENGTH'!$AL28,0)","v":0},{"$f":"IF(COUNTIF('CABLE LENGTH'!$A28:$P28,AM$1)+COUNTIF('CABLE LENGTH'!$A28:$P28,AM$2)=2,'CABLE LENGTH'!$AL28,0)","v":0},{"$f":"IF(COUNTIF('CABLE LENGTH'!$A28:$P28,AN$1)+COUNTIF('CABLE LENGTH'!$A28:$P28,AN$2)=2,'CABLE LENGTH'!$AL28,0)","v":0},{"$f":"IF(COUNTIF('CABLE LENGTH'!$A28:$P28,AO$1)+COUNTIF('CABLE LENGTH'!$A28:$P28,AO$2)=2,'CABLE LENGTH'!$AL28,0)","v":0},{"$f":"IF(COUNTIF('CABLE LENGTH'!$A28:$P28,AP$1)+COUNTIF('CABLE LENGTH'!$A28:$P28,AP$2)=2,'CABLE LENGTH'!$AL28,0)","v":0},{"$f":"IF(COUNTIF('CABLE LENGTH'!$A28:$P28,AQ$1)+COUNTIF('CABLE LENGTH'!$A28:$P28,AQ$2)=2,'CABLE LENGTH'!$AL28,0)","v":0},{"$f":"IF(COUNTIF('CABLE LENGTH'!$A28:$P28,AR$1)+COUNTIF('CABLE LENGTH'!$A28:$P28,AR$2)=2,'CABLE LENGTH'!$AL28,0)","v":0},{"$f":"IF(COUNTIF('CABLE LENGTH'!$A28:$P28,AS$1)+COUNTIF('CABLE LENGTH'!$A28:$P28,AS$2)=2,'CABLE LENGTH'!$AL28,0)","v":0},{"$f":"IF(COUNTIF('CABLE LENGTH'!$A28:$P28,AT$1)+COUNTIF('CABLE LENGTH'!$A28:$P28,AT$2)=2,'CABLE LENGTH'!$AL28,0)","v":0},{"$f":"IF(COUNTIF('CABLE LENGTH'!$A28:$P28,AU$1)+COUNTIF('CABLE LENGTH'!$A28:$P28,AU$2)=2,'CABLE LENGTH'!$AL28,0)","v":0},{"$f":"IF(COUNTIF('CABLE LENGTH'!$A28:$P28,AV$1)+COUNTIF('CABLE LENGTH'!$A28:$P28,AV$2)=2,'CABLE LENGTH'!$AL28,0)","v":0},{"$f":"IF(COUNTIF('CABLE LENGTH'!$A28:$P28,AW$1)+COUNTIF('CABLE LENGTH'!$A28:$P28,AW$2)=2,'CABLE LENGTH'!$AL28,0)","v":0},{"$f":"IF(COUNTIF('CABLE LENGTH'!$A28:$P28,AX$1)+COUNTIF('CABLE LENGTH'!$A28:$P28,AX$2)=2,'CABLE LENGTH'!$AL28,0)","v":0},{"$f":"IF(COUNTIF('CABLE LENGTH'!$A28:$P28,AY$1)+COUNTIF('CABLE LENGTH'!$A28:$P28,AY$2)=2,'CABLE LENGTH'!$AL28,0)","v":0},{"$f":"IF(COUNTIF('CABLE LENGTH'!$A28:$P28,AZ$1)+COUNTIF('CABLE LENGTH'!$A28:$P28,AZ$2)=2,'CABLE LENGTH'!$AL28,0)","v":0}]
[null,{"$f":"+'CABLE LENGTH'!AK29","v":0},{"$f":"IF(COUNTIF('CABLE LENGTH'!$A29:$P29,C$1)+COUNTIF('CABLE LENGTH'!$B29:$P29,C$2)=2,'CABLE LENGTH'!$AL29,0)","v":0},{"$f":"IF(COUNTIF('CABLE LENGTH'!$A29:$P29,D$1)+COUNTIF('CABLE LENGTH'!$B29:$P29,D$2)=2,'CABLE LENGTH'!$AL29,0)","v":0},{"$f":"IF(COUNTIF('CABLE LENGTH'!$A29:$P29,E$1)+COUNTIF('CABLE LENGTH'!$B29:$P29,E$2)=2,'CABLE LENGTH'!$AL29,0)","v":0},{"$f":"IF(COUNTIF('CABLE LENGTH'!$A29:$P29,F$1)+COUNTIF('CABLE LENGTH'!$B29:$P29,F$2)=2,'CABLE LENGTH'!$AL29,0)","v":0},{"$f":"IF(COUNTIF('CABLE LENGTH'!$A29:$P29,G$1)+COUNTIF('CABLE LENGTH'!$B29:$P29,G$2)=2,'CABLE LENGTH'!$AL29,0)","v":0},{"$f":"IF(COUNTIF('CABLE LENGTH'!$A29:$P29,H$1)+COUNTIF('CABLE LENGTH'!$B29:$P29,H$2)=2,'CABLE LENGTH'!$AL29,0)","v":0},{"$f":"IF(COUNTIF('CABLE LENGTH'!$A29:$P29,I$1)+COUNTIF('CABLE LENGTH'!$B29:$P29,I$2)=2,'CABLE LENGTH'!$AL29,0)","v":0},{"$f":"IF(COUNTIF('CABLE LENGTH'!$A29:$P29,J$1)+COUNTIF('CABLE LENGTH'!$B29:$P29,J$2)=2,'CABLE LENGTH'!$AL29,0)","v":0},{"$f":"IF(COUNTIF('CABLE LENGTH'!$A29:$P29,K$1)+COUNTIF('CABLE LENGTH'!$B29:$P29,K$2)=2,'CABLE LENGTH'!$AL29,0)","v":0},{"$f":"IF(COUNTIF('CABLE LENGTH'!$A29:$P29,L$1)+COUNTIF('CABLE LENGTH'!$B29:$P29,L$2)=2,'CABLE LENGTH'!$AL29,0)","v":0},{"$f":"IF(COUNTIF('CABLE LENGTH'!$A29:$P29,M$1)+COUNTIF('CABLE LENGTH'!$B29:$P29,M$2)=2,'CABLE LENGTH'!$AL29,0)","v":0},{"$f":"IF(COUNTIF('CABLE LENGTH'!$A29:$P29,N$1)+COUNTIF('CABLE LENGTH'!$B29:$P29,N$2)=2,'CABLE LENGTH'!$AL29,0)","v":0},{"$f":"IF(COUNTIF('CABLE LENGTH'!$A29:$P29,O$1)+COUNTIF('CABLE LENGTH'!$B29:$P29,O$2)=2,'CABLE LENGTH'!$AL29,0)","v":0},{"$f":"IF(COUNTIF('CABLE LENGTH'!$A29:$P29,P$1)+COUNTIF('CABLE LENGTH'!$B29:$P29,P$2)=2,'CABLE LENGTH'!$AL29,0)","v":0},{"$f":"IF(COUNTIF('CABLE LENGTH'!$A29:$P29,Q$1)+COUNTIF('CABLE LENGTH'!$B29:$P29,Q$2)=2,'CABLE LENGTH'!$AL29,0)","v":0},{"$f":"IF(COUNTIF('CABLE LENGTH'!$A29:$P29,R$1)+COUNTIF('CABLE LENGTH'!$B29:$P29,R$2)=2,'CABLE LENGTH'!$AL29,0)","v":0},{"$f":"IF(COUNTIF('CABLE LENGTH'!$A29:$P29,S$1)+COUNTIF('CABLE LENGTH'!$B29:$P29,S$2)=2,'CABLE LENGTH'!$AL29,0)","v":0},{"$f":"IF(COUNTIF('CABLE LENGTH'!$A29:$P29,T$1)+COUNTIF('CABLE LENGTH'!$B29:$P29,T$2)=2,'CABLE LENGTH'!$AL29,0)","v":0},{"$f":"IF(COUNTIF('CABLE LENGTH'!$A29:$P29,U$1)+COUNTIF('CABLE LENGTH'!$B29:$P29,U$2)=2,'CABLE LENGTH'!$AL29,0)","v":0},{"$f":"IF(COUNTIF('CABLE LENGTH'!$A29:$P29,V$1)+COUNTIF('CABLE LENGTH'!$B29:$P29,V$2)=2,'CABLE LENGTH'!$AL29,0)","v":0},{"$f":"IF(COUNTIF('CABLE LENGTH'!$A29:$P29,W$1)+COUNTIF('CABLE LENGTH'!$B29:$P29,W$2)=2,'CABLE LENGTH'!$AL29,0)","v":0},{"$f":"IF(COUNTIF('CABLE LENGTH'!$A29:$P29,X$1)+COUNTIF('CABLE LENGTH'!$B29:$P29,X$2)=2,'CABLE LENGTH'!$AL29,0)","v":0},{"$f":"IF(COUNTIF('CABLE LENGTH'!$A29:$P29,Y$1)+COUNTIF('CABLE LENGTH'!$A29:$P29,Y$2)=2,'CABLE LENGTH'!$AL29,0)","v":0},{"$f":"IF(COUNTIF('CABLE LENGTH'!$A29:$P29,Z$1)+COUNTIF('CABLE LENGTH'!$A29:$P29,Z$2)=2,'CABLE LENGTH'!$AL29,0)","v":0},{"$f":"IF(COUNTIF('CABLE LENGTH'!$A29:$P29,AA$1)+COUNTIF('CABLE LENGTH'!$A29:$P29,AA$2)=2,'CABLE LENGTH'!$AL29,0)","v":0},{"$f":"IF(COUNTIF('CABLE LENGTH'!$A29:$P29,AB$1)+COUNTIF('CABLE LENGTH'!$A29:$P29,AB$2)=2,'CABLE LENGTH'!$AL29,0)","v":0},{"$f":"IF(COUNTIF('CABLE LENGTH'!$A29:$P29,AC$1)+COUNTIF('CABLE LENGTH'!$A29:$P29,AC$2)=2,'CABLE LENGTH'!$AL29,0)","v":0},{"$f":"IF(COUNTIF('CABLE LENGTH'!$A29:$P29,AD$1)+COUNTIF('CABLE LENGTH'!$A29:$P29,AD$2)=2,'CABLE LENGTH'!$AL29,0)","v":0},{"$f":"IF(COUNTIF('CABLE LENGTH'!$A29:$P29,AE$1)+COUNTIF('CABLE LENGTH'!$A29:$P29,AE$2)=2,'CABLE LENGTH'!$AL29,0)","v":0},{"$f":"IF(COUNTIF('CABLE LENGTH'!$A29:$P29,AF$1)+COUNTIF('CABLE LENGTH'!$A29:$P29,AF$2)=2,'CABLE LENGTH'!$AL29,0)","v":0},{"$f":"IF(COUNTIF('CABLE LENGTH'!$A29:$P29,AG$1)+COUNTIF('CABLE LENGTH'!$A29:$P29,AG$2)=2,'CABLE LENGTH'!$AL29,0)","v":0},{"$f":"IF(COUNTIF('CABLE LENGTH'!$A29:$P29,AH$1)+COUNTIF('CABLE LENGTH'!$A29:$P29,AH$2)=2,'CABLE LENGTH'!$AL29,0)","v":0},{"$f":"IF(COUNTIF('CABLE LENGTH'!$A29:$P29,AI$1)+COUNTIF('CABLE LENGTH'!$A29:$P29,AI$2)=2,'CABLE LENGTH'!$AL29,0)","v":0},{"$f":"IF(COUNTIF('CABLE LENGTH'!$A29:$P29,AJ$1)+COUNTIF('CABLE LENGTH'!$A29:$P29,AJ$2)=2,'CABLE LENGTH'!$AL29,0)","v":0},{"$f":"IF(COUNTIF('CABLE LENGTH'!$A29:$P29,AK$1)+COUNTIF('CABLE LENGTH'!$A29:$P29,AK$2)=2,'CABLE LENGTH'!$AL29,0)","v":0},{"$f":"IF(COUNTIF('CABLE LENGTH'!$A29:$P29,AL$1)+COUNTIF('CABLE LENGTH'!$A29:$P29,AL$2)=2,'CABLE LENGTH'!$AL29,0)","v":0},{"$f":"IF(COUNTIF('CABLE LENGTH'!$A29:$P29,AM$1)+COUNTIF('CABLE LENGTH'!$A29:$P29,AM$2)=2,'CABLE LENGTH'!$AL29,0)","v":0},{"$f":"IF(COUNTIF('CABLE LENGTH'!$A29:$P29,AN$1)+COUNTIF('CABLE LENGTH'!$A29:$P29,AN$2)=2,'CABLE LENGTH'!$AL29,0)","v":0},{"$f":"IF(COUNTIF('CABLE LENGTH'!$A29:$P29,AO$1)+COUNTIF('CABLE LENGTH'!$A29:$P29,AO$2)=2,'CABLE LENGTH'!$AL29,0)","v":0},{"$f":"IF(COUNTIF('CABLE LENGTH'!$A29:$P29,AP$1)+COUNTIF('CABLE LENGTH'!$A29:$P29,AP$2)=2,'CABLE LENGTH'!$AL29,0)","v":0},{"$f":"IF(COUNTIF('CABLE LENGTH'!$A29:$P29,AQ$1)+COUNTIF('CABLE LENGTH'!$A29:$P29,AQ$2)=2,'CABLE LENGTH'!$AL29,0)","v":0},{"$f":"IF(COUNTIF('CABLE LENGTH'!$A29:$P29,AR$1)+COUNTIF('CABLE LENGTH'!$A29:$P29,AR$2)=2,'CABLE LENGTH'!$AL29,0)","v":0},{"$f":"IF(COUNTIF('CABLE LENGTH'!$A29:$P29,AS$1)+COUNTIF('CABLE LENGTH'!$A29:$P29,AS$2)=2,'CABLE LENGTH'!$AL29,0)","v":0},{"$f":"IF(COUNTIF('CABLE LENGTH'!$A29:$P29,AT$1)+COUNTIF('CABLE LENGTH'!$A29:$P29,AT$2)=2,'CABLE LENGTH'!$AL29,0)","v":0},{"$f":"IF(COUNTIF('CABLE LENGTH'!$A29:$P29,AU$1)+COUNTIF('CABLE LENGTH'!$A29:$P29,AU$2)=2,'CABLE LENGTH'!$AL29,0)","v":0},{"$f":"IF(COUNTIF('CABLE LENGTH'!$A29:$P29,AV$1)+COUNTIF('CABLE LENGTH'!$A29:$P29,AV$2)=2,'CABLE LENGTH'!$AL29,0)","v":0},{"$f":"IF(COUNTIF('CABLE LENGTH'!$A29:$P29,AW$1)+COUNTIF('CABLE LENGTH'!$A29:$P29,AW$2)=2,'CABLE LENGTH'!$AL29,0)","v":0},{"$f":"IF(COUNTIF('CABLE LENGTH'!$A29:$P29,AX$1)+COUNTIF('CABLE LENGTH'!$A29:$P29,AX$2)=2,'CABLE LENGTH'!$AL29,0)","v":0},{"$f":"IF(COUNTIF('CABLE LENGTH'!$A29:$P29,AY$1)+COUNTIF('CABLE LENGTH'!$A29:$P29,AY$2)=2,'CABLE LENGTH'!$AL29,0)","v":0},{"$f":"IF(COUNTIF('CABLE LENGTH'!$A29:$P29,AZ$1)+COUNTIF('CABLE LENGTH'!$A29:$P29,AZ$2)=2,'CABLE LENGTH'!$AL29,0)","v":0}]
[null,{"$f":"+'CABLE LENGTH'!AK30","v":0},{"$f":"IF(COUNTIF('CABLE LENGTH'!$A30:$P30,C$1)+COUNTIF('CABLE LENGTH'!$B30:$P30,C$2)=2,'CABLE LENGTH'!$AL30,0)","v":0},{"$f":"IF(COUNTIF('CABLE LENGTH'!$A30:$P30,D$1)+COUNTIF('CABLE LENGTH'!$B30:$P30,D$2)=2,'CABLE LENGTH'!$AL30,0)","v":0},{"$f":"IF(COUNTIF('CABLE LENGTH'!$A30:$P30,E$1)+COUNTIF('CABLE LENGTH'!$B30:$P30,E$2)=2,'CABLE LENGTH'!$AL30,0)","v":0},{"$f":"IF(COUNTIF('CABLE LENGTH'!$A30:$P30,F$1)+COUNTIF('CABLE LENGTH'!$B30:$P30,F$2)=2,'CABLE LENGTH'!$AL30,0)","v":0},{"$f":"IF(COUNTIF('CABLE LENGTH'!$A30:$P30,G$1)+COUNTIF('CABLE LENGTH'!$B30:$P30,G$2)=2,'CABLE LENGTH'!$AL30,0)","v":0},{"$f":"IF(COUNTIF('CABLE LENGTH'!$A30:$P30,H$1)+COUNTIF('CABLE LENGTH'!$B30:$P30,H$2)=2,'CABLE LENGTH'!$AL30,0)","v":0},{"$f":"IF(COUNTIF('CABLE LENGTH'!$A30:$P30,I$1)+COUNTIF('CABLE LENGTH'!$B30:$P30,I$2)=2,'CABLE LENGTH'!$AL30,0)","v":0},{"$f":"IF(COUNTIF('CABLE LENGTH'!$A30:$P30,J$1)+COUNTIF('CABLE LENGTH'!$B30:$P30,J$2)=2,'CABLE LENGTH'!$AL30,0)","v":0},{"$f":"IF(COUNTIF('CABLE LENGTH'!$A30:$P30,K$1)+COUNTIF('CABLE LENGTH'!$B30:$P30,K$2)=2,'CABLE LENGTH'!$AL30,0)","v":0},{"$f":"IF(COUNTIF('CABLE LENGTH'!$A30:$P30,L$1)+COUNTIF('CABLE LENGTH'!$B30:$P30,L$2)=2,'CABLE LENGTH'!$AL30,0)","v":0},{"$f":"IF(COUNTIF('CABLE LENGTH'!$A30:$P30,M$1)+COUNTIF('CABLE LENGTH'!$B30:$P30,M$2)=2,'CABLE LENGTH'!$AL30,0)","v":0},{"$f":"IF(COUNTIF('CABLE LENGTH'!$A30:$P30,N$1)+COUNTIF('CABLE LENGTH'!$B30:$P30,N$2)=2,'CABLE LENGTH'!$AL30,0)","v":0},{"$f":"IF(COUNTIF('CABLE LENGTH'!$A30:$P30,O$1)+COUNTIF('CABLE LENGTH'!$B30:$P30,O$2)=2,'CABLE LENGTH'!$AL30,0)","v":0},{"$f":"IF(COUNTIF('CABLE LENGTH'!$A30:$P30,P$1)+COUNTIF('CABLE LENGTH'!$B30:$P30,P$2)=2,'CABLE LENGTH'!$AL30,0)","v":0},{"$f":"IF(COUNTIF('CABLE LENGTH'!$A30:$P30,Q$1)+COUNTIF('CABLE LENGTH'!$B30:$P30,Q$2)=2,'CABLE LENGTH'!$AL30,0)","v":0},{"$f":"IF(COUNTIF('CABLE LENGTH'!$A30:$P30,R$1)+COUNTIF('CABLE LENGTH'!$B30:$P30,R$2)=2,'CABLE LENGTH'!$AL30,0)","v":0},{"$f":"IF(COUNTIF('CABLE LENGTH'!$A30:$P30,S$1)+COUNTIF('CABLE LENGTH'!$B30:$P30,S$2)=2,'CABLE LENGTH'!$AL30,0)","v":0},{"$f":"IF(COUNTIF('CABLE LENGTH'!$A30:$P30,T$1)+COUNTIF('CABLE LENGTH'!$B30:$P30,T$2)=2,'CABLE LENGTH'!$AL30,0)","v":0},{"$f":"IF(COUNTIF('CABLE LENGTH'!$A30:$P30,U$1)+COUNTIF('CABLE LENGTH'!$B30:$P30,U$2)=2,'CABLE LENGTH'!$AL30,0)","v":0},{"$f":"IF(COUNTIF('CABLE LENGTH'!$A30:$P30,V$1)+COUNTIF('CABLE LENGTH'!$B30:$P30,V$2)=2,'CABLE LENGTH'!$AL30,0)","v":0},{"$f":"IF(COUNTIF('CABLE LENGTH'!$A30:$P30,W$1)+COUNTIF('CABLE LENGTH'!$B30:$P30,W$2)=2,'CABLE LENGTH'!$AL30,0)","v":0},{"$f":"IF(COUNTIF('CABLE LENGTH'!$A30:$P30,X$1)+COUNTIF('CABLE LENGTH'!$B30:$P30,X$2)=2,'CABLE LENGTH'!$AL30,0)","v":0},{"$f":"IF(COUNTIF('CABLE LENGTH'!$A30:$P30,Y$1)+COUNTIF('CABLE LENGTH'!$A30:$P30,Y$2)=2,'CABLE LENGTH'!$AL30,0)","v":0},{"$f":"IF(COUNTIF('CABLE LENGTH'!$A30:$P30,Z$1)+COUNTIF('CABLE LENGTH'!$A30:$P30,Z$2)=2,'CABLE LENGTH'!$AL30,0)","v":0},{"$f":"IF(COUNTIF('CABLE LENGTH'!$A30:$P30,AA$1)+COUNTIF('CABLE LENGTH'!$A30:$P30,AA$2)=2,'CABLE LENGTH'!$AL30,0)","v":0},{"$f":"IF(COUNTIF('CABLE LENGTH'!$A30:$P30,AB$1)+COUNTIF('CABLE LENGTH'!$A30:$P30,AB$2)=2,'CABLE LENGTH'!$AL30,0)","v":0},{"$f":"IF(COUNTIF('CABLE LENGTH'!$A30:$P30,AC$1)+COUNTIF('CABLE LENGTH'!$A30:$P30,AC$2)=2,'CABLE LENGTH'!$AL30,0)","v":0},{"$f":"IF(COUNTIF('CABLE LENGTH'!$A30:$P30,AD$1)+COUNTIF('CABLE LENGTH'!$A30:$P30,AD$2)=2,'CABLE LENGTH'!$AL30,0)","v":0},{"$f":"IF(COUNTIF('CABLE LENGTH'!$A30:$P30,AE$1)+COUNTIF('CABLE LENGTH'!$A30:$P30,AE$2)=2,'CABLE LENGTH'!$AL30,0)","v":0},{"$f":"IF(COUNTIF('CABLE LENGTH'!$A30:$P30,AF$1)+COUNTIF('CABLE LENGTH'!$A30:$P30,AF$2)=2,'CABLE LENGTH'!$AL30,0)","v":0},{"$f":"IF(COUNTIF('CABLE LENGTH'!$A30:$P30,AG$1)+COUNTIF('CABLE LENGTH'!$A30:$P30,AG$2)=2,'CABLE LENGTH'!$AL30,0)","v":0},{"$f":"IF(COUNTIF('CABLE LENGTH'!$A30:$P30,AH$1)+COUNTIF('CABLE LENGTH'!$A30:$P30,AH$2)=2,'CABLE LENGTH'!$AL30,0)","v":0},{"$f":"IF(COUNTIF('CABLE LENGTH'!$A30:$P30,AI$1)+COUNTIF('CABLE LENGTH'!$A30:$P30,AI$2)=2,'CABLE LENGTH'!$AL30,0)","v":0},{"$f":"IF(COUNTIF('CABLE LENGTH'!$A30:$P30,AJ$1)+COUNTIF('CABLE LENGTH'!$A30:$P30,AJ$2)=2,'CABLE LENGTH'!$AL30,0)","v":0},{"$f":"IF(COUNTIF('CABLE LENGTH'!$A30:$P30,AK$1)+COUNTIF('CABLE LENGTH'!$A30:$P30,AK$2)=2,'CABLE LENGTH'!$AL30,0)","v":0},{"$f":"IF(COUNTIF('CABLE LENGTH'!$A30:$P30,AL$1)+COUNTIF('CABLE LENGTH'!$A30:$P30,AL$2)=2,'CABLE LENGTH'!$AL30,0)","v":0},{"$f":"IF(COUNTIF('CABLE LENGTH'!$A30:$P30,AM$1)+COUNTIF('CABLE LENGTH'!$A30:$P30,AM$2)=2,'CABLE LENGTH'!$AL30,0)","v":0},{"$f":"IF(COUNTIF('CABLE LENGTH'!$A30:$P30,AN$1)+COUNTIF('CABLE LENGTH'!$A30:$P30,AN$2)=2,'CABLE LENGTH'!$AL30,0)","v":0},{"$f":"IF(COUNTIF('CABLE LENGTH'!$A30:$P30,AO$1)+COUNTIF('CABLE LENGTH'!$A30:$P30,AO$2)=2,'CABLE LENGTH'!$AL30,0)","v":0},{"$f":"IF(COUNTIF('CABLE LENGTH'!$A30:$P30,AP$1)+COUNTIF('CABLE LENGTH'!$A30:$P30,AP$2)=2,'CABLE LENGTH'!$AL30,0)","v":0},{"$f":"IF(COUNTIF('CABLE LENGTH'!$A30:$P30,AQ$1)+COUNTIF('CABLE LENGTH'!$A30:$P30,AQ$2)=2,'CABLE LENGTH'!$AL30,0)","v":0},{"$f":"IF(COUNTIF('CABLE LENGTH'!$A30:$P30,AR$1)+COUNTIF('CABLE LENGTH'!$A30:$P30,AR$2)=2,'CABLE LENGTH'!$AL30,0)","v":0},{"$f":"IF(COUNTIF('CABLE LENGTH'!$A30:$P30,AS$1)+COUNTIF('CABLE LENGTH'!$A30:$P30,AS$2)=2,'CABLE LENGTH'!$AL30,0)","v":0},{"$f":"IF(COUNTIF('CABLE LENGTH'!$A30:$P30,AT$1)+COUNTIF('CABLE LENGTH'!$A30:$P30,AT$2)=2,'CABLE LENGTH'!$AL30,0)","v":0},{"$f":"IF(COUNTIF('CABLE LENGTH'!$A30:$P30,AU$1)+COUNTIF('CABLE LENGTH'!$A30:$P30,AU$2)=2,'CABLE LENGTH'!$AL30,0)","v":0},{"$f":"IF(COUNTIF('CABLE LENGTH'!$A30:$P30,AV$1)+COUNTIF('CABLE LENGTH'!$A30:$P30,AV$2)=2,'CABLE LENGTH'!$AL30,0)","v":0},{"$f":"IF(COUNTIF('CABLE LENGTH'!$A30:$P30,AW$1)+COUNTIF('CABLE LENGTH'!$A30:$P30,AW$2)=2,'CABLE LENGTH'!$AL30,0)","v":0},{"$f":"IF(COUNTIF('CABLE LENGTH'!$A30:$P30,AX$1)+COUNTIF('CABLE LENGTH'!$A30:$P30,AX$2)=2,'CABLE LENGTH'!$AL30,0)","v":0},{"$f":"IF(COUNTIF('CABLE LENGTH'!$A30:$P30,AY$1)+COUNTIF('CABLE LENGTH'!$A30:$P30,AY$2)=2,'CABLE LENGTH'!$AL30,0)","v":0},{"$f":"IF(COUNTIF('CABLE LENGTH'!$A30:$P30,AZ$1)+COUNTIF('CABLE LENGTH'!$A30:$P30,AZ$2)=2,'CABLE LENGTH'!$AL30,0)","v":0}]
[null,{"$f":"+'CABLE LENGTH'!AK31","v":0},{"$f":"IF(COUNTIF('CABLE LENGTH'!$A31:$P31,C$1)+COUNTIF('CABLE LENGTH'!$B31:$P31,C$2)=2,'CABLE LENGTH'!$AL31,0)","v":0},{"$f":"IF(COUNTIF('CABLE LENGTH'!$A31:$P31,D$1)+COUNTIF('CABLE LENGTH'!$B31:$P31,D$2)=2,'CABLE LENGTH'!$AL31,0)","v":0},{"$f":"IF(COUNTIF('CABLE LENGTH'!$A31:$P31,E$1)+COUNTIF('CABLE LENGTH'!$B31:$P31,E$2)=2,'CABLE LENGTH'!$AL31,0)","v":0},{"$f":"IF(COUNTIF('CABLE LENGTH'!$A31:$P31,F$1)+COUNTIF('CABLE LENGTH'!$B31:$P31,F$2)=2,'CABLE LENGTH'!$AL31,0)","v":0},{"$f":"IF(COUNTIF('CABLE LENGTH'!$A31:$P31,G$1)+COUNTIF('CABLE LENGTH'!$B31:$P31,G$2)=2,'CABLE LENGTH'!$AL31,0)","v":0},{"$f":"IF(COUNTIF('CABLE LENGTH'!$A31:$P31,H$1)+COUNTIF('CABLE LENGTH'!$B31:$P31,H$2)=2,'CABLE LENGTH'!$AL31,0)","v":0},{"$f":"IF(COUNTIF('CABLE LENGTH'!$A31:$P31,I$1)+COUNTIF('CABLE LENGTH'!$B31:$P31,I$2)=2,'CABLE LENGTH'!$AL31,0)","v":0},{"$f":"IF(COUNTIF('CABLE LENGTH'!$A31:$P31,J$1)+COUNTIF('CABLE LENGTH'!$B31:$P31,J$2)=2,'CABLE LENGTH'!$AL31,0)","v":0},{"$f":"IF(COUNTIF('CABLE LENGTH'!$A31:$P31,K$1)+COUNTIF('CABLE LENGTH'!$B31:$P31,K$2)=2,'CABLE LENGTH'!$AL31,0)","v":0},{"$f":"IF(COUNTIF('CABLE LENGTH'!$A31:$P31,L$1)+COUNTIF('CABLE LENGTH'!$B31:$P31,L$2)=2,'CABLE LENGTH'!$AL31,0)","v":0},{"$f":"IF(COUNTIF('CABLE LENGTH'!$A31:$P31,M$1)+COUNTIF('CABLE LENGTH'!$B31:$P31,M$2)=2,'CABLE LENGTH'!$AL31,0)","v":0},{"$f":"IF(COUNTIF('CABLE LENGTH'!$A31:$P31,N$1)+COUNTIF('CABLE LENGTH'!$B31:$P31,N$2)=2,'CABLE LENGTH'!$AL31,0)","v":0},{"$f":"IF(COUNTIF('CABLE LENGTH'!$A31:$P31,O$1)+COUNTIF('CABLE LENGTH'!$B31:$P31,O$2)=2,'CABLE LENGTH'!$AL31,0)","v":0},{"$f":"IF(COUNTIF('CABLE LENGTH'!$A31:$P31,P$1)+COUNTIF('CABLE LENGTH'!$B31:$P31,P$2)=2,'CABLE LENGTH'!$AL31,0)","v":0},{"$f":"IF(COUNTIF('CABLE LENGTH'!$A31:$P31,Q$1)+COUNTIF('CABLE LENGTH'!$B31:$P31,Q$2)=2,'CABLE LENGTH'!$AL31,0)","v":0},{"$f":"IF(COUNTIF('CABLE LENGTH'!$A31:$P31,R$1)+COUNTIF('CABLE LENGTH'!$B31:$P31,R$2)=2,'CABLE LENGTH'!$AL31,0)","v":0},{"$f":"IF(COUNTIF('CABLE LENGTH'!$A31:$P31,S$1)+COUNTIF('CABLE LENGTH'!$B31:$P31,S$2)=2,'CABLE LENGTH'!$AL31,0)","v":0},{"$f":"IF(COUNTIF('CABLE LENGTH'!$A31:$P31,T$1)+COUNTIF('CABLE LENGTH'!$B31:$P31,T$2)=2,'CABLE LENGTH'!$AL31,0)","v":0},{"$f":"IF(COUNTIF('CABLE LENGTH'!$A31:$P31,U$1)+COUNTIF('CABLE LENGTH'!$B31:$P31,U$2)=2,'CABLE LENGTH'!$AL31,0)","v":0},{"$f":"IF(COUNTIF('CABLE LENGTH'!$A31:$P31,V$1)+COUNTIF('CABLE LENGTH'!$B31:$P31,V$2)=2,'CABLE LENGTH'!$AL31,0)","v":0},{"$f":"IF(COUNTIF('CABLE LENGTH'!$A31:$P31,W$1)+COUNTIF('CABLE LENGTH'!$B31:$P31,W$2)=2,'CABLE LENGTH'!$AL31,0)","v":0},{"$f":"IF(COUNTIF('CABLE LENGTH'!$A31:$P31,X$1)+COUNTIF('CABLE LENGTH'!$B31:$P31,X$2)=2,'CABLE LENGTH'!$AL31,0)","v":0},{"$f":"IF(COUNTIF('CABLE LENGTH'!$A31:$P31,Y$1)+COUNTIF('CABLE LENGTH'!$A31:$P31,Y$2)=2,'CABLE LENGTH'!$AL31,0)","v":0},{"$f":"IF(COUNTIF('CABLE LENGTH'!$A31:$P31,Z$1)+COUNTIF('CABLE LENGTH'!$A31:$P31,Z$2)=2,'CABLE LENGTH'!$AL31,0)","v":0},{"$f":"IF(COUNTIF('CABLE LENGTH'!$A31:$P31,AA$1)+COUNTIF('CABLE LENGTH'!$A31:$P31,AA$2)=2,'CABLE LENGTH'!$AL31,0)","v":0},{"$f":"IF(COUNTIF('CABLE LENGTH'!$A31:$P31,AB$1)+COUNTIF('CABLE LENGTH'!$A31:$P31,AB$2)=2,'CABLE LENGTH'!$AL31,0)","v":0},{"$f":"IF(COUNTIF('CABLE LENGTH'!$A31:$P31,AC$1)+COUNTIF('CABLE LENGTH'!$A31:$P31,AC$2)=2,'CABLE LENGTH'!$AL31,0)","v":0},{"$f":"IF(COUNTIF('CABLE LENGTH'!$A31:$P31,AD$1)+COUNTIF('CABLE LENGTH'!$A31:$P31,AD$2)=2,'CABLE LENGTH'!$AL31,0)","v":0},{"$f":"IF(COUNTIF('CABLE LENGTH'!$A31:$P31,AE$1)+COUNTIF('CABLE LENGTH'!$A31:$P31,AE$2)=2,'CABLE LENGTH'!$AL31,0)","v":0},{"$f":"IF(COUNTIF('CABLE LENGTH'!$A31:$P31,AF$1)+COUNTIF('CABLE LENGTH'!$A31:$P31,AF$2)=2,'CABLE LENGTH'!$AL31,0)","v":0},{"$f":"IF(COUNTIF('CABLE LENGTH'!$A31:$P31,AG$1)+COUNTIF('CABLE LENGTH'!$A31:$P31,AG$2)=2,'CABLE LENGTH'!$AL31,0)","v":0},{"$f":"IF(COUNTIF('CABLE LENGTH'!$A31:$P31,AH$1)+COUNTIF('CABLE LENGTH'!$A31:$P31,AH$2)=2,'CABLE LENGTH'!$AL31,0)","v":0},{"$f":"IF(COUNTIF('CABLE LENGTH'!$A31:$P31,AI$1)+COUNTIF('CABLE LENGTH'!$A31:$P31,AI$2)=2,'CABLE LENGTH'!$AL31,0)","v":0},{"$f":"IF(COUNTIF('CABLE LENGTH'!$A31:$P31,AJ$1)+COUNTIF('CABLE LENGTH'!$A31:$P31,AJ$2)=2,'CABLE LENGTH'!$AL31,0)","v":0},{"$f":"IF(COUNTIF('CABLE LENGTH'!$A31:$P31,AK$1)+COUNTIF('CABLE LENGTH'!$A31:$P31,AK$2)=2,'CABLE LENGTH'!$AL31,0)","v":0},{"$f":"IF(COUNTIF('CABLE LENGTH'!$A31:$P31,AL$1)+COUNTIF('CABLE LENGTH'!$A31:$P31,AL$2)=2,'CABLE LENGTH'!$AL31,0)","v":0},{"$f":"IF(COUNTIF('CABLE LENGTH'!$A31:$P31,AM$1)+COUNTIF('CABLE LENGTH'!$A31:$P31,AM$2)=2,'CABLE LENGTH'!$AL31,0)","v":0},{"$f":"IF(COUNTIF('CABLE LENGTH'!$A31:$P31,AN$1)+COUNTIF('CABLE LENGTH'!$A31:$P31,AN$2)=2,'CABLE LENGTH'!$AL31,0)","v":0},{"$f":"IF(COUNTIF('CABLE LENGTH'!$A31:$P31,AO$1)+COUNTIF('CABLE LENGTH'!$A31:$P31,AO$2)=2,'CABLE LENGTH'!$AL31,0)","v":0},{"$f":"IF(COUNTIF('CABLE LENGTH'!$A31:$P31,AP$1)+COUNTIF('CABLE LENGTH'!$A31:$P31,AP$2)=2,'CABLE LENGTH'!$AL31,0)","v":0},{"$f":"IF(COUNTIF('CABLE LENGTH'!$A31:$P31,AQ$1)+COUNTIF('CABLE LENGTH'!$A31:$P31,AQ$2)=2,'CABLE LENGTH'!$AL31,0)","v":0},{"$f":"IF(COUNTIF('CABLE LENGTH'!$A31:$P31,AR$1)+COUNTIF('CABLE LENGTH'!$A31:$P31,AR$2)=2,'CABLE LENGTH'!$AL31,0)","v":0},{"$f":"IF(COUNTIF('CABLE LENGTH'!$A31:$P31,AS$1)+COUNTIF('CABLE LENGTH'!$A31:$P31,AS$2)=2,'CABLE LENGTH'!$AL31,0)","v":0},{"$f":"IF(COUNTIF('CABLE LENGTH'!$A31:$P31,AT$1)+COUNTIF('CABLE LENGTH'!$A31:$P31,AT$2)=2,'CABLE LENGTH'!$AL31,0)","v":0},{"$f":"IF(COUNTIF('CABLE LENGTH'!$A31:$P31,AU$1)+COUNTIF('CABLE LENGTH'!$A31:$P31,AU$2)=2,'CABLE LENGTH'!$AL31,0)","v":0},{"$f":"IF(COUNTIF('CABLE LENGTH'!$A31:$P31,AV$1)+COUNTIF('CABLE LENGTH'!$A31:$P31,AV$2)=2,'CABLE LENGTH'!$AL31,0)","v":0},{"$f":"IF(COUNTIF('CABLE LENGTH'!$A31:$P31,AW$1)+COUNTIF('CABLE LENGTH'!$A31:$P31,AW$2)=2,'CABLE LENGTH'!$AL31,0)","v":0},{"$f":"IF(COUNTIF('CABLE LENGTH'!$A31:$P31,AX$1)+COUNTIF('CABLE LENGTH'!$A31:$P31,AX$2)=2,'CABLE LENGTH'!$AL31,0)","v":0},{"$f":"IF(COUNTIF('CABLE LENGTH'!$A31:$P31,AY$1)+COUNTIF('CABLE LENGTH'!$A31:$P31,AY$2)=2,'CABLE LENGTH'!$AL31,0)","v":0},{"$f":"IF(COUNTIF('CABLE LENGTH'!$A31:$P31,AZ$1)+COUNTIF('CABLE LENGTH'!$A31:$P31,AZ$2)=2,'CABLE LENGTH'!$AL31,0)","v":0}]
[null,{"$f":"+'CABLE LENGTH'!AK32","v":0},{"$f":"IF(COUNTIF('CABLE LENGTH'!$A32:$P32,C$1)+COUNTIF('CABLE LENGTH'!$B32:$P32,C$2)=2,'CABLE LENGTH'!$AL32,0)","v":0},{"$f":"IF(COUNTIF('CABLE LENGTH'!$A32:$P32,D$1)+COUNTIF('CABLE LENGTH'!$B32:$P32,D$2)=2,'CABLE LENGTH'!$AL32,0)","v":0},{"$f":"IF(COUNTIF('CABLE LENGTH'!$A32:$P32,E$1)+COUNTIF('CABLE LENGTH'!$B32:$P32,E$2)=2,'CABLE LENGTH'!$AL32,0)","v":0},{"$f":"IF(COUNTIF('CABLE LENGTH'!$A32:$P32,F$1)+COUNTIF('CABLE LENGTH'!$B32:$P32,F$2)=2,'CABLE LENGTH'!$AL32,0)","v":0},{"$f":"IF(COUNTIF('CABLE LENGTH'!$A32:$P32,G$1)+COUNTIF('CABLE LENGTH'!$B32:$P32,G$2)=2,'CABLE LENGTH'!$AL32,0)","v":0},{"$f":"IF(COUNTIF('CABLE LENGTH'!$A32:$P32,H$1)+COUNTIF('CABLE LENGTH'!$B32:$P32,H$2)=2,'CABLE LENGTH'!$AL32,0)","v":0},{"$f":"IF(COUNTIF('CABLE LENGTH'!$A32:$P32,I$1)+COUNTIF('CABLE LENGTH'!$B32:$P32,I$2)=2,'CABLE LENGTH'!$AL32,0)","v":0},{"$f":"IF(COUNTIF('CABLE LENGTH'!$A32:$P32,J$1)+COUNTIF('CABLE LENGTH'!$B32:$P32,J$2)=2,'CABLE LENGTH'!$AL32,0)","v":0},{"$f":"IF(COUNTIF('CABLE LENGTH'!$A32:$P32,K$1)+COUNTIF('CABLE LENGTH'!$B32:$P32,K$2)=2,'CABLE LENGTH'!$AL32,0)","v":0},{"$f":"IF(COUNTIF('CABLE LENGTH'!$A32:$P32,L$1)+COUNTIF('CABLE LENGTH'!$B32:$P32,L$2)=2,'CABLE LENGTH'!$AL32,0)","v":0},{"$f":"IF(COUNTIF('CABLE LENGTH'!$A32:$P32,M$1)+COUNTIF('CABLE LENGTH'!$B32:$P32,M$2)=2,'CABLE LENGTH'!$AL32,0)","v":0},{"$f":"IF(COUNTIF('CABLE LENGTH'!$A32:$P32,N$1)+COUNTIF('CABLE LENGTH'!$B32:$P32,N$2)=2,'CABLE LENGTH'!$AL32,0)","v":0},{"$f":"IF(COUNTIF('CABLE LENGTH'!$A32:$P32,O$1)+COUNTIF('CABLE LENGTH'!$B32:$P32,O$2)=2,'CABLE LENGTH'!$AL32,0)","v":0},{"$f":"IF(COUNTIF('CABLE LENGTH'!$A32:$P32,P$1)+COUNTIF('CABLE LENGTH'!$B32:$P32,P$2)=2,'CABLE LENGTH'!$AL32,0)","v":0},{"$f":"IF(COUNTIF('CABLE LENGTH'!$A32:$P32,Q$1)+COUNTIF('CABLE LENGTH'!$B32:$P32,Q$2)=2,'CABLE LENGTH'!$AL32,0)","v":0},{"$f":"IF(COUNTIF('CABLE LENGTH'!$A32:$P32,R$1)+COUNTIF('CABLE LENGTH'!$B32:$P32,R$2)=2,'CABLE LENGTH'!$AL32,0)","v":0},{"$f":"IF(COUNTIF('CABLE LENGTH'!$A32:$P32,S$1)+COUNTIF('CABLE LENGTH'!$B32:$P32,S$2)=2,'CABLE LENGTH'!$AL32,0)","v":0},{"$f":"IF(COUNTIF('CABLE LENGTH'!$A32:$P32,T$1)+COUNTIF('CABLE LENGTH'!$B32:$P32,T$2)=2,'CABLE LENGTH'!$AL32,0)","v":0},{"$f":"IF(COUNTIF('CABLE LENGTH'!$A32:$P32,U$1)+COUNTIF('CABLE LENGTH'!$B32:$P32,U$2)=2,'CABLE LENGTH'!$AL32,0)","v":0},{"$f":"IF(COUNTIF('CABLE LENGTH'!$A32:$P32,V$1)+COUNTIF('CABLE LENGTH'!$B32:$P32,V$2)=2,'CABLE LENGTH'!$AL32,0)","v":0},{"$f":"IF(COUNTIF('CABLE LENGTH'!$A32:$P32,W$1)+COUNTIF('CABLE LENGTH'!$B32:$P32,W$2)=2,'CABLE LENGTH'!$AL32,0)","v":0},{"$f":"IF(COUNTIF('CABLE LENGTH'!$A32:$P32,X$1)+COUNTIF('CABLE LENGTH'!$B32:$P32,X$2)=2,'CABLE LENGTH'!$AL32,0)","v":0},{"$f":"IF(COUNTIF('CABLE LENGTH'!$A32:$P32,Y$1)+COUNTIF('CABLE LENGTH'!$A32:$P32,Y$2)=2,'CABLE LENGTH'!$AL32,0)","v":0},{"$f":"IF(COUNTIF('CABLE LENGTH'!$A32:$P32,Z$1)+COUNTIF('CABLE LENGTH'!$A32:$P32,Z$2)=2,'CABLE LENGTH'!$AL32,0)","v":0},{"$f":"IF(COUNTIF('CABLE LENGTH'!$A32:$P32,AA$1)+COUNTIF('CABLE LENGTH'!$A32:$P32,AA$2)=2,'CABLE LENGTH'!$AL32,0)","v":0},{"$f":"IF(COUNTIF('CABLE LENGTH'!$A32:$P32,AB$1)+COUNTIF('CABLE LENGTH'!$A32:$P32,AB$2)=2,'CABLE LENGTH'!$AL32,0)","v":0},{"$f":"IF(COUNTIF('CABLE LENGTH'!$A32:$P32,AC$1)+COUNTIF('CABLE LENGTH'!$A32:$P32,AC$2)=2,'CABLE LENGTH'!$AL32,0)","v":0},{"$f":"IF(COUNTIF('CABLE LENGTH'!$A32:$P32,AD$1)+COUNTIF('CABLE LENGTH'!$A32:$P32,AD$2)=2,'CABLE LENGTH'!$AL32,0)","v":0},{"$f":"IF(COUNTIF('CABLE LENGTH'!$A32:$P32,AE$1)+COUNTIF('CABLE LENGTH'!$A32:$P32,AE$2)=2,'CABLE LENGTH'!$AL32,0)","v":0},{"$f":"IF(COUNTIF('CABLE LENGTH'!$A32:$P32,AF$1)+COUNTIF('CABLE LENGTH'!$A32:$P32,AF$2)=2,'CABLE LENGTH'!$AL32,0)","v":0},{"$f":"IF(COUNTIF('CABLE LENGTH'!$A32:$P32,AG$1)+COUNTIF('CABLE LENGTH'!$A32:$P32,AG$2)=2,'CABLE LENGTH'!$AL32,0)","v":0},{"$f":"IF(COUNTIF('CABLE LENGTH'!$A32:$P32,AH$1)+COUNTIF('CABLE LENGTH'!$A32:$P32,AH$2)=2,'CABLE LENGTH'!$AL32,0)","v":0},{"$f":"IF(COUNTIF('CABLE LENGTH'!$A32:$P32,AI$1)+COUNTIF('CABLE LENGTH'!$A32:$P32,AI$2)=2,'CABLE LENGTH'!$AL32,0)","v":0},{"$f":"IF(COUNTIF('CABLE LENGTH'!$A32:$P32,AJ$1)+COUNTIF('CABLE LENGTH'!$A32:$P32,AJ$2)=2,'CABLE LENGTH'!$AL32,0)","v":0},{"$f":"IF(COUNTIF('CABLE LENGTH'!$A32:$P32,AK$1)+COUNTIF('CABLE LENGTH'!$A32:$P32,AK$2)=2,'CABLE LENGTH'!$AL32,0)","v":0},{"$f":"IF(COUNTIF('CABLE LENGTH'!$A32:$P32,AL$1)+COUNTIF('CABLE LENGTH'!$A32:$P32,AL$2)=2,'CABLE LENGTH'!$AL32,0)","v":0},{"$f":"IF(COUNTIF('CABLE LENGTH'!$A32:$P32,AM$1)+COUNTIF('CABLE LENGTH'!$A32:$P32,AM$2)=2,'CABLE LENGTH'!$AL32,0)","v":0},{"$f":"IF(COUNTIF('CABLE LENGTH'!$A32:$P32,AN$1)+COUNTIF('CABLE LENGTH'!$A32:$P32,AN$2)=2,'CABLE LENGTH'!$AL32,0)","v":0},{"$f":"IF(COUNTIF('CABLE LENGTH'!$A32:$P32,AO$1)+COUNTIF('CABLE LENGTH'!$A32:$P32,AO$2)=2,'CABLE LENGTH'!$AL32,0)","v":0},{"$f":"IF(COUNTIF('CABLE LENGTH'!$A32:$P32,AP$1)+COUNTIF('CABLE LENGTH'!$A32:$P32,AP$2)=2,'CABLE LENGTH'!$AL32,0)","v":0},{"$f":"IF(COUNTIF('CABLE LENGTH'!$A32:$P32,AQ$1)+COUNTIF('CABLE LENGTH'!$A32:$P32,AQ$2)=2,'CABLE LENGTH'!$AL32,0)","v":0},{"$f":"IF(COUNTIF('CABLE LENGTH'!$A32:$P32,AR$1)+COUNTIF('CABLE LENGTH'!$A32:$P32,AR$2)=2,'CABLE LENGTH'!$AL32,0)","v":0},{"$f":"IF(COUNTIF('CABLE LENGTH'!$A32:$P32,AS$1)+COUNTIF('CABLE LENGTH'!$A32:$P32,AS$2)=2,'CABLE LENGTH'!$AL32,0)","v":0},{"$f":"IF(COUNTIF('CABLE LENGTH'!$A32:$P32,AT$1)+COUNTIF('CABLE LENGTH'!$A32:$P32,AT$2)=2,'CABLE LENGTH'!$AL32,0)","v":0},{"$f":"IF(COUNTIF('CABLE LENGTH'!$A32:$P32,AU$1)+COUNTIF('CABLE LENGTH'!$A32:$P32,AU$2)=2,'CABLE LENGTH'!$AL32,0)","v":0},{"$f":"IF(COUNTIF('CABLE LENGTH'!$A32:$P32,AV$1)+COUNTIF('CABLE LENGTH'!$A32:$P32,AV$2)=2,'CABLE LENGTH'!$AL32,0)","v":0},{"$f":"IF(COUNTIF('CABLE LENGTH'!$A32:$P32,AW$1)+COUNTIF('CABLE LENGTH'!$A32:$P32,AW$2)=2,'CABLE LENGTH'!$AL32,0)","v":0},{"$f":"IF(COUNTIF('CABLE LENGTH'!$A32:$P32,AX$1)+COUNTIF('CABLE LENGTH'!$A32:$P32,AX$2)=2,'CABLE LENGTH'!$AL32,0)","v":0},{"$f":"IF(COUNTIF('CABLE LENGTH'!$A32:$P32,AY$1)+COUNTIF('CABLE LENGTH'!$A32:$P32,AY$2)=2,'CABLE LENGTH'!$AL32,0)","v":0},{"$f":"IF(COUNTIF('CABLE LENGTH'!$A32:$P32,AZ$1)+COUNTIF('CABLE LENGTH'!$A32:$P32,AZ$2)=2,'CABLE LENGTH'!$AL32,0)","v":0}]
[null,{"$f":"+'CABLE LENGTH'!AK33","v":0},{"$f":"IF(COUNTIF('CABLE LENGTH'!$A33:$P33,C$1)+COUNTIF('CABLE LENGTH'!$B33:$P33,C$2)=2,'CABLE LENGTH'!$AL33,0)","v":0},{"$f":"IF(COUNTIF('CABLE LENGTH'!$A33:$P33,D$1)+COUNTIF('CABLE LENGTH'!$B33:$P33,D$2)=2,'CABLE LENGTH'!$AL33,0)","v":0},{"$f":"IF(COUNTIF('CABLE LENGTH'!$A33:$P33,E$1)+COUNTIF('CABLE LENGTH'!$B33:$P33,E$2)=2,'CABLE LENGTH'!$AL33,0)","v":0},{"$f":"IF(COUNTIF('CABLE LENGTH'!$A33:$P33,F$1)+COUNTIF('CABLE LENGTH'!$B33:$P33,F$2)=2,'CABLE LENGTH'!$AL33,0)","v":0},{"$f":"IF(COUNTIF('CABLE LENGTH'!$A33:$P33,G$1)+COUNTIF('CABLE LENGTH'!$B33:$P33,G$2)=2,'CABLE LENGTH'!$AL33,0)","v":0},{"$f":"IF(COUNTIF('CABLE LENGTH'!$A33:$P33,H$1)+COUNTIF('CABLE LENGTH'!$B33:$P33,H$2)=2,'CABLE LENGTH'!$AL33,0)","v":0},{"$f":"IF(COUNTIF('CABLE LENGTH'!$A33:$P33,I$1)+COUNTIF('CABLE LENGTH'!$B33:$P33,I$2)=2,'CABLE LENGTH'!$AL33,0)","v":0},{"$f":"IF(COUNTIF('CABLE LENGTH'!$A33:$P33,J$1)+COUNTIF('CABLE LENGTH'!$B33:$P33,J$2)=2,'CABLE LENGTH'!$AL33,0)","v":0},{"$f":"IF(COUNTIF('CABLE LENGTH'!$A33:$P33,K$1)+COUNTIF('CABLE LENGTH'!$B33:$P33,K$2)=2,'CABLE LENGTH'!$AL33,0)","v":0},{"$f":"IF(COUNTIF('CABLE LENGTH'!$A33:$P33,L$1)+COUNTIF('CABLE LENGTH'!$B33:$P33,L$2)=2,'CABLE LENGTH'!$AL33,0)","v":0},{"$f":"IF(COUNTIF('CABLE LENGTH'!$A33:$P33,M$1)+COUNTIF('CABLE LENGTH'!$B33:$P33,M$2)=2,'CABLE LENGTH'!$AL33,0)","v":0},{"$f":"IF(COUNTIF('CABLE LENGTH'!$A33:$P33,N$1)+COUNTIF('CABLE LENGTH'!$B33:$P33,N$2)=2,'CABLE LENGTH'!$AL33,0)","v":0},{"$f":"IF(COUNTIF('CABLE LENGTH'!$A33:$P33,O$1)+COUNTIF('CABLE LENGTH'!$B33:$P33,O$2)=2,'CABLE LENGTH'!$AL33,0)","v":0},{"$f":"IF(COUNTIF('CABLE LENGTH'!$A33:$P33,P$1)+COUNTIF('CABLE LENGTH'!$B33:$P33,P$2)=2,'CABLE LENGTH'!$AL33,0)","v":0},{"$f":"IF(COUNTIF('CABLE LENGTH'!$A33:$P33,Q$1)+COUNTIF('CABLE LENGTH'!$B33:$P33,Q$2)=2,'CABLE LENGTH'!$AL33,0)","v":0},{"$f":"IF(COUNTIF('CABLE LENGTH'!$A33:$P33,R$1)+COUNTIF('CABLE LENGTH'!$B33:$P33,R$2)=2,'CABLE LENGTH'!$AL33,0)","v":0},{"$f":"IF(COUNTIF('CABLE LENGTH'!$A33:$P33,S$1)+COUNTIF('CABLE LENGTH'!$B33:$P33,S$2)=2,'CABLE LENGTH'!$AL33,0)","v":0},{"$f":"IF(COUNTIF('CABLE LENGTH'!$A33:$P33,T$1)+COUNTIF('CABLE LENGTH'!$B33:$P33,T$2)=2,'CABLE LENGTH'!$AL33,0)","v":0},{"$f":"IF(COUNTIF('CABLE LENGTH'!$A33:$P33,U$1)+COUNTIF('CABLE LENGTH'!$B33:$P33,U$2)=2,'CABLE LENGTH'!$AL33,0)","v":0},{"$f":"IF(COUNTIF('CABLE LENGTH'!$A33:$P33,V$1)+COUNTIF('CABLE LENGTH'!$B33:$P33,V$2)=2,'CABLE LENGTH'!$AL33,0)","v":0},{"$f":"IF(COUNTIF('CABLE LENGTH'!$A33:$P33,W$1)+COUNTIF('CABLE LENGTH'!$B33:$P33,W$2)=2,'CABLE LENGTH'!$AL33,0)","v":0},{"$f":"IF(COUNTIF('CABLE LENGTH'!$A33:$P33,X$1)+COUNTIF('CABLE LENGTH'!$B33:$P33,X$2)=2,'CABLE LENGTH'!$AL33,0)","v":0},{"$f":"IF(COUNTIF('CABLE LENGTH'!$A33:$P33,Y$1)+COUNTIF('CABLE LENGTH'!$A33:$P33,Y$2)=2,'CABLE LENGTH'!$AL33,0)","v":0},{"$f":"IF(COUNTIF('CABLE LENGTH'!$A33:$P33,Z$1)+COUNTIF('CABLE LENGTH'!$A33:$P33,Z$2)=2,'CABLE LENGTH'!$AL33,0)","v":0},{"$f":"IF(COUNTIF('CABLE LENGTH'!$A33:$P33,AA$1)+COUNTIF('CABLE LENGTH'!$A33:$P33,AA$2)=2,'CABLE LENGTH'!$AL33,0)","v":0},{"$f":"IF(COUNTIF('CABLE LENGTH'!$A33:$P33,AB$1)+COUNTIF('CABLE LENGTH'!$A33:$P33,AB$2)=2,'CABLE LENGTH'!$AL33,0)","v":0},{"$f":"IF(COUNTIF('CABLE LENGTH'!$A33:$P33,AC$1)+COUNTIF('CABLE LENGTH'!$A33:$P33,AC$2)=2,'CABLE LENGTH'!$AL33,0)","v":0},{"$f":"IF(COUNTIF('CABLE LENGTH'!$A33:$P33,AD$1)+COUNTIF('CABLE LENGTH'!$A33:$P33,AD$2)=2,'CABLE LENGTH'!$AL33,0)","v":0},{"$f":"IF(COUNTIF('CABLE LENGTH'!$A33:$P33,AE$1)+COUNTIF('CABLE LENGTH'!$A33:$P33,AE$2)=2,'CABLE LENGTH'!$AL33,0)","v":0},{"$f":"IF(COUNTIF('CABLE LENGTH'!$A33:$P33,AF$1)+COUNTIF('CABLE LENGTH'!$A33:$P33,AF$2)=2,'CABLE LENGTH'!$AL33,0)","v":0},{"$f":"IF(COUNTIF('CABLE LENGTH'!$A33:$P33,AG$1)+COUNTIF('CABLE LENGTH'!$A33:$P33,AG$2)=2,'CABLE LENGTH'!$AL33,0)","v":0},{"$f":"IF(COUNTIF('CABLE LENGTH'!$A33:$P33,AH$1)+COUNTIF('CABLE LENGTH'!$A33:$P33,AH$2)=2,'CABLE LENGTH'!$AL33,0)","v":0},{"$f":"IF(COUNTIF('CABLE LENGTH'!$A33:$P33,AI$1)+COUNTIF('CABLE LENGTH'!$A33:$P33,AI$2)=2,'CABLE LENGTH'!$AL33,0)","v":0},{"$f":"IF(COUNTIF('CABLE LENGTH'!$A33:$P33,AJ$1)+COUNTIF('CABLE LENGTH'!$A33:$P33,AJ$2)=2,'CABLE LENGTH'!$AL33,0)","v":0},{"$f":"IF(COUNTIF('CABLE LENGTH'!$A33:$P33,AK$1)+COUNTIF('CABLE LENGTH'!$A33:$P33,AK$2)=2,'CABLE LENGTH'!$AL33,0)","v":0},{"$f":"IF(COUNTIF('CABLE LENGTH'!$A33:$P33,AL$1)+COUNTIF('CABLE LENGTH'!$A33:$P33,AL$2)=2,'CABLE LENGTH'!$AL33,0)","v":0},{"$f":"IF(COUNTIF('CABLE LENGTH'!$A33:$P33,AM$1)+COUNTIF('CABLE LENGTH'!$A33:$P33,AM$2)=2,'CABLE LENGTH'!$AL33,0)","v":0},{"$f":"IF(COUNTIF('CABLE LENGTH'!$A33:$P33,AN$1)+COUNTIF('CABLE LENGTH'!$A33:$P33,AN$2)=2,'CABLE LENGTH'!$AL33,0)","v":0},{"$f":"IF(COUNTIF('CABLE LENGTH'!$A33:$P33,AO$1)+COUNTIF('CABLE LENGTH'!$A33:$P33,AO$2)=2,'CABLE LENGTH'!$AL33,0)","v":0},{"$f":"IF(COUNTIF('CABLE LENGTH'!$A33:$P33,AP$1)+COUNTIF('CABLE LENGTH'!$A33:$P33,AP$2)=2,'CABLE LENGTH'!$AL33,0)","v":0},{"$f":"IF(COUNTIF('CABLE LENGTH'!$A33:$P33,AQ$1)+COUNTIF('CABLE LENGTH'!$A33:$P33,AQ$2)=2,'CABLE LENGTH'!$AL33,0)","v":0},{"$f":"IF(COUNTIF('CABLE LENGTH'!$A33:$P33,AR$1)+COUNTIF('CABLE LENGTH'!$A33:$P33,AR$2)=2,'CABLE LENGTH'!$AL33,0)","v":0},{"$f":"IF(COUNTIF('CABLE LENGTH'!$A33:$P33,AS$1)+COUNTIF('CABLE LENGTH'!$A33:$P33,AS$2)=2,'CABLE LENGTH'!$AL33,0)","v":0},{"$f":"IF(COUNTIF('CABLE LENGTH'!$A33:$P33,AT$1)+COUNTIF('CABLE LENGTH'!$A33:$P33,AT$2)=2,'CABLE LENGTH'!$AL33,0)","v":0},{"$f":"IF(COUNTIF('CABLE LENGTH'!$A33:$P33,AU$1)+COUNTIF('CABLE LENGTH'!$A33:$P33,AU$2)=2,'CABLE LENGTH'!$AL33,0)","v":0},{"$f":"IF(COUNTIF('CABLE LENGTH'!$A33:$P33,AV$1)+COUNTIF('CABLE LENGTH'!$A33:$P33,AV$2)=2,'CABLE LENGTH'!$AL33,0)","v":0},{"$f":"IF(COUNTIF('CABLE LENGTH'!$A33:$P33,AW$1)+COUNTIF('CABLE LENGTH'!$A33:$P33,AW$2)=2,'CABLE LENGTH'!$AL33,0)","v":0},{"$f":"IF(COUNTIF('CABLE LENGTH'!$A33:$P33,AX$1)+COUNTIF('CABLE LENGTH'!$A33:$P33,AX$2)=2,'CABLE LENGTH'!$AL33,0)","v":0},{"$f":"IF(COUNTIF('CABLE LENGTH'!$A33:$P33,AY$1)+COUNTIF('CABLE LENGTH'!$A33:$P33,AY$2)=2,'CABLE LENGTH'!$AL33,0)","v":0},{"$f":"IF(COUNTIF('CABLE LENGTH'!$A33:$P33,AZ$1)+COUNTIF('CABLE LENGTH'!$A33:$P33,AZ$2)=2,'CABLE LENGTH'!$AL33,0)","v":0}]
[null,{"$f":"+'CABLE LENGTH'!AK34","v":0},{"$f":"IF(COUNTIF('CABLE LENGTH'!$A34:$P34,C$1)+COUNTIF('CABLE LENGTH'!$B34:$P34,C$2)=2,'CABLE LENGTH'!$AL34,0)","v":0},{"$f":"IF(COUNTIF('CABLE LENGTH'!$A34:$P34,D$1)+COUNTIF('CABLE LENGTH'!$B34:$P34,D$2)=2,'CABLE LENGTH'!$AL34,0)","v":0},{"$f":"IF(COUNTIF('CABLE LENGTH'!$A34:$P34,E$1)+COUNTIF('CABLE LENGTH'!$B34:$P34,E$2)=2,'CABLE LENGTH'!$AL34,0)","v":0},{"$f":"IF(COUNTIF('CABLE LENGTH'!$A34:$P34,F$1)+COUNTIF('CABLE LENGTH'!$B34:$P34,F$2)=2,'CABLE LENGTH'!$AL34,0)","v":0},{"$f":"IF(COUNTIF('CABLE LENGTH'!$A34:$P34,G$1)+COUNTIF('CABLE LENGTH'!$B34:$P34,G$2)=2,'CABLE LENGTH'!$AL34,0)","v":0},{"$f":"IF(COUNTIF('CABLE LENGTH'!$A34:$P34,H$1)+COUNTIF('CABLE LENGTH'!$B34:$P34,H$2)=2,'CABLE LENGTH'!$AL34,0)","v":0},{"$f":"IF(COUNTIF('CABLE LENGTH'!$A34:$P34,I$1)+COUNTIF('CABLE LENGTH'!$B34:$P34,I$2)=2,'CABLE LENGTH'!$AL34,0)","v":0},{"$f":"IF(COUNTIF('CABLE LENGTH'!$A34:$P34,J$1)+COUNTIF('CABLE LENGTH'!$B34:$P34,J$2)=2,'CABLE LENGTH'!$AL34,0)","v":0},{"$f":"IF(COUNTIF('CABLE LENGTH'!$A34:$P34,K$1)+COUNTIF('CABLE LENGTH'!$B34:$P34,K$2)=2,'CABLE LENGTH'!$AL34,0)","v":0},{"$f":"IF(COUNTIF('CABLE LENGTH'!$A34:$P34,L$1)+COUNTIF('CABLE LENGTH'!$B34:$P34,L$2)=2,'CABLE LENGTH'!$AL34,0)","v":0},{"$f":"IF(COUNTIF('CABLE LENGTH'!$A34:$P34,M$1)+COUNTIF('CABLE LENGTH'!$B34:$P34,M$2)=2,'CABLE LENGTH'!$AL34,0)","v":0},{"$f":"IF(COUNTIF('CABLE LENGTH'!$A34:$P34,N$1)+COUNTIF('CABLE LENGTH'!$B34:$P34,N$2)=2,'CABLE LENGTH'!$AL34,0)","v":0},{"$f":"IF(COUNTIF('CABLE LENGTH'!$A34:$P34,O$1)+COUNTIF('CABLE LENGTH'!$B34:$P34,O$2)=2,'CABLE LENGTH'!$AL34,0)","v":0},{"$f":"IF(COUNTIF('CABLE LENGTH'!$A34:$P34,P$1)+COUNTIF('CABLE LENGTH'!$B34:$P34,P$2)=2,'CABLE LENGTH'!$AL34,0)","v":0},{"$f":"IF(COUNTIF('CABLE LENGTH'!$A34:$P34,Q$1)+COUNTIF('CABLE LENGTH'!$B34:$P34,Q$2)=2,'CABLE LENGTH'!$AL34,0)","v":0},{"$f":"IF(COUNTIF('CABLE LENGTH'!$A34:$P34,R$1)+COUNTIF('CABLE LENGTH'!$B34:$P34,R$2)=2,'CABLE LENGTH'!$AL34,0)","v":0},{"$f":"IF(COUNTIF('CABLE LENGTH'!$A34:$P34,S$1)+COUNTIF('CABLE LENGTH'!$B34:$P34,S$2)=2,'CABLE LENGTH'!$AL34,0)","v":0},{"$f":"IF(COUNTIF('CABLE LENGTH'!$A34:$P34,T$1)+COUNTIF('CABLE LENGTH'!$B34:$P34,T$2)=2,'CABLE LENGTH'!$AL34,0)","v":0},{"$f":"IF(COUNTIF('CABLE LENGTH'!$A34:$P34,U$1)+COUNTIF('CABLE LENGTH'!$B34:$P34,U$2)=2,'CABLE LENGTH'!$AL34,0)","v":0},{"$f":"IF(COUNTIF('CABLE LENGTH'!$A34:$P34,V$1)+COUNTIF('CABLE LENGTH'!$B34:$P34,V$2)=2,'CABLE LENGTH'!$AL34,0)","v":0},{"$f":"IF(COUNTIF('CABLE LENGTH'!$A34:$P34,W$1)+COUNTIF('CABLE LENGTH'!$B34:$P34,W$2)=2,'CABLE LENGTH'!$AL34,0)","v":0},{"$f":"IF(COUNTIF('CABLE LENGTH'!$A34:$P34,X$1)+COUNTIF('CABLE LENGTH'!$B34:$P34,X$2)=2,'CABLE LENGTH'!$AL34,0)","v":0},{"$f":"IF(COUNTIF('CABLE LENGTH'!$A34:$P34,Y$1)+COUNTIF('CABLE LENGTH'!$A34:$P34,Y$2)=2,'CABLE LENGTH'!$AL34,0)","v":0},{"$f":"IF(COUNTIF('CABLE LENGTH'!$A34:$P34,Z$1)+COUNTIF('CABLE LENGTH'!$A34:$P34,Z$2)=2,'CABLE LENGTH'!$AL34,0)","v":0},{"$f":"IF(COUNTIF('CABLE LENGTH'!$A34:$P34,AA$1)+COUNTIF('CABLE LENGTH'!$A34:$P34,AA$2)=2,'CABLE LENGTH'!$AL34,0)","v":0},{"$f":"IF(COUNTIF('CABLE LENGTH'!$A34:$P34,AB$1)+COUNTIF('CABLE LENGTH'!$A34:$P34,AB$2)=2,'CABLE LENGTH'!$AL34,0)","v":0},{"$f":"IF(COUNTIF('CABLE LENGTH'!$A34:$P34,AC$1)+COUNTIF('CABLE LENGTH'!$A34:$P34,AC$2)=2,'CABLE LENGTH'!$AL34,0)","v":0},{"$f":"IF(COUNTIF('CABLE LENGTH'!$A34:$P34,AD$1)+COUNTIF('CABLE LENGTH'!$A34:$P34,AD$2)=2,'CABLE LENGTH'!$AL34,0)","v":0},{"$f":"IF(COUNTIF('CABLE LENGTH'!$A34:$P34,AE$1)+COUNTIF('CABLE LENGTH'!$A34:$P34,AE$2)=2,'CABLE LENGTH'!$AL34,0)","v":0},{"$f":"IF(COUNTIF('CABLE LENGTH'!$A34:$P34,AF$1)+COUNTIF('CABLE LENGTH'!$A34:$P34,AF$2)=2,'CABLE LENGTH'!$AL34,0)","v":0},{"$f":"IF(COUNTIF('CABLE LENGTH'!$A34:$P34,AG$1)+COUNTIF('CABLE LENGTH'!$A34:$P34,AG$2)=2,'CABLE LENGTH'!$AL34,0)","v":0},{"$f":"IF(COUNTIF('CABLE LENGTH'!$A34:$P34,AH$1)+COUNTIF('CABLE LENGTH'!$A34:$P34,AH$2)=2,'CABLE LENGTH'!$AL34,0)","v":0},{"$f":"IF(COUNTIF('CABLE LENGTH'!$A34:$P34,AI$1)+COUNTIF('CABLE LENGTH'!$A34:$P34,AI$2)=2,'CABLE LENGTH'!$AL34,0)","v":0},{"$f":"IF(COUNTIF('CABLE LENGTH'!$A34:$P34,AJ$1)+COUNTIF('CABLE LENGTH'!$A34:$P34,AJ$2)=2,'CABLE LENGTH'!$AL34,0)","v":0},{"$f":"IF(COUNTIF('CABLE LENGTH'!$A34:$P34,AK$1)+COUNTIF('CABLE LENGTH'!$A34:$P34,AK$2)=2,'CABLE LENGTH'!$AL34,0)","v":0},{"$f":"IF(COUNTIF('CABLE LENGTH'!$A34:$P34,AL$1)+COUNTIF('CABLE LENGTH'!$A34:$P34,AL$2)=2,'CABLE LENGTH'!$AL34,0)","v":0},{"$f":"IF(COUNTIF('CABLE LENGTH'!$A34:$P34,AM$1)+COUNTIF('CABLE LENGTH'!$A34:$P34,AM$2)=2,'CABLE LENGTH'!$AL34,0)","v":0},{"$f":"IF(COUNTIF('CABLE LENGTH'!$A34:$P34,AN$1)+COUNTIF('CABLE LENGTH'!$A34:$P34,AN$2)=2,'CABLE LENGTH'!$AL34,0)","v":0},{"$f":"IF(COUNTIF('CABLE LENGTH'!$A34:$P34,AO$1)+COUNTIF('CABLE LENGTH'!$A34:$P34,AO$2)=2,'CABLE LENGTH'!$AL34,0)","v":0},{"$f":"IF(COUNTIF('CABLE LENGTH'!$A34:$P34,AP$1)+COUNTIF('CABLE LENGTH'!$A34:$P34,AP$2)=2,'CABLE LENGTH'!$AL34,0)","v":0},{"$f":"IF(COUNTIF('CABLE LENGTH'!$A34:$P34,AQ$1)+COUNTIF('CABLE LENGTH'!$A34:$P34,AQ$2)=2,'CABLE LENGTH'!$AL34,0)","v":0},{"$f":"IF(COUNTIF('CABLE LENGTH'!$A34:$P34,AR$1)+COUNTIF('CABLE LENGTH'!$A34:$P34,AR$2)=2,'CABLE LENGTH'!$AL34,0)","v":0},{"$f":"IF(COUNTIF('CABLE LENGTH'!$A34:$P34,AS$1)+COUNTIF('CABLE LENGTH'!$A34:$P34,AS$2)=2,'CABLE LENGTH'!$AL34,0)","v":0},{"$f":"IF(COUNTIF('CABLE LENGTH'!$A34:$P34,AT$1)+COUNTIF('CABLE LENGTH'!$A34:$P34,AT$2)=2,'CABLE LENGTH'!$AL34,0)","v":0},{"$f":"IF(COUNTIF('CABLE LENGTH'!$A34:$P34,AU$1)+COUNTIF('CABLE LENGTH'!$A34:$P34,AU$2)=2,'CABLE LENGTH'!$AL34,0)","v":0},{"$f":"IF(COUNTIF('CABLE LENGTH'!$A34:$P34,AV$1)+COUNTIF('CABLE LENGTH'!$A34:$P34,AV$2)=2,'CABLE LENGTH'!$AL34,0)","v":0},{"$f":"IF(COUNTIF('CABLE LENGTH'!$A34:$P34,AW$1)+COUNTIF('CABLE LENGTH'!$A34:$P34,AW$2)=2,'CABLE LENGTH'!$AL34,0)","v":0},{"$f":"IF(COUNTIF('CABLE LENGTH'!$A34:$P34,AX$1)+COUNTIF('CABLE LENGTH'!$A34:$P34,AX$2)=2,'CABLE LENGTH'!$AL34,0)","v":0},{"$f":"IF(COUNTIF('CABLE LENGTH'!$A34:$P34,AY$1)+COUNTIF('CABLE LENGTH'!$A34:$P34,AY$2)=2,'CABLE LENGTH'!$AL34,0)","v":0},{"$f":"IF(COUNTIF('CABLE LENGTH'!$A34:$P34,AZ$1)+COUNTIF('CABLE LENGTH'!$A34:$P34,AZ$2)=2,'CABLE LENGTH'!$AL34,0)","v":0}]
[null,{"$f":"+'CABLE LENGTH'!AK35","v":0},{"$f":"IF(COUNTIF('CABLE LENGTH'!$A35:$P35,C$1)+COUNTIF('CABLE LENGTH'!$B35:$P35,C$2)=2,'CABLE LENGTH'!$AL35,0)","v":0},{"$f":"IF(COUNTIF('CABLE LENGTH'!$A35:$P35,D$1)+COUNTIF('CABLE LENGTH'!$B35:$P35,D$2)=2,'CABLE LENGTH'!$AL35,0)","v":0},{"$f":"IF(COUNTIF('CABLE LENGTH'!$A35:$P35,E$1)+COUNTIF('CABLE LENGTH'!$B35:$P35,E$2)=2,'CABLE LENGTH'!$AL35,0)","v":0},{"$f":"IF(COUNTIF('CABLE LENGTH'!$A35:$P35,F$1)+COUNTIF('CABLE LENGTH'!$B35:$P35,F$2)=2,'CABLE LENGTH'!$AL35,0)","v":0},{"$f":"IF(COUNTIF('CABLE LENGTH'!$A35:$P35,G$1)+COUNTIF('CABLE LENGTH'!$B35:$P35,G$2)=2,'CABLE LENGTH'!$AL35,0)","v":0},{"$f":"IF(COUNTIF('CABLE LENGTH'!$A35:$P35,H$1)+COUNTIF('CABLE LENGTH'!$B35:$P35,H$2)=2,'CABLE LENGTH'!$AL35,0)","v":0},{"$f":"IF(COUNTIF('CABLE LENGTH'!$A35:$P35,I$1)+COUNTIF('CABLE LENGTH'!$B35:$P35,I$2)=2,'CABLE LENGTH'!$AL35,0)","v":0},{"$f":"IF(COUNTIF('CABLE LENGTH'!$A35:$P35,J$1)+COUNTIF('CABLE LENGTH'!$B35:$P35,J$2)=2,'CABLE LENGTH'!$AL35,0)","v":0},{"$f":"IF(COUNTIF('CABLE LENGTH'!$A35:$P35,K$1)+COUNTIF('CABLE LENGTH'!$B35:$P35,K$2)=2,'CABLE LENGTH'!$AL35,0)","v":0},{"$f":"IF(COUNTIF('CABLE LENGTH'!$A35:$P35,L$1)+COUNTIF('CABLE LENGTH'!$B35:$P35,L$2)=2,'CABLE LENGTH'!$AL35,0)","v":0},{"$f":"IF(COUNTIF('CABLE LENGTH'!$A35:$P35,M$1)+COUNTIF('CABLE LENGTH'!$B35:$P35,M$2)=2,'CABLE LENGTH'!$AL35,0)","v":0},{"$f":"IF(COUNTIF('CABLE LENGTH'!$A35:$P35,N$1)+COUNTIF('CABLE LENGTH'!$B35:$P35,N$2)=2,'CABLE LENGTH'!$AL35,0)","v":0},{"$f":"IF(COUNTIF('CABLE LENGTH'!$A35:$P35,O$1)+COUNTIF('CABLE LENGTH'!$B35:$P35,O$2)=2,'CABLE LENGTH'!$AL35,0)","v":0},{"$f":"IF(COUNTIF('CABLE LENGTH'!$A35:$P35,P$1)+COUNTIF('CABLE LENGTH'!$B35:$P35,P$2)=2,'CABLE LENGTH'!$AL35,0)","v":0},{"$f":"IF(COUNTIF('CABLE LENGTH'!$A35:$P35,Q$1)+COUNTIF('CABLE LENGTH'!$B35:$P35,Q$2)=2,'CABLE LENGTH'!$AL35,0)","v":0},{"$f":"IF(COUNTIF('CABLE LENGTH'!$A35:$P35,R$1)+COUNTIF('CABLE LENGTH'!$B35:$P35,R$2)=2,'CABLE LENGTH'!$AL35,0)","v":0},{"$f":"IF(COUNTIF('CABLE LENGTH'!$A35:$P35,S$1)+COUNTIF('CABLE LENGTH'!$B35:$P35,S$2)=2,'CABLE LENGTH'!$AL35,0)","v":0},{"$f":"IF(COUNTIF('CABLE LENGTH'!$A35:$P35,T$1)+COUNTIF('CABLE LENGTH'!$B35:$P35,T$2)=2,'CABLE LENGTH'!$AL35,0)","v":0},{"$f":"IF(COUNTIF('CABLE LENGTH'!$A35:$P35,U$1)+COUNTIF('CABLE LENGTH'!$B35:$P35,U$2)=2,'CABLE LENGTH'!$AL35,0)","v":0},{"$f":"IF(COUNTIF('CABLE LENGTH'!$A35:$P35,V$1)+COUNTIF('CABLE LENGTH'!$B35:$P35,V$2)=2,'CABLE LENGTH'!$AL35,0)","v":0},{"$f":"IF(COUNTIF('CABLE LENGTH'!$A35:$P35,W$1)+COUNTIF('CABLE LENGTH'!$B35:$P35,W$2)=2,'CABLE LENGTH'!$AL35,0)","v":0},{"$f":"IF(COUNTIF('CABLE LENGTH'!$A35:$P35,X$1)+COUNTIF('CABLE LENGTH'!$B35:$P35,X$2)=2,'CABLE LENGTH'!$AL35,0)","v":0},{"$f":"IF(COUNTIF('CABLE LENGTH'!$A35:$P35,Y$1)+COUNTIF('CABLE LENGTH'!$A35:$P35,Y$2)=2,'CABLE LENGTH'!$AL35,0)","v":0},{"$f":"IF(COUNTIF('CABLE LENGTH'!$A35:$P35,Z$1)+COUNTIF('CABLE LENGTH'!$A35:$P35,Z$2)=2,'CABLE LENGTH'!$AL35,0)","v":0},{"$f":"IF(COUNTIF('CABLE LENGTH'!$A35:$P35,AA$1)+COUNTIF('CABLE LENGTH'!$A35:$P35,AA$2)=2,'CABLE LENGTH'!$AL35,0)","v":0},{"$f":"IF(COUNTIF('CABLE LENGTH'!$A35:$P35,AB$1)+COUNTIF('CABLE LENGTH'!$A35:$P35,AB$2)=2,'CABLE LENGTH'!$AL35,0)","v":0},{"$f":"IF(COUNTIF('CABLE LENGTH'!$A35:$P35,AC$1)+COUNTIF('CABLE LENGTH'!$A35:$P35,AC$2)=2,'CABLE LENGTH'!$AL35,0)","v":0},{"$f":"IF(COUNTIF('CABLE LENGTH'!$A35:$P35,AD$1)+COUNTIF('CABLE LENGTH'!$A35:$P35,AD$2)=2,'CABLE LENGTH'!$AL35,0)","v":0},{"$f":"IF(COUNTIF('CABLE LENGTH'!$A35:$P35,AE$1)+COUNTIF('CABLE LENGTH'!$A35:$P35,AE$2)=2,'CABLE LENGTH'!$AL35,0)","v":0},{"$f":"IF(COUNTIF('CABLE LENGTH'!$A35:$P35,AF$1)+COUNTIF('CABLE LENGTH'!$A35:$P35,AF$2)=2,'CABLE LENGTH'!$AL35,0)","v":0},{"$f":"IF(COUNTIF('CABLE LENGTH'!$A35:$P35,AG$1)+COUNTIF('CABLE LENGTH'!$A35:$P35,AG$2)=2,'CABLE LENGTH'!$AL35,0)","v":0},{"$f":"IF(COUNTIF('CABLE LENGTH'!$A35:$P35,AH$1)+COUNTIF('CABLE LENGTH'!$A35:$P35,AH$2)=2,'CABLE LENGTH'!$AL35,0)","v":0},{"$f":"IF(COUNTIF('CABLE LENGTH'!$A35:$P35,AI$1)+COUNTIF('CABLE LENGTH'!$A35:$P35,AI$2)=2,'CABLE LENGTH'!$AL35,0)","v":0},{"$f":"IF(COUNTIF('CABLE LENGTH'!$A35:$P35,AJ$1)+COUNTIF('CABLE LENGTH'!$A35:$P35,AJ$2)=2,'CABLE LENGTH'!$AL35,0)","v":0},{"$f":"IF(COUNTIF('CABLE LENGTH'!$A35:$P35,AK$1)+COUNTIF('CABLE LENGTH'!$A35:$P35,AK$2)=2,'CABLE LENGTH'!$AL35,0)","v":0},{"$f":"IF(COUNTIF('CABLE LENGTH'!$A35:$P35,AL$1)+COUNTIF('CABLE LENGTH'!$A35:$P35,AL$2)=2,'CABLE LENGTH'!$AL35,0)","v":0},{"$f":"IF(COUNTIF('CABLE LENGTH'!$A35:$P35,AM$1)+COUNTIF('CABLE LENGTH'!$A35:$P35,AM$2)=2,'CABLE LENGTH'!$AL35,0)","v":0},{"$f":"IF(COUNTIF('CABLE LENGTH'!$A35:$P35,AN$1)+COUNTIF('CABLE LENGTH'!$A35:$P35,AN$2)=2,'CABLE LENGTH'!$AL35,0)","v":0},{"$f":"IF(COUNTIF('CABLE LENGTH'!$A35:$P35,AO$1)+COUNTIF('CABLE LENGTH'!$A35:$P35,AO$2)=2,'CABLE LENGTH'!$AL35,0)","v":0},{"$f":"IF(COUNTIF('CABLE LENGTH'!$A35:$P35,AP$1)+COUNTIF('CABLE LENGTH'!$A35:$P35,AP$2)=2,'CABLE LENGTH'!$AL35,0)","v":0},{"$f":"IF(COUNTIF('CABLE LENGTH'!$A35:$P35,AQ$1)+COUNTIF('CABLE LENGTH'!$A35:$P35,AQ$2)=2,'CABLE LENGTH'!$AL35,0)","v":0},{"$f":"IF(COUNTIF('CABLE LENGTH'!$A35:$P35,AR$1)+COUNTIF('CABLE LENGTH'!$A35:$P35,AR$2)=2,'CABLE LENGTH'!$AL35,0)","v":0},{"$f":"IF(COUNTIF('CABLE LENGTH'!$A35:$P35,AS$1)+COUNTIF('CABLE LENGTH'!$A35:$P35,AS$2)=2,'CABLE LENGTH'!$AL35,0)","v":0},{"$f":"IF(COUNTIF('CABLE LENGTH'!$A35:$P35,AT$1)+COUNTIF('CABLE LENGTH'!$A35:$P35,AT$2)=2,'CABLE LENGTH'!$AL35,0)","v":0},{"$f":"IF(COUNTIF('CABLE LENGTH'!$A35:$P35,AU$1)+COUNTIF('CABLE LENGTH'!$A35:$P35,AU$2)=2,'CABLE LENGTH'!$AL35,0)","v":0},{"$f":"IF(COUNTIF('CABLE LENGTH'!$A35:$P35,AV$1)+COUNTIF('CABLE LENGTH'!$A35:$P35,AV$2)=2,'CABLE LENGTH'!$AL35,0)","v":0},{"$f":"IF(COUNTIF('CABLE LENGTH'!$A35:$P35,AW$1)+COUNTIF('CABLE LENGTH'!$A35:$P35,AW$2)=2,'CABLE LENGTH'!$AL35,0)","v":0},{"$f":"IF(COUNTIF('CABLE LENGTH'!$A35:$P35,AX$1)+COUNTIF('CABLE LENGTH'!$A35:$P35,AX$2)=2,'CABLE LENGTH'!$AL35,0)","v":0},{"$f":"IF(COUNTIF('CABLE LENGTH'!$A35:$P35,AY$1)+COUNTIF('CABLE LENGTH'!$A35:$P35,AY$2)=2,'CABLE LENGTH'!$AL35,0)","v":0},{"$f":"IF(COUNTIF('CABLE LENGTH'!$A35:$P35,AZ$1)+COUNTIF('CABLE LENGTH'!$A35:$P35,AZ$2)=2,'CABLE LENGTH'!$AL35,0)","v":0}]
[null,{"$f":"+'CABLE LENGTH'!AK36","v":0},{"$f":"IF(COUNTIF('CABLE LENGTH'!$A36:$P36,C$1)+COUNTIF('CABLE LENGTH'!$B36:$P36,C$2)=2,'CABLE LENGTH'!$AL36,0)","v":0},{"$f":"IF(COUNTIF('CABLE LENGTH'!$A36:$P36,D$1)+COUNTIF('CABLE LENGTH'!$B36:$P36,D$2)=2,'CABLE LENGTH'!$AL36,0)","v":0},{"$f":"IF(COUNTIF('CABLE LENGTH'!$A36:$P36,E$1)+COUNTIF('CABLE LENGTH'!$B36:$P36,E$2)=2,'CABLE LENGTH'!$AL36,0)","v":0},{"$f":"IF(COUNTIF('CABLE LENGTH'!$A36:$P36,F$1)+COUNTIF('CABLE LENGTH'!$B36:$P36,F$2)=2,'CABLE LENGTH'!$AL36,0)","v":0},{"$f":"IF(COUNTIF('CABLE LENGTH'!$A36:$P36,G$1)+COUNTIF('CABLE LENGTH'!$B36:$P36,G$2)=2,'CABLE LENGTH'!$AL36,0)","v":0},{"$f":"IF(COUNTIF('CABLE LENGTH'!$A36:$P36,H$1)+COUNTIF('CABLE LENGTH'!$B36:$P36,H$2)=2,'CABLE LENGTH'!$AL36,0)","v":0},{"$f":"IF(COUNTIF('CABLE LENGTH'!$A36:$P36,I$1)+COUNTIF('CABLE LENGTH'!$B36:$P36,I$2)=2,'CABLE LENGTH'!$AL36,0)","v":0},{"$f":"IF(COUNTIF('CABLE LENGTH'!$A36:$P36,J$1)+COUNTIF('CABLE LENGTH'!$B36:$P36,J$2)=2,'CABLE LENGTH'!$AL36,0)","v":0},{"$f":"IF(COUNTIF('CABLE LENGTH'!$A36:$P36,K$1)+COUNTIF('CABLE LENGTH'!$B36:$P36,K$2)=2,'CABLE LENGTH'!$AL36,0)","v":0},{"$f":"IF(COUNTIF('CABLE LENGTH'!$A36:$P36,L$1)+COUNTIF('CABLE LENGTH'!$B36:$P36,L$2)=2,'CABLE LENGTH'!$AL36,0)","v":0},{"$f":"IF(COUNTIF('CABLE LENGTH'!$A36:$P36,M$1)+COUNTIF('CABLE LENGTH'!$B36:$P36,M$2)=2,'CABLE LENGTH'!$AL36,0)","v":0},{"$f":"IF(COUNTIF('CABLE LENGTH'!$A36:$P36,N$1)+COUNTIF('CABLE LENGTH'!$B36:$P36,N$2)=2,'CABLE LENGTH'!$AL36,0)","v":0},{"$f":"IF(COUNTIF('CABLE LENGTH'!$A36:$P36,O$1)+COUNTIF('CABLE LENGTH'!$B36:$P36,O$2)=2,'CABLE LENGTH'!$AL36,0)","v":0},{"$f":"IF(COUNTIF('CABLE LENGTH'!$A36:$P36,P$1)+COUNTIF('CABLE LENGTH'!$B36:$P36,P$2)=2,'CABLE LENGTH'!$AL36,0)","v":0},{"$f":"IF(COUNTIF('CABLE LENGTH'!$A36:$P36,Q$1)+COUNTIF('CABLE LENGTH'!$B36:$P36,Q$2)=2,'CABLE LENGTH'!$AL36,0)","v":0},{"$f":"IF(COUNTIF('CABLE LENGTH'!$A36:$P36,R$1)+COUNTIF('CABLE LENGTH'!$B36:$P36,R$2)=2,'CABLE LENGTH'!$AL36,0)","v":0},{"$f":"IF(COUNTIF('CABLE LENGTH'!$A36:$P36,S$1)+COUNTIF('CABLE LENGTH'!$B36:$P36,S$2)=2,'CABLE LENGTH'!$AL36,0)","v":0},{"$f":"IF(COUNTIF('CABLE LENGTH'!$A36:$P36,T$1)+COUNTIF('CABLE LENGTH'!$B36:$P36,T$2)=2,'CABLE LENGTH'!$AL36,0)","v":0},{"$f":"IF(COUNTIF('CABLE LENGTH'!$A36:$P36,U$1)+COUNTIF('CABLE LENGTH'!$B36:$P36,U$2)=2,'CABLE LENGTH'!$AL36,0)","v":0},{"$f":"IF(COUNTIF('CABLE LENGTH'!$A36:$P36,V$1)+COUNTIF('CABLE LENGTH'!$B36:$P36,V$2)=2,'CABLE LENGTH'!$AL36,0)","v":0},{"$f":"IF(COUNTIF('CABLE LENGTH'!$A36:$P36,W$1)+COUNTIF('CABLE LENGTH'!$B36:$P36,W$2)=2,'CABLE LENGTH'!$AL36,0)","v":0},{"$f":"IF(COUNTIF('CABLE LENGTH'!$A36:$P36,X$1)+COUNTIF('CABLE LENGTH'!$B36:$P36,X$2)=2,'CABLE LENGTH'!$AL36,0)","v":0},{"$f":"IF(COUNTIF('CABLE LENGTH'!$A36:$P36,Y$1)+COUNTIF('CABLE LENGTH'!$A36:$P36,Y$2)=2,'CABLE LENGTH'!$AL36,0)","v":0},{"$f":"IF(COUNTIF('CABLE LENGTH'!$A36:$P36,Z$1)+COUNTIF('CABLE LENGTH'!$A36:$P36,Z$2)=2,'CABLE LENGTH'!$AL36,0)","v":0},{"$f":"IF(COUNTIF('CABLE LENGTH'!$A36:$P36,AA$1)+COUNTIF('CABLE LENGTH'!$A36:$P36,AA$2)=2,'CABLE LENGTH'!$AL36,0)","v":0},{"$f":"IF(COUNTIF('CABLE LENGTH'!$A36:$P36,AB$1)+COUNTIF('CABLE LENGTH'!$A36:$P36,AB$2)=2,'CABLE LENGTH'!$AL36,0)","v":0},{"$f":"IF(COUNTIF('CABLE LENGTH'!$A36:$P36,AC$1)+COUNTIF('CABLE LENGTH'!$A36:$P36,AC$2)=2,'CABLE LENGTH'!$AL36,0)","v":0},{"$f":"IF(COUNTIF('CABLE LENGTH'!$A36:$P36,AD$1)+COUNTIF('CABLE LENGTH'!$A36:$P36,AD$2)=2,'CABLE LENGTH'!$AL36,0)","v":0},{"$f":"IF(COUNTIF('CABLE LENGTH'!$A36:$P36,AE$1)+COUNTIF('CABLE LENGTH'!$A36:$P36,AE$2)=2,'CABLE LENGTH'!$AL36,0)","v":0},{"$f":"IF(COUNTIF('CABLE LENGTH'!$A36:$P36,AF$1)+COUNTIF('CABLE LENGTH'!$A36:$P36,AF$2)=2,'CABLE LENGTH'!$AL36,0)","v":0},{"$f":"IF(COUNTIF('CABLE LENGTH'!$A36:$P36,AG$1)+COUNTIF('CABLE LENGTH'!$A36:$P36,AG$2)=2,'CABLE LENGTH'!$AL36,0)","v":0},{"$f":"IF(COUNTIF('CABLE LENGTH'!$A36:$P36,AH$1)+COUNTIF('CABLE LENGTH'!$A36:$P36,AH$2)=2,'CABLE LENGTH'!$AL36,0)","v":0},{"$f":"IF(COUNTIF('CABLE LENGTH'!$A36:$P36,AI$1)+COUNTIF('CABLE LENGTH'!$A36:$P36,AI$2)=2,'CABLE LENGTH'!$AL36,0)","v":0},{"$f":"IF(COUNTIF('CABLE LENGTH'!$A36:$P36,AJ$1)+COUNTIF('CABLE LENGTH'!$A36:$P36,AJ$2)=2,'CABLE LENGTH'!$AL36,0)","v":0},{"$f":"IF(COUNTIF('CABLE LENGTH'!$A36:$P36,AK$1)+COUNTIF('CABLE LENGTH'!$A36:$P36,AK$2)=2,'CABLE LENGTH'!$AL36,0)","v":0},{"$f":"IF(COUNTIF('CABLE LENGTH'!$A36:$P36,AL$1)+COUNTIF('CABLE LENGTH'!$A36:$P36,AL$2)=2,'CABLE LENGTH'!$AL36,0)","v":0},{"$f":"IF(COUNTIF('CABLE LENGTH'!$A36:$P36,AM$1)+COUNTIF('CABLE LENGTH'!$A36:$P36,AM$2)=2,'CABLE LENGTH'!$AL36,0)","v":0},{"$f":"IF(COUNTIF('CABLE LENGTH'!$A36:$P36,AN$1)+COUNTIF('CABLE LENGTH'!$A36:$P36,AN$2)=2,'CABLE LENGTH'!$AL36,0)","v":0},{"$f":"IF(COUNTIF('CABLE LENGTH'!$A36:$P36,AO$1)+COUNTIF('CABLE LENGTH'!$A36:$P36,AO$2)=2,'CABLE LENGTH'!$AL36,0)","v":0},{"$f":"IF(COUNTIF('CABLE LENGTH'!$A36:$P36,AP$1)+COUNTIF('CABLE LENGTH'!$A36:$P36,AP$2)=2,'CABLE LENGTH'!$AL36,0)","v":0},{"$f":"IF(COUNTIF('CABLE LENGTH'!$A36:$P36,AQ$1)+COUNTIF('CABLE LENGTH'!$A36:$P36,AQ$2)=2,'CABLE LENGTH'!$AL36,0)","v":0},{"$f":"IF(COUNTIF('CABLE LENGTH'!$A36:$P36,AR$1)+COUNTIF('CABLE LENGTH'!$A36:$P36,AR$2)=2,'CABLE LENGTH'!$AL36,0)","v":0},{"$f":"IF(COUNTIF('CABLE LENGTH'!$A36:$P36,AS$1)+COUNTIF('CABLE LENGTH'!$A36:$P36,AS$2)=2,'CABLE LENGTH'!$AL36,0)","v":0},{"$f":"IF(COUNTIF('CABLE LENGTH'!$A36:$P36,AT$1)+COUNTIF('CABLE LENGTH'!$A36:$P36,AT$2)=2,'CABLE LENGTH'!$AL36,0)","v":0},{"$f":"IF(COUNTIF('CABLE LENGTH'!$A36:$P36,AU$1)+COUNTIF('CABLE LENGTH'!$A36:$P36,AU$2)=2,'CABLE LENGTH'!$AL36,0)","v":0},{"$f":"IF(COUNTIF('CABLE LENGTH'!$A36:$P36,AV$1)+COUNTIF('CABLE LENGTH'!$A36:$P36,AV$2)=2,'CABLE LENGTH'!$AL36,0)","v":0},{"$f":"IF(COUNTIF('CABLE LENGTH'!$A36:$P36,AW$1)+COUNTIF('CABLE LENGTH'!$A36:$P36,AW$2)=2,'CABLE LENGTH'!$AL36,0)","v":0},{"$f":"IF(COUNTIF('CABLE LENGTH'!$A36:$P36,AX$1)+COUNTIF('CABLE LENGTH'!$A36:$P36,AX$2)=2,'CABLE LENGTH'!$AL36,0)","v":0},{"$f":"IF(COUNTIF('CABLE LENGTH'!$A36:$P36,AY$1)+COUNTIF('CABLE LENGTH'!$A36:$P36,AY$2)=2,'CABLE LENGTH'!$AL36,0)","v":0},{"$f":"IF(COUNTIF('CABLE LENGTH'!$A36:$P36,AZ$1)+COUNTIF('CABLE LENGTH'!$A36:$P36,AZ$2)=2,'CABLE LENGTH'!$AL36,0)","v":0}]
[null,{"$f":"+'CABLE LENGTH'!AK37","v":0},{"$f":"IF(COUNTIF('CABLE LENGTH'!$A37:$P37,C$1)+COUNTIF('CABLE LENGTH'!$B37:$P37,C$2)=2,'CABLE LENGTH'!$AL37,0)","v":0},{"$f":"IF(COUNTIF('CABLE LENGTH'!$A37:$P37,D$1)+COUNTIF('CABLE LENGTH'!$B37:$P37,D$2)=2,'CABLE LENGTH'!$AL37,0)","v":0},{"$f":"IF(COUNTIF('CABLE LENGTH'!$A37:$P37,E$1)+COUNTIF('CABLE LENGTH'!$B37:$P37,E$2)=2,'CABLE LENGTH'!$AL37,0)","v":0},{"$f":"IF(COUNTIF('CABLE LENGTH'!$A37:$P37,F$1)+COUNTIF('CABLE LENGTH'!$B37:$P37,F$2)=2,'CABLE LENGTH'!$AL37,0)","v":0},{"$f":"IF(COUNTIF('CABLE LENGTH'!$A37:$P37,G$1)+COUNTIF('CABLE LENGTH'!$B37:$P37,G$2)=2,'CABLE LENGTH'!$AL37,0)","v":0},{"$f":"IF(COUNTIF('CABLE LENGTH'!$A37:$P37,H$1)+COUNTIF('CABLE LENGTH'!$B37:$P37,H$2)=2,'CABLE LENGTH'!$AL37,0)","v":0},{"$f":"IF(COUNTIF('CABLE LENGTH'!$A37:$P37,I$1)+COUNTIF('CABLE LENGTH'!$B37:$P37,I$2)=2,'CABLE LENGTH'!$AL37,0)","v":0},{"$f":"IF(COUNTIF('CABLE LENGTH'!$A37:$P37,J$1)+COUNTIF('CABLE LENGTH'!$B37:$P37,J$2)=2,'CABLE LENGTH'!$AL37,0)","v":0},{"$f":"IF(COUNTIF('CABLE LENGTH'!$A37:$P37,K$1)+COUNTIF('CABLE LENGTH'!$B37:$P37,K$2)=2,'CABLE LENGTH'!$AL37,0)","v":0},{"$f":"IF(COUNTIF('CABLE LENGTH'!$A37:$P37,L$1)+COUNTIF('CABLE LENGTH'!$B37:$P37,L$2)=2,'CABLE LENGTH'!$AL37,0)","v":0},{"$f":"IF(COUNTIF('CABLE LENGTH'!$A37:$P37,M$1)+COUNTIF('CABLE LENGTH'!$B37:$P37,M$2)=2,'CABLE LENGTH'!$AL37,0)","v":0},{"$f":"IF(COUNTIF('CABLE LENGTH'!$A37:$P37,N$1)+COUNTIF('CABLE LENGTH'!$B37:$P37,N$2)=2,'CABLE LENGTH'!$AL37,0)","v":0},{"$f":"IF(COUNTIF('CABLE LENGTH'!$A37:$P37,O$1)+COUNTIF('CABLE LENGTH'!$B37:$P37,O$2)=2,'CABLE LENGTH'!$AL37,0)","v":0},{"$f":"IF(COUNTIF('CABLE LENGTH'!$A37:$P37,P$1)+COUNTIF('CABLE LENGTH'!$B37:$P37,P$2)=2,'CABLE LENGTH'!$AL37,0)","v":0},{"$f":"IF(COUNTIF('CABLE LENGTH'!$A37:$P37,Q$1)+COUNTIF('CABLE LENGTH'!$B37:$P37,Q$2)=2,'CABLE LENGTH'!$AL37,0)","v":0},{"$f":"IF(COUNTIF('CABLE LENGTH'!$A37:$P37,R$1)+COUNTIF('CABLE LENGTH'!$B37:$P37,R$2)=2,'CABLE LENGTH'!$AL37,0)","v":0},{"$f":"IF(COUNTIF('CABLE LENGTH'!$A37:$P37,S$1)+COUNTIF('CABLE LENGTH'!$B37:$P37,S$2)=2,'CABLE LENGTH'!$AL37,0)","v":0},{"$f":"IF(COUNTIF('CABLE LENGTH'!$A37:$P37,T$1)+COUNTIF('CABLE LENGTH'!$B37:$P37,T$2)=2,'CABLE LENGTH'!$AL37,0)","v":0},{"$f":"IF(COUNTIF('CABLE LENGTH'!$A37:$P37,U$1)+COUNTIF('CABLE LENGTH'!$B37:$P37,U$2)=2,'CABLE LENGTH'!$AL37,0)","v":0},{"$f":"IF(COUNTIF('CABLE LENGTH'!$A37:$P37,V$1)+COUNTIF('CABLE LENGTH'!$B37:$P37,V$2)=2,'CABLE LENGTH'!$AL37,0)","v":0},{"$f":"IF(COUNTIF('CABLE LENGTH'!$A37:$P37,W$1)+COUNTIF('CABLE LENGTH'!$B37:$P37,W$2)=2,'CABLE LENGTH'!$AL37,0)","v":0},{"$f":"IF(COUNTIF('CABLE LENGTH'!$A37:$P37,X$1)+COUNTIF('CABLE LENGTH'!$B37:$P37,X$2)=2,'CABLE LENGTH'!$AL37,0)","v":0},{"$f":"IF(COUNTIF('CABLE LENGTH'!$A37:$P37,Y$1)+COUNTIF('CABLE LENGTH'!$A37:$P37,Y$2)=2,'CABLE LENGTH'!$AL37,0)","v":0},{"$f":"IF(COUNTIF('CABLE LENGTH'!$A37:$P37,Z$1)+COUNTIF('CABLE LENGTH'!$A37:$P37,Z$2)=2,'CABLE LENGTH'!$AL37,0)","v":0},{"$f":"IF(COUNTIF('CABLE LENGTH'!$A37:$P37,AA$1)+COUNTIF('CABLE LENGTH'!$A37:$P37,AA$2)=2,'CABLE LENGTH'!$AL37,0)","v":0},{"$f":"IF(COUNTIF('CABLE LENGTH'!$A37:$P37,AB$1)+COUNTIF('CABLE LENGTH'!$A37:$P37,AB$2)=2,'CABLE LENGTH'!$AL37,0)","v":0},{"$f":"IF(COUNTIF('CABLE LENGTH'!$A37:$P37,AC$1)+COUNTIF('CABLE LENGTH'!$A37:$P37,AC$2)=2,'CABLE LENGTH'!$AL37,0)","v":0},{"$f":"IF(COUNTIF('CABLE LENGTH'!$A37:$P37,AD$1)+COUNTIF('CABLE LENGTH'!$A37:$P37,AD$2)=2,'CABLE LENGTH'!$AL37,0)","v":0},{"$f":"IF(COUNTIF('CABLE LENGTH'!$A37:$P37,AE$1)+COUNTIF('CABLE LENGTH'!$A37:$P37,AE$2)=2,'CABLE LENGTH'!$AL37,0)","v":0},{"$f":"IF(COUNTIF('CABLE LENGTH'!$A37:$P37,AF$1)+COUNTIF('CABLE LENGTH'!$A37:$P37,AF$2)=2,'CABLE LENGTH'!$AL37,0)","v":0},{"$f":"IF(COUNTIF('CABLE LENGTH'!$A37:$P37,AG$1)+COUNTIF('CABLE LENGTH'!$A37:$P37,AG$2)=2,'CABLE LENGTH'!$AL37,0)","v":0},{"$f":"IF(COUNTIF('CABLE LENGTH'!$A37:$P37,AH$1)+COUNTIF('CABLE LENGTH'!$A37:$P37,AH$2)=2,'CABLE LENGTH'!$AL37,0)","v":0},{"$f":"IF(COUNTIF('CABLE LENGTH'!$A37:$P37,AI$1)+COUNTIF('CABLE LENGTH'!$A37:$P37,AI$2)=2,'CABLE LENGTH'!$AL37,0)","v":0},{"$f":"IF(COUNTIF('CABLE LENGTH'!$A37:$P37,AJ$1)+COUNTIF('CABLE LENGTH'!$A37:$P37,AJ$2)=2,'CABLE LENGTH'!$AL37,0)","v":0},{"$f":"IF(COUNTIF('CABLE LENGTH'!$A37:$P37,AK$1)+COUNTIF('CABLE LENGTH'!$A37:$P37,AK$2)=2,'CABLE LENGTH'!$AL37,0)","v":0},{"$f":"IF(COUNTIF('CABLE LENGTH'!$A37:$P37,AL$1)+COUNTIF('CABLE LENGTH'!$A37:$P37,AL$2)=2,'CABLE LENGTH'!$AL37,0)","v":0},{"$f":"IF(COUNTIF('CABLE LENGTH'!$A37:$P37,AM$1)+COUNTIF('CABLE LENGTH'!$A37:$P37,AM$2)=2,'CABLE LENGTH'!$AL37,0)","v":0},{"$f":"IF(COUNTIF('CABLE LENGTH'!$A37:$P37,AN$1)+COUNTIF('CABLE LENGTH'!$A37:$P37,AN$2)=2,'CABLE LENGTH'!$AL37,0)","v":0},{"$f":"IF(COUNTIF('CABLE LENGTH'!$A37:$P37,AO$1)+COUNTIF('CABLE LENGTH'!$A37:$P37,AO$2)=2,'CABLE LENGTH'!$AL37,0)","v":0},{"$f":"IF(COUNTIF('CABLE LENGTH'!$A37:$P37,AP$1)+COUNTIF('CABLE LENGTH'!$A37:$P37,AP$2)=2,'CABLE LENGTH'!$AL37,0)","v":0},{"$f":"IF(COUNTIF('CABLE LENGTH'!$A37:$P37,AQ$1)+COUNTIF('CABLE LENGTH'!$A37:$P37,AQ$2)=2,'CABLE LENGTH'!$AL37,0)","v":0},{"$f":"IF(COUNTIF('CABLE LENGTH'!$A37:$P37,AR$1)+COUNTIF('CABLE LENGTH'!$A37:$P37,AR$2)=2,'CABLE LENGTH'!$AL37,0)","v":0},{"$f":"IF(COUNTIF('CABLE LENGTH'!$A37:$P37,AS$1)+COUNTIF('CABLE LENGTH'!$A37:$P37,AS$2)=2,'CABLE LENGTH'!$AL37,0)","v":0},{"$f":"IF(COUNTIF('CABLE LENGTH'!$A37:$P37,AT$1)+COUNTIF('CABLE LENGTH'!$A37:$P37,AT$2)=2,'CABLE LENGTH'!$AL37,0)","v":0},{"$f":"IF(COUNTIF('CABLE LENGTH'!$A37:$P37,AU$1)+COUNTIF('CABLE LENGTH'!$A37:$P37,AU$2)=2,'CABLE LENGTH'!$AL37,0)","v":0},{"$f":"IF(COUNTIF('CABLE LENGTH'!$A37:$P37,AV$1)+COUNTIF('CABLE LENGTH'!$A37:$P37,AV$2)=2,'CABLE LENGTH'!$AL37,0)","v":0},{"$f":"IF(COUNTIF('CABLE LENGTH'!$A37:$P37,AW$1)+COUNTIF('CABLE LENGTH'!$A37:$P37,AW$2)=2,'CABLE LENGTH'!$AL37,0)","v":0},{"$f":"IF(COUNTIF('CABLE LENGTH'!$A37:$P37,AX$1)+COUNTIF('CABLE LENGTH'!$A37:$P37,AX$2)=2,'CABLE LENGTH'!$AL37,0)","v":0},{"$f":"IF(COUNTIF('CABLE LENGTH'!$A37:$P37,AY$1)+COUNTIF('CABLE LENGTH'!$A37:$P37,AY$2)=2,'CABLE LENGTH'!$AL37,0)","v":0},{"$f":"IF(COUNTIF('CABLE LENGTH'!$A37:$P37,AZ$1)+COUNTIF('CABLE LENGTH'!$A37:$P37,AZ$2)=2,'CABLE LENGTH'!$AL37,0)","v":0}]
[null,{"$f":"+'CABLE LENGTH'!AK38","v":0},{"$f":"IF(COUNTIF('CABLE LENGTH'!$A38:$P38,C$1)+COUNTIF('CABLE LENGTH'!$B38:$P38,C$2)=2,'CABLE LENGTH'!$AL38,0)","v":0},{"$f":"IF(COUNTIF('CABLE LENGTH'!$A38:$P38,D$1)+COUNTIF('CABLE LENGTH'!$B38:$P38,D$2)=2,'CABLE LENGTH'!$AL38,0)","v":0},{"$f":"IF(COUNTIF('CABLE LENGTH'!$A38:$P38,E$1)+COUNTIF('CABLE LENGTH'!$B38:$P38,E$2)=2,'CABLE LENGTH'!$AL38,0)","v":0},{"$f":"IF(COUNTIF('CABLE LENGTH'!$A38:$P38,F$1)+COUNTIF('CABLE LENGTH'!$B38:$P38,F$2)=2,'CABLE LENGTH'!$AL38,0)","v":0},{"$f":"IF(COUNTIF('CABLE LENGTH'!$A38:$P38,G$1)+COUNTIF('CABLE LENGTH'!$B38:$P38,G$2)=2,'CABLE LENGTH'!$AL38,0)","v":0},{"$f":"IF(COUNTIF('CABLE LENGTH'!$A38:$P38,H$1)+COUNTIF('CABLE LENGTH'!$B38:$P38,H$2)=2,'CABLE LENGTH'!$AL38,0)","v":0},{"$f":"IF(COUNTIF('CABLE LENGTH'!$A38:$P38,I$1)+COUNTIF('CABLE LENGTH'!$B38:$P38,I$2)=2,'CABLE LENGTH'!$AL38,0)","v":0},{"$f":"IF(COUNTIF('CABLE LENGTH'!$A38:$P38,J$1)+COUNTIF('CABLE LENGTH'!$B38:$P38,J$2)=2,'CABLE LENGTH'!$AL38,0)","v":0},{"$f":"IF(COUNTIF('CABLE LENGTH'!$A38:$P38,K$1)+COUNTIF('CABLE LENGTH'!$B38:$P38,K$2)=2,'CABLE LENGTH'!$AL38,0)","v":0},{"$f":"IF(COUNTIF('CABLE LENGTH'!$A38:$P38,L$1)+COUNTIF('CABLE LENGTH'!$B38:$P38,L$2)=2,'CABLE LENGTH'!$AL38,0)","v":0},{"$f":"IF(COUNTIF('CABLE LENGTH'!$A38:$P38,M$1)+COUNTIF('CABLE LENGTH'!$B38:$P38,M$2)=2,'CABLE LENGTH'!$AL38,0)","v":0},{"$f":"IF(COUNTIF('CABLE LENGTH'!$A38:$P38,N$1)+COUNTIF('CABLE LENGTH'!$B38:$P38,N$2)=2,'CABLE LENGTH'!$AL38,0)","v":0},{"$f":"IF(COUNTIF('CABLE LENGTH'!$A38:$P38,O$1)+COUNTIF('CABLE LENGTH'!$B38:$P38,O$2)=2,'CABLE LENGTH'!$AL38,0)","v":0},{"$f":"IF(COUNTIF('CABLE LENGTH'!$A38:$P38,P$1)+COUNTIF('CABLE LENGTH'!$B38:$P38,P$2)=2,'CABLE LENGTH'!$AL38,0)","v":0},{"$f":"IF(COUNTIF('CABLE LENGTH'!$A38:$P38,Q$1)+COUNTIF('CABLE LENGTH'!$B38:$P38,Q$2)=2,'CABLE LENGTH'!$AL38,0)","v":0},{"$f":"IF(COUNTIF('CABLE LENGTH'!$A38:$P38,R$1)+COUNTIF('CABLE LENGTH'!$B38:$P38,R$2)=2,'CABLE LENGTH'!$AL38,0)","v":0},{"$f":"IF(COUNTIF('CABLE LENGTH'!$A38:$P38,S$1)+COUNTIF('CABLE LENGTH'!$B38:$P38,S$2)=2,'CABLE LENGTH'!$AL38,0)","v":0},{"$f":"IF(COUNTIF('CABLE LENGTH'!$A38:$P38,T$1)+COUNTIF('CABLE LENGTH'!$B38:$P38,T$2)=2,'CABLE LENGTH'!$AL38,0)","v":0},{"$f":"IF(COUNTIF('CABLE LENGTH'!$A38:$P38,U$1)+COUNTIF('CABLE LENGTH'!$B38:$P38,U$2)=2,'CABLE LENGTH'!$AL38,0)","v":0},{"$f":"IF(COUNTIF('CABLE LENGTH'!$A38:$P38,V$1)+COUNTIF('CABLE LENGTH'!$B38:$P38,V$2)=2,'CABLE LENGTH'!$AL38,0)","v":0},{"$f":"IF(COUNTIF('CABLE LENGTH'!$A38:$P38,W$1)+COUNTIF('CABLE LENGTH'!$B38:$P38,W$2)=2,'CABLE LENGTH'!$AL38,0)","v":0},{"$f":"IF(COUNTIF('CABLE LENGTH'!$A38:$P38,X$1)+COUNTIF('CABLE LENGTH'!$B38:$P38,X$2)=2,'CABLE LENGTH'!$AL38,0)","v":0},{"$f":"IF(COUNTIF('CABLE LENGTH'!$A38:$P38,Y$1)+COUNTIF('CABLE LENGTH'!$A38:$P38,Y$2)=2,'CABLE LENGTH'!$AL38,0)","v":0},{"$f":"IF(COUNTIF('CABLE LENGTH'!$A38:$P38,Z$1)+COUNTIF('CABLE LENGTH'!$A38:$P38,Z$2)=2,'CABLE LENGTH'!$AL38,0)","v":0},{"$f":"IF(COUNTIF('CABLE LENGTH'!$A38:$P38,AA$1)+COUNTIF('CABLE LENGTH'!$A38:$P38,AA$2)=2,'CABLE LENGTH'!$AL38,0)","v":0},{"$f":"IF(COUNTIF('CABLE LENGTH'!$A38:$P38,AB$1)+COUNTIF('CABLE LENGTH'!$A38:$P38,AB$2)=2,'CABLE LENGTH'!$AL38,0)","v":0},{"$f":"IF(COUNTIF('CABLE LENGTH'!$A38:$P38,AC$1)+COUNTIF('CABLE LENGTH'!$A38:$P38,AC$2)=2,'CABLE LENGTH'!$AL38,0)","v":0},{"$f":"IF(COUNTIF('CABLE LENGTH'!$A38:$P38,AD$1)+COUNTIF('CABLE LENGTH'!$A38:$P38,AD$2)=2,'CABLE LENGTH'!$AL38,0)","v":0},{"$f":"IF(COUNTIF('CABLE LENGTH'!$A38:$P38,AE$1)+COUNTIF('CABLE LENGTH'!$A38:$P38,AE$2)=2,'CABLE LENGTH'!$AL38,0)","v":0},{"$f":"IF(COUNTIF('CABLE LENGTH'!$A38:$P38,AF$1)+COUNTIF('CABLE LENGTH'!$A38:$P38,AF$2)=2,'CABLE LENGTH'!$AL38,0)","v":0},{"$f":"IF(COUNTIF('CABLE LENGTH'!$A38:$P38,AG$1)+COUNTIF('CABLE LENGTH'!$A38:$P38,AG$2)=2,'CABLE LENGTH'!$AL38,0)","v":0},{"$f":"IF(COUNTIF('CABLE LENGTH'!$A38:$P38,AH$1)+COUNTIF('CABLE LENGTH'!$A38:$P38,AH$2)=2,'CABLE LENGTH'!$AL38,0)","v":0},{"$f":"IF(COUNTIF('CABLE LENGTH'!$A38:$P38,AI$1)+COUNTIF('CABLE LENGTH'!$A38:$P38,AI$2)=2,'CABLE LENGTH'!$AL38,0)","v":0},{"$f":"IF(COUNTIF('CABLE LENGTH'!$A38:$P38,AJ$1)+COUNTIF('CABLE LENGTH'!$A38:$P38,AJ$2)=2,'CABLE LENGTH'!$AL38,0)","v":0},{"$f":"IF(COUNTIF('CABLE LENGTH'!$A38:$P38,AK$1)+COUNTIF('CABLE LENGTH'!$A38:$P38,AK$2)=2,'CABLE LENGTH'!$AL38,0)","v":0},{"$f":"IF(COUNTIF('CABLE LENGTH'!$A38:$P38,AL$1)+COUNTIF('CABLE LENGTH'!$A38:$P38,AL$2)=2,'CABLE LENGTH'!$AL38,0)","v":0},{"$f":"IF(COUNTIF('CABLE LENGTH'!$A38:$P38,AM$1)+COUNTIF('CABLE LENGTH'!$A38:$P38,AM$2)=2,'CABLE LENGTH'!$AL38,0)","v":0},{"$f":"IF(COUNTIF('CABLE LENGTH'!$A38:$P38,AN$1)+COUNTIF('CABLE LENGTH'!$A38:$P38,AN$2)=2,'CABLE LENGTH'!$AL38,0)","v":0},{"$f":"IF(COUNTIF('CABLE LENGTH'!$A38:$P38,AO$1)+COUNTIF('CABLE LENGTH'!$A38:$P38,AO$2)=2,'CABLE LENGTH'!$AL38,0)","v":0},{"$f":"IF(COUNTIF('CABLE LENGTH'!$A38:$P38,AP$1)+COUNTIF('CABLE LENGTH'!$A38:$P38,AP$2)=2,'CABLE LENGTH'!$AL38,0)","v":0},{"$f":"IF(COUNTIF('CABLE LENGTH'!$A38:$P38,AQ$1)+COUNTIF('CABLE LENGTH'!$A38:$P38,AQ$2)=2,'CABLE LENGTH'!$AL38,0)","v":0},{"$f":"IF(COUNTIF('CABLE LENGTH'!$A38:$P38,AR$1)+COUNTIF('CABLE LENGTH'!$A38:$P38,AR$2)=2,'CABLE LENGTH'!$AL38,0)","v":0},{"$f":"IF(COUNTIF('CABLE LENGTH'!$A38:$P38,AS$1)+COUNTIF('CABLE LENGTH'!$A38:$P38,AS$2)=2,'CABLE LENGTH'!$AL38,0)","v":0},{"$f":"IF(COUNTIF('CABLE LENGTH'!$A38:$P38,AT$1)+COUNTIF('CABLE LENGTH'!$A38:$P38,AT$2)=2,'CABLE LENGTH'!$AL38,0)","v":0},{"$f":"IF(COUNTIF('CABLE LENGTH'!$A38:$P38,AU$1)+COUNTIF('CABLE LENGTH'!$A38:$P38,AU$2)=2,'CABLE LENGTH'!$AL38,0)","v":0},{"$f":"IF(COUNTIF('CABLE LENGTH'!$A38:$P38,AV$1)+COUNTIF('CABLE LENGTH'!$A38:$P38,AV$2)=2,'CABLE LENGTH'!$AL38,0)","v":0},{"$f":"IF(COUNTIF('CABLE LENGTH'!$A38:$P38,AW$1)+COUNTIF('CABLE LENGTH'!$A38:$P38,AW$2)=2,'CABLE LENGTH'!$AL38,0)","v":0},{"$f":"IF(COUNTIF('CABLE LENGTH'!$A38:$P38,AX$1)+COUNTIF('CABLE LENGTH'!$A38:$P38,AX$2)=2,'CABLE LENGTH'!$AL38,0)","v":0},{"$f":"IF(COUNTIF('CABLE LENGTH'!$A38:$P38,AY$1)+COUNTIF('CABLE LENGTH'!$A38:$P38,AY$2)=2,'CABLE LENGTH'!$AL38,0)","v":0},{"$f":"IF(COUNTIF('CABLE LENGTH'!$A38:$P38,AZ$1)+COUNTIF('CABLE LENGTH'!$A38:$P38,AZ$2)=2,'CABLE LENGTH'!$AL38,0)","v":0}]
[null,{"$f":"+'CABLE LENGTH'!AK39","v":0},{"$f":"IF(COUNTIF('CABLE LENGTH'!$A39:$P39,C$1)+COUNTIF('CABLE LENGTH'!$B39:$P39,C$2)=2,'CABLE LENGTH'!$AL39,0)","v":0},{"$f":"IF(COUNTIF('CABLE LENGTH'!$A39:$P39,D$1)+COUNTIF('CABLE LENGTH'!$B39:$P39,D$2)=2,'CABLE LENGTH'!$AL39,0)","v":0},{"$f":"IF(COUNTIF('CABLE LENGTH'!$A39:$P39,E$1)+COUNTIF('CABLE LENGTH'!$B39:$P39,E$2)=2,'CABLE LENGTH'!$AL39,0)","v":0},{"$f":"IF(COUNTIF('CABLE LENGTH'!$A39:$P39,F$1)+COUNTIF('CABLE LENGTH'!$B39:$P39,F$2)=2,'CABLE LENGTH'!$AL39,0)","v":0},{"$f":"IF(COUNTIF('CABLE LENGTH'!$A39:$P39,G$1)+COUNTIF('CABLE LENGTH'!$B39:$P39,G$2)=2,'CABLE LENGTH'!$AL39,0)","v":0},{"$f":"IF(COUNTIF('CABLE LENGTH'!$A39:$P39,H$1)+COUNTIF('CABLE LENGTH'!$B39:$P39,H$2)=2,'CABLE LENGTH'!$AL39,0)","v":0},{"$f":"IF(COUNTIF('CABLE LENGTH'!$A39:$P39,I$1)+COUNTIF('CABLE LENGTH'!$B39:$P39,I$2)=2,'CABLE LENGTH'!$AL39,0)","v":0},{"$f":"IF(COUNTIF('CABLE LENGTH'!$A39:$P39,J$1)+COUNTIF('CABLE LENGTH'!$B39:$P39,J$2)=2,'CABLE LENGTH'!$AL39,0)","v":0},{"$f":"IF(COUNTIF('CABLE LENGTH'!$A39:$P39,K$1)+COUNTIF('CABLE LENGTH'!$B39:$P39,K$2)=2,'CABLE LENGTH'!$AL39,0)","v":0},{"$f":"IF(COUNTIF('CABLE LENGTH'!$A39:$P39,L$1)+COUNTIF('CABLE LENGTH'!$B39:$P39,L$2)=2,'CABLE LENGTH'!$AL39,0)","v":0},{"$f":"IF(COUNTIF('CABLE LENGTH'!$A39:$P39,M$1)+COUNTIF('CABLE LENGTH'!$B39:$P39,M$2)=2,'CABLE LENGTH'!$AL39,0)","v":0},{"$f":"IF(COUNTIF('CABLE LENGTH'!$A39:$P39,N$1)+COUNTIF('CABLE LENGTH'!$B39:$P39,N$2)=2,'CABLE LENGTH'!$AL39,0)","v":0},{"$f":"IF(COUNTIF('CABLE LENGTH'!$A39:$P39,O$1)+COUNTIF('CABLE LENGTH'!$B39:$P39,O$2)=2,'CABLE LENGTH'!$AL39,0)","v":0},{"$f":"IF(COUNTIF('CABLE LENGTH'!$A39:$P39,P$1)+COUNTIF('CABLE LENGTH'!$B39:$P39,P$2)=2,'CABLE LENGTH'!$AL39,0)","v":0},{"$f":"IF(COUNTIF('CABLE LENGTH'!$A39:$P39,Q$1)+COUNTIF('CABLE LENGTH'!$B39:$P39,Q$2)=2,'CABLE LENGTH'!$AL39,0)","v":0},{"$f":"IF(COUNTIF('CABLE LENGTH'!$A39:$P39,R$1)+COUNTIF('CABLE LENGTH'!$B39:$P39,R$2)=2,'CABLE LENGTH'!$AL39,0)","v":0},{"$f":"IF(COUNTIF('CABLE LENGTH'!$A39:$P39,S$1)+COUNTIF('CABLE LENGTH'!$B39:$P39,S$2)=2,'CABLE LENGTH'!$AL39,0)","v":0},{"$f":"IF(COUNTIF('CABLE LENGTH'!$A39:$P39,T$1)+COUNTIF('CABLE LENGTH'!$B39:$P39,T$2)=2,'CABLE LENGTH'!$AL39,0)","v":0},{"$f":"IF(COUNTIF('CABLE LENGTH'!$A39:$P39,U$1)+COUNTIF('CABLE LENGTH'!$B39:$P39,U$2)=2,'CABLE LENGTH'!$AL39,0)","v":0},{"$f":"IF(COUNTIF('CABLE LENGTH'!$A39:$P39,V$1)+COUNTIF('CABLE LENGTH'!$B39:$P39,V$2)=2,'CABLE LENGTH'!$AL39,0)","v":0},{"$f":"IF(COUNTIF('CABLE LENGTH'!$A39:$P39,W$1)+COUNTIF('CABLE LENGTH'!$B39:$P39,W$2)=2,'CABLE LENGTH'!$AL39,0)","v":0},{"$f":"IF(COUNTIF('CABLE LENGTH'!$A39:$P39,X$1)+COUNTIF('CABLE LENGTH'!$B39:$P39,X$2)=2,'CABLE LENGTH'!$AL39,0)","v":0},{"$f":"IF(COUNTIF('CABLE LENGTH'!$A39:$P39,Y$1)+COUNTIF('CABLE LENGTH'!$A39:$P39,Y$2)=2,'CABLE LENGTH'!$AL39,0)","v":0},{"$f":"IF(COUNTIF('CABLE LENGTH'!$A39:$P39,Z$1)+COUNTIF('CABLE LENGTH'!$A39:$P39,Z$2)=2,'CABLE LENGTH'!$AL39,0)","v":0},{"$f":"IF(COUNTIF('CABLE LENGTH'!$A39:$P39,AA$1)+COUNTIF('CABLE LENGTH'!$A39:$P39,AA$2)=2,'CABLE LENGTH'!$AL39,0)","v":0},{"$f":"IF(COUNTIF('CABLE LENGTH'!$A39:$P39,AB$1)+COUNTIF('CABLE LENGTH'!$A39:$P39,AB$2)=2,'CABLE LENGTH'!$AL39,0)","v":0},{"$f":"IF(COUNTIF('CABLE LENGTH'!$A39:$P39,AC$1)+COUNTIF('CABLE LENGTH'!$A39:$P39,AC$2)=2,'CABLE LENGTH'!$AL39,0)","v":0},{"$f":"IF(COUNTIF('CABLE LENGTH'!$A39:$P39,AD$1)+COUNTIF('CABLE LENGTH'!$A39:$P39,AD$2)=2,'CABLE LENGTH'!$AL39,0)","v":0},{"$f":"IF(COUNTIF('CABLE LENGTH'!$A39:$P39,AE$1)+COUNTIF('CABLE LENGTH'!$A39:$P39,AE$2)=2,'CABLE LENGTH'!$AL39,0)","v":0},{"$f":"IF(COUNTIF('CABLE LENGTH'!$A39:$P39,AF$1)+COUNTIF('CABLE LENGTH'!$A39:$P39,AF$2)=2,'CABLE LENGTH'!$AL39,0)","v":0},{"$f":"IF(COUNTIF('CABLE LENGTH'!$A39:$P39,AG$1)+COUNTIF('CABLE LENGTH'!$A39:$P39,AG$2)=2,'CABLE LENGTH'!$AL39,0)","v":0},{"$f":"IF(COUNTIF('CABLE LENGTH'!$A39:$P39,AH$1)+COUNTIF('CABLE LENGTH'!$A39:$P39,AH$2)=2,'CABLE LENGTH'!$AL39,0)","v":0},{"$f":"IF(COUNTIF('CABLE LENGTH'!$A39:$P39,AI$1)+COUNTIF('CABLE LENGTH'!$A39:$P39,AI$2)=2,'CABLE LENGTH'!$AL39,0)","v":0},{"$f":"IF(COUNTIF('CABLE LENGTH'!$A39:$P39,AJ$1)+COUNTIF('CABLE LENGTH'!$A39:$P39,AJ$2)=2,'CABLE LENGTH'!$AL39,0)","v":0},{"$f":"IF(COUNTIF('CABLE LENGTH'!$A39:$P39,AK$1)+COUNTIF('CABLE LENGTH'!$A39:$P39,AK$2)=2,'CABLE LENGTH'!$AL39,0)","v":0},{"$f":"IF(COUNTIF('CABLE LENGTH'!$A39:$P39,AL$1)+COUNTIF('CABLE LENGTH'!$A39:$P39,AL$2)=2,'CABLE LENGTH'!$AL39,0)","v":0},{"$f":"IF(COUNTIF('CABLE LENGTH'!$A39:$P39,AM$1)+COUNTIF('CABLE LENGTH'!$A39:$P39,AM$2)=2,'CABLE LENGTH'!$AL39,0)","v":0},{"$f":"IF(COUNTIF('CABLE LENGTH'!$A39:$P39,AN$1)+COUNTIF('CABLE LENGTH'!$A39:$P39,AN$2)=2,'CABLE LENGTH'!$AL39,0)","v":0},{"$f":"IF(COUNTIF('CABLE LENGTH'!$A39:$P39,AO$1)+COUNTIF('CABLE LENGTH'!$A39:$P39,AO$2)=2,'CABLE LENGTH'!$AL39,0)","v":0},{"$f":"IF(COUNTIF('CABLE LENGTH'!$A39:$P39,AP$1)+COUNTIF('CABLE LENGTH'!$A39:$P39,AP$2)=2,'CABLE LENGTH'!$AL39,0)","v":0},{"$f":"IF(COUNTIF('CABLE LENGTH'!$A39:$P39,AQ$1)+COUNTIF('CABLE LENGTH'!$A39:$P39,AQ$2)=2,'CABLE LENGTH'!$AL39,0)","v":0},{"$f":"IF(COUNTIF('CABLE LENGTH'!$A39:$P39,AR$1)+COUNTIF('CABLE LENGTH'!$A39:$P39,AR$2)=2,'CABLE LENGTH'!$AL39,0)","v":0},{"$f":"IF(COUNTIF('CABLE LENGTH'!$A39:$P39,AS$1)+COUNTIF('CABLE LENGTH'!$A39:$P39,AS$2)=2,'CABLE LENGTH'!$AL39,0)","v":0},{"$f":"IF(COUNTIF('CABLE LENGTH'!$A39:$P39,AT$1)+COUNTIF('CABLE LENGTH'!$A39:$P39,AT$2)=2,'CABLE LENGTH'!$AL39,0)","v":0},{"$f":"IF(COUNTIF('CABLE LENGTH'!$A39:$P39,AU$1)+COUNTIF('CABLE LENGTH'!$A39:$P39,AU$2)=2,'CABLE LENGTH'!$AL39,0)","v":0},{"$f":"IF(COUNTIF('CABLE LENGTH'!$A39:$P39,AV$1)+COUNTIF('CABLE LENGTH'!$A39:$P39,AV$2)=2,'CABLE LENGTH'!$AL39,0)","v":0},{"$f":"IF(COUNTIF('CABLE LENGTH'!$A39:$P39,AW$1)+COUNTIF('CABLE LENGTH'!$A39:$P39,AW$2)=2,'CABLE LENGTH'!$AL39,0)","v":0},{"$f":"IF(COUNTIF('CABLE LENGTH'!$A39:$P39,AX$1)+COUNTIF('CABLE LENGTH'!$A39:$P39,AX$2)=2,'CABLE LENGTH'!$AL39,0)","v":0},{"$f":"IF(COUNTIF('CABLE LENGTH'!$A39:$P39,AY$1)+COUNTIF('CABLE LENGTH'!$A39:$P39,AY$2)=2,'CABLE LENGTH'!$AL39,0)","v":0},{"$f":"IF(COUNTIF('CABLE LENGTH'!$A39:$P39,AZ$1)+COUNTIF('CABLE LENGTH'!$A39:$P39,AZ$2)=2,'CABLE LENGTH'!$AL39,0)","v":0}]
[null,{"$f":"+'CABLE LENGTH'!AK40","v":0},{"$f":"IF(COUNTIF('CABLE LENGTH'!$A40:$P40,C$1)+COUNTIF('CABLE LENGTH'!$B40:$P40,C$2)=2,'CABLE LENGTH'!$AL40,0)","v":0},{"$f":"IF(COUNTIF('CABLE LENGTH'!$A40:$P40,D$1)+COUNTIF('CABLE LENGTH'!$B40:$P40,D$2)=2,'CABLE LENGTH'!$AL40,0)","v":0},{"$f":"IF(COUNTIF('CABLE LENGTH'!$A40:$P40,E$1)+COUNTIF('CABLE LENGTH'!$B40:$P40,E$2)=2,'CABLE LENGTH'!$AL40,0)","v":0},{"$f":"IF(COUNTIF('CABLE LENGTH'!$A40:$P40,F$1)+COUNTIF('CABLE LENGTH'!$B40:$P40,F$2)=2,'CABLE LENGTH'!$AL40,0)","v":0},{"$f":"IF(COUNTIF('CABLE LENGTH'!$A40:$P40,G$1)+COUNTIF('CABLE LENGTH'!$B40:$P40,G$2)=2,'CABLE LENGTH'!$AL40,0)","v":0},{"$f":"IF(COUNTIF('CABLE LENGTH'!$A40:$P40,H$1)+COUNTIF('CABLE LENGTH'!$B40:$P40,H$2)=2,'CABLE LENGTH'!$AL40,0)","v":0},{"$f":"IF(COUNTIF('CABLE LENGTH'!$A40:$P40,I$1)+COUNTIF('CABLE LENGTH'!$B40:$P40,I$2)=2,'CABLE LENGTH'!$AL40,0)","v":0},{"$f":"IF(COUNTIF('CABLE LENGTH'!$A40:$P40,J$1)+COUNTIF('CABLE LENGTH'!$B40:$P40,J$2)=2,'CABLE LENGTH'!$AL40,0)","v":0},{"$f":"IF(COUNTIF('CABLE LENGTH'!$A40:$P40,K$1)+COUNTIF('CABLE LENGTH'!$B40:$P40,K$2)=2,'CABLE LENGTH'!$AL40,0)","v":0},{"$f":"IF(COUNTIF('CABLE LENGTH'!$A40:$P40,L$1)+COUNTIF('CABLE LENGTH'!$B40:$P40,L$2)=2,'CABLE LENGTH'!$AL40,0)","v":0},{"$f":"IF(COUNTIF('CABLE LENGTH'!$A40:$P40,M$1)+COUNTIF('CABLE LENGTH'!$B40:$P40,M$2)=2,'CABLE LENGTH'!$AL40,0)","v":0},{"$f":"IF(COUNTIF('CABLE LENGTH'!$A40:$P40,N$1)+COUNTIF('CABLE LENGTH'!$B40:$P40,N$2)=2,'CABLE LENGTH'!$AL40,0)","v":0},{"$f":"IF(COUNTIF('CABLE LENGTH'!$A40:$P40,O$1)+COUNTIF('CABLE LENGTH'!$B40:$P40,O$2)=2,'CABLE LENGTH'!$AL40,0)","v":0},{"$f":"IF(COUNTIF('CABLE LENGTH'!$A40:$P40,P$1)+COUNTIF('CABLE LENGTH'!$B40:$P40,P$2)=2,'CABLE LENGTH'!$AL40,0)","v":0},{"$f":"IF(COUNTIF('CABLE LENGTH'!$A40:$P40,Q$1)+COUNTIF('CABLE LENGTH'!$B40:$P40,Q$2)=2,'CABLE LENGTH'!$AL40,0)","v":0},{"$f":"IF(COUNTIF('CABLE LENGTH'!$A40:$P40,R$1)+COUNTIF('CABLE LENGTH'!$B40:$P40,R$2)=2,'CABLE LENGTH'!$AL40,0)","v":0},{"$f":"IF(COUNTIF('CABLE LENGTH'!$A40:$P40,S$1)+COUNTIF('CABLE LENGTH'!$B40:$P40,S$2)=2,'CABLE LENGTH'!$AL40,0)","v":0},{"$f":"IF(COUNTIF('CABLE LENGTH'!$A40:$P40,T$1)+COUNTIF('CABLE LENGTH'!$B40:$P40,T$2)=2,'CABLE LENGTH'!$AL40,0)","v":0},{"$f":"IF(COUNTIF('CABLE LENGTH'!$A40:$P40,U$1)+COUNTIF('CABLE LENGTH'!$B40:$P40,U$2)=2,'CABLE LENGTH'!$AL40,0)","v":0},{"$f":"IF(COUNTIF('CABLE LENGTH'!$A40:$P40,V$1)+COUNTIF('CABLE LENGTH'!$B40:$P40,V$2)=2,'CABLE LENGTH'!$AL40,0)","v":0},{"$f":"IF(COUNTIF('CABLE LENGTH'!$A40:$P40,W$1)+COUNTIF('CABLE LENGTH'!$B40:$P40,W$2)=2,'CABLE LENGTH'!$AL40,0)","v":0},{"$f":"IF(COUNTIF('CABLE LENGTH'!$A40:$P40,X$1)+COUNTIF('CABLE LENGTH'!$B40:$P40,X$2)=2,'CABLE LENGTH'!$AL40,0)","v":0},{"$f":"IF(COUNTIF('CABLE LENGTH'!$A40:$P40,Y$1)+COUNTIF('CABLE LENGTH'!$A40:$P40,Y$2)=2,'CABLE LENGTH'!$AL40,0)","v":0},{"$f":"IF(COUNTIF('CABLE LENGTH'!$A40:$P40,Z$1)+COUNTIF('CABLE LENGTH'!$A40:$P40,Z$2)=2,'CABLE LENGTH'!$AL40,0)","v":0},{"$f":"IF(COUNTIF('CABLE LENGTH'!$A40:$P40,AA$1)+COUNTIF('CABLE LENGTH'!$A40:$P40,AA$2)=2,'CABLE LENGTH'!$AL40,0)","v":0},{"$f":"IF(COUNTIF('CABLE LENGTH'!$A40:$P40,AB$1)+COUNTIF('CABLE LENGTH'!$A40:$P40,AB$2)=2,'CABLE LENGTH'!$AL40,0)","v":0},{"$f":"IF(COUNTIF('CABLE LENGTH'!$A40:$P40,AC$1)+COUNTIF('CABLE LENGTH'!$A40:$P40,AC$2)=2,'CABLE LENGTH'!$AL40,0)","v":0},{"$f":"IF(COUNTIF('CABLE LENGTH'!$A40:$P40,AD$1)+COUNTIF('CABLE LENGTH'!$A40:$P40,AD$2)=2,'CABLE LENGTH'!$AL40,0)","v":0},{"$f":"IF(COUNTIF('CABLE LENGTH'!$A40:$P40,AE$1)+COUNTIF('CABLE LENGTH'!$A40:$P40,AE$2)=2,'CABLE LENGTH'!$AL40,0)","v":0},{"$f":"IF(COUNTIF('CABLE LENGTH'!$A40:$P40,AF$1)+COUNTIF('CABLE LENGTH'!$A40:$P40,AF$2)=2,'CABLE LENGTH'!$AL40,0)","v":0},{"$f":"IF(COUNTIF('CABLE LENGTH'!$A40:$P40,AG$1)+COUNTIF('CABLE LENGTH'!$A40:$P40,AG$2)=2,'CABLE LENGTH'!$AL40,0)","v":0},{"$f":"IF(COUNTIF('CABLE LENGTH'!$A40:$P40,AH$1)+COUNTIF('CABLE LENGTH'!$A40:$P40,AH$2)=2,'CABLE LENGTH'!$AL40,0)","v":0},{"$f":"IF(COUNTIF('CABLE LENGTH'!$A40:$P40,AI$1)+COUNTIF('CABLE LENGTH'!$A40:$P40,AI$2)=2,'CABLE LENGTH'!$AL40,0)","v":0},{"$f":"IF(COUNTIF('CABLE LENGTH'!$A40:$P40,AJ$1)+COUNTIF('CABLE LENGTH'!$A40:$P40,AJ$2)=2,'CABLE LENGTH'!$AL40,0)","v":0},{"$f":"IF(COUNTIF('CABLE LENGTH'!$A40:$P40,AK$1)+COUNTIF('CABLE LENGTH'!$A40:$P40,AK$2)=2,'CABLE LENGTH'!$AL40,0)","v":0},{"$f":"IF(COUNTIF('CABLE LENGTH'!$A40:$P40,AL$1)+COUNTIF('CABLE LENGTH'!$A40:$P40,AL$2)=2,'CABLE LENGTH'!$AL40,0)","v":0},{"$f":"IF(COUNTIF('CABLE LENGTH'!$A40:$P40,AM$1)+COUNTIF('CABLE LENGTH'!$A40:$P40,AM$2)=2,'CABLE LENGTH'!$AL40,0)","v":0},{"$f":"IF(COUNTIF('CABLE LENGTH'!$A40:$P40,AN$1)+COUNTIF('CABLE LENGTH'!$A40:$P40,AN$2)=2,'CABLE LENGTH'!$AL40,0)","v":0},{"$f":"IF(COUNTIF('CABLE LENGTH'!$A40:$P40,AO$1)+COUNTIF('CABLE LENGTH'!$A40:$P40,AO$2)=2,'CABLE LENGTH'!$AL40,0)","v":0},{"$f":"IF(COUNTIF('CABLE LENGTH'!$A40:$P40,AP$1)+COUNTIF('CABLE LENGTH'!$A40:$P40,AP$2)=2,'CABLE LENGTH'!$AL40,0)","v":0},{"$f":"IF(COUNTIF('CABLE LENGTH'!$A40:$P40,AQ$1)+COUNTIF('CABLE LENGTH'!$A40:$P40,AQ$2)=2,'CABLE LENGTH'!$AL40,0)","v":0},{"$f":"IF(COUNTIF('CABLE LENGTH'!$A40:$P40,AR$1)+COUNTIF('CABLE LENGTH'!$A40:$P40,AR$2)=2,'CABLE LENGTH'!$AL40,0)","v":0},{"$f":"IF(COUNTIF('CABLE LENGTH'!$A40:$P40,AS$1)+COUNTIF('CABLE LENGTH'!$A40:$P40,AS$2)=2,'CABLE LENGTH'!$AL40,0)","v":0},{"$f":"IF(COUNTIF('CABLE LENGTH'!$A40:$P40,AT$1)+COUNTIF('CABLE LENGTH'!$A40:$P40,AT$2)=2,'CABLE LENGTH'!$AL40,0)","v":0},{"$f":"IF(COUNTIF('CABLE LENGTH'!$A40:$P40,AU$1)+COUNTIF('CABLE LENGTH'!$A40:$P40,AU$2)=2,'CABLE LENGTH'!$AL40,0)","v":0},{"$f":"IF(COUNTIF('CABLE LENGTH'!$A40:$P40,AV$1)+COUNTIF('CABLE LENGTH'!$A40:$P40,AV$2)=2,'CABLE LENGTH'!$AL40,0)","v":0},{"$f":"IF(COUNTIF('CABLE LENGTH'!$A40:$P40,AW$1)+COUNTIF('CABLE LENGTH'!$A40:$P40,AW$2)=2,'CABLE LENGTH'!$AL40,0)","v":0},{"$f":"IF(COUNTIF('CABLE LENGTH'!$A40:$P40,AX$1)+COUNTIF('CABLE LENGTH'!$A40:$P40,AX$2)=2,'CABLE LENGTH'!$AL40,0)","v":0},{"$f":"IF(COUNTIF('CABLE LENGTH'!$A40:$P40,AY$1)+COUNTIF('CABLE LENGTH'!$A40:$P40,AY$2)=2,'CABLE LENGTH'!$AL40,0)","v":0},{"$f":"IF(COUNTIF('CABLE LENGTH'!$A40:$P40,AZ$1)+COUNTIF('CABLE LENGTH'!$A40:$P40,AZ$2)=2,'CABLE LENGTH'!$AL40,0)","v":0}]
[null,{"$f":"+'CABLE LENGTH'!AK41","v":0},{"$f":"IF(COUNTIF('CABLE LENGTH'!$A41:$P41,C$1)+COUNTIF('CABLE LENGTH'!$B41:$P41,C$2)=2,'CABLE LENGTH'!$AL41,0)","v":0},{"$f":"IF(COUNTIF('CABLE LENGTH'!$A41:$P41,D$1)+COUNTIF('CABLE LENGTH'!$B41:$P41,D$2)=2,'CABLE LENGTH'!$AL41,0)","v":0},{"$f":"IF(COUNTIF('CABLE LENGTH'!$A41:$P41,E$1)+COUNTIF('CABLE LENGTH'!$B41:$P41,E$2)=2,'CABLE LENGTH'!$AL41,0)","v":0},{"$f":"IF(COUNTIF('CABLE LENGTH'!$A41:$P41,F$1)+COUNTIF('CABLE LENGTH'!$B41:$P41,F$2)=2,'CABLE LENGTH'!$AL41,0)","v":0},{"$f":"IF(COUNTIF('CABLE LENGTH'!$A41:$P41,G$1)+COUNTIF('CABLE LENGTH'!$B41:$P41,G$2)=2,'CABLE LENGTH'!$AL41,0)","v":0},{"$f":"IF(COUNTIF('CABLE LENGTH'!$A41:$P41,H$1)+COUNTIF('CABLE LENGTH'!$B41:$P41,H$2)=2,'CABLE LENGTH'!$AL41,0)","v":0},{"$f":"IF(COUNTIF('CABLE LENGTH'!$A41:$P41,I$1)+COUNTIF('CABLE LENGTH'!$B41:$P41,I$2)=2,'CABLE LENGTH'!$AL41,0)","v":0},{"$f":"IF(COUNTIF('CABLE LENGTH'!$A41:$P41,J$1)+COUNTIF('CABLE LENGTH'!$B41:$P41,J$2)=2,'CABLE LENGTH'!$AL41,0)","v":0},{"$f":"IF(COUNTIF('CABLE LENGTH'!$A41:$P41,K$1)+COUNTIF('CABLE LENGTH'!$B41:$P41,K$2)=2,'CABLE LENGTH'!$AL41,0)","v":0},{"$f":"IF(COUNTIF('CABLE LENGTH'!$A41:$P41,L$1)+COUNTIF('CABLE LENGTH'!$B41:$P41,L$2)=2,'CABLE LENGTH'!$AL41,0)","v":0},{"$f":"IF(COUNTIF('CABLE LENGTH'!$A41:$P41,M$1)+COUNTIF('CABLE LENGTH'!$B41:$P41,M$2)=2,'CABLE LENGTH'!$AL41,0)","v":0},{"$f":"IF(COUNTIF('CABLE LENGTH'!$A41:$P41,N$1)+COUNTIF('CABLE LENGTH'!$B41:$P41,N$2)=2,'CABLE LENGTH'!$AL41,0)","v":0},{"$f":"IF(COUNTIF('CABLE LENGTH'!$A41:$P41,O$1)+COUNTIF('CABLE LENGTH'!$B41:$P41,O$2)=2,'CABLE LENGTH'!$AL41,0)","v":0},{"$f":"IF(COUNTIF('CABLE LENGTH'!$A41:$P41,P$1)+COUNTIF('CABLE LENGTH'!$B41:$P41,P$2)=2,'CABLE LENGTH'!$AL41,0)","v":0},{"$f":"IF(COUNTIF('CABLE LENGTH'!$A41:$P41,Q$1)+COUNTIF('CABLE LENGTH'!$B41:$P41,Q$2)=2,'CABLE LENGTH'!$AL41,0)","v":0},{"$f":"IF(COUNTIF('CABLE LENGTH'!$A41:$P41,R$1)+COUNTIF('CABLE LENGTH'!$B41:$P41,R$2)=2,'CABLE LENGTH'!$AL41,0)","v":0},{"$f":"IF(COUNTIF('CABLE LENGTH'!$A41:$P41,S$1)+COUNTIF('CABLE LENGTH'!$B41:$P41,S$2)=2,'CABLE LENGTH'!$AL41,0)","v":0},{"$f":"IF(COUNTIF('CABLE LENGTH'!$A41:$P41,T$1)+COUNTIF('CABLE LENGTH'!$B41:$P41,T$2)=2,'CABLE LENGTH'!$AL41,0)","v":0},{"$f":"IF(COUNTIF('CABLE LENGTH'!$A41:$P41,U$1)+COUNTIF('CABLE LENGTH'!$B41:$P41,U$2)=2,'CABLE LENGTH'!$AL41,0)","v":0},{"$f":"IF(COUNTIF('CABLE LENGTH'!$A41:$P41,V$1)+COUNTIF('CABLE LENGTH'!$B41:$P41,V$2)=2,'CABLE LENGTH'!$AL41,0)","v":0},{"$f":"IF(COUNTIF('CABLE LENGTH'!$A41:$P41,W$1)+COUNTIF('CABLE LENGTH'!$B41:$P41,W$2)=2,'CABLE LENGTH'!$AL41,0)","v":0},{"$f":"IF(COUNTIF('CABLE LENGTH'!$A41:$P41,X$1)+COUNTIF('CABLE LENGTH'!$B41:$P41,X$2)=2,'CABLE LENGTH'!$AL41,0)","v":0},{"$f":"IF(COUNTIF('CABLE LENGTH'!$A41:$P41,Y$1)+COUNTIF('CABLE LENGTH'!$A41:$P41,Y$2)=2,'CABLE LENGTH'!$AL41,0)","v":0},{"$f":"IF(COUNTIF('CABLE LENGTH'!$A41:$P41,Z$1)+COUNTIF('CABLE LENGTH'!$A41:$P41,Z$2)=2,'CABLE LENGTH'!$AL41,0)","v":0},{"$f":"IF(COUNTIF('CABLE LENGTH'!$A41:$P41,AA$1)+COUNTIF('CABLE LENGTH'!$A41:$P41,AA$2)=2,'CABLE LENGTH'!$AL41,0)","v":0},{"$f":"IF(COUNTIF('CABLE LENGTH'!$A41:$P41,AB$1)+COUNTIF('CABLE LENGTH'!$A41:$P41,AB$2)=2,'CABLE LENGTH'!$AL41,0)","v":0},{"$f":"IF(COUNTIF('CABLE LENGTH'!$A41:$P41,AC$1)+COUNTIF('CABLE LENGTH'!$A41:$P41,AC$2)=2,'CABLE LENGTH'!$AL41,0)","v":0},{"$f":"IF(COUNTIF('CABLE LENGTH'!$A41:$P41,AD$1)+COUNTIF('CABLE LENGTH'!$A41:$P41,AD$2)=2,'CABLE LENGTH'!$AL41,0)","v":0},{"$f":"IF(COUNTIF('CABLE LENGTH'!$A41:$P41,AE$1)+COUNTIF('CABLE LENGTH'!$A41:$P41,AE$2)=2,'CABLE LENGTH'!$AL41,0)","v":0},{"$f":"IF(COUNTIF('CABLE LENGTH'!$A41:$P41,AF$1)+COUNTIF('CABLE LENGTH'!$A41:$P41,AF$2)=2,'CABLE LENGTH'!$AL41,0)","v":0},{"$f":"IF(COUNTIF('CABLE LENGTH'!$A41:$P41,AG$1)+COUNTIF('CABLE LENGTH'!$A41:$P41,AG$2)=2,'CABLE LENGTH'!$AL41,0)","v":0},{"$f":"IF(COUNTIF('CABLE LENGTH'!$A41:$P41,AH$1)+COUNTIF('CABLE LENGTH'!$A41:$P41,AH$2)=2,'CABLE LENGTH'!$AL41,0)","v":0},{"$f":"IF(COUNTIF('CABLE LENGTH'!$A41:$P41,AI$1)+COUNTIF('CABLE LENGTH'!$A41:$P41,AI$2)=2,'CABLE LENGTH'!$AL41,0)","v":0},{"$f":"IF(COUNTIF('CABLE LENGTH'!$A41:$P41,AJ$1)+COUNTIF('CABLE LENGTH'!$A41:$P41,AJ$2)=2,'CABLE LENGTH'!$AL41,0)","v":0},{"$f":"IF(COUNTIF('CABLE LENGTH'!$A41:$P41,AK$1)+COUNTIF('CABLE LENGTH'!$A41:$P41,AK$2)=2,'CABLE LENGTH'!$AL41,0)","v":0},{"$f":"IF(COUNTIF('CABLE LENGTH'!$A41:$P41,AL$1)+COUNTIF('CABLE LENGTH'!$A41:$P41,AL$2)=2,'CABLE LENGTH'!$AL41,0)","v":0},{"$f":"IF(COUNTIF('CABLE LENGTH'!$A41:$P41,AM$1)+COUNTIF('CABLE LENGTH'!$A41:$P41,AM$2)=2,'CABLE LENGTH'!$AL41,0)","v":0},{"$f":"IF(COUNTIF('CABLE LENGTH'!$A41:$P41,AN$1)+COUNTIF('CABLE LENGTH'!$A41:$P41,AN$2)=2,'CABLE LENGTH'!$AL41,0)","v":0},{"$f":"IF(COUNTIF('CABLE LENGTH'!$A41:$P41,AO$1)+COUNTIF('CABLE LENGTH'!$A41:$P41,AO$2)=2,'CABLE LENGTH'!$AL41,0)","v":0},{"$f":"IF(COUNTIF('CABLE LENGTH'!$A41:$P41,AP$1)+COUNTIF('CABLE LENGTH'!$A41:$P41,AP$2)=2,'CABLE LENGTH'!$AL41,0)","v":0},{"$f":"IF(COUNTIF('CABLE LENGTH'!$A41:$P41,AQ$1)+COUNTIF('CABLE LENGTH'!$A41:$P41,AQ$2)=2,'CABLE LENGTH'!$AL41,0)","v":0},{"$f":"IF(COUNTIF('CABLE LENGTH'!$A41:$P41,AR$1)+COUNTIF('CABLE LENGTH'!$A41:$P41,AR$2)=2,'CABLE LENGTH'!$AL41,0)","v":0},{"$f":"IF(COUNTIF('CABLE LENGTH'!$A41:$P41,AS$1)+COUNTIF('CABLE LENGTH'!$A41:$P41,AS$2)=2,'CABLE LENGTH'!$AL41,0)","v":0},{"$f":"IF(COUNTIF('CABLE LENGTH'!$A41:$P41,AT$1)+COUNTIF('CABLE LENGTH'!$A41:$P41,AT$2)=2,'CABLE LENGTH'!$AL41,0)","v":0},{"$f":"IF(COUNTIF('CABLE LENGTH'!$A41:$P41,AU$1)+COUNTIF('CABLE LENGTH'!$A41:$P41,AU$2)=2,'CABLE LENGTH'!$AL41,0)","v":0},{"$f":"IF(COUNTIF('CABLE LENGTH'!$A41:$P41,AV$1)+COUNTIF('CABLE LENGTH'!$A41:$P41,AV$2)=2,'CABLE LENGTH'!$AL41,0)","v":0},{"$f":"IF(COUNTIF('CABLE LENGTH'!$A41:$P41,AW$1)+COUNTIF('CABLE LENGTH'!$A41:$P41,AW$2)=2,'CABLE LENGTH'!$AL41,0)","v":0},{"$f":"IF(COUNTIF('CABLE LENGTH'!$A41:$P41,AX$1)+COUNTIF('CABLE LENGTH'!$A41:$P41,AX$2)=2,'CABLE LENGTH'!$AL41,0)","v":0},{"$f":"IF(COUNTIF('CABLE LENGTH'!$A41:$P41,AY$1)+COUNTIF('CABLE LENGTH'!$A41:$P41,AY$2)=2,'CABLE LENGTH'!$AL41,0)","v":0},{"$f":"IF(COUNTIF('CABLE LENGTH'!$A41:$P41,AZ$1)+COUNTIF('CABLE LENGTH'!$A41:$P41,AZ$2)=2,'CABLE LENGTH'!$AL41,0)","v":0}]
[null,{"$f":"+'CABLE LENGTH'!AK42","v":0},{"$f":"IF(COUNTIF('CABLE LENGTH'!$A42:$P42,C$1)+COUNTIF('CABLE LENGTH'!$B42:$P42,C$2)=2,'CABLE LENGTH'!$AL42,0)","v":0},{"$f":"IF(COUNTIF('CABLE LENGTH'!$A42:$P42,D$1)+COUNTIF('CABLE LENGTH'!$B42:$P42,D$2)=2,'CABLE LENGTH'!$AL42,0)","v":0},{"$f":"IF(COUNTIF('CABLE LENGTH'!$A42:$P42,E$1)+COUNTIF('CABLE LENGTH'!$B42:$P42,E$2)=2,'CABLE LENGTH'!$AL42,0)","v":0},{"$f":"IF(COUNTIF('CABLE LENGTH'!$A42:$P42,F$1)+COUNTIF('CABLE LENGTH'!$B42:$P42,F$2)=2,'CABLE LENGTH'!$AL42,0)","v":0},{"$f":"IF(COUNTIF('CABLE LENGTH'!$A42:$P42,G$1)+COUNTIF('CABLE LENGTH'!$B42:$P42,G$2)=2,'CABLE LENGTH'!$AL42,0)","v":0},{"$f":"IF(COUNTIF('CABLE LENGTH'!$A42:$P42,H$1)+COUNTIF('CABLE LENGTH'!$B42:$P42,H$2)=2,'CABLE LENGTH'!$AL42,0)","v":0},{"$f":"IF(COUNTIF('CABLE LENGTH'!$A42:$P42,I$1)+COUNTIF('CABLE LENGTH'!$B42:$P42,I$2)=2,'CABLE LENGTH'!$AL42,0)","v":0},{"$f":"IF(COUNTIF('CABLE LENGTH'!$A42:$P42,J$1)+COUNTIF('CABLE LENGTH'!$B42:$P42,J$2)=2,'CABLE LENGTH'!$AL42,0)","v":0},{"$f":"IF(COUNTIF('CABLE LENGTH'!$A42:$P42,K$1)+COUNTIF('CABLE LENGTH'!$B42:$P42,K$2)=2,'CABLE LENGTH'!$AL42,0)","v":0},{"$f":"IF(COUNTIF('CABLE LENGTH'!$A42:$P42,L$1)+COUNTIF('CABLE LENGTH'!$B42:$P42,L$2)=2,'CABLE LENGTH'!$AL42,0)","v":0},{"$f":"IF(COUNTIF('CABLE LENGTH'!$A42:$P42,M$1)+COUNTIF('CABLE LENGTH'!$B42:$P42,M$2)=2,'CABLE LENGTH'!$AL42,0)","v":0},{"$f":"IF(COUNTIF('CABLE LENGTH'!$A42:$P42,N$1)+COUNTIF('CABLE LENGTH'!$B42:$P42,N$2)=2,'CABLE LENGTH'!$AL42,0)","v":0},{"$f":"IF(COUNTIF('CABLE LENGTH'!$A42:$P42,O$1)+COUNTIF('CABLE LENGTH'!$B42:$P42,O$2)=2,'CABLE LENGTH'!$AL42,0)","v":0},{"$f":"IF(COUNTIF('CABLE LENGTH'!$A42:$P42,P$1)+COUNTIF('CABLE LENGTH'!$B42:$P42,P$2)=2,'CABLE LENGTH'!$AL42,0)","v":0},{"$f":"IF(COUNTIF('CABLE LENGTH'!$A42:$P42,Q$1)+COUNTIF('CABLE LENGTH'!$B42:$P42,Q$2)=2,'CABLE LENGTH'!$AL42,0)","v":0},{"$f":"IF(COUNTIF('CABLE LENGTH'!$A42:$P42,R$1)+COUNTIF('CABLE LENGTH'!$B42:$P42,R$2)=2,'CABLE LENGTH'!$AL42,0)","v":0},{"$f":"IF(COUNTIF('CABLE LENGTH'!$A42:$P42,S$1)+COUNTIF('CABLE LENGTH'!$B42:$P42,S$2)=2,'CABLE LENGTH'!$AL42,0)","v":0},{"$f":"IF(COUNTIF('CABLE LENGTH'!$A42:$P42,T$1)+COUNTIF('CABLE LENGTH'!$B42:$P42,T$2)=2,'CABLE LENGTH'!$AL42,0)","v":0},{"$f":"IF(COUNTIF('CABLE LENGTH'!$A42:$P42,U$1)+COUNTIF('CABLE LENGTH'!$B42:$P42,U$2)=2,'CABLE LENGTH'!$AL42,0)","v":0},{"$f":"IF(COUNTIF('CABLE LENGTH'!$A42:$P42,V$1)+COUNTIF('CABLE LENGTH'!$B42:$P42,V$2)=2,'CABLE LENGTH'!$AL42,0)","v":0},{"$f":"IF(COUNTIF('CABLE LENGTH'!$A42:$P42,W$1)+COUNTIF('CABLE LENGTH'!$B42:$P42,W$2)=2,'CABLE LENGTH'!$AL42,0)","v":0},{"$f":"IF(COUNTIF('CABLE LENGTH'!$A42:$P42,X$1)+COUNTIF('CABLE LENGTH'!$B42:$P42,X$2)=2,'CABLE LENGTH'!$AL42,0)","v":0},{"$f":"IF(COUNTIF('CABLE LENGTH'!$A42:$P42,Y$1)+COUNTIF('CABLE LENGTH'!$A42:$P42,Y$2)=2,'CABLE LENGTH'!$AL42,0)","v":0},{"$f":"IF(COUNTIF('CABLE LENGTH'!$A42:$P42,Z$1)+COUNTIF('CABLE LENGTH'!$A42:$P42,Z$2)=2,'CABLE LENGTH'!$AL42,0)","v":0},{"$f":"IF(COUNTIF('CABLE LENGTH'!$A42:$P42,AA$1)+COUNTIF('CABLE LENGTH'!$A42:$P42,AA$2)=2,'CABLE LENGTH'!$AL42,0)","v":0},{"$f":"IF(COUNTIF('CABLE LENGTH'!$A42:$P42,AB$1)+COUNTIF('CABLE LENGTH'!$A42:$P42,AB$2)=2,'CABLE LENGTH'!$AL42,0)","v":0},{"$f":"IF(COUNTIF('CABLE LENGTH'!$A42:$P42,AC$1)+COUNTIF('CABLE LENGTH'!$A42:$P42,AC$2)=2,'CABLE LENGTH'!$AL42,0)","v":0},{"$f":"IF(COUNTIF('CABLE LENGTH'!$A42:$P42,AD$1)+COUNTIF('CABLE LENGTH'!$A42:$P42,AD$2)=2,'CABLE LENGTH'!$AL42,0)","v":0},{"$f":"IF(COUNTIF('CABLE LENGTH'!$A42:$P42,AE$1)+COUNTIF('CABLE LENGTH'!$A42:$P42,AE$2)=2,'CABLE LENGTH'!$AL42,0)","v":0},{"$f":"IF(COUNTIF('CABLE LENGTH'!$A42:$P42,AF$1)+COUNTIF('CABLE LENGTH'!$A42:$P42,AF$2)=2,'CABLE LENGTH'!$AL42,0)","v":0},{"$f":"IF(COUNTIF('CABLE LENGTH'!$A42:$P42,AG$1)+COUNTIF('CABLE LENGTH'!$A42:$P42,AG$2)=2,'CABLE LENGTH'!$AL42,0)","v":0},{"$f":"IF(COUNTIF('CABLE LENGTH'!$A42:$P42,AH$1)+COUNTIF('CABLE LENGTH'!$A42:$P42,AH$2)=2,'CABLE LENGTH'!$AL42,0)","v":0},{"$f":"IF(COUNTIF('CABLE LENGTH'!$A42:$P42,AI$1)+COUNTIF('CABLE LENGTH'!$A42:$P42,AI$2)=2,'CABLE LENGTH'!$AL42,0)","v":0},{"$f":"IF(COUNTIF('CABLE LENGTH'!$A42:$P42,AJ$1)+COUNTIF('CABLE LENGTH'!$A42:$P42,AJ$2)=2,'CABLE LENGTH'!$AL42,0)","v":0},{"$f":"IF(COUNTIF('CABLE LENGTH'!$A42:$P42,AK$1)+COUNTIF('CABLE LENGTH'!$A42:$P42,AK$2)=2,'CABLE LENGTH'!$AL42,0)","v":0},{"$f":"IF(COUNTIF('CABLE LENGTH'!$A42:$P42,AL$1)+COUNTIF('CABLE LENGTH'!$A42:$P42,AL$2)=2,'CABLE LENGTH'!$AL42,0)","v":0},{"$f":"IF(COUNTIF('CABLE LENGTH'!$A42:$P42,AM$1)+COUNTIF('CABLE LENGTH'!$A42:$P42,AM$2)=2,'CABLE LENGTH'!$AL42,0)","v":0},{"$f":"IF(COUNTIF('CABLE LENGTH'!$A42:$P42,AN$1)+COUNTIF('CABLE LENGTH'!$A42:$P42,AN$2)=2,'CABLE LENGTH'!$AL42,0)","v":0},{"$f":"IF(COUNTIF('CABLE LENGTH'!$A42:$P42,AO$1)+COUNTIF('CABLE LENGTH'!$A42:$P42,AO$2)=2,'CABLE LENGTH'!$AL42,0)","v":0},{"$f":"IF(COUNTIF('CABLE LENGTH'!$A42:$P42,AP$1)+COUNTIF('CABLE LENGTH'!$A42:$P42,AP$2)=2,'CABLE LENGTH'!$AL42,0)","v":0},{"$f":"IF(COUNTIF('CABLE LENGTH'!$A42:$P42,AQ$1)+COUNTIF('CABLE LENGTH'!$A42:$P42,AQ$2)=2,'CABLE LENGTH'!$AL42,0)","v":0},{"$f":"IF(COUNTIF('CABLE LENGTH'!$A42:$P42,AR$1)+COUNTIF('CABLE LENGTH'!$A42:$P42,AR$2)=2,'CABLE LENGTH'!$AL42,0)","v":0},{"$f":"IF(COUNTIF('CABLE LENGTH'!$A42:$P42,AS$1)+COUNTIF('CABLE LENGTH'!$A42:$P42,AS$2)=2,'CABLE LENGTH'!$AL42,0)","v":0},{"$f":"IF(COUNTIF('CABLE LENGTH'!$A42:$P42,AT$1)+COUNTIF('CABLE LENGTH'!$A42:$P42,AT$2)=2,'CABLE LENGTH'!$AL42,0)","v":0},{"$f":"IF(COUNTIF('CABLE LENGTH'!$A42:$P42,AU$1)+COUNTIF('CABLE LENGTH'!$A42:$P42,AU$2)=2,'CABLE LENGTH'!$AL42,0)","v":0},{"$f":"IF(COUNTIF('CABLE LENGTH'!$A42:$P42,AV$1)+COUNTIF('CABLE LENGTH'!$A42:$P42,AV$2)=2,'CABLE LENGTH'!$AL42,0)","v":0},{"$f":"IF(COUNTIF('CABLE LENGTH'!$A42:$P42,AW$1)+COUNTIF('CABLE LENGTH'!$A42:$P42,AW$2)=2,'CABLE LENGTH'!$AL42,0)","v":0},{"$f":"IF(COUNTIF('CABLE LENGTH'!$A42:$P42,AX$1)+COUNTIF('CABLE LENGTH'!$A42:$P42,AX$2)=2,'CABLE LENGTH'!$AL42,0)","v":0},{"$f":"IF(COUNTIF('CABLE LENGTH'!$A42:$P42,AY$1)+COUNTIF('CABLE LENGTH'!$A42:$P42,AY$2)=2,'CABLE LENGTH'!$AL42,0)","v":0},{"$f":"IF(COUNTIF('CABLE LENGTH'!$A42:$P42,AZ$1)+COUNTIF('CABLE LENGTH'!$A42:$P42,AZ$2)=2,'CABLE LENGTH'!$AL42,0)","v":0}]
[null,{"$f":"+'CABLE LENGTH'!AK43","v":0},{"$f":"IF(COUNTIF('CABLE LENGTH'!$A43:$P43,C$1)+COUNTIF('CABLE LENGTH'!$B43:$P43,C$2)=2,'CABLE LENGTH'!$AL43,0)","v":0},{"$f":"IF(COUNTIF('CABLE LENGTH'!$A43:$P43,D$1)+COUNTIF('CABLE LENGTH'!$B43:$P43,D$2)=2,'CABLE LENGTH'!$AL43,0)","v":0},{"$f":"IF(COUNTIF('CABLE LENGTH'!$A43:$P43,E$1)+COUNTIF('CABLE LENGTH'!$B43:$P43,E$2)=2,'CABLE LENGTH'!$AL43,0)","v":0},{"$f":"IF(COUNTIF('CABLE LENGTH'!$A43:$P43,F$1)+COUNTIF('CABLE LENGTH'!$B43:$P43,F$2)=2,'CABLE LENGTH'!$AL43,0)","v":0},{"$f":"IF(COUNTIF('CABLE LENGTH'!$A43:$P43,G$1)+COUNTIF('CABLE LENGTH'!$B43:$P43,G$2)=2,'CABLE LENGTH'!$AL43,0)","v":0},{"$f":"IF(COUNTIF('CABLE LENGTH'!$A43:$P43,H$1)+COUNTIF('CABLE LENGTH'!$B43:$P43,H$2)=2,'CABLE LENGTH'!$AL43,0)","v":0},{"$f":"IF(COUNTIF('CABLE LENGTH'!$A43:$P43,I$1)+COUNTIF('CABLE LENGTH'!$B43:$P43,I$2)=2,'CABLE LENGTH'!$AL43,0)","v":0},{"$f":"IF(COUNTIF('CABLE LENGTH'!$A43:$P43,J$1)+COUNTIF('CABLE LENGTH'!$B43:$P43,J$2)=2,'CABLE LENGTH'!$AL43,0)","v":0},{"$f":"IF(COUNTIF('CABLE LENGTH'!$A43:$P43,K$1)+COUNTIF('CABLE LENGTH'!$B43:$P43,K$2)=2,'CABLE LENGTH'!$AL43,0)","v":0},{"$f":"IF(COUNTIF('CABLE LENGTH'!$A43:$P43,L$1)+COUNTIF('CABLE LENGTH'!$B43:$P43,L$2)=2,'CABLE LENGTH'!$AL43,0)","v":0},{"$f":"IF(COUNTIF('CABLE LENGTH'!$A43:$P43,M$1)+COUNTIF('CABLE LENGTH'!$B43:$P43,M$2)=2,'CABLE LENGTH'!$AL43,0)","v":0},{"$f":"IF(COUNTIF('CABLE LENGTH'!$A43:$P43,N$1)+COUNTIF('CABLE LENGTH'!$B43:$P43,N$2)=2,'CABLE LENGTH'!$AL43,0)","v":0},{"$f":"IF(COUNTIF('CABLE LENGTH'!$A43:$P43,O$1)+COUNTIF('CABLE LENGTH'!$B43:$P43,O$2)=2,'CABLE LENGTH'!$AL43,0)","v":0},{"$f":"IF(COUNTIF('CABLE LENGTH'!$A43:$P43,P$1)+COUNTIF('CABLE LENGTH'!$B43:$P43,P$2)=2,'CABLE LENGTH'!$AL43,0)","v":0},{"$f":"IF(COUNTIF('CABLE LENGTH'!$A43:$P43,Q$1)+COUNTIF('CABLE LENGTH'!$B43:$P43,Q$2)=2,'CABLE LENGTH'!$AL43,0)","v":0},{"$f":"IF(COUNTIF('CABLE LENGTH'!$A43:$P43,R$1)+COUNTIF('CABLE LENGTH'!$B43:$P43,R$2)=2,'CABLE LENGTH'!$AL43,0)","v":0},{"$f":"IF(COUNTIF('CABLE LENGTH'!$A43:$P43,S$1)+COUNTIF('CABLE LENGTH'!$B43:$P43,S$2)=2,'CABLE LENGTH'!$AL43,0)","v":0},{"$f":"IF(COUNTIF('CABLE LENGTH'!$A43:$P43,T$1)+COUNTIF('CABLE LENGTH'!$B43:$P43,T$2)=2,'CABLE LENGTH'!$AL43,0)","v":0},{"$f":"IF(COUNTIF('CABLE LENGTH'!$A43:$P43,U$1)+COUNTIF('CABLE LENGTH'!$B43:$P43,U$2)=2,'CABLE LENGTH'!$AL43,0)","v":0},{"$f":"IF(COUNTIF('CABLE LENGTH'!$A43:$P43,V$1)+COUNTIF('CABLE LENGTH'!$B43:$P43,V$2)=2,'CABLE LENGTH'!$AL43,0)","v":0},{"$f":"IF(COUNTIF('CABLE LENGTH'!$A43:$P43,W$1)+COUNTIF('CABLE LENGTH'!$B43:$P43,W$2)=2,'CABLE LENGTH'!$AL43,0)","v":0},{"$f":"IF(COUNTIF('CABLE LENGTH'!$A43:$P43,X$1)+COUNTIF('CABLE LENGTH'!$B43:$P43,X$2)=2,'CABLE LENGTH'!$AL43,0)","v":0},{"$f":"IF(COUNTIF('CABLE LENGTH'!$A43:$P43,Y$1)+COUNTIF('CABLE LENGTH'!$A43:$P43,Y$2)=2,'CABLE LENGTH'!$AL43,0)","v":0},{"$f":"IF(COUNTIF('CABLE LENGTH'!$A43:$P43,Z$1)+COUNTIF('CABLE LENGTH'!$A43:$P43,Z$2)=2,'CABLE LENGTH'!$AL43,0)","v":0},{"$f":"IF(COUNTIF('CABLE LENGTH'!$A43:$P43,AA$1)+COUNTIF('CABLE LENGTH'!$A43:$P43,AA$2)=2,'CABLE LENGTH'!$AL43,0)","v":0},{"$f":"IF(COUNTIF('CABLE LENGTH'!$A43:$P43,AB$1)+COUNTIF('CABLE LENGTH'!$A43:$P43,AB$2)=2,'CABLE LENGTH'!$AL43,0)","v":0},{"$f":"IF(COUNTIF('CABLE LENGTH'!$A43:$P43,AC$1)+COUNTIF('CABLE LENGTH'!$A43:$P43,AC$2)=2,'CABLE LENGTH'!$AL43,0)","v":0},{"$f":"IF(COUNTIF('CABLE LENGTH'!$A43:$P43,AD$1)+COUNTIF('CABLE LENGTH'!$A43:$P43,AD$2)=2,'CABLE LENGTH'!$AL43,0)","v":0},{"$f":"IF(COUNTIF('CABLE LENGTH'!$A43:$P43,AE$1)+COUNTIF('CABLE LENGTH'!$A43:$P43,AE$2)=2,'CABLE LENGTH'!$AL43,0)","v":0},{"$f":"IF(COUNTIF('CABLE LENGTH'!$A43:$P43,AF$1)+COUNTIF('CABLE LENGTH'!$A43:$P43,AF$2)=2,'CABLE LENGTH'!$AL43,0)","v":0},{"$f":"IF(COUNTIF('CABLE LENGTH'!$A43:$P43,AG$1)+COUNTIF('CABLE LENGTH'!$A43:$P43,AG$2)=2,'CABLE LENGTH'!$AL43,0)","v":0},{"$f":"IF(COUNTIF('CABLE LENGTH'!$A43:$P43,AH$1)+COUNTIF('CABLE LENGTH'!$A43:$P43,AH$2)=2,'CABLE LENGTH'!$AL43,0)","v":0},{"$f":"IF(COUNTIF('CABLE LENGTH'!$A43:$P43,AI$1)+COUNTIF('CABLE LENGTH'!$A43:$P43,AI$2)=2,'CABLE LENGTH'!$AL43,0)","v":0},{"$f":"IF(COUNTIF('CABLE LENGTH'!$A43:$P43,AJ$1)+COUNTIF('CABLE LENGTH'!$A43:$P43,AJ$2)=2,'CABLE LENGTH'!$AL43,0)","v":0},{"$f":"IF(COUNTIF('CABLE LENGTH'!$A43:$P43,AK$1)+COUNTIF('CABLE LENGTH'!$A43:$P43,AK$2)=2,'CABLE LENGTH'!$AL43,0)","v":0},{"$f":"IF(COUNTIF('CABLE LENGTH'!$A43:$P43,AL$1)+COUNTIF('CABLE LENGTH'!$A43:$P43,AL$2)=2,'CABLE LENGTH'!$AL43,0)","v":0},{"$f":"IF(COUNTIF('CABLE LENGTH'!$A43:$P43,AM$1)+COUNTIF('CABLE LENGTH'!$A43:$P43,AM$2)=2,'CABLE LENGTH'!$AL43,0)","v":0},{"$f":"IF(COUNTIF('CABLE LENGTH'!$A43:$P43,AN$1)+COUNTIF('CABLE LENGTH'!$A43:$P43,AN$2)=2,'CABLE LENGTH'!$AL43,0)","v":0},{"$f":"IF(COUNTIF('CABLE LENGTH'!$A43:$P43,AO$1)+COUNTIF('CABLE LENGTH'!$A43:$P43,AO$2)=2,'CABLE LENGTH'!$AL43,0)","v":0},{"$f":"IF(COUNTIF('CABLE LENGTH'!$A43:$P43,AP$1)+COUNTIF('CABLE LENGTH'!$A43:$P43,AP$2)=2,'CABLE LENGTH'!$AL43,0)","v":0},{"$f":"IF(COUNTIF('CABLE LENGTH'!$A43:$P43,AQ$1)+COUNTIF('CABLE LENGTH'!$A43:$P43,AQ$2)=2,'CABLE LENGTH'!$AL43,0)","v":0},{"$f":"IF(COUNTIF('CABLE LENGTH'!$A43:$P43,AR$1)+COUNTIF('CABLE LENGTH'!$A43:$P43,AR$2)=2,'CABLE LENGTH'!$AL43,0)","v":0},{"$f":"IF(COUNTIF('CABLE LENGTH'!$A43:$P43,AS$1)+COUNTIF('CABLE LENGTH'!$A43:$P43,AS$2)=2,'CABLE LENGTH'!$AL43,0)","v":0},{"$f":"IF(COUNTIF('CABLE LENGTH'!$A43:$P43,AT$1)+COUNTIF('CABLE LENGTH'!$A43:$P43,AT$2)=2,'CABLE LENGTH'!$AL43,0)","v":0},{"$f":"IF(COUNTIF('CABLE LENGTH'!$A43:$P43,AU$1)+COUNTIF('CABLE LENGTH'!$A43:$P43,AU$2)=2,'CABLE LENGTH'!$AL43,0)","v":0},{"$f":"IF(COUNTIF('CABLE LENGTH'!$A43:$P43,AV$1)+COUNTIF('CABLE LENGTH'!$A43:$P43,AV$2)=2,'CABLE LENGTH'!$AL43,0)","v":0},{"$f":"IF(COUNTIF('CABLE LENGTH'!$A43:$P43,AW$1)+COUNTIF('CABLE LENGTH'!$A43:$P43,AW$2)=2,'CABLE LENGTH'!$AL43,0)","v":0},{"$f":"IF(COUNTIF('CABLE LENGTH'!$A43:$P43,AX$1)+COUNTIF('CABLE LENGTH'!$A43:$P43,AX$2)=2,'CABLE LENGTH'!$AL43,0)","v":0},{"$f":"IF(COUNTIF('CABLE LENGTH'!$A43:$P43,AY$1)+COUNTIF('CABLE LENGTH'!$A43:$P43,AY$2)=2,'CABLE LENGTH'!$AL43,0)","v":0},{"$f":"IF(COUNTIF('CABLE LENGTH'!$A43:$P43,AZ$1)+COUNTIF('CABLE LENGTH'!$A43:$P43,AZ$2)=2,'CABLE LENGTH'!$AL43,0)","v":0}]
[null,{"$f":"+'CABLE LENGTH'!AK44","v":0},{"$f":"IF(COUNTIF('CABLE LENGTH'!$A44:$P44,C$1)+COUNTIF('CABLE LENGTH'!$B44:$P44,C$2)=2,'CABLE LENGTH'!$AL44,0)","v":0},{"$f":"IF(COUNTIF('CABLE LENGTH'!$A44:$P44,D$1)+COUNTIF('CABLE LENGTH'!$B44:$P44,D$2)=2,'CABLE LENGTH'!$AL44,0)","v":0},{"$f":"IF(COUNTIF('CABLE LENGTH'!$A44:$P44,E$1)+COUNTIF('CABLE LENGTH'!$B44:$P44,E$2)=2,'CABLE LENGTH'!$AL44,0)","v":0},{"$f":"IF(COUNTIF('CABLE LENGTH'!$A44:$P44,F$1)+COUNTIF('CABLE LENGTH'!$B44:$P44,F$2)=2,'CABLE LENGTH'!$AL44,0)","v":0},{"$f":"IF(COUNTIF('CABLE LENGTH'!$A44:$P44,G$1)+COUNTIF('CABLE LENGTH'!$B44:$P44,G$2)=2,'CABLE LENGTH'!$AL44,0)","v":0},{"$f":"IF(COUNTIF('CABLE LENGTH'!$A44:$P44,H$1)+COUNTIF('CABLE LENGTH'!$B44:$P44,H$2)=2,'CABLE LENGTH'!$AL44,0)","v":0},{"$f":"IF(COUNTIF('CABLE LENGTH'!$A44:$P44,I$1)+COUNTIF('CABLE LENGTH'!$B44:$P44,I$2)=2,'CABLE LENGTH'!$AL44,0)","v":0},{"$f":"IF(COUNTIF('CABLE LENGTH'!$A44:$P44,J$1)+COUNTIF('CABLE LENGTH'!$B44:$P44,J$2)=2,'CABLE LENGTH'!$AL44,0)","v":0},{"$f":"IF(COUNTIF('CABLE LENGTH'!$A44:$P44,K$1)+COUNTIF('CABLE LENGTH'!$B44:$P44,K$2)=2,'CABLE LENGTH'!$AL44,0)","v":0},{"$f":"IF(COUNTIF('CABLE LENGTH'!$A44:$P44,L$1)+COUNTIF('CABLE LENGTH'!$B44:$P44,L$2)=2,'CABLE LENGTH'!$AL44,0)","v":0},{"$f":"IF(COUNTIF('CABLE LENGTH'!$A44:$P44,M$1)+COUNTIF('CABLE LENGTH'!$B44:$P44,M$2)=2,'CABLE LENGTH'!$AL44,0)","v":0},{"$f":"IF(COUNTIF('CABLE LENGTH'!$A44:$P44,N$1)+COUNTIF('CABLE LENGTH'!$B44:$P44,N$2)=2,'CABLE LENGTH'!$AL44,0)","v":0},{"$f":"IF(COUNTIF('CABLE LENGTH'!$A44:$P44,O$1)+COUNTIF('CABLE LENGTH'!$B44:$P44,O$2)=2,'CABLE LENGTH'!$AL44,0)","v":0},{"$f":"IF(COUNTIF('CABLE LENGTH'!$A44:$P44,P$1)+COUNTIF('CABLE LENGTH'!$B44:$P44,P$2)=2,'CABLE LENGTH'!$AL44,0)","v":0},{"$f":"IF(COUNTIF('CABLE LENGTH'!$A44:$P44,Q$1)+COUNTIF('CABLE LENGTH'!$B44:$P44,Q$2)=2,'CABLE LENGTH'!$AL44,0)","v":0},{"$f":"IF(COUNTIF('CABLE LENGTH'!$A44:$P44,R$1)+COUNTIF('CABLE LENGTH'!$B44:$P44,R$2)=2,'CABLE LENGTH'!$AL44,0)","v":0},{"$f":"IF(COUNTIF('CABLE LENGTH'!$A44:$P44,S$1)+COUNTIF('CABLE LENGTH'!$B44:$P44,S$2)=2,'CABLE LENGTH'!$AL44,0)","v":0},{"$f":"IF(COUNTIF('CABLE LENGTH'!$A44:$P44,T$1)+COUNTIF('CABLE LENGTH'!$B44:$P44,T$2)=2,'CABLE LENGTH'!$AL44,0)","v":0},{"$f":"IF(COUNTIF('CABLE LENGTH'!$A44:$P44,U$1)+COUNTIF('CABLE LENGTH'!$B44:$P44,U$2)=2,'CABLE LENGTH'!$AL44,0)","v":0},{"$f":"IF(COUNTIF('CABLE LENGTH'!$A44:$P44,V$1)+COUNTIF('CABLE LENGTH'!$B44:$P44,V$2)=2,'CABLE LENGTH'!$AL44,0)","v":0},{"$f":"IF(COUNTIF('CABLE LENGTH'!$A44:$P44,W$1)+COUNTIF('CABLE LENGTH'!$B44:$P44,W$2)=2,'CABLE LENGTH'!$AL44,0)","v":0},{"$f":"IF(COUNTIF('CABLE LENGTH'!$A44:$P44,X$1)+COUNTIF('CABLE LENGTH'!$B44:$P44,X$2)=2,'CABLE LENGTH'!$AL44,0)","v":0},{"$f":"IF(COUNTIF('CABLE LENGTH'!$A44:$P44,Y$1)+COUNTIF('CABLE LENGTH'!$A44:$P44,Y$2)=2,'CABLE LENGTH'!$AL44,0)","v":0},{"$f":"IF(COUNTIF('CABLE LENGTH'!$A44:$P44,Z$1)+COUNTIF('CABLE LENGTH'!$A44:$P44,Z$2)=2,'CABLE LENGTH'!$AL44,0)","v":0},{"$f":"IF(COUNTIF('CABLE LENGTH'!$A44:$P44,AA$1)+COUNTIF('CABLE LENGTH'!$A44:$P44,AA$2)=2,'CABLE LENGTH'!$AL44,0)","v":0},{"$f":"IF(COUNTIF('CABLE LENGTH'!$A44:$P44,AB$1)+COUNTIF('CABLE LENGTH'!$A44:$P44,AB$2)=2,'CABLE LENGTH'!$AL44,0)","v":0},{"$f":"IF(COUNTIF('CABLE LENGTH'!$A44:$P44,AC$1)+COUNTIF('CABLE LENGTH'!$A44:$P44,AC$2)=2,'CABLE LENGTH'!$AL44,0)","v":0},{"$f":"IF(COUNTIF('CABLE LENGTH'!$A44:$P44,AD$1)+COUNTIF('CABLE LENGTH'!$A44:$P44,AD$2)=2,'CABLE LENGTH'!$AL44,0)","v":0},{"$f":"IF(COUNTIF('CABLE LENGTH'!$A44:$P44,AE$1)+COUNTIF('CABLE LENGTH'!$A44:$P44,AE$2)=2,'CABLE LENGTH'!$AL44,0)","v":0},{"$f":"IF(COUNTIF('CABLE LENGTH'!$A44:$P44,AF$1)+COUNTIF('CABLE LENGTH'!$A44:$P44,AF$2)=2,'CABLE LENGTH'!$AL44,0)","v":0},{"$f":"IF(COUNTIF('CABLE LENGTH'!$A44:$P44,AG$1)+COUNTIF('CABLE LENGTH'!$A44:$P44,AG$2)=2,'CABLE LENGTH'!$AL44,0)","v":0},{"$f":"IF(COUNTIF('CABLE LENGTH'!$A44:$P44,AH$1)+COUNTIF('CABLE LENGTH'!$A44:$P44,AH$2)=2,'CABLE LENGTH'!$AL44,0)","v":0},{"$f":"IF(COUNTIF('CABLE LENGTH'!$A44:$P44,AI$1)+COUNTIF('CABLE LENGTH'!$A44:$P44,AI$2)=2,'CABLE LENGTH'!$AL44,0)","v":0},{"$f":"IF(COUNTIF('CABLE LENGTH'!$A44:$P44,AJ$1)+COUNTIF('CABLE LENGTH'!$A44:$P44,AJ$2)=2,'CABLE LENGTH'!$AL44,0)","v":0},{"$f":"IF(COUNTIF('CABLE LENGTH'!$A44:$P44,AK$1)+COUNTIF('CABLE LENGTH'!$A44:$P44,AK$2)=2,'CABLE LENGTH'!$AL44,0)","v":0},{"$f":"IF(COUNTIF('CABLE LENGTH'!$A44:$P44,AL$1)+COUNTIF('CABLE LENGTH'!$A44:$P44,AL$2)=2,'CABLE LENGTH'!$AL44,0)","v":0},{"$f":"IF(COUNTIF('CABLE LENGTH'!$A44:$P44,AM$1)+COUNTIF('CABLE LENGTH'!$A44:$P44,AM$2)=2,'CABLE LENGTH'!$AL44,0)","v":0},{"$f":"IF(COUNTIF('CABLE LENGTH'!$A44:$P44,AN$1)+COUNTIF('CABLE LENGTH'!$A44:$P44,AN$2)=2,'CABLE LENGTH'!$AL44,0)","v":0},{"$f":"IF(COUNTIF('CABLE LENGTH'!$A44:$P44,AO$1)+COUNTIF('CABLE LENGTH'!$A44:$P44,AO$2)=2,'CABLE LENGTH'!$AL44,0)","v":0},{"$f":"IF(COUNTIF('CABLE LENGTH'!$A44:$P44,AP$1)+COUNTIF('CABLE LENGTH'!$A44:$P44,AP$2)=2,'CABLE LENGTH'!$AL44,0)","v":0},{"$f":"IF(COUNTIF('CABLE LENGTH'!$A44:$P44,AQ$1)+COUNTIF('CABLE LENGTH'!$A44:$P44,AQ$2)=2,'CABLE LENGTH'!$AL44,0)","v":0},{"$f":"IF(COUNTIF('CABLE LENGTH'!$A44:$P44,AR$1)+COUNTIF('CABLE LENGTH'!$A44:$P44,AR$2)=2,'CABLE LENGTH'!$AL44,0)","v":0},{"$f":"IF(COUNTIF('CABLE LENGTH'!$A44:$P44,AS$1)+COUNTIF('CABLE LENGTH'!$A44:$P44,AS$2)=2,'CABLE LENGTH'!$AL44,0)","v":0},{"$f":"IF(COUNTIF('CABLE LENGTH'!$A44:$P44,AT$1)+COUNTIF('CABLE LENGTH'!$A44:$P44,AT$2)=2,'CABLE LENGTH'!$AL44,0)","v":0},{"$f":"IF(COUNTIF('CABLE LENGTH'!$A44:$P44,AU$1)+COUNTIF('CABLE LENGTH'!$A44:$P44,AU$2)=2,'CABLE LENGTH'!$AL44,0)","v":0},{"$f":"IF(COUNTIF('CABLE LENGTH'!$A44:$P44,AV$1)+COUNTIF('CABLE LENGTH'!$A44:$P44,AV$2)=2,'CABLE LENGTH'!$AL44,0)","v":0},{"$f":"IF(COUNTIF('CABLE LENGTH'!$A44:$P44,AW$1)+COUNTIF('CABLE LENGTH'!$A44:$P44,AW$2)=2,'CABLE LENGTH'!$AL44,0)","v":0},{"$f":"IF(COUNTIF('CABLE LENGTH'!$A44:$P44,AX$1)+COUNTIF('CABLE LENGTH'!$A44:$P44,AX$2)=2,'CABLE LENGTH'!$AL44,0)","v":0},{"$f":"IF(COUNTIF('CABLE LENGTH'!$A44:$P44,AY$1)+COUNTIF('CABLE LENGTH'!$A44:$P44,AY$2)=2,'CABLE LENGTH'!$AL44,0)","v":0},{"$f":"IF(COUNTIF('CABLE LENGTH'!$A44:$P44,AZ$1)+COUNTIF('CABLE LENGTH'!$A44:$P44,AZ$2)=2,'CABLE LENGTH'!$AL44,0)","v":0}]
[null,{"$f":"+'CABLE LENGTH'!AK45","v":0},{"$f":"IF(COUNTIF('CABLE LENGTH'!$A45:$P45,C$1)+COUNTIF('CABLE LENGTH'!$B45:$P45,C$2)=2,'CABLE LENGTH'!$AL45,0)","v":0},{"$f":"IF(COUNTIF('CABLE LENGTH'!$A45:$P45,D$1)+COUNTIF('CABLE LENGTH'!$B45:$P45,D$2)=2,'CABLE LENGTH'!$AL45,0)","v":0},{"$f":"IF(COUNTIF('CABLE LENGTH'!$A45:$P45,E$1)+COUNTIF('CABLE LENGTH'!$B45:$P45,E$2)=2,'CABLE LENGTH'!$AL45,0)","v":0},{"$f":"IF(COUNTIF('CABLE LENGTH'!$A45:$P45,F$1)+COUNTIF('CABLE LENGTH'!$B45:$P45,F$2)=2,'CABLE LENGTH'!$AL45,0)","v":0},{"$f":"IF(COUNTIF('CABLE LENGTH'!$A45:$P45,G$1)+COUNTIF('CABLE LENGTH'!$B45:$P45,G$2)=2,'CABLE LENGTH'!$AL45,0)","v":0},{"$f":"IF(COUNTIF('CABLE LENGTH'!$A45:$P45,H$1)+COUNTIF('CABLE LENGTH'!$B45:$P45,H$2)=2,'CABLE LENGTH'!$AL45,0)","v":0},{"$f":"IF(COUNTIF('CABLE LENGTH'!$A45:$P45,I$1)+COUNTIF('CABLE LENGTH'!$B45:$P45,I$2)=2,'CABLE LENGTH'!$AL45,0)","v":0},{"$f":"IF(COUNTIF('CABLE LENGTH'!$A45:$P45,J$1)+COUNTIF('CABLE LENGTH'!$B45:$P45,J$2)=2,'CABLE LENGTH'!$AL45,0)","v":0},{"$f":"IF(COUNTIF('CABLE LENGTH'!$A45:$P45,K$1)+COUNTIF('CABLE LENGTH'!$B45:$P45,K$2)=2,'CABLE LENGTH'!$AL45,0)","v":0},{"$f":"IF(COUNTIF('CABLE LENGTH'!$A45:$P45,L$1)+COUNTIF('CABLE LENGTH'!$B45:$P45,L$2)=2,'CABLE LENGTH'!$AL45,0)","v":0},{"$f":"IF(COUNTIF('CABLE LENGTH'!$A45:$P45,M$1)+COUNTIF('CABLE LENGTH'!$B45:$P45,M$2)=2,'CABLE LENGTH'!$AL45,0)","v":0},{"$f":"IF(COUNTIF('CABLE LENGTH'!$A45:$P45,N$1)+COUNTIF('CABLE LENGTH'!$B45:$P45,N$2)=2,'CABLE LENGTH'!$AL45,0)","v":0},{"$f":"IF(COUNTIF('CABLE LENGTH'!$A45:$P45,O$1)+COUNTIF('CABLE LENGTH'!$B45:$P45,O$2)=2,'CABLE LENGTH'!$AL45,0)","v":0},{"$f":"IF(COUNTIF('CABLE LENGTH'!$A45:$P45,P$1)+COUNTIF('CABLE LENGTH'!$B45:$P45,P$2)=2,'CABLE LENGTH'!$AL45,0)","v":0},{"$f":"IF(COUNTIF('CABLE LENGTH'!$A45:$P45,Q$1)+COUNTIF('CABLE LENGTH'!$B45:$P45,Q$2)=2,'CABLE LENGTH'!$AL45,0)","v":0},{"$f":"IF(COUNTIF('CABLE LENGTH'!$A45:$P45,R$1)+COUNTIF('CABLE LENGTH'!$B45:$P45,R$2)=2,'CABLE LENGTH'!$AL45,0)","v":0},{"$f":"IF(COUNTIF('CABLE LENGTH'!$A45:$P45,S$1)+COUNTIF('CABLE LENGTH'!$B45:$P45,S$2)=2,'CABLE LENGTH'!$AL45,0)","v":0},{"$f":"IF(COUNTIF('CABLE LENGTH'!$A45:$P45,T$1)+COUNTIF('CABLE LENGTH'!$B45:$P45,T$2)=2,'CABLE LENGTH'!$AL45,0)","v":0},{"$f":"IF(COUNTIF('CABLE LENGTH'!$A45:$P45,U$1)+COUNTIF('CABLE LENGTH'!$B45:$P45,U$2)=2,'CABLE LENGTH'!$AL45,0)","v":0},{"$f":"IF(COUNTIF('CABLE LENGTH'!$A45:$P45,V$1)+COUNTIF('CABLE LENGTH'!$B45:$P45,V$2)=2,'CABLE LENGTH'!$AL45,0)","v":0},{"$f":"IF(COUNTIF('CABLE LENGTH'!$A45:$P45,W$1)+COUNTIF('CABLE LENGTH'!$B45:$P45,W$2)=2,'CABLE LENGTH'!$AL45,0)","v":0},{"$f":"IF(COUNTIF('CABLE LENGTH'!$A45:$P45,X$1)+COUNTIF('CABLE LENGTH'!$B45:$P45,X$2)=2,'CABLE LENGTH'!$AL45,0)","v":0},{"$f":"IF(COUNTIF('CABLE LENGTH'!$A45:$P45,Y$1)+COUNTIF('CABLE LENGTH'!$A45:$P45,Y$2)=2,'CABLE LENGTH'!$AL45,0)","v":0},{"$f":"IF(COUNTIF('CABLE LENGTH'!$A45:$P45,Z$1)+COUNTIF('CABLE LENGTH'!$A45:$P45,Z$2)=2,'CABLE LENGTH'!$AL45,0)","v":0},{"$f":"IF(COUNTIF('CABLE LENGTH'!$A45:$P45,AA$1)+COUNTIF('CABLE LENGTH'!$A45:$P45,AA$2)=2,'CABLE LENGTH'!$AL45,0)","v":0},{"$f":"IF(COUNTIF('CABLE LENGTH'!$A45:$P45,AB$1)+COUNTIF('CABLE LENGTH'!$A45:$P45,AB$2)=2,'CABLE LENGTH'!$AL45,0)","v":0},{"$f":"IF(COUNTIF('CABLE LENGTH'!$A45:$P45,AC$1)+COUNTIF('CABLE LENGTH'!$A45:$P45,AC$2)=2,'CABLE LENGTH'!$AL45,0)","v":0},{"$f":"IF(COUNTIF('CABLE LENGTH'!$A45:$P45,AD$1)+COUNTIF('CABLE LENGTH'!$A45:$P45,AD$2)=2,'CABLE LENGTH'!$AL45,0)","v":0},{"$f":"IF(COUNTIF('CABLE LENGTH'!$A45:$P45,AE$1)+COUNTIF('CABLE LENGTH'!$A45:$P45,AE$2)=2,'CABLE LENGTH'!$AL45,0)","v":0},{"$f":"IF(COUNTIF('CABLE LENGTH'!$A45:$P45,AF$1)+COUNTIF('CABLE LENGTH'!$A45:$P45,AF$2)=2,'CABLE LENGTH'!$AL45,0)","v":0},{"$f":"IF(COUNTIF('CABLE LENGTH'!$A45:$P45,AG$1)+COUNTIF('CABLE LENGTH'!$A45:$P45,AG$2)=2,'CABLE LENGTH'!$AL45,0)","v":0},{"$f":"IF(COUNTIF('CABLE LENGTH'!$A45:$P45,AH$1)+COUNTIF('CABLE LENGTH'!$A45:$P45,AH$2)=2,'CABLE LENGTH'!$AL45,0)","v":0},{"$f":"IF(COUNTIF('CABLE LENGTH'!$A45:$P45,AI$1)+COUNTIF('CABLE LENGTH'!$A45:$P45,AI$2)=2,'CABLE LENGTH'!$AL45,0)","v":0},{"$f":"IF(COUNTIF('CABLE LENGTH'!$A45:$P45,AJ$1)+COUNTIF('CABLE LENGTH'!$A45:$P45,AJ$2)=2,'CABLE LENGTH'!$AL45,0)","v":0},{"$f":"IF(COUNTIF('CABLE LENGTH'!$A45:$P45,AK$1)+COUNTIF('CABLE LENGTH'!$A45:$P45,AK$2)=2,'CABLE LENGTH'!$AL45,0)","v":0},{"$f":"IF(COUNTIF('CABLE LENGTH'!$A45:$P45,AL$1)+COUNTIF('CABLE LENGTH'!$A45:$P45,AL$2)=2,'CABLE LENGTH'!$AL45,0)","v":0},{"$f":"IF(COUNTIF('CABLE LENGTH'!$A45:$P45,AM$1)+COUNTIF('CABLE LENGTH'!$A45:$P45,AM$2)=2,'CABLE LENGTH'!$AL45,0)","v":0},{"$f":"IF(COUNTIF('CABLE LENGTH'!$A45:$P45,AN$1)+COUNTIF('CABLE LENGTH'!$A45:$P45,AN$2)=2,'CABLE LENGTH'!$AL45,0)","v":0},{"$f":"IF(COUNTIF('CABLE LENGTH'!$A45:$P45,AO$1)+COUNTIF('CABLE LENGTH'!$A45:$P45,AO$2)=2,'CABLE LENGTH'!$AL45,0)","v":0},{"$f":"IF(COUNTIF('CABLE LENGTH'!$A45:$P45,AP$1)+COUNTIF('CABLE LENGTH'!$A45:$P45,AP$2)=2,'CABLE LENGTH'!$AL45,0)","v":0},{"$f":"IF(COUNTIF('CABLE LENGTH'!$A45:$P45,AQ$1)+COUNTIF('CABLE LENGTH'!$A45:$P45,AQ$2)=2,'CABLE LENGTH'!$AL45,0)","v":0},{"$f":"IF(COUNTIF('CABLE LENGTH'!$A45:$P45,AR$1)+COUNTIF('CABLE LENGTH'!$A45:$P45,AR$2)=2,'CABLE LENGTH'!$AL45,0)","v":0},{"$f":"IF(COUNTIF('CABLE LENGTH'!$A45:$P45,AS$1)+COUNTIF('CABLE LENGTH'!$A45:$P45,AS$2)=2,'CABLE LENGTH'!$AL45,0)","v":0},{"$f":"IF(COUNTIF('CABLE LENGTH'!$A45:$P45,AT$1)+COUNTIF('CABLE LENGTH'!$A45:$P45,AT$2)=2,'CABLE LENGTH'!$AL45,0)","v":0},{"$f":"IF(COUNTIF('CABLE LENGTH'!$A45:$P45,AU$1)+COUNTIF('CABLE LENGTH'!$A45:$P45,AU$2)=2,'CABLE LENGTH'!$AL45,0)","v":0},{"$f":"IF(COUNTIF('CABLE LENGTH'!$A45:$P45,AV$1)+COUNTIF('CABLE LENGTH'!$A45:$P45,AV$2)=2,'CABLE LENGTH'!$AL45,0)","v":0},{"$f":"IF(COUNTIF('CABLE LENGTH'!$A45:$P45,AW$1)+COUNTIF('CABLE LENGTH'!$A45:$P45,AW$2)=2,'CABLE LENGTH'!$AL45,0)","v":0},{"$f":"IF(COUNTIF('CABLE LENGTH'!$A45:$P45,AX$1)+COUNTIF('CABLE LENGTH'!$A45:$P45,AX$2)=2,'CABLE LENGTH'!$AL45,0)","v":0},{"$f":"IF(COUNTIF('CABLE LENGTH'!$A45:$P45,AY$1)+COUNTIF('CABLE LENGTH'!$A45:$P45,AY$2)=2,'CABLE LENGTH'!$AL45,0)","v":0},{"$f":"IF(COUNTIF('CABLE LENGTH'!$A45:$P45,AZ$1)+COUNTIF('CABLE LENGTH'!$A45:$P45,AZ$2)=2,'CABLE LENGTH'!$AL45,0)","v":0}]
[null,{"$f":"+'CABLE LENGTH'!AK46","v":0},{"$f":"IF(COUNTIF('CABLE LENGTH'!$A46:$P46,C$1)+COUNTIF('CABLE LENGTH'!$B46:$P46,C$2)=2,'CABLE LENGTH'!$AL46,0)","v":0},{"$f":"IF(COUNTIF('CABLE LENGTH'!$A46:$P46,D$1)+COUNTIF('CABLE LENGTH'!$B46:$P46,D$2)=2,'CABLE LENGTH'!$AL46,0)","v":0},{"$f":"IF(COUNTIF('CABLE LENGTH'!$A46:$P46,E$1)+COUNTIF('CABLE LENGTH'!$B46:$P46,E$2)=2,'CABLE LENGTH'!$AL46,0)","v":0},{"$f":"IF(COUNTIF('CABLE LENGTH'!$A46:$P46,F$1)+COUNTIF('CABLE LENGTH'!$B46:$P46,F$2)=2,'CABLE LENGTH'!$AL46,0)","v":0},{"$f":"IF(COUNTIF('CABLE LENGTH'!$A46:$P46,G$1)+COUNTIF('CABLE LENGTH'!$B46:$P46,G$2)=2,'CABLE LENGTH'!$AL46,0)","v":0},{"$f":"IF(COUNTIF('CABLE LENGTH'!$A46:$P46,H$1)+COUNTIF('CABLE LENGTH'!$B46:$P46,H$2)=2,'CABLE LENGTH'!$AL46,0)","v":0},{"$f":"IF(COUNTIF('CABLE LENGTH'!$A46:$P46,I$1)+COUNTIF('CABLE LENGTH'!$B46:$P46,I$2)=2,'CABLE LENGTH'!$AL46,0)","v":0},{"$f":"IF(COUNTIF('CABLE LENGTH'!$A46:$P46,J$1)+COUNTIF('CABLE LENGTH'!$B46:$P46,J$2)=2,'CABLE LENGTH'!$AL46,0)","v":0},{"$f":"IF(COUNTIF('CABLE LENGTH'!$A46:$P46,K$1)+COUNTIF('CABLE LENGTH'!$B46:$P46,K$2)=2,'CABLE LENGTH'!$AL46,0)","v":0},{"$f":"IF(COUNTIF('CABLE LENGTH'!$A46:$P46,L$1)+COUNTIF('CABLE LENGTH'!$B46:$P46,L$2)=2,'CABLE LENGTH'!$AL46,0)","v":0},{"$f":"IF(COUNTIF('CABLE LENGTH'!$A46:$P46,M$1)+COUNTIF('CABLE LENGTH'!$B46:$P46,M$2)=2,'CABLE LENGTH'!$AL46,0)","v":0},{"$f":"IF(COUNTIF('CABLE LENGTH'!$A46:$P46,N$1)+COUNTIF('CABLE LENGTH'!$B46:$P46,N$2)=2,'CABLE LENGTH'!$AL46,0)","v":0},{"$f":"IF(COUNTIF('CABLE LENGTH'!$A46:$P46,O$1)+COUNTIF('CABLE LENGTH'!$B46:$P46,O$2)=2,'CABLE LENGTH'!$AL46,0)","v":0},{"$f":"IF(COUNTIF('CABLE LENGTH'!$A46:$P46,P$1)+COUNTIF('CABLE LENGTH'!$B46:$P46,P$2)=2,'CABLE LENGTH'!$AL46,0)","v":0},{"$f":"IF(COUNTIF('CABLE LENGTH'!$A46:$P46,Q$1)+COUNTIF('CABLE LENGTH'!$B46:$P46,Q$2)=2,'CABLE LENGTH'!$AL46,0)","v":0},{"$f":"IF(COUNTIF('CABLE LENGTH'!$A46:$P46,R$1)+COUNTIF('CABLE LENGTH'!$B46:$P46,R$2)=2,'CABLE LENGTH'!$AL46,0)","v":0},{"$f":"IF(COUNTIF('CABLE LENGTH'!$A46:$P46,S$1)+COUNTIF('CABLE LENGTH'!$B46:$P46,S$2)=2,'CABLE LENGTH'!$AL46,0)","v":0},{"$f":"IF(COUNTIF('CABLE LENGTH'!$A46:$P46,T$1)+COUNTIF('CABLE LENGTH'!$B46:$P46,T$2)=2,'CABLE LENGTH'!$AL46,0)","v":0},{"$f":"IF(COUNTIF('CABLE LENGTH'!$A46:$P46,U$1)+COUNTIF('CABLE LENGTH'!$B46:$P46,U$2)=2,'CABLE LENGTH'!$AL46,0)","v":0},{"$f":"IF(COUNTIF('CABLE LENGTH'!$A46:$P46,V$1)+COUNTIF('CABLE LENGTH'!$B46:$P46,V$2)=2,'CABLE LENGTH'!$AL46,0)","v":0},{"$f":"IF(COUNTIF('CABLE LENGTH'!$A46:$P46,W$1)+COUNTIF('CABLE LENGTH'!$B46:$P46,W$2)=2,'CABLE LENGTH'!$AL46,0)","v":0},{"$f":"IF(COUNTIF('CABLE LENGTH'!$A46:$P46,X$1)+COUNTIF('CABLE LENGTH'!$B46:$P46,X$2)=2,'CABLE LENGTH'!$AL46,0)","v":0},{"$f":"IF(COUNTIF('CABLE LENGTH'!$A46:$P46,Y$1)+COUNTIF('CABLE LENGTH'!$A46:$P46,Y$2)=2,'CABLE LENGTH'!$AL46,0)","v":0},{"$f":"IF(COUNTIF('CABLE LENGTH'!$A46:$P46,Z$1)+COUNTIF('CABLE LENGTH'!$A46:$P46,Z$2)=2,'CABLE LENGTH'!$AL46,0)","v":0},{"$f":"IF(COUNTIF('CABLE LENGTH'!$A46:$P46,AA$1)+COUNTIF('CABLE LENGTH'!$A46:$P46,AA$2)=2,'CABLE LENGTH'!$AL46,0)","v":0},{"$f":"IF(COUNTIF('CABLE LENGTH'!$A46:$P46,AB$1)+COUNTIF('CABLE LENGTH'!$A46:$P46,AB$2)=2,'CABLE LENGTH'!$AL46,0)","v":0},{"$f":"IF(COUNTIF('CABLE LENGTH'!$A46:$P46,AC$1)+COUNTIF('CABLE LENGTH'!$A46:$P46,AC$2)=2,'CABLE LENGTH'!$AL46,0)","v":0},{"$f":"IF(COUNTIF('CABLE LENGTH'!$A46:$P46,AD$1)+COUNTIF('CABLE LENGTH'!$A46:$P46,AD$2)=2,'CABLE LENGTH'!$AL46,0)","v":0},{"$f":"IF(COUNTIF('CABLE LENGTH'!$A46:$P46,AE$1)+COUNTIF('CABLE LENGTH'!$A46:$P46,AE$2)=2,'CABLE LENGTH'!$AL46,0)","v":0},{"$f":"IF(COUNTIF('CABLE LENGTH'!$A46:$P46,AF$1)+COUNTIF('CABLE LENGTH'!$A46:$P46,AF$2)=2,'CABLE LENGTH'!$AL46,0)","v":0},{"$f":"IF(COUNTIF('CABLE LENGTH'!$A46:$P46,AG$1)+COUNTIF('CABLE LENGTH'!$A46:$P46,AG$2)=2,'CABLE LENGTH'!$AL46,0)","v":0},{"$f":"IF(COUNTIF('CABLE LENGTH'!$A46:$P46,AH$1)+COUNTIF('CABLE LENGTH'!$A46:$P46,AH$2)=2,'CABLE LENGTH'!$AL46,0)","v":0},{"$f":"IF(COUNTIF('CABLE LENGTH'!$A46:$P46,AI$1)+COUNTIF('CABLE LENGTH'!$A46:$P46,AI$2)=2,'CABLE LENGTH'!$AL46,0)","v":0},{"$f":"IF(COUNTIF('CABLE LENGTH'!$A46:$P46,AJ$1)+COUNTIF('CABLE LENGTH'!$A46:$P46,AJ$2)=2,'CABLE LENGTH'!$AL46,0)","v":0},{"$f":"IF(COUNTIF('CABLE LENGTH'!$A46:$P46,AK$1)+COUNTIF('CABLE LENGTH'!$A46:$P46,AK$2)=2,'CABLE LENGTH'!$AL46,0)","v":0},{"$f":"IF(COUNTIF('CABLE LENGTH'!$A46:$P46,AL$1)+COUNTIF('CABLE LENGTH'!$A46:$P46,AL$2)=2,'CABLE LENGTH'!$AL46,0)","v":0},{"$f":"IF(COUNTIF('CABLE LENGTH'!$A46:$P46,AM$1)+COUNTIF('CABLE LENGTH'!$A46:$P46,AM$2)=2,'CABLE LENGTH'!$AL46,0)","v":0},{"$f":"IF(COUNTIF('CABLE LENGTH'!$A46:$P46,AN$1)+COUNTIF('CABLE LENGTH'!$A46:$P46,AN$2)=2,'CABLE LENGTH'!$AL46,0)","v":0},{"$f":"IF(COUNTIF('CABLE LENGTH'!$A46:$P46,AO$1)+COUNTIF('CABLE LENGTH'!$A46:$P46,AO$2)=2,'CABLE LENGTH'!$AL46,0)","v":0},{"$f":"IF(COUNTIF('CABLE LENGTH'!$A46:$P46,AP$1)+COUNTIF('CABLE LENGTH'!$A46:$P46,AP$2)=2,'CABLE LENGTH'!$AL46,0)","v":0},{"$f":"IF(COUNTIF('CABLE LENGTH'!$A46:$P46,AQ$1)+COUNTIF('CABLE LENGTH'!$A46:$P46,AQ$2)=2,'CABLE LENGTH'!$AL46,0)","v":0},{"$f":"IF(COUNTIF('CABLE LENGTH'!$A46:$P46,AR$1)+COUNTIF('CABLE LENGTH'!$A46:$P46,AR$2)=2,'CABLE LENGTH'!$AL46,0)","v":0},{"$f":"IF(COUNTIF('CABLE LENGTH'!$A46:$P46,AS$1)+COUNTIF('CABLE LENGTH'!$A46:$P46,AS$2)=2,'CABLE LENGTH'!$AL46,0)","v":0},{"$f":"IF(COUNTIF('CABLE LENGTH'!$A46:$P46,AT$1)+COUNTIF('CABLE LENGTH'!$A46:$P46,AT$2)=2,'CABLE LENGTH'!$AL46,0)","v":0},{"$f":"IF(COUNTIF('CABLE LENGTH'!$A46:$P46,AU$1)+COUNTIF('CABLE LENGTH'!$A46:$P46,AU$2)=2,'CABLE LENGTH'!$AL46,0)","v":0},{"$f":"IF(COUNTIF('CABLE LENGTH'!$A46:$P46,AV$1)+COUNTIF('CABLE LENGTH'!$A46:$P46,AV$2)=2,'CABLE LENGTH'!$AL46,0)","v":0},{"$f":"IF(COUNTIF('CABLE LENGTH'!$A46:$P46,AW$1)+COUNTIF('CABLE LENGTH'!$A46:$P46,AW$2)=2,'CABLE LENGTH'!$AL46,0)","v":0},{"$f":"IF(COUNTIF('CABLE LENGTH'!$A46:$P46,AX$1)+COUNTIF('CABLE LENGTH'!$A46:$P46,AX$2)=2,'CABLE LENGTH'!$AL46,0)","v":0},{"$f":"IF(COUNTIF('CABLE LENGTH'!$A46:$P46,AY$1)+COUNTIF('CABLE LENGTH'!$A46:$P46,AY$2)=2,'CABLE LENGTH'!$AL46,0)","v":0},{"$f":"IF(COUNTIF('CABLE LENGTH'!$A46:$P46,AZ$1)+COUNTIF('CABLE LENGTH'!$A46:$P46,AZ$2)=2,'CABLE LENGTH'!$AL46,0)","v":0}]
[null,{"$f":"+'CABLE LENGTH'!AK47","v":0},{"$f":"IF(COUNTIF('CABLE LENGTH'!$A47:$P47,C$1)+COUNTIF('CABLE LENGTH'!$B47:$P47,C$2)=2,'CABLE LENGTH'!$AL47,0)","v":0},{"$f":"IF(COUNTIF('CABLE LENGTH'!$A47:$P47,D$1)+COUNTIF('CABLE LENGTH'!$B47:$P47,D$2)=2,'CABLE LENGTH'!$AL47,0)","v":0},{"$f":"IF(COUNTIF('CABLE LENGTH'!$A47:$P47,E$1)+COUNTIF('CABLE LENGTH'!$B47:$P47,E$2)=2,'CABLE LENGTH'!$AL47,0)","v":0},{"$f":"IF(COUNTIF('CABLE LENGTH'!$A47:$P47,F$1)+COUNTIF('CABLE LENGTH'!$B47:$P47,F$2)=2,'CABLE LENGTH'!$AL47,0)","v":0},{"$f":"IF(COUNTIF('CABLE LENGTH'!$A47:$P47,G$1)+COUNTIF('CABLE LENGTH'!$B47:$P47,G$2)=2,'CABLE LENGTH'!$AL47,0)","v":0},{"$f":"IF(COUNTIF('CABLE LENGTH'!$A47:$P47,H$1)+COUNTIF('CABLE LENGTH'!$B47:$P47,H$2)=2,'CABLE LENGTH'!$AL47,0)","v":0},{"$f":"IF(COUNTIF('CABLE LENGTH'!$A47:$P47,I$1)+COUNTIF('CABLE LENGTH'!$B47:$P47,I$2)=2,'CABLE LENGTH'!$AL47,0)","v":0},{"$f":"IF(COUNTIF('CABLE LENGTH'!$A47:$P47,J$1)+COUNTIF('CABLE LENGTH'!$B47:$P47,J$2)=2,'CABLE LENGTH'!$AL47,0)","v":0},{"$f":"IF(COUNTIF('CABLE LENGTH'!$A47:$P47,K$1)+COUNTIF('CABLE LENGTH'!$B47:$P47,K$2)=2,'CABLE LENGTH'!$AL47,0)","v":0},{"$f":"IF(COUNTIF('CABLE LENGTH'!$A47:$P47,L$1)+COUNTIF('CABLE LENGTH'!$B47:$P47,L$2)=2,'CABLE LENGTH'!$AL47,0)","v":0},{"$f":"IF(COUNTIF('CABLE LENGTH'!$A47:$P47,M$1)+COUNTIF('CABLE LENGTH'!$B47:$P47,M$2)=2,'CABLE LENGTH'!$AL47,0)","v":0},{"$f":"IF(COUNTIF('CABLE LENGTH'!$A47:$P47,N$1)+COUNTIF('CABLE LENGTH'!$B47:$P47,N$2)=2,'CABLE LENGTH'!$AL47,0)","v":0},{"$f":"IF(COUNTIF('CABLE LENGTH'!$A47:$P47,O$1)+COUNTIF('CABLE LENGTH'!$B47:$P47,O$2)=2,'CABLE LENGTH'!$AL47,0)","v":0},{"$f":"IF(COUNTIF('CABLE LENGTH'!$A47:$P47,P$1)+COUNTIF('CABLE LENGTH'!$B47:$P47,P$2)=2,'CABLE LENGTH'!$AL47,0)","v":0},{"$f":"IF(COUNTIF('CABLE LENGTH'!$A47:$P47,Q$1)+COUNTIF('CABLE LENGTH'!$B47:$P47,Q$2)=2,'CABLE LENGTH'!$AL47,0)","v":0},{"$f":"IF(COUNTIF('CABLE LENGTH'!$A47:$P47,R$1)+COUNTIF('CABLE LENGTH'!$B47:$P47,R$2)=2,'CABLE LENGTH'!$AL47,0)","v":0},{"$f":"IF(COUNTIF('CABLE LENGTH'!$A47:$P47,S$1)+COUNTIF('CABLE LENGTH'!$B47:$P47,S$2)=2,'CABLE LENGTH'!$AL47,0)","v":0},{"$f":"IF(COUNTIF('CABLE LENGTH'!$A47:$P47,T$1)+COUNTIF('CABLE LENGTH'!$B47:$P47,T$2)=2,'CABLE LENGTH'!$AL47,0)","v":0},{"$f":"IF(COUNTIF('CABLE LENGTH'!$A47:$P47,U$1)+COUNTIF('CABLE LENGTH'!$B47:$P47,U$2)=2,'CABLE LENGTH'!$AL47,0)","v":0},{"$f":"IF(COUNTIF('CABLE LENGTH'!$A47:$P47,V$1)+COUNTIF('CABLE LENGTH'!$B47:$P47,V$2)=2,'CABLE LENGTH'!$AL47,0)","v":0},{"$f":"IF(COUNTIF('CABLE LENGTH'!$A47:$P47,W$1)+COUNTIF('CABLE LENGTH'!$B47:$P47,W$2)=2,'CABLE LENGTH'!$AL47,0)","v":0},{"$f":"IF(COUNTIF('CABLE LENGTH'!$A47:$P47,X$1)+COUNTIF('CABLE LENGTH'!$B47:$P47,X$2)=2,'CABLE LENGTH'!$AL47,0)","v":0},{"$f":"IF(COUNTIF('CABLE LENGTH'!$A47:$P47,Y$1)+COUNTIF('CABLE LENGTH'!$A47:$P47,Y$2)=2,'CABLE LENGTH'!$AL47,0)","v":0},{"$f":"IF(COUNTIF('CABLE LENGTH'!$A47:$P47,Z$1)+COUNTIF('CABLE LENGTH'!$A47:$P47,Z$2)=2,'CABLE LENGTH'!$AL47,0)","v":0},{"$f":"IF(COUNTIF('CABLE LENGTH'!$A47:$P47,AA$1)+COUNTIF('CABLE LENGTH'!$A47:$P47,AA$2)=2,'CABLE LENGTH'!$AL47,0)","v":0},{"$f":"IF(COUNTIF('CABLE LENGTH'!$A47:$P47,AB$1)+COUNTIF('CABLE LENGTH'!$A47:$P47,AB$2)=2,'CABLE LENGTH'!$AL47,0)","v":0},{"$f":"IF(COUNTIF('CABLE LENGTH'!$A47:$P47,AC$1)+COUNTIF('CABLE LENGTH'!$A47:$P47,AC$2)=2,'CABLE LENGTH'!$AL47,0)","v":0},{"$f":"IF(COUNTIF('CABLE LENGTH'!$A47:$P47,AD$1)+COUNTIF('CABLE LENGTH'!$A47:$P47,AD$2)=2,'CABLE LENGTH'!$AL47,0)","v":0},{"$f":"IF(COUNTIF('CABLE LENGTH'!$A47:$P47,AE$1)+COUNTIF('CABLE LENGTH'!$A47:$P47,AE$2)=2,'CABLE LENGTH'!$AL47,0)","v":0},{"$f":"IF(COUNTIF('CABLE LENGTH'!$A47:$P47,AF$1)+COUNTIF('CABLE LENGTH'!$A47:$P47,AF$2)=2,'CABLE LENGTH'!$AL47,0)","v":0},{"$f":"IF(COUNTIF('CABLE LENGTH'!$A47:$P47,AG$1)+COUNTIF('CABLE LENGTH'!$A47:$P47,AG$2)=2,'CABLE LENGTH'!$AL47,0)","v":0},{"$f":"IF(COUNTIF('CABLE LENGTH'!$A47:$P47,AH$1)+COUNTIF('CABLE LENGTH'!$A47:$P47,AH$2)=2,'CABLE LENGTH'!$AL47,0)","v":0},{"$f":"IF(COUNTIF('CABLE LENGTH'!$A47:$P47,AI$1)+COUNTIF('CABLE LENGTH'!$A47:$P47,AI$2)=2,'CABLE LENGTH'!$AL47,0)","v":0},{"$f":"IF(COUNTIF('CABLE LENGTH'!$A47:$P47,AJ$1)+COUNTIF('CABLE LENGTH'!$A47:$P47,AJ$2)=2,'CABLE LENGTH'!$AL47,0)","v":0},{"$f":"IF(COUNTIF('CABLE LENGTH'!$A47:$P47,AK$1)+COUNTIF('CABLE LENGTH'!$A47:$P47,AK$2)=2,'CABLE LENGTH'!$AL47,0)","v":0},{"$f":"IF(COUNTIF('CABLE LENGTH'!$A47:$P47,AL$1)+COUNTIF('CABLE LENGTH'!$A47:$P47,AL$2)=2,'CABLE LENGTH'!$AL47,0)","v":0},{"$f":"IF(COUNTIF('CABLE LENGTH'!$A47:$P47,AM$1)+COUNTIF('CABLE LENGTH'!$A47:$P47,AM$2)=2,'CABLE LENGTH'!$AL47,0)","v":0},{"$f":"IF(COUNTIF('CABLE LENGTH'!$A47:$P47,AN$1)+COUNTIF('CABLE LENGTH'!$A47:$P47,AN$2)=2,'CABLE LENGTH'!$AL47,0)","v":0},{"$f":"IF(COUNTIF('CABLE LENGTH'!$A47:$P47,AO$1)+COUNTIF('CABLE LENGTH'!$A47:$P47,AO$2)=2,'CABLE LENGTH'!$AL47,0)","v":0},{"$f":"IF(COUNTIF('CABLE LENGTH'!$A47:$P47,AP$1)+COUNTIF('CABLE LENGTH'!$A47:$P47,AP$2)=2,'CABLE LENGTH'!$AL47,0)","v":0},{"$f":"IF(COUNTIF('CABLE LENGTH'!$A47:$P47,AQ$1)+COUNTIF('CABLE LENGTH'!$A47:$P47,AQ$2)=2,'CABLE LENGTH'!$AL47,0)","v":0},{"$f":"IF(COUNTIF('CABLE LENGTH'!$A47:$P47,AR$1)+COUNTIF('CABLE LENGTH'!$A47:$P47,AR$2)=2,'CABLE LENGTH'!$AL47,0)","v":0},{"$f":"IF(COUNTIF('CABLE LENGTH'!$A47:$P47,AS$1)+COUNTIF('CABLE LENGTH'!$A47:$P47,AS$2)=2,'CABLE LENGTH'!$AL47,0)","v":0},{"$f":"IF(COUNTIF('CABLE LENGTH'!$A47:$P47,AT$1)+COUNTIF('CABLE LENGTH'!$A47:$P47,AT$2)=2,'CABLE LENGTH'!$AL47,0)","v":0},{"$f":"IF(COUNTIF('CABLE LENGTH'!$A47:$P47,AU$1)+COUNTIF('CABLE LENGTH'!$A47:$P47,AU$2)=2,'CABLE LENGTH'!$AL47,0)","v":0},{"$f":"IF(COUNTIF('CABLE LENGTH'!$A47:$P47,AV$1)+COUNTIF('CABLE LENGTH'!$A47:$P47,AV$2)=2,'CABLE LENGTH'!$AL47,0)","v":0},{"$f":"IF(COUNTIF('CABLE LENGTH'!$A47:$P47,AW$1)+COUNTIF('CABLE LENGTH'!$A47:$P47,AW$2)=2,'CABLE LENGTH'!$AL47,0)","v":0},{"$f":"IF(COUNTIF('CABLE LENGTH'!$A47:$P47,AX$1)+COUNTIF('CABLE LENGTH'!$A47:$P47,AX$2)=2,'CABLE LENGTH'!$AL47,0)","v":0},{"$f":"IF(COUNTIF('CABLE LENGTH'!$A47:$P47,AY$1)+COUNTIF('CABLE LENGTH'!$A47:$P47,AY$2)=2,'CABLE LENGTH'!$AL47,0)","v":0},{"$f":"IF(COUNTIF('CABLE LENGTH'!$A47:$P47,AZ$1)+COUNTIF('CABLE LENGTH'!$A47:$P47,AZ$2)=2,'CABLE LENGTH'!$AL47,0)","v":0}]
[null,{"$f":"+'CABLE LENGTH'!AK48","v":0},{"$f":"IF(COUNTIF('CABLE LENGTH'!$A48:$P48,C$1)+COUNTIF('CABLE LENGTH'!$B48:$P48,C$2)=2,'CABLE LENGTH'!$AL48,0)","v":0},{"$f":"IF(COUNTIF('CABLE LENGTH'!$A48:$P48,D$1)+COUNTIF('CABLE LENGTH'!$B48:$P48,D$2)=2,'CABLE LENGTH'!$AL48,0)","v":0},{"$f":"IF(COUNTIF('CABLE LENGTH'!$A48:$P48,E$1)+COUNTIF('CABLE LENGTH'!$B48:$P48,E$2)=2,'CABLE LENGTH'!$AL48,0)","v":0},{"$f":"IF(COUNTIF('CABLE LENGTH'!$A48:$P48,F$1)+COUNTIF('CABLE LENGTH'!$B48:$P48,F$2)=2,'CABLE LENGTH'!$AL48,0)","v":0},{"$f":"IF(COUNTIF('CABLE LENGTH'!$A48:$P48,G$1)+COUNTIF('CABLE LENGTH'!$B48:$P48,G$2)=2,'CABLE LENGTH'!$AL48,0)","v":0},{"$f":"IF(COUNTIF('CABLE LENGTH'!$A48:$P48,H$1)+COUNTIF('CABLE LENGTH'!$B48:$P48,H$2)=2,'CABLE LENGTH'!$AL48,0)","v":0},{"$f":"IF(COUNTIF('CABLE LENGTH'!$A48:$P48,I$1)+COUNTIF('CABLE LENGTH'!$B48:$P48,I$2)=2,'CABLE LENGTH'!$AL48,0)","v":0},{"$f":"IF(COUNTIF('CABLE LENGTH'!$A48:$P48,J$1)+COUNTIF('CABLE LENGTH'!$B48:$P48,J$2)=2,'CABLE LENGTH'!$AL48,0)","v":0},{"$f":"IF(COUNTIF('CABLE LENGTH'!$A48:$P48,K$1)+COUNTIF('CABLE LENGTH'!$B48:$P48,K$2)=2,'CABLE LENGTH'!$AL48,0)","v":0},{"$f":"IF(COUNTIF('CABLE LENGTH'!$A48:$P48,L$1)+COUNTIF('CABLE LENGTH'!$B48:$P48,L$2)=2,'CABLE LENGTH'!$AL48,0)","v":0},{"$f":"IF(COUNTIF('CABLE LENGTH'!$A48:$P48,M$1)+COUNTIF('CABLE LENGTH'!$B48:$P48,M$2)=2,'CABLE LENGTH'!$AL48,0)","v":0},{"$f":"IF(COUNTIF('CABLE LENGTH'!$A48:$P48,N$1)+COUNTIF('CABLE LENGTH'!$B48:$P48,N$2)=2,'CABLE LENGTH'!$AL48,0)","v":0},{"$f":"IF(COUNTIF('CABLE LENGTH'!$A48:$P48,O$1)+COUNTIF('CABLE LENGTH'!$B48:$P48,O$2)=2,'CABLE LENGTH'!$AL48,0)","v":0},{"$f":"IF(COUNTIF('CABLE LENGTH'!$A48:$P48,P$1)+COUNTIF('CABLE LENGTH'!$B48:$P48,P$2)=2,'CABLE LENGTH'!$AL48,0)","v":0},{"$f":"IF(COUNTIF('CABLE LENGTH'!$A48:$P48,Q$1)+COUNTIF('CABLE LENGTH'!$B48:$P48,Q$2)=2,'CABLE LENGTH'!$AL48,0)","v":0},{"$f":"IF(COUNTIF('CABLE LENGTH'!$A48:$P48,R$1)+COUNTIF('CABLE LENGTH'!$B48:$P48,R$2)=2,'CABLE LENGTH'!$AL48,0)","v":0},{"$f":"IF(COUNTIF('CABLE LENGTH'!$A48:$P48,S$1)+COUNTIF('CABLE LENGTH'!$B48:$P48,S$2)=2,'CABLE LENGTH'!$AL48,0)","v":0},{"$f":"IF(COUNTIF('CABLE LENGTH'!$A48:$P48,T$1)+COUNTIF('CABLE LENGTH'!$B48:$P48,T$2)=2,'CABLE LENGTH'!$AL48,0)","v":0},{"$f":"IF(COUNTIF('CABLE LENGTH'!$A48:$P48,U$1)+COUNTIF('CABLE LENGTH'!$B48:$P48,U$2)=2,'CABLE LENGTH'!$AL48,0)","v":0},{"$f":"IF(COUNTIF('CABLE LENGTH'!$A48:$P48,V$1)+COUNTIF('CABLE LENGTH'!$B48:$P48,V$2)=2,'CABLE LENGTH'!$AL48,0)","v":0},{"$f":"IF(COUNTIF('CABLE LENGTH'!$A48:$P48,W$1)+COUNTIF('CABLE LENGTH'!$B48:$P48,W$2)=2,'CABLE LENGTH'!$AL48,0)","v":0},{"$f":"IF(COUNTIF('CABLE LENGTH'!$A48:$P48,X$1)+COUNTIF('CABLE LENGTH'!$B48:$P48,X$2)=2,'CABLE LENGTH'!$AL48,0)","v":0},{"$f":"IF(COUNTIF('CABLE LENGTH'!$A48:$P48,Y$1)+COUNTIF('CABLE LENGTH'!$A48:$P48,Y$2)=2,'CABLE LENGTH'!$AL48,0)","v":0},{"$f":"IF(COUNTIF('CABLE LENGTH'!$A48:$P48,Z$1)+COUNTIF('CABLE LENGTH'!$A48:$P48,Z$2)=2,'CABLE LENGTH'!$AL48,0)","v":0},{"$f":"IF(COUNTIF('CABLE LENGTH'!$A48:$P48,AA$1)+COUNTIF('CABLE LENGTH'!$A48:$P48,AA$2)=2,'CABLE LENGTH'!$AL48,0)","v":0},{"$f":"IF(COUNTIF('CABLE LENGTH'!$A48:$P48,AB$1)+COUNTIF('CABLE LENGTH'!$A48:$P48,AB$2)=2,'CABLE LENGTH'!$AL48,0)","v":0},{"$f":"IF(COUNTIF('CABLE LENGTH'!$A48:$P48,AC$1)+COUNTIF('CABLE LENGTH'!$A48:$P48,AC$2)=2,'CABLE LENGTH'!$AL48,0)","v":0},{"$f":"IF(COUNTIF('CABLE LENGTH'!$A48:$P48,AD$1)+COUNTIF('CABLE LENGTH'!$A48:$P48,AD$2)=2,'CABLE LENGTH'!$AL48,0)","v":0},{"$f":"IF(COUNTIF('CABLE LENGTH'!$A48:$P48,AE$1)+COUNTIF('CABLE LENGTH'!$A48:$P48,AE$2)=2,'CABLE LENGTH'!$AL48,0)","v":0},{"$f":"IF(COUNTIF('CABLE LENGTH'!$A48:$P48,AF$1)+COUNTIF('CABLE LENGTH'!$A48:$P48,AF$2)=2,'CABLE LENGTH'!$AL48,0)","v":0},{"$f":"IF(COUNTIF('CABLE LENGTH'!$A48:$P48,AG$1)+COUNTIF('CABLE LENGTH'!$A48:$P48,AG$2)=2,'CABLE LENGTH'!$AL48,0)","v":0},{"$f":"IF(COUNTIF('CABLE LENGTH'!$A48:$P48,AH$1)+COUNTIF('CABLE LENGTH'!$A48:$P48,AH$2)=2,'CABLE LENGTH'!$AL48,0)","v":0},{"$f":"IF(COUNTIF('CABLE LENGTH'!$A48:$P48,AI$1)+COUNTIF('CABLE LENGTH'!$A48:$P48,AI$2)=2,'CABLE LENGTH'!$AL48,0)","v":0},{"$f":"IF(COUNTIF('CABLE LENGTH'!$A48:$P48,AJ$1)+COUNTIF('CABLE LENGTH'!$A48:$P48,AJ$2)=2,'CABLE LENGTH'!$AL48,0)","v":0},{"$f":"IF(COUNTIF('CABLE LENGTH'!$A48:$P48,AK$1)+COUNTIF('CABLE LENGTH'!$A48:$P48,AK$2)=2,'CABLE LENGTH'!$AL48,0)","v":0},{"$f":"IF(COUNTIF('CABLE LENGTH'!$A48:$P48,AL$1)+COUNTIF('CABLE LENGTH'!$A48:$P48,AL$2)=2,'CABLE LENGTH'!$AL48,0)","v":0},{"$f":"IF(COUNTIF('CABLE LENGTH'!$A48:$P48,AM$1)+COUNTIF('CABLE LENGTH'!$A48:$P48,AM$2)=2,'CABLE LENGTH'!$AL48,0)","v":0},{"$f":"IF(COUNTIF('CABLE LENGTH'!$A48:$P48,AN$1)+COUNTIF('CABLE LENGTH'!$A48:$P48,AN$2)=2,'CABLE LENGTH'!$AL48,0)","v":0},{"$f":"IF(COUNTIF('CABLE LENGTH'!$A48:$P48,AO$1)+COUNTIF('CABLE LENGTH'!$A48:$P48,AO$2)=2,'CABLE LENGTH'!$AL48,0)","v":0},{"$f":"IF(COUNTIF('CABLE LENGTH'!$A48:$P48,AP$1)+COUNTIF('CABLE LENGTH'!$A48:$P48,AP$2)=2,'CABLE LENGTH'!$AL48,0)","v":0},{"$f":"IF(COUNTIF('CABLE LENGTH'!$A48:$P48,AQ$1)+COUNTIF('CABLE LENGTH'!$A48:$P48,AQ$2)=2,'CABLE LENGTH'!$AL48,0)","v":0},{"$f":"IF(COUNTIF('CABLE LENGTH'!$A48:$P48,AR$1)+COUNTIF('CABLE LENGTH'!$A48:$P48,AR$2)=2,'CABLE LENGTH'!$AL48,0)","v":0},{"$f":"IF(COUNTIF('CABLE LENGTH'!$A48:$P48,AS$1)+COUNTIF('CABLE LENGTH'!$A48:$P48,AS$2)=2,'CABLE LENGTH'!$AL48,0)","v":0},{"$f":"IF(COUNTIF('CABLE LENGTH'!$A48:$P48,AT$1)+COUNTIF('CABLE LENGTH'!$A48:$P48,AT$2)=2,'CABLE LENGTH'!$AL48,0)","v":0},{"$f":"IF(COUNTIF('CABLE LENGTH'!$A48:$P48,AU$1)+COUNTIF('CABLE LENGTH'!$A48:$P48,AU$2)=2,'CABLE LENGTH'!$AL48,0)","v":0},{"$f":"IF(COUNTIF('CABLE LENGTH'!$A48:$P48,AV$1)+COUNTIF('CABLE LENGTH'!$A48:$P48,AV$2)=2,'CABLE LENGTH'!$AL48,0)","v":0},{"$f":"IF(COUNTIF('CABLE LENGTH'!$A48:$P48,AW$1)+COUNTIF('CABLE LENGTH'!$A48:$P48,AW$2)=2,'CABLE LENGTH'!$AL48,0)","v":0},{"$f":"IF(COUNTIF('CABLE LENGTH'!$A48:$P48,AX$1)+COUNTIF('CABLE LENGTH'!$A48:$P48,AX$2)=2,'CABLE LENGTH'!$AL48,0)","v":0},{"$f":"IF(COUNTIF('CABLE LENGTH'!$A48:$P48,AY$1)+COUNTIF('CABLE LENGTH'!$A48:$P48,AY$2)=2,'CABLE LENGTH'!$AL48,0)","v":0},{"$f":"IF(COUNTIF('CABLE LENGTH'!$A48:$P48,AZ$1)+COUNTIF('CABLE LENGTH'!$A48:$P48,AZ$2)=2,'CABLE LENGTH'!$AL48,0)","v":0}]
[null,{"$f":"+'CABLE LENGTH'!AK49","v":0},{"$f":"IF(COUNTIF('CABLE LENGTH'!$A49:$P49,C$1)+COUNTIF('CABLE LENGTH'!$B49:$P49,C$2)=2,'CABLE LENGTH'!$AL49,0)","v":0},{"$f":"IF(COUNTIF('CABLE LENGTH'!$A49:$P49,D$1)+COUNTIF('CABLE LENGTH'!$B49:$P49,D$2)=2,'CABLE LENGTH'!$AL49,0)","v":0},{"$f":"IF(COUNTIF('CABLE LENGTH'!$A49:$P49,E$1)+COUNTIF('CABLE LENGTH'!$B49:$P49,E$2)=2,'CABLE LENGTH'!$AL49,0)","v":0},{"$f":"IF(COUNTIF('CABLE LENGTH'!$A49:$P49,F$1)+COUNTIF('CABLE LENGTH'!$B49:$P49,F$2)=2,'CABLE LENGTH'!$AL49,0)","v":0},{"$f":"IF(COUNTIF('CABLE LENGTH'!$A49:$P49,G$1)+COUNTIF('CABLE LENGTH'!$B49:$P49,G$2)=2,'CABLE LENGTH'!$AL49,0)","v":0},{"$f":"IF(COUNTIF('CABLE LENGTH'!$A49:$P49,H$1)+COUNTIF('CABLE LENGTH'!$B49:$P49,H$2)=2,'CABLE LENGTH'!$AL49,0)","v":0},{"$f":"IF(COUNTIF('CABLE LENGTH'!$A49:$P49,I$1)+COUNTIF('CABLE LENGTH'!$B49:$P49,I$2)=2,'CABLE LENGTH'!$AL49,0)","v":0},{"$f":"IF(COUNTIF('CABLE LENGTH'!$A49:$P49,J$1)+COUNTIF('CABLE LENGTH'!$B49:$P49,J$2)=2,'CABLE LENGTH'!$AL49,0)","v":0},{"$f":"IF(COUNTIF('CABLE LENGTH'!$A49:$P49,K$1)+COUNTIF('CABLE LENGTH'!$B49:$P49,K$2)=2,'CABLE LENGTH'!$AL49,0)","v":0},{"$f":"IF(COUNTIF('CABLE LENGTH'!$A49:$P49,L$1)+COUNTIF('CABLE LENGTH'!$B49:$P49,L$2)=2,'CABLE LENGTH'!$AL49,0)","v":0},{"$f":"IF(COUNTIF('CABLE LENGTH'!$A49:$P49,M$1)+COUNTIF('CABLE LENGTH'!$B49:$P49,M$2)=2,'CABLE LENGTH'!$AL49,0)","v":0},{"$f":"IF(COUNTIF('CABLE LENGTH'!$A49:$P49,N$1)+COUNTIF('CABLE LENGTH'!$B49:$P49,N$2)=2,'CABLE LENGTH'!$AL49,0)","v":0},{"$f":"IF(COUNTIF('CABLE LENGTH'!$A49:$P49,O$1)+COUNTIF('CABLE LENGTH'!$B49:$P49,O$2)=2,'CABLE LENGTH'!$AL49,0)","v":0},{"$f":"IF(COUNTIF('CABLE LENGTH'!$A49:$P49,P$1)+COUNTIF('CABLE LENGTH'!$B49:$P49,P$2)=2,'CABLE LENGTH'!$AL49,0)","v":0},{"$f":"IF(COUNTIF('CABLE LENGTH'!$A49:$P49,Q$1)+COUNTIF('CABLE LENGTH'!$B49:$P49,Q$2)=2,'CABLE LENGTH'!$AL49,0)","v":0},{"$f":"IF(COUNTIF('CABLE LENGTH'!$A49:$P49,R$1)+COUNTIF('CABLE LENGTH'!$B49:$P49,R$2)=2,'CABLE LENGTH'!$AL49,0)","v":0},{"$f":"IF(COUNTIF('CABLE LENGTH'!$A49:$P49,S$1)+COUNTIF('CABLE LENGTH'!$B49:$P49,S$2)=2,'CABLE LENGTH'!$AL49,0)","v":0},{"$f":"IF(COUNTIF('CABLE LENGTH'!$A49:$P49,T$1)+COUNTIF('CABLE LENGTH'!$B49:$P49,T$2)=2,'CABLE LENGTH'!$AL49,0)","v":0},{"$f":"IF(COUNTIF('CABLE LENGTH'!$A49:$P49,U$1)+COUNTIF('CABLE LENGTH'!$B49:$P49,U$2)=2,'CABLE LENGTH'!$AL49,0)","v":0},{"$f":"IF(COUNTIF('CABLE LENGTH'!$A49:$P49,V$1)+COUNTIF('CABLE LENGTH'!$B49:$P49,V$2)=2,'CABLE LENGTH'!$AL49,0)","v":0},{"$f":"IF(COUNTIF('CABLE LENGTH'!$A49:$P49,W$1)+COUNTIF('CABLE LENGTH'!$B49:$P49,W$2)=2,'CABLE LENGTH'!$AL49,0)","v":0},{"$f":"IF(COUNTIF('CABLE LENGTH'!$A49:$P49,X$1)+COUNTIF('CABLE LENGTH'!$B49:$P49,X$2)=2,'CABLE LENGTH'!$AL49,0)","v":0},{"$f":"IF(COUNTIF('CABLE LENGTH'!$A49:$P49,Y$1)+COUNTIF('CABLE LENGTH'!$A49:$P49,Y$2)=2,'CABLE LENGTH'!$AL49,0)","v":0},{"$f":"IF(COUNTIF('CABLE LENGTH'!$A49:$P49,Z$1)+COUNTIF('CABLE LENGTH'!$A49:$P49,Z$2)=2,'CABLE LENGTH'!$AL49,0)","v":0},{"$f":"IF(COUNTIF('CABLE LENGTH'!$A49:$P49,AA$1)+COUNTIF('CABLE LENGTH'!$A49:$P49,AA$2)=2,'CABLE LENGTH'!$AL49,0)","v":0},{"$f":"IF(COUNTIF('CABLE LENGTH'!$A49:$P49,AB$1)+COUNTIF('CABLE LENGTH'!$A49:$P49,AB$2)=2,'CABLE LENGTH'!$AL49,0)","v":0},{"$f":"IF(COUNTIF('CABLE LENGTH'!$A49:$P49,AC$1)+COUNTIF('CABLE LENGTH'!$A49:$P49,AC$2)=2,'CABLE LENGTH'!$AL49,0)","v":0},{"$f":"IF(COUNTIF('CABLE LENGTH'!$A49:$P49,AD$1)+COUNTIF('CABLE LENGTH'!$A49:$P49,AD$2)=2,'CABLE LENGTH'!$AL49,0)","v":0},{"$f":"IF(COUNTIF('CABLE LENGTH'!$A49:$P49,AE$1)+COUNTIF('CABLE LENGTH'!$A49:$P49,AE$2)=2,'CABLE LENGTH'!$AL49,0)","v":0},{"$f":"IF(COUNTIF('CABLE LENGTH'!$A49:$P49,AF$1)+COUNTIF('CABLE LENGTH'!$A49:$P49,AF$2)=2,'CABLE LENGTH'!$AL49,0)","v":0},{"$f":"IF(COUNTIF('CABLE LENGTH'!$A49:$P49,AG$1)+COUNTIF('CABLE LENGTH'!$A49:$P49,AG$2)=2,'CABLE LENGTH'!$AL49,0)","v":0},{"$f":"IF(COUNTIF('CABLE LENGTH'!$A49:$P49,AH$1)+COUNTIF('CABLE LENGTH'!$A49:$P49,AH$2)=2,'CABLE LENGTH'!$AL49,0)","v":0},{"$f":"IF(COUNTIF('CABLE LENGTH'!$A49:$P49,AI$1)+COUNTIF('CABLE LENGTH'!$A49:$P49,AI$2)=2,'CABLE LENGTH'!$AL49,0)","v":0},{"$f":"IF(COUNTIF('CABLE LENGTH'!$A49:$P49,AJ$1)+COUNTIF('CABLE LENGTH'!$A49:$P49,AJ$2)=2,'CABLE LENGTH'!$AL49,0)","v":0},{"$f":"IF(COUNTIF('CABLE LENGTH'!$A49:$P49,AK$1)+COUNTIF('CABLE LENGTH'!$A49:$P49,AK$2)=2,'CABLE LENGTH'!$AL49,0)","v":0},{"$f":"IF(COUNTIF('CABLE LENGTH'!$A49:$P49,AL$1)+COUNTIF('CABLE LENGTH'!$A49:$P49,AL$2)=2,'CABLE LENGTH'!$AL49,0)","v":0},{"$f":"IF(COUNTIF('CABLE LENGTH'!$A49:$P49,AM$1)+COUNTIF('CABLE LENGTH'!$A49:$P49,AM$2)=2,'CABLE LENGTH'!$AL49,0)","v":0},{"$f":"IF(COUNTIF('CABLE LENGTH'!$A49:$P49,AN$1)+COUNTIF('CABLE LENGTH'!$A49:$P49,AN$2)=2,'CABLE LENGTH'!$AL49,0)","v":0},{"$f":"IF(COUNTIF('CABLE LENGTH'!$A49:$P49,AO$1)+COUNTIF('CABLE LENGTH'!$A49:$P49,AO$2)=2,'CABLE LENGTH'!$AL49,0)","v":0},{"$f":"IF(COUNTIF('CABLE LENGTH'!$A49:$P49,AP$1)+COUNTIF('CABLE LENGTH'!$A49:$P49,AP$2)=2,'CABLE LENGTH'!$AL49,0)","v":0},{"$f":"IF(COUNTIF('CABLE LENGTH'!$A49:$P49,AQ$1)+COUNTIF('CABLE LENGTH'!$A49:$P49,AQ$2)=2,'CABLE LENGTH'!$AL49,0)","v":0},{"$f":"IF(COUNTIF('CABLE LENGTH'!$A49:$P49,AR$1)+COUNTIF('CABLE LENGTH'!$A49:$P49,AR$2)=2,'CABLE LENGTH'!$AL49,0)","v":0},{"$f":"IF(COUNTIF('CABLE LENGTH'!$A49:$P49,AS$1)+COUNTIF('CABLE LENGTH'!$A49:$P49,AS$2)=2,'CABLE LENGTH'!$AL49,0)","v":0},{"$f":"IF(COUNTIF('CABLE LENGTH'!$A49:$P49,AT$1)+COUNTIF('CABLE LENGTH'!$A49:$P49,AT$2)=2,'CABLE LENGTH'!$AL49,0)","v":0},{"$f":"IF(COUNTIF('CABLE LENGTH'!$A49:$P49,AU$1)+COUNTIF('CABLE LENGTH'!$A49:$P49,AU$2)=2,'CABLE LENGTH'!$AL49,0)","v":0},{"$f":"IF(COUNTIF('CABLE LENGTH'!$A49:$P49,AV$1)+COUNTIF('CABLE LENGTH'!$A49:$P49,AV$2)=2,'CABLE LENGTH'!$AL49,0)","v":0},{"$f":"IF(COUNTIF('CABLE LENGTH'!$A49:$P49,AW$1)+COUNTIF('CABLE LENGTH'!$A49:$P49,AW$2)=2,'CABLE LENGTH'!$AL49,0)","v":0},{"$f":"IF(COUNTIF('CABLE LENGTH'!$A49:$P49,AX$1)+COUNTIF('CABLE LENGTH'!$A49:$P49,AX$2)=2,'CABLE LENGTH'!$AL49,0)","v":0},{"$f":"IF(COUNTIF('CABLE LENGTH'!$A49:$P49,AY$1)+COUNTIF('CABLE LENGTH'!$A49:$P49,AY$2)=2,'CABLE LENGTH'!$AL49,0)","v":0},{"$f":"IF(COUNTIF('CABLE LENGTH'!$A49:$P49,AZ$1)+COUNTIF('CABLE LENGTH'!$A49:$P49,AZ$2)=2,'CABLE LENGTH'!$AL49,0)","v":0}]
[null,{"$f":"+'CABLE LENGTH'!AK50","v":0},{"$f":"IF(COUNTIF('CABLE LENGTH'!$A50:$P50,C$1)+COUNTIF('CABLE LENGTH'!$B50:$P50,C$2)=2,'CABLE LENGTH'!$AL50,0)","v":0},{"$f":"IF(COUNTIF('CABLE LENGTH'!$A50:$P50,D$1)+COUNTIF('CABLE LENGTH'!$B50:$P50,D$2)=2,'CABLE LENGTH'!$AL50,0)","v":0},{"$f":"IF(COUNTIF('CABLE LENGTH'!$A50:$P50,E$1)+COUNTIF('CABLE LENGTH'!$B50:$P50,E$2)=2,'CABLE LENGTH'!$AL50,0)","v":0},{"$f":"IF(COUNTIF('CABLE LENGTH'!$A50:$P50,F$1)+COUNTIF('CABLE LENGTH'!$B50:$P50,F$2)=2,'CABLE LENGTH'!$AL50,0)","v":0},{"$f":"IF(COUNTIF('CABLE LENGTH'!$A50:$P50,G$1)+COUNTIF('CABLE LENGTH'!$B50:$P50,G$2)=2,'CABLE LENGTH'!$AL50,0)","v":0},{"$f":"IF(COUNTIF('CABLE LENGTH'!$A50:$P50,H$1)+COUNTIF('CABLE LENGTH'!$B50:$P50,H$2)=2,'CABLE LENGTH'!$AL50,0)","v":0},{"$f":"IF(COUNTIF('CABLE LENGTH'!$A50:$P50,I$1)+COUNTIF('CABLE LENGTH'!$B50:$P50,I$2)=2,'CABLE LENGTH'!$AL50,0)","v":0},{"$f":"IF(COUNTIF('CABLE LENGTH'!$A50:$P50,J$1)+COUNTIF('CABLE LENGTH'!$B50:$P50,J$2)=2,'CABLE LENGTH'!$AL50,0)","v":0},{"$f":"IF(COUNTIF('CABLE LENGTH'!$A50:$P50,K$1)+COUNTIF('CABLE LENGTH'!$B50:$P50,K$2)=2,'CABLE LENGTH'!$AL50,0)","v":0},{"$f":"IF(COUNTIF('CABLE LENGTH'!$A50:$P50,L$1)+COUNTIF('CABLE LENGTH'!$B50:$P50,L$2)=2,'CABLE LENGTH'!$AL50,0)","v":0},{"$f":"IF(COUNTIF('CABLE LENGTH'!$A50:$P50,M$1)+COUNTIF('CABLE LENGTH'!$B50:$P50,M$2)=2,'CABLE LENGTH'!$AL50,0)","v":0},{"$f":"IF(COUNTIF('CABLE LENGTH'!$A50:$P50,N$1)+COUNTIF('CABLE LENGTH'!$B50:$P50,N$2)=2,'CABLE LENGTH'!$AL50,0)","v":0},{"$f":"IF(COUNTIF('CABLE LENGTH'!$A50:$P50,O$1)+COUNTIF('CABLE LENGTH'!$B50:$P50,O$2)=2,'CABLE LENGTH'!$AL50,0)","v":0},{"$f":"IF(COUNTIF('CABLE LENGTH'!$A50:$P50,P$1)+COUNTIF('CABLE LENGTH'!$B50:$P50,P$2)=2,'CABLE LENGTH'!$AL50,0)","v":0},{"$f":"IF(COUNTIF('CABLE LENGTH'!$A50:$P50,Q$1)+COUNTIF('CABLE LENGTH'!$B50:$P50,Q$2)=2,'CABLE LENGTH'!$AL50,0)","v":0},{"$f":"IF(COUNTIF('CABLE LENGTH'!$A50:$P50,R$1)+COUNTIF('CABLE LENGTH'!$B50:$P50,R$2)=2,'CABLE LENGTH'!$AL50,0)","v":0},{"$f":"IF(COUNTIF('CABLE LENGTH'!$A50:$P50,S$1)+COUNTIF('CABLE LENGTH'!$B50:$P50,S$2)=2,'CABLE LENGTH'!$AL50,0)","v":0},{"$f":"IF(COUNTIF('CABLE LENGTH'!$A50:$P50,T$1)+COUNTIF('CABLE LENGTH'!$B50:$P50,T$2)=2,'CABLE LENGTH'!$AL50,0)","v":0},{"$f":"IF(COUNTIF('CABLE LENGTH'!$A50:$P50,U$1)+COUNTIF('CABLE LENGTH'!$B50:$P50,U$2)=2,'CABLE LENGTH'!$AL50,0)","v":0},{"$f":"IF(COUNTIF('CABLE LENGTH'!$A50:$P50,V$1)+COUNTIF('CABLE LENGTH'!$B50:$P50,V$2)=2,'CABLE LENGTH'!$AL50,0)","v":0},{"$f":"IF(COUNTIF('CABLE LENGTH'!$A50:$P50,W$1)+COUNTIF('CABLE LENGTH'!$B50:$P50,W$2)=2,'CABLE LENGTH'!$AL50,0)","v":0},{"$f":"IF(COUNTIF('CABLE LENGTH'!$A50:$P50,X$1)+COUNTIF('CABLE LENGTH'!$B50:$P50,X$2)=2,'CABLE LENGTH'!$AL50,0)","v":0},{"$f":"IF(COUNTIF('CABLE LENGTH'!$A50:$P50,Y$1)+COUNTIF('CABLE LENGTH'!$A50:$P50,Y$2)=2,'CABLE LENGTH'!$AL50,0)","v":0},{"$f":"IF(COUNTIF('CABLE LENGTH'!$A50:$P50,Z$1)+COUNTIF('CABLE LENGTH'!$A50:$P50,Z$2)=2,'CABLE LENGTH'!$AL50,0)","v":0},{"$f":"IF(COUNTIF('CABLE LENGTH'!$A50:$P50,AA$1)+COUNTIF('CABLE LENGTH'!$A50:$P50,AA$2)=2,'CABLE LENGTH'!$AL50,0)","v":0},{"$f":"IF(COUNTIF('CABLE LENGTH'!$A50:$P50,AB$1)+COUNTIF('CABLE LENGTH'!$A50:$P50,AB$2)=2,'CABLE LENGTH'!$AL50,0)","v":0},{"$f":"IF(COUNTIF('CABLE LENGTH'!$A50:$P50,AC$1)+COUNTIF('CABLE LENGTH'!$A50:$P50,AC$2)=2,'CABLE LENGTH'!$AL50,0)","v":0},{"$f":"IF(COUNTIF('CABLE LENGTH'!$A50:$P50,AD$1)+COUNTIF('CABLE LENGTH'!$A50:$P50,AD$2)=2,'CABLE LENGTH'!$AL50,0)","v":0},{"$f":"IF(COUNTIF('CABLE LENGTH'!$A50:$P50,AE$1)+COUNTIF('CABLE LENGTH'!$A50:$P50,AE$2)=2,'CABLE LENGTH'!$AL50,0)","v":0},{"$f":"IF(COUNTIF('CABLE LENGTH'!$A50:$P50,AF$1)+COUNTIF('CABLE LENGTH'!$A50:$P50,AF$2)=2,'CABLE LENGTH'!$AL50,0)","v":0},{"$f":"IF(COUNTIF('CABLE LENGTH'!$A50:$P50,AG$1)+COUNTIF('CABLE LENGTH'!$A50:$P50,AG$2)=2,'CABLE LENGTH'!$AL50,0)","v":0},{"$f":"IF(COUNTIF('CABLE LENGTH'!$A50:$P50,AH$1)+COUNTIF('CABLE LENGTH'!$A50:$P50,AH$2)=2,'CABLE LENGTH'!$AL50,0)","v":0},{"$f":"IF(COUNTIF('CABLE LENGTH'!$A50:$P50,AI$1)+COUNTIF('CABLE LENGTH'!$A50:$P50,AI$2)=2,'CABLE LENGTH'!$AL50,0)","v":0},{"$f":"IF(COUNTIF('CABLE LENGTH'!$A50:$P50,AJ$1)+COUNTIF('CABLE LENGTH'!$A50:$P50,AJ$2)=2,'CABLE LENGTH'!$AL50,0)","v":0},{"$f":"IF(COUNTIF('CABLE LENGTH'!$A50:$P50,AK$1)+COUNTIF('CABLE LENGTH'!$A50:$P50,AK$2)=2,'CABLE LENGTH'!$AL50,0)","v":0},{"$f":"IF(COUNTIF('CABLE LENGTH'!$A50:$P50,AL$1)+COUNTIF('CABLE LENGTH'!$A50:$P50,AL$2)=2,'CABLE LENGTH'!$AL50,0)","v":0},{"$f":"IF(COUNTIF('CABLE LENGTH'!$A50:$P50,AM$1)+COUNTIF('CABLE LENGTH'!$A50:$P50,AM$2)=2,'CABLE LENGTH'!$AL50,0)","v":0},{"$f":"IF(COUNTIF('CABLE LENGTH'!$A50:$P50,AN$1)+COUNTIF('CABLE LENGTH'!$A50:$P50,AN$2)=2,'CABLE LENGTH'!$AL50,0)","v":0},{"$f":"IF(COUNTIF('CABLE LENGTH'!$A50:$P50,AO$1)+COUNTIF('CABLE LENGTH'!$A50:$P50,AO$2)=2,'CABLE LENGTH'!$AL50,0)","v":0},{"$f":"IF(COUNTIF('CABLE LENGTH'!$A50:$P50,AP$1)+COUNTIF('CABLE LENGTH'!$A50:$P50,AP$2)=2,'CABLE LENGTH'!$AL50,0)","v":0},{"$f":"IF(COUNTIF('CABLE LENGTH'!$A50:$P50,AQ$1)+COUNTIF('CABLE LENGTH'!$A50:$P50,AQ$2)=2,'CABLE LENGTH'!$AL50,0)","v":0},{"$f":"IF(COUNTIF('CABLE LENGTH'!$A50:$P50,AR$1)+COUNTIF('CABLE LENGTH'!$A50:$P50,AR$2)=2,'CABLE LENGTH'!$AL50,0)","v":0},{"$f":"IF(COUNTIF('CABLE LENGTH'!$A50:$P50,AS$1)+COUNTIF('CABLE LENGTH'!$A50:$P50,AS$2)=2,'CABLE LENGTH'!$AL50,0)","v":0},{"$f":"IF(COUNTIF('CABLE LENGTH'!$A50:$P50,AT$1)+COUNTIF('CABLE LENGTH'!$A50:$P50,AT$2)=2,'CABLE LENGTH'!$AL50,0)","v":0},{"$f":"IF(COUNTIF('CABLE LENGTH'!$A50:$P50,AU$1)+COUNTIF('CABLE LENGTH'!$A50:$P50,AU$2)=2,'CABLE LENGTH'!$AL50,0)","v":0},{"$f":"IF(COUNTIF('CABLE LENGTH'!$A50:$P50,AV$1)+COUNTIF('CABLE LENGTH'!$A50:$P50,AV$2)=2,'CABLE LENGTH'!$AL50,0)","v":0},{"$f":"IF(COUNTIF('CABLE LENGTH'!$A50:$P50,AW$1)+COUNTIF('CABLE LENGTH'!$A50:$P50,AW$2)=2,'CABLE LENGTH'!$AL50,0)","v":0},{"$f":"IF(COUNTIF('CABLE LENGTH'!$A50:$P50,AX$1)+COUNTIF('CABLE LENGTH'!$A50:$P50,AX$2)=2,'CABLE LENGTH'!$AL50,0)","v":0},{"$f":"IF(COUNTIF('CABLE LENGTH'!$A50:$P50,AY$1)+COUNTIF('CABLE LENGTH'!$A50:$P50,AY$2)=2,'CABLE LENGTH'!$AL50,0)","v":0},{"$f":"IF(COUNTIF('CABLE LENGTH'!$A50:$P50,AZ$1)+COUNTIF('CABLE LENGTH'!$A50:$P50,AZ$2)=2,'CABLE LENGTH'!$AL50,0)","v":0}]
[null,{"$f":"+'CABLE LENGTH'!AK51","v":0},{"$f":"IF(COUNTIF('CABLE LENGTH'!$A51:$P51,C$1)+COUNTIF('CABLE LENGTH'!$B51:$P51,C$2)=2,'CABLE LENGTH'!$AL51,0)","v":0},{"$f":"IF(COUNTIF('CABLE LENGTH'!$A51:$P51,D$1)+COUNTIF('CABLE LENGTH'!$B51:$P51,D$2)=2,'CABLE LENGTH'!$AL51,0)","v":0},{"$f":"IF(COUNTIF('CABLE LENGTH'!$A51:$P51,E$1)+COUNTIF('CABLE LENGTH'!$B51:$P51,E$2)=2,'CABLE LENGTH'!$AL51,0)","v":0},{"$f":"IF(COUNTIF('CABLE LENGTH'!$A51:$P51,F$1)+COUNTIF('CABLE LENGTH'!$B51:$P51,F$2)=2,'CABLE LENGTH'!$AL51,0)","v":0},{"$f":"IF(COUNTIF('CABLE LENGTH'!$A51:$P51,G$1)+COUNTIF('CABLE LENGTH'!$B51:$P51,G$2)=2,'CABLE LENGTH'!$AL51,0)","v":0},{"$f":"IF(COUNTIF('CABLE LENGTH'!$A51:$P51,H$1)+COUNTIF('CABLE LENGTH'!$B51:$P51,H$2)=2,'CABLE LENGTH'!$AL51,0)","v":0},{"$f":"IF(COUNTIF('CABLE LENGTH'!$A51:$P51,I$1)+COUNTIF('CABLE LENGTH'!$B51:$P51,I$2)=2,'CABLE LENGTH'!$AL51,0)","v":0},{"$f":"IF(COUNTIF('CABLE LENGTH'!$A51:$P51,J$1)+COUNTIF('CABLE LENGTH'!$B51:$P51,J$2)=2,'CABLE LENGTH'!$AL51,0)","v":0},{"$f":"IF(COUNTIF('CABLE LENGTH'!$A51:$P51,K$1)+COUNTIF('CABLE LENGTH'!$B51:$P51,K$2)=2,'CABLE LENGTH'!$AL51,0)","v":0},{"$f":"IF(COUNTIF('CABLE LENGTH'!$A51:$P51,L$1)+COUNTIF('CABLE LENGTH'!$B51:$P51,L$2)=2,'CABLE LENGTH'!$AL51,0)","v":0},{"$f":"IF(COUNTIF('CABLE LENGTH'!$A51:$P51,M$1)+COUNTIF('CABLE LENGTH'!$B51:$P51,M$2)=2,'CABLE LENGTH'!$AL51,0)","v":0},{"$f":"IF(COUNTIF('CABLE LENGTH'!$A51:$P51,N$1)+COUNTIF('CABLE LENGTH'!$B51:$P51,N$2)=2,'CABLE LENGTH'!$AL51,0)","v":0},{"$f":"IF(COUNTIF('CABLE LENGTH'!$A51:$P51,O$1)+COUNTIF('CABLE LENGTH'!$B51:$P51,O$2)=2,'CABLE LENGTH'!$AL51,0)","v":0},{"$f":"IF(COUNTIF('CABLE LENGTH'!$A51:$P51,P$1)+COUNTIF('CABLE LENGTH'!$B51:$P51,P$2)=2,'CABLE LENGTH'!$AL51,0)","v":0},{"$f":"IF(COUNTIF('CABLE LENGTH'!$A51:$P51,Q$1)+COUNTIF('CABLE LENGTH'!$B51:$P51,Q$2)=2,'CABLE LENGTH'!$AL51,0)","v":0},{"$f":"IF(COUNTIF('CABLE LENGTH'!$A51:$P51,R$1)+COUNTIF('CABLE LENGTH'!$B51:$P51,R$2)=2,'CABLE LENGTH'!$AL51,0)","v":0},{"$f":"IF(COUNTIF('CABLE LENGTH'!$A51:$P51,S$1)+COUNTIF('CABLE LENGTH'!$B51:$P51,S$2)=2,'CABLE LENGTH'!$AL51,0)","v":0},{"$f":"IF(COUNTIF('CABLE LENGTH'!$A51:$P51,T$1)+COUNTIF('CABLE LENGTH'!$B51:$P51,T$2)=2,'CABLE LENGTH'!$AL51,0)","v":0},{"$f":"IF(COUNTIF('CABLE LENGTH'!$A51:$P51,U$1)+COUNTIF('CABLE LENGTH'!$B51:$P51,U$2)=2,'CABLE LENGTH'!$AL51,0)","v":0},{"$f":"IF(COUNTIF('CABLE LENGTH'!$A51:$P51,V$1)+COUNTIF('CABLE LENGTH'!$B51:$P51,V$2)=2,'CABLE LENGTH'!$AL51,0)","v":0},{"$f":"IF(COUNTIF('CABLE LENGTH'!$A51:$P51,W$1)+COUNTIF('CABLE LENGTH'!$B51:$P51,W$2)=2,'CABLE LENGTH'!$AL51,0)","v":0},{"$f":"IF(COUNTIF('CABLE LENGTH'!$A51:$P51,X$1)+COUNTIF('CABLE LENGTH'!$B51:$P51,X$2)=2,'CABLE LENGTH'!$AL51,0)","v":0},{"$f":"IF(COUNTIF('CABLE LENGTH'!$A51:$P51,Y$1)+COUNTIF('CABLE LENGTH'!$A51:$P51,Y$2)=2,'CABLE LENGTH'!$AL51,0)","v":0},{"$f":"IF(COUNTIF('CABLE LENGTH'!$A51:$P51,Z$1)+COUNTIF('CABLE LENGTH'!$A51:$P51,Z$2)=2,'CABLE LENGTH'!$AL51,0)","v":0},{"$f":"IF(COUNTIF('CABLE LENGTH'!$A51:$P51,AA$1)+COUNTIF('CABLE LENGTH'!$A51:$P51,AA$2)=2,'CABLE LENGTH'!$AL51,0)","v":0},{"$f":"IF(COUNTIF('CABLE LENGTH'!$A51:$P51,AB$1)+COUNTIF('CABLE LENGTH'!$A51:$P51,AB$2)=2,'CABLE LENGTH'!$AL51,0)","v":0},{"$f":"IF(COUNTIF('CABLE LENGTH'!$A51:$P51,AC$1)+COUNTIF('CABLE LENGTH'!$A51:$P51,AC$2)=2,'CABLE LENGTH'!$AL51,0)","v":0},{"$f":"IF(COUNTIF('CABLE LENGTH'!$A51:$P51,AD$1)+COUNTIF('CABLE LENGTH'!$A51:$P51,AD$2)=2,'CABLE LENGTH'!$AL51,0)","v":0},{"$f":"IF(COUNTIF('CABLE LENGTH'!$A51:$P51,AE$1)+COUNTIF('CABLE LENGTH'!$A51:$P51,AE$2)=2,'CABLE LENGTH'!$AL51,0)","v":0},{"$f":"IF(COUNTIF('CABLE LENGTH'!$A51:$P51,AF$1)+COUNTIF('CABLE LENGTH'!$A51:$P51,AF$2)=2,'CABLE LENGTH'!$AL51,0)","v":0},{"$f":"IF(COUNTIF('CABLE LENGTH'!$A51:$P51,AG$1)+COUNTIF('CABLE LENGTH'!$A51:$P51,AG$2)=2,'CABLE LENGTH'!$AL51,0)","v":0},{"$f":"IF(COUNTIF('CABLE LENGTH'!$A51:$P51,AH$1)+COUNTIF('CABLE LENGTH'!$A51:$P51,AH$2)=2,'CABLE LENGTH'!$AL51,0)","v":0},{"$f":"IF(COUNTIF('CABLE LENGTH'!$A51:$P51,AI$1)+COUNTIF('CABLE LENGTH'!$A51:$P51,AI$2)=2,'CABLE LENGTH'!$AL51,0)","v":0},{"$f":"IF(COUNTIF('CABLE LENGTH'!$A51:$P51,AJ$1)+COUNTIF('CABLE LENGTH'!$A51:$P51,AJ$2)=2,'CABLE LENGTH'!$AL51,0)","v":0},{"$f":"IF(COUNTIF('CABLE LENGTH'!$A51:$P51,AK$1)+COUNTIF('CABLE LENGTH'!$A51:$P51,AK$2)=2,'CABLE LENGTH'!$AL51,0)","v":0},{"$f":"IF(COUNTIF('CABLE LENGTH'!$A51:$P51,AL$1)+COUNTIF('CABLE LENGTH'!$A51:$P51,AL$2)=2,'CABLE LENGTH'!$AL51,0)","v":0},{"$f":"IF(COUNTIF('CABLE LENGTH'!$A51:$P51,AM$1)+COUNTIF('CABLE LENGTH'!$A51:$P51,AM$2)=2,'CABLE LENGTH'!$AL51,0)","v":0},{"$f":"IF(COUNTIF('CABLE LENGTH'!$A51:$P51,AN$1)+COUNTIF('CABLE LENGTH'!$A51:$P51,AN$2)=2,'CABLE LENGTH'!$AL51,0)","v":0},{"$f":"IF(COUNTIF('CABLE LENGTH'!$A51:$P51,AO$1)+COUNTIF('CABLE LENGTH'!$A51:$P51,AO$2)=2,'CABLE LENGTH'!$AL51,0)","v":0},{"$f":"IF(COUNTIF('CABLE LENGTH'!$A51:$P51,AP$1)+COUNTIF('CABLE LENGTH'!$A51:$P51,AP$2)=2,'CABLE LENGTH'!$AL51,0)","v":0},{"$f":"IF(COUNTIF('CABLE LENGTH'!$A51:$P51,AQ$1)+COUNTIF('CABLE LENGTH'!$A51:$P51,AQ$2)=2,'CABLE LENGTH'!$AL51,0)","v":0},{"$f":"IF(COUNTIF('CABLE LENGTH'!$A51:$P51,AR$1)+COUNTIF('CABLE LENGTH'!$A51:$P51,AR$2)=2,'CABLE LENGTH'!$AL51,0)","v":0},{"$f":"IF(COUNTIF('CABLE LENGTH'!$A51:$P51,AS$1)+COUNTIF('CABLE LENGTH'!$A51:$P51,AS$2)=2,'CABLE LENGTH'!$AL51,0)","v":0},{"$f":"IF(COUNTIF('CABLE LENGTH'!$A51:$P51,AT$1)+COUNTIF('CABLE LENGTH'!$A51:$P51,AT$2)=2,'CABLE LENGTH'!$AL51,0)","v":0},{"$f":"IF(COUNTIF('CABLE LENGTH'!$A51:$P51,AU$1)+COUNTIF('CABLE LENGTH'!$A51:$P51,AU$2)=2,'CABLE LENGTH'!$AL51,0)","v":0},{"$f":"IF(COUNTIF('CABLE LENGTH'!$A51:$P51,AV$1)+COUNTIF('CABLE LENGTH'!$A51:$P51,AV$2)=2,'CABLE LENGTH'!$AL51,0)","v":0},{"$f":"IF(COUNTIF('CABLE LENGTH'!$A51:$P51,AW$1)+COUNTIF('CABLE LENGTH'!$A51:$P51,AW$2)=2,'CABLE LENGTH'!$AL51,0)","v":0},{"$f":"IF(COUNTIF('CABLE LENGTH'!$A51:$P51,AX$1)+COUNTIF('CABLE LENGTH'!$A51:$P51,AX$2)=2,'CABLE LENGTH'!$AL51,0)","v":0},{"$f":"IF(COUNTIF('CABLE LENGTH'!$A51:$P51,AY$1)+COUNTIF('CABLE LENGTH'!$A51:$P51,AY$2)=2,'CABLE LENGTH'!$AL51,0)","v":0},{"$f":"IF(COUNTIF('CABLE LENGTH'!$A51:$P51,AZ$1)+COUNTIF('CABLE LENGTH'!$A51:$P51,AZ$2)=2,'CABLE LENGTH'!$AL51,0)","v":0}]
[null,{"$f":"+'CABLE LENGTH'!AK52","v":0},{"$f":"IF(COUNTIF('CABLE LENGTH'!$A52:$P52,C$1)+COUNTIF('CABLE LENGTH'!$B52:$P52,C$2)=2,'CABLE LENGTH'!$AL52,0)","v":0},{"$f":"IF(COUNTIF('CABLE LENGTH'!$A52:$P52,D$1)+COUNTIF('CABLE LENGTH'!$B52:$P52,D$2)=2,'CABLE LENGTH'!$AL52,0)","v":0},{"$f":"IF(COUNTIF('CABLE LENGTH'!$A52:$P52,E$1)+COUNTIF('CABLE LENGTH'!$B52:$P52,E$2)=2,'CABLE LENGTH'!$AL52,0)","v":0},{"$f":"IF(COUNTIF('CABLE LENGTH'!$A52:$P52,F$1)+COUNTIF('CABLE LENGTH'!$B52:$P52,F$2)=2,'CABLE LENGTH'!$AL52,0)","v":0},{"$f":"IF(COUNTIF('CABLE LENGTH'!$A52:$P52,G$1)+COUNTIF('CABLE LENGTH'!$B52:$P52,G$2)=2,'CABLE LENGTH'!$AL52,0)","v":0},{"$f":"IF(COUNTIF('CABLE LENGTH'!$A52:$P52,H$1)+COUNTIF('CABLE LENGTH'!$B52:$P52,H$2)=2,'CABLE LENGTH'!$AL52,0)","v":0},{"$f":"IF(COUNTIF('CABLE LENGTH'!$A52:$P52,I$1)+COUNTIF('CABLE LENGTH'!$B52:$P52,I$2)=2,'CABLE LENGTH'!$AL52,0)","v":0},{"$f":"IF(COUNTIF('CABLE LENGTH'!$A52:$P52,J$1)+COUNTIF('CABLE LENGTH'!$B52:$P52,J$2)=2,'CABLE LENGTH'!$AL52,0)","v":0},{"$f":"IF(COUNTIF('CABLE LENGTH'!$A52:$P52,K$1)+COUNTIF('CABLE LENGTH'!$B52:$P52,K$2)=2,'CABLE LENGTH'!$AL52,0)","v":0},{"$f":"IF(COUNTIF('CABLE LENGTH'!$A52:$P52,L$1)+COUNTIF('CABLE LENGTH'!$B52:$P52,L$2)=2,'CABLE LENGTH'!$AL52,0)","v":0},{"$f":"IF(COUNTIF('CABLE LENGTH'!$A52:$P52,M$1)+COUNTIF('CABLE LENGTH'!$B52:$P52,M$2)=2,'CABLE LENGTH'!$AL52,0)","v":0},{"$f":"IF(COUNTIF('CABLE LENGTH'!$A52:$P52,N$1)+COUNTIF('CABLE LENGTH'!$B52:$P52,N$2)=2,'CABLE LENGTH'!$AL52,0)","v":0},{"$f":"IF(COUNTIF('CABLE LENGTH'!$A52:$P52,O$1)+COUNTIF('CABLE LENGTH'!$B52:$P52,O$2)=2,'CABLE LENGTH'!$AL52,0)","v":0},{"$f":"IF(COUNTIF('CABLE LENGTH'!$A52:$P52,P$1)+COUNTIF('CABLE LENGTH'!$B52:$P52,P$2)=2,'CABLE LENGTH'!$AL52,0)","v":0},{"$f":"IF(COUNTIF('CABLE LENGTH'!$A52:$P52,Q$1)+COUNTIF('CABLE LENGTH'!$B52:$P52,Q$2)=2,'CABLE LENGTH'!$AL52,0)","v":0},{"$f":"IF(COUNTIF('CABLE LENGTH'!$A52:$P52,R$1)+COUNTIF('CABLE LENGTH'!$B52:$P52,R$2)=2,'CABLE LENGTH'!$AL52,0)","v":0},{"$f":"IF(COUNTIF('CABLE LENGTH'!$A52:$P52,S$1)+COUNTIF('CABLE LENGTH'!$B52:$P52,S$2)=2,'CABLE LENGTH'!$AL52,0)","v":0},{"$f":"IF(COUNTIF('CABLE LENGTH'!$A52:$P52,T$1)+COUNTIF('CABLE LENGTH'!$B52:$P52,T$2)=2,'CABLE LENGTH'!$AL52,0)","v":0},{"$f":"IF(COUNTIF('CABLE LENGTH'!$A52:$P52,U$1)+COUNTIF('CABLE LENGTH'!$B52:$P52,U$2)=2,'CABLE LENGTH'!$AL52,0)","v":0},{"$f":"IF(COUNTIF('CABLE LENGTH'!$A52:$P52,V$1)+COUNTIF('CABLE LENGTH'!$B52:$P52,V$2)=2,'CABLE LENGTH'!$AL52,0)","v":0},{"$f":"IF(COUNTIF('CABLE LENGTH'!$A52:$P52,W$1)+COUNTIF('CABLE LENGTH'!$B52:$P52,W$2)=2,'CABLE LENGTH'!$AL52,0)","v":0},{"$f":"IF(COUNTIF('CABLE LENGTH'!$A52:$P52,X$1)+COUNTIF('CABLE LENGTH'!$B52:$P52,X$2)=2,'CABLE LENGTH'!$AL52,0)","v":0},{"$f":"IF(COUNTIF('CABLE LENGTH'!$A52:$P52,Y$1)+COUNTIF('CABLE LENGTH'!$A52:$P52,Y$2)=2,'CABLE LENGTH'!$AL52,0)","v":0},{"$f":"IF(COUNTIF('CABLE LENGTH'!$A52:$P52,Z$1)+COUNTIF('CABLE LENGTH'!$A52:$P52,Z$2)=2,'CABLE LENGTH'!$AL52,0)","v":0},{"$f":"IF(COUNTIF('CABLE LENGTH'!$A52:$P52,AA$1)+COUNTIF('CABLE LENGTH'!$A52:$P52,AA$2)=2,'CABLE LENGTH'!$AL52,0)","v":0},{"$f":"IF(COUNTIF('CABLE LENGTH'!$A52:$P52,AB$1)+COUNTIF('CABLE LENGTH'!$A52:$P52,AB$2)=2,'CABLE LENGTH'!$AL52,0)","v":0},{"$f":"IF(COUNTIF('CABLE LENGTH'!$A52:$P52,AC$1)+COUNTIF('CABLE LENGTH'!$A52:$P52,AC$2)=2,'CABLE LENGTH'!$AL52,0)","v":0},{"$f":"IF(COUNTIF('CABLE LENGTH'!$A52:$P52,AD$1)+COUNTIF('CABLE LENGTH'!$A52:$P52,AD$2)=2,'CABLE LENGTH'!$AL52,0)","v":0},{"$f":"IF(COUNTIF('CABLE LENGTH'!$A52:$P52,AE$1)+COUNTIF('CABLE LENGTH'!$A52:$P52,AE$2)=2,'CABLE LENGTH'!$AL52,0)","v":0},{"$f":"IF(COUNTIF('CABLE LENGTH'!$A52:$P52,AF$1)+COUNTIF('CABLE LENGTH'!$A52:$P52,AF$2)=2,'CABLE LENGTH'!$AL52,0)","v":0},{"$f":"IF(COUNTIF('CABLE LENGTH'!$A52:$P52,AG$1)+COUNTIF('CABLE LENGTH'!$A52:$P52,AG$2)=2,'CABLE LENGTH'!$AL52,0)","v":0},{"$f":"IF(COUNTIF('CABLE LENGTH'!$A52:$P52,AH$1)+COUNTIF('CABLE LENGTH'!$A52:$P52,AH$2)=2,'CABLE LENGTH'!$AL52,0)","v":0},{"$f":"IF(COUNTIF('CABLE LENGTH'!$A52:$P52,AI$1)+COUNTIF('CABLE LENGTH'!$A52:$P52,AI$2)=2,'CABLE LENGTH'!$AL52,0)","v":0},{"$f":"IF(COUNTIF('CABLE LENGTH'!$A52:$P52,AJ$1)+COUNTIF('CABLE LENGTH'!$A52:$P52,AJ$2)=2,'CABLE LENGTH'!$AL52,0)","v":0},{"$f":"IF(COUNTIF('CABLE LENGTH'!$A52:$P52,AK$1)+COUNTIF('CABLE LENGTH'!$A52:$P52,AK$2)=2,'CABLE LENGTH'!$AL52,0)","v":0},{"$f":"IF(COUNTIF('CABLE LENGTH'!$A52:$P52,AL$1)+COUNTIF('CABLE LENGTH'!$A52:$P52,AL$2)=2,'CABLE LENGTH'!$AL52,0)","v":0},{"$f":"IF(COUNTIF('CABLE LENGTH'!$A52:$P52,AM$1)+COUNTIF('CABLE LENGTH'!$A52:$P52,AM$2)=2,'CABLE LENGTH'!$AL52,0)","v":0},{"$f":"IF(COUNTIF('CABLE LENGTH'!$A52:$P52,AN$1)+COUNTIF('CABLE LENGTH'!$A52:$P52,AN$2)=2,'CABLE LENGTH'!$AL52,0)","v":0},{"$f":"IF(COUNTIF('CABLE LENGTH'!$A52:$P52,AO$1)+COUNTIF('CABLE LENGTH'!$A52:$P52,AO$2)=2,'CABLE LENGTH'!$AL52,0)","v":0},{"$f":"IF(COUNTIF('CABLE LENGTH'!$A52:$P52,AP$1)+COUNTIF('CABLE LENGTH'!$A52:$P52,AP$2)=2,'CABLE LENGTH'!$AL52,0)","v":0},{"$f":"IF(COUNTIF('CABLE LENGTH'!$A52:$P52,AQ$1)+COUNTIF('CABLE LENGTH'!$A52:$P52,AQ$2)=2,'CABLE LENGTH'!$AL52,0)","v":0},{"$f":"IF(COUNTIF('CABLE LENGTH'!$A52:$P52,AR$1)+COUNTIF('CABLE LENGTH'!$A52:$P52,AR$2)=2,'CABLE LENGTH'!$AL52,0)","v":0},{"$f":"IF(COUNTIF('CABLE LENGTH'!$A52:$P52,AS$1)+COUNTIF('CABLE LENGTH'!$A52:$P52,AS$2)=2,'CABLE LENGTH'!$AL52,0)","v":0},{"$f":"IF(COUNTIF('CABLE LENGTH'!$A52:$P52,AT$1)+COUNTIF('CABLE LENGTH'!$A52:$P52,AT$2)=2,'CABLE LENGTH'!$AL52,0)","v":0},{"$f":"IF(COUNTIF('CABLE LENGTH'!$A52:$P52,AU$1)+COUNTIF('CABLE LENGTH'!$A52:$P52,AU$2)=2,'CABLE LENGTH'!$AL52,0)","v":0},{"$f":"IF(COUNTIF('CABLE LENGTH'!$A52:$P52,AV$1)+COUNTIF('CABLE LENGTH'!$A52:$P52,AV$2)=2,'CABLE LENGTH'!$AL52,0)","v":0},{"$f":"IF(COUNTIF('CABLE LENGTH'!$A52:$P52,AW$1)+COUNTIF('CABLE LENGTH'!$A52:$P52,AW$2)=2,'CABLE LENGTH'!$AL52,0)","v":0},{"$f":"IF(COUNTIF('CABLE LENGTH'!$A52:$P52,AX$1)+COUNTIF('CABLE LENGTH'!$A52:$P52,AX$2)=2,'CABLE LENGTH'!$AL52,0)","v":0},{"$f":"IF(COUNTIF('CABLE LENGTH'!$A52:$P52,AY$1)+COUNTIF('CABLE LENGTH'!$A52:$P52,AY$2)=2,'CABLE LENGTH'!$AL52,0)","v":0},{"$f":"IF(COUNTIF('CABLE LENGTH'!$A52:$P52,AZ$1)+COUNTIF('CABLE LENGTH'!$A52:$P52,AZ$2)=2,'CABLE LENGTH'!$AL52,0)","v":0}]
[null,{"$f":"+'CABLE LENGTH'!AK53","v":0},{"$f":"IF(COUNTIF('CABLE LENGTH'!$A53:$P53,C$1)+COUNTIF('CABLE LENGTH'!$B53:$P53,C$2)=2,'CABLE LENGTH'!$AL53,0)","v":0},{"$f":"IF(COUNTIF('CABLE LENGTH'!$A53:$P53,D$1)+COUNTIF('CABLE LENGTH'!$B53:$P53,D$2)=2,'CABLE LENGTH'!$AL53,0)","v":0},{"$f":"IF(COUNTIF('CABLE LENGTH'!$A53:$P53,E$1)+COUNTIF('CABLE LENGTH'!$B53:$P53,E$2)=2,'CABLE LENGTH'!$AL53,0)","v":0},{"$f":"IF(COUNTIF('CABLE LENGTH'!$A53:$P53,F$1)+COUNTIF('CABLE LENGTH'!$B53:$P53,F$2)=2,'CABLE LENGTH'!$AL53,0)","v":0},{"$f":"IF(COUNTIF('CABLE LENGTH'!$A53:$P53,G$1)+COUNTIF('CABLE LENGTH'!$B53:$P53,G$2)=2,'CABLE LENGTH'!$AL53,0)","v":0},{"$f":"IF(COUNTIF('CABLE LENGTH'!$A53:$P53,H$1)+COUNTIF('CABLE LENGTH'!$B53:$P53,H$2)=2,'CABLE LENGTH'!$AL53,0)","v":0},{"$f":"IF(COUNTIF('CABLE LENGTH'!$A53:$P53,I$1)+COUNTIF('CABLE LENGTH'!$B53:$P53,I$2)=2,'CABLE LENGTH'!$AL53,0)","v":0},{"$f":"IF(COUNTIF('CABLE LENGTH'!$A53:$P53,J$1)+COUNTIF('CABLE LENGTH'!$B53:$P53,J$2)=2,'CABLE LENGTH'!$AL53,0)","v":0},{"$f":"IF(COUNTIF('CABLE LENGTH'!$A53:$P53,K$1)+COUNTIF('CABLE LENGTH'!$B53:$P53,K$2)=2,'CABLE LENGTH'!$AL53,0)","v":0},{"$f":"IF(COUNTIF('CABLE LENGTH'!$A53:$P53,L$1)+COUNTIF('CABLE LENGTH'!$B53:$P53,L$2)=2,'CABLE LENGTH'!$AL53,0)","v":0},{"$f":"IF(COUNTIF('CABLE LENGTH'!$A53:$P53,M$1)+COUNTIF('CABLE LENGTH'!$B53:$P53,M$2)=2,'CABLE LENGTH'!$AL53,0)","v":0},{"$f":"IF(COUNTIF('CABLE LENGTH'!$A53:$P53,N$1)+COUNTIF('CABLE LENGTH'!$B53:$P53,N$2)=2,'CABLE LENGTH'!$AL53,0)","v":0},{"$f":"IF(COUNTIF('CABLE LENGTH'!$A53:$P53,O$1)+COUNTIF('CABLE LENGTH'!$B53:$P53,O$2)=2,'CABLE LENGTH'!$AL53,0)","v":0},{"$f":"IF(COUNTIF('CABLE LENGTH'!$A53:$P53,P$1)+COUNTIF('CABLE LENGTH'!$B53:$P53,P$2)=2,'CABLE LENGTH'!$AL53,0)","v":0},{"$f":"IF(COUNTIF('CABLE LENGTH'!$A53:$P53,Q$1)+COUNTIF('CABLE LENGTH'!$B53:$P53,Q$2)=2,'CABLE LENGTH'!$AL53,0)","v":0},{"$f":"IF(COUNTIF('CABLE LENGTH'!$A53:$P53,R$1)+COUNTIF('CABLE LENGTH'!$B53:$P53,R$2)=2,'CABLE LENGTH'!$AL53,0)","v":0},{"$f":"IF(COUNTIF('CABLE LENGTH'!$A53:$P53,S$1)+COUNTIF('CABLE LENGTH'!$B53:$P53,S$2)=2,'CABLE LENGTH'!$AL53,0)","v":0},{"$f":"IF(COUNTIF('CABLE LENGTH'!$A53:$P53,T$1)+COUNTIF('CABLE LENGTH'!$B53:$P53,T$2)=2,'CABLE LENGTH'!$AL53,0)","v":0},{"$f":"IF(COUNTIF('CABLE LENGTH'!$A53:$P53,U$1)+COUNTIF('CABLE LENGTH'!$B53:$P53,U$2)=2,'CABLE LENGTH'!$AL53,0)","v":0},{"$f":"IF(COUNTIF('CABLE LENGTH'!$A53:$P53,V$1)+COUNTIF('CABLE LENGTH'!$B53:$P53,V$2)=2,'CABLE LENGTH'!$AL53,0)","v":0},{"$f":"IF(COUNTIF('CABLE LENGTH'!$A53:$P53,W$1)+COUNTIF('CABLE LENGTH'!$B53:$P53,W$2)=2,'CABLE LENGTH'!$AL53,0)","v":0},{"$f":"IF(COUNTIF('CABLE LENGTH'!$A53:$P53,X$1)+COUNTIF('CABLE LENGTH'!$B53:$P53,X$2)=2,'CABLE LENGTH'!$AL53,0)","v":0},{"$f":"IF(COUNTIF('CABLE LENGTH'!$A53:$P53,Y$1)+COUNTIF('CABLE LENGTH'!$A53:$P53,Y$2)=2,'CABLE LENGTH'!$AL53,0)","v":0},{"$f":"IF(COUNTIF('CABLE LENGTH'!$A53:$P53,Z$1)+COUNTIF('CABLE LENGTH'!$A53:$P53,Z$2)=2,'CABLE LENGTH'!$AL53,0)","v":0},{"$f":"IF(COUNTIF('CABLE LENGTH'!$A53:$P53,AA$1)+COUNTIF('CABLE LENGTH'!$A53:$P53,AA$2)=2,'CABLE LENGTH'!$AL53,0)","v":0},{"$f":"IF(COUNTIF('CABLE LENGTH'!$A53:$P53,AB$1)+COUNTIF('CABLE LENGTH'!$A53:$P53,AB$2)=2,'CABLE LENGTH'!$AL53,0)","v":0},{"$f":"IF(COUNTIF('CABLE LENGTH'!$A53:$P53,AC$1)+COUNTIF('CABLE LENGTH'!$A53:$P53,AC$2)=2,'CABLE LENGTH'!$AL53,0)","v":0},{"$f":"IF(COUNTIF('CABLE LENGTH'!$A53:$P53,AD$1)+COUNTIF('CABLE LENGTH'!$A53:$P53,AD$2)=2,'CABLE LENGTH'!$AL53,0)","v":0},{"$f":"IF(COUNTIF('CABLE LENGTH'!$A53:$P53,AE$1)+COUNTIF('CABLE LENGTH'!$A53:$P53,AE$2)=2,'CABLE LENGTH'!$AL53,0)","v":0},{"$f":"IF(COUNTIF('CABLE LENGTH'!$A53:$P53,AF$1)+COUNTIF('CABLE LENGTH'!$A53:$P53,AF$2)=2,'CABLE LENGTH'!$AL53,0)","v":0},{"$f":"IF(COUNTIF('CABLE LENGTH'!$A53:$P53,AG$1)+COUNTIF('CABLE LENGTH'!$A53:$P53,AG$2)=2,'CABLE LENGTH'!$AL53,0)","v":0},{"$f":"IF(COUNTIF('CABLE LENGTH'!$A53:$P53,AH$1)+COUNTIF('CABLE LENGTH'!$A53:$P53,AH$2)=2,'CABLE LENGTH'!$AL53,0)","v":0},{"$f":"IF(COUNTIF('CABLE LENGTH'!$A53:$P53,AI$1)+COUNTIF('CABLE LENGTH'!$A53:$P53,AI$2)=2,'CABLE LENGTH'!$AL53,0)","v":0},{"$f":"IF(COUNTIF('CABLE LENGTH'!$A53:$P53,AJ$1)+COUNTIF('CABLE LENGTH'!$A53:$P53,AJ$2)=2,'CABLE LENGTH'!$AL53,0)","v":0},{"$f":"IF(COUNTIF('CABLE LENGTH'!$A53:$P53,AK$1)+COUNTIF('CABLE LENGTH'!$A53:$P53,AK$2)=2,'CABLE LENGTH'!$AL53,0)","v":0},{"$f":"IF(COUNTIF('CABLE LENGTH'!$A53:$P53,AL$1)+COUNTIF('CABLE LENGTH'!$A53:$P53,AL$2)=2,'CABLE LENGTH'!$AL53,0)","v":0},{"$f":"IF(COUNTIF('CABLE LENGTH'!$A53:$P53,AM$1)+COUNTIF('CABLE LENGTH'!$A53:$P53,AM$2)=2,'CABLE LENGTH'!$AL53,0)","v":0},{"$f":"IF(COUNTIF('CABLE LENGTH'!$A53:$P53,AN$1)+COUNTIF('CABLE LENGTH'!$A53:$P53,AN$2)=2,'CABLE LENGTH'!$AL53,0)","v":0},{"$f":"IF(COUNTIF('CABLE LENGTH'!$A53:$P53,AO$1)+COUNTIF('CABLE LENGTH'!$A53:$P53,AO$2)=2,'CABLE LENGTH'!$AL53,0)","v":0},{"$f":"IF(COUNTIF('CABLE LENGTH'!$A53:$P53,AP$1)+COUNTIF('CABLE LENGTH'!$A53:$P53,AP$2)=2,'CABLE LENGTH'!$AL53,0)","v":0},{"$f":"IF(COUNTIF('CABLE LENGTH'!$A53:$P53,AQ$1)+COUNTIF('CABLE LENGTH'!$A53:$P53,AQ$2)=2,'CABLE LENGTH'!$AL53,0)","v":0},{"$f":"IF(COUNTIF('CABLE LENGTH'!$A53:$P53,AR$1)+COUNTIF('CABLE LENGTH'!$A53:$P53,AR$2)=2,'CABLE LENGTH'!$AL53,0)","v":0},{"$f":"IF(COUNTIF('CABLE LENGTH'!$A53:$P53,AS$1)+COUNTIF('CABLE LENGTH'!$A53:$P53,AS$2)=2,'CABLE LENGTH'!$AL53,0)","v":0},{"$f":"IF(COUNTIF('CABLE LENGTH'!$A53:$P53,AT$1)+COUNTIF('CABLE LENGTH'!$A53:$P53,AT$2)=2,'CABLE LENGTH'!$AL53,0)","v":0},{"$f":"IF(COUNTIF('CABLE LENGTH'!$A53:$P53,AU$1)+COUNTIF('CABLE LENGTH'!$A53:$P53,AU$2)=2,'CABLE LENGTH'!$AL53,0)","v":0},{"$f":"IF(COUNTIF('CABLE LENGTH'!$A53:$P53,AV$1)+COUNTIF('CABLE LENGTH'!$A53:$P53,AV$2)=2,'CABLE LENGTH'!$AL53,0)","v":0},{"$f":"IF(COUNTIF('CABLE LENGTH'!$A53:$P53,AW$1)+COUNTIF('CABLE LENGTH'!$A53:$P53,AW$2)=2,'CABLE LENGTH'!$AL53,0)","v":0},{"$f":"IF(COUNTIF('CABLE LENGTH'!$A53:$P53,AX$1)+COUNTIF('CABLE LENGTH'!$A53:$P53,AX$2)=2,'CABLE LENGTH'!$AL53,0)","v":0},{"$f":"IF(COUNTIF('CABLE LENGTH'!$A53:$P53,AY$1)+COUNTIF('CABLE LENGTH'!$A53:$P53,AY$2)=2,'CABLE LENGTH'!$AL53,0)","v":0},{"$f":"IF(COUNTIF('CABLE LENGTH'!$A53:$P53,AZ$1)+COUNTIF('CABLE LENGTH'!$A53:$P53,AZ$2)=2,'CABLE LENGTH'!$AL53,0)","v":0}]
[null,{"$f":"+'CABLE LENGTH'!AK54","v":0},{"$f":"IF(COUNTIF('CABLE LENGTH'!$A54:$P54,C$1)+COUNTIF('CABLE LENGTH'!$B54:$P54,C$2)=2,'CABLE LENGTH'!$AL54,0)","v":0},{"$f":"IF(COUNTIF('CABLE LENGTH'!$A54:$P54,D$1)+COUNTIF('CABLE LENGTH'!$B54:$P54,D$2)=2,'CABLE LENGTH'!$AL54,0)","v":0},{"$f":"IF(COUNTIF('CABLE LENGTH'!$A54:$P54,E$1)+COUNTIF('CABLE LENGTH'!$B54:$P54,E$2)=2,'CABLE LENGTH'!$AL54,0)","v":0},{"$f":"IF(COUNTIF('CABLE LENGTH'!$A54:$P54,F$1)+COUNTIF('CABLE LENGTH'!$B54:$P54,F$2)=2,'CABLE LENGTH'!$AL54,0)","v":0},{"$f":"IF(COUNTIF('CABLE LENGTH'!$A54:$P54,G$1)+COUNTIF('CABLE LENGTH'!$B54:$P54,G$2)=2,'CABLE LENGTH'!$AL54,0)","v":0},{"$f":"IF(COUNTIF('CABLE LENGTH'!$A54:$P54,H$1)+COUNTIF('CABLE LENGTH'!$B54:$P54,H$2)=2,'CABLE LENGTH'!$AL54,0)","v":0},{"$f":"IF(COUNTIF('CABLE LENGTH'!$A54:$P54,I$1)+COUNTIF('CABLE LENGTH'!$B54:$P54,I$2)=2,'CABLE LENGTH'!$AL54,0)","v":0},{"$f":"IF(COUNTIF('CABLE LENGTH'!$A54:$P54,J$1)+COUNTIF('CABLE LENGTH'!$B54:$P54,J$2)=2,'CABLE LENGTH'!$AL54,0)","v":0},{"$f":"IF(COUNTIF('CABLE LENGTH'!$A54:$P54,K$1)+COUNTIF('CABLE LENGTH'!$B54:$P54,K$2)=2,'CABLE LENGTH'!$AL54,0)","v":0},{"$f":"IF(COUNTIF('CABLE LENGTH'!$A54:$P54,L$1)+COUNTIF('CABLE LENGTH'!$B54:$P54,L$2)=2,'CABLE LENGTH'!$AL54,0)","v":0},{"$f":"IF(COUNTIF('CABLE LENGTH'!$A54:$P54,M$1)+COUNTIF('CABLE LENGTH'!$B54:$P54,M$2)=2,'CABLE LENGTH'!$AL54,0)","v":0},{"$f":"IF(COUNTIF('CABLE LENGTH'!$A54:$P54,N$1)+COUNTIF('CABLE LENGTH'!$B54:$P54,N$2)=2,'CABLE LENGTH'!$AL54,0)","v":0},{"$f":"IF(COUNTIF('CABLE LENGTH'!$A54:$P54,O$1)+COUNTIF('CABLE LENGTH'!$B54:$P54,O$2)=2,'CABLE LENGTH'!$AL54,0)","v":0},{"$f":"IF(COUNTIF('CABLE LENGTH'!$A54:$P54,P$1)+COUNTIF('CABLE LENGTH'!$B54:$P54,P$2)=2,'CABLE LENGTH'!$AL54,0)","v":0},{"$f":"IF(COUNTIF('CABLE LENGTH'!$A54:$P54,Q$1)+COUNTIF('CABLE LENGTH'!$B54:$P54,Q$2)=2,'CABLE LENGTH'!$AL54,0)","v":0},{"$f":"IF(COUNTIF('CABLE LENGTH'!$A54:$P54,R$1)+COUNTIF('CABLE LENGTH'!$B54:$P54,R$2)=2,'CABLE LENGTH'!$AL54,0)","v":0},{"$f":"IF(COUNTIF('CABLE LENGTH'!$A54:$P54,S$1)+COUNTIF('CABLE LENGTH'!$B54:$P54,S$2)=2,'CABLE LENGTH'!$AL54,0)","v":0},{"$f":"IF(COUNTIF('CABLE LENGTH'!$A54:$P54,T$1)+COUNTIF('CABLE LENGTH'!$B54:$P54,T$2)=2,'CABLE LENGTH'!$AL54,0)","v":0},{"$f":"IF(COUNTIF('CABLE LENGTH'!$A54:$P54,U$1)+COUNTIF('CABLE LENGTH'!$B54:$P54,U$2)=2,'CABLE LENGTH'!$AL54,0)","v":0},{"$f":"IF(COUNTIF('CABLE LENGTH'!$A54:$P54,V$1)+COUNTIF('CABLE LENGTH'!$B54:$P54,V$2)=2,'CABLE LENGTH'!$AL54,0)","v":0},{"$f":"IF(COUNTIF('CABLE LENGTH'!$A54:$P54,W$1)+COUNTIF('CABLE LENGTH'!$B54:$P54,W$2)=2,'CABLE LENGTH'!$AL54,0)","v":0},{"$f":"IF(COUNTIF('CABLE LENGTH'!$A54:$P54,X$1)+COUNTIF('CABLE LENGTH'!$B54:$P54,X$2)=2,'CABLE LENGTH'!$AL54,0)","v":0},{"$f":"IF(COUNTIF('CABLE LENGTH'!$A54:$P54,Y$1)+COUNTIF('CABLE LENGTH'!$A54:$P54,Y$2)=2,'CABLE LENGTH'!$AL54,0)","v":0},{"$f":"IF(COUNTIF('CABLE LENGTH'!$A54:$P54,Z$1)+COUNTIF('CABLE LENGTH'!$A54:$P54,Z$2)=2,'CABLE LENGTH'!$AL54,0)","v":0},{"$f":"IF(COUNTIF('CABLE LENGTH'!$A54:$P54,AA$1)+COUNTIF('CABLE LENGTH'!$A54:$P54,AA$2)=2,'CABLE LENGTH'!$AL54,0)","v":0},{"$f":"IF(COUNTIF('CABLE LENGTH'!$A54:$P54,AB$1)+COUNTIF('CABLE LENGTH'!$A54:$P54,AB$2)=2,'CABLE LENGTH'!$AL54,0)","v":0},{"$f":"IF(COUNTIF('CABLE LENGTH'!$A54:$P54,AC$1)+COUNTIF('CABLE LENGTH'!$A54:$P54,AC$2)=2,'CABLE LENGTH'!$AL54,0)","v":0},{"$f":"IF(COUNTIF('CABLE LENGTH'!$A54:$P54,AD$1)+COUNTIF('CABLE LENGTH'!$A54:$P54,AD$2)=2,'CABLE LENGTH'!$AL54,0)","v":0},{"$f":"IF(COUNTIF('CABLE LENGTH'!$A54:$P54,AE$1)+COUNTIF('CABLE LENGTH'!$A54:$P54,AE$2)=2,'CABLE LENGTH'!$AL54,0)","v":0},{"$f":"IF(COUNTIF('CABLE LENGTH'!$A54:$P54,AF$1)+COUNTIF('CABLE LENGTH'!$A54:$P54,AF$2)=2,'CABLE LENGTH'!$AL54,0)","v":0},{"$f":"IF(COUNTIF('CABLE LENGTH'!$A54:$P54,AG$1)+COUNTIF('CABLE LENGTH'!$A54:$P54,AG$2)=2,'CABLE LENGTH'!$AL54,0)","v":0},{"$f":"IF(COUNTIF('CABLE LENGTH'!$A54:$P54,AH$1)+COUNTIF('CABLE LENGTH'!$A54:$P54,AH$2)=2,'CABLE LENGTH'!$AL54,0)","v":0},{"$f":"IF(COUNTIF('CABLE LENGTH'!$A54:$P54,AI$1)+COUNTIF('CABLE LENGTH'!$A54:$P54,AI$2)=2,'CABLE LENGTH'!$AL54,0)","v":0},{"$f":"IF(COUNTIF('CABLE LENGTH'!$A54:$P54,AJ$1)+COUNTIF('CABLE LENGTH'!$A54:$P54,AJ$2)=2,'CABLE LENGTH'!$AL54,0)","v":0},{"$f":"IF(COUNTIF('CABLE LENGTH'!$A54:$P54,AK$1)+COUNTIF('CABLE LENGTH'!$A54:$P54,AK$2)=2,'CABLE LENGTH'!$AL54,0)","v":0},{"$f":"IF(COUNTIF('CABLE LENGTH'!$A54:$P54,AL$1)+COUNTIF('CABLE LENGTH'!$A54:$P54,AL$2)=2,'CABLE LENGTH'!$AL54,0)","v":0},{"$f":"IF(COUNTIF('CABLE LENGTH'!$A54:$P54,AM$1)+COUNTIF('CABLE LENGTH'!$A54:$P54,AM$2)=2,'CABLE LENGTH'!$AL54,0)","v":0},{"$f":"IF(COUNTIF('CABLE LENGTH'!$A54:$P54,AN$1)+COUNTIF('CABLE LENGTH'!$A54:$P54,AN$2)=2,'CABLE LENGTH'!$AL54,0)","v":0},{"$f":"IF(COUNTIF('CABLE LENGTH'!$A54:$P54,AO$1)+COUNTIF('CABLE LENGTH'!$A54:$P54,AO$2)=2,'CABLE LENGTH'!$AL54,0)","v":0},{"$f":"IF(COUNTIF('CABLE LENGTH'!$A54:$P54,AP$1)+COUNTIF('CABLE LENGTH'!$A54:$P54,AP$2)=2,'CABLE LENGTH'!$AL54,0)","v":0},{"$f":"IF(COUNTIF('CABLE LENGTH'!$A54:$P54,AQ$1)+COUNTIF('CABLE LENGTH'!$A54:$P54,AQ$2)=2,'CABLE LENGTH'!$AL54,0)","v":0},{"$f":"IF(COUNTIF('CABLE LENGTH'!$A54:$P54,AR$1)+COUNTIF('CABLE LENGTH'!$A54:$P54,AR$2)=2,'CABLE LENGTH'!$AL54,0)","v":0},{"$f":"IF(COUNTIF('CABLE LENGTH'!$A54:$P54,AS$1)+COUNTIF('CABLE LENGTH'!$A54:$P54,AS$2)=2,'CABLE LENGTH'!$AL54,0)","v":0},{"$f":"IF(COUNTIF('CABLE LENGTH'!$A54:$P54,AT$1)+COUNTIF('CABLE LENGTH'!$A54:$P54,AT$2)=2,'CABLE LENGTH'!$AL54,0)","v":0},{"$f":"IF(COUNTIF('CABLE LENGTH'!$A54:$P54,AU$1)+COUNTIF('CABLE LENGTH'!$A54:$P54,AU$2)=2,'CABLE LENGTH'!$AL54,0)","v":0},{"$f":"IF(COUNTIF('CABLE LENGTH'!$A54:$P54,AV$1)+COUNTIF('CABLE LENGTH'!$A54:$P54,AV$2)=2,'CABLE LENGTH'!$AL54,0)","v":0},{"$f":"IF(COUNTIF('CABLE LENGTH'!$A54:$P54,AW$1)+COUNTIF('CABLE LENGTH'!$A54:$P54,AW$2)=2,'CABLE LENGTH'!$AL54,0)","v":0},{"$f":"IF(COUNTIF('CABLE LENGTH'!$A54:$P54,AX$1)+COUNTIF('CABLE LENGTH'!$A54:$P54,AX$2)=2,'CABLE LENGTH'!$AL54,0)","v":0},{"$f":"IF(COUNTIF('CABLE LENGTH'!$A54:$P54,AY$1)+COUNTIF('CABLE LENGTH'!$A54:$P54,AY$2)=2,'CABLE LENGTH'!$AL54,0)","v":0},{"$f":"IF(COUNTIF('CABLE LENGTH'!$A54:$P54,AZ$1)+COUNTIF('CABLE LENGTH'!$A54:$P54,AZ$2)=2,'CABLE LENGTH'!$AL54,0)","v":0}]
[null,{"$f":"+'CABLE LENGTH'!AK55","v":0},{"$f":"IF(COUNTIF('CABLE LENGTH'!$A55:$P55,C$1)+COUNTIF('CABLE LENGTH'!$B55:$P55,C$2)=2,'CABLE LENGTH'!$AL55,0)","v":0},{"$f":"IF(COUNTIF('CABLE LENGTH'!$A55:$P55,D$1)+COUNTIF('CABLE LENGTH'!$B55:$P55,D$2)=2,'CABLE LENGTH'!$AL55,0)","v":0},{"$f":"IF(COUNTIF('CABLE LENGTH'!$A55:$P55,E$1)+COUNTIF('CABLE LENGTH'!$B55:$P55,E$2)=2,'CABLE LENGTH'!$AL55,0)","v":0},{"$f":"IF(COUNTIF('CABLE LENGTH'!$A55:$P55,F$1)+COUNTIF('CABLE LENGTH'!$B55:$P55,F$2)=2,'CABLE LENGTH'!$AL55,0)","v":0},{"$f":"IF(COUNTIF('CABLE LENGTH'!$A55:$P55,G$1)+COUNTIF('CABLE LENGTH'!$B55:$P55,G$2)=2,'CABLE LENGTH'!$AL55,0)","v":0},{"$f":"IF(COUNTIF('CABLE LENGTH'!$A55:$P55,H$1)+COUNTIF('CABLE LENGTH'!$B55:$P55,H$2)=2,'CABLE LENGTH'!$AL55,0)","v":0},{"$f":"IF(COUNTIF('CABLE LENGTH'!$A55:$P55,I$1)+COUNTIF('CABLE LENGTH'!$B55:$P55,I$2)=2,'CABLE LENGTH'!$AL55,0)","v":0},{"$f":"IF(COUNTIF('CABLE LENGTH'!$A55:$P55,J$1)+COUNTIF('CABLE LENGTH'!$B55:$P55,J$2)=2,'CABLE LENGTH'!$AL55,0)","v":0},{"$f":"IF(COUNTIF('CABLE LENGTH'!$A55:$P55,K$1)+COUNTIF('CABLE LENGTH'!$B55:$P55,K$2)=2,'CABLE LENGTH'!$AL55,0)","v":0},{"$f":"IF(COUNTIF('CABLE LENGTH'!$A55:$P55,L$1)+COUNTIF('CABLE LENGTH'!$B55:$P55,L$2)=2,'CABLE LENGTH'!$AL55,0)","v":0},{"$f":"IF(COUNTIF('CABLE LENGTH'!$A55:$P55,M$1)+COUNTIF('CABLE LENGTH'!$B55:$P55,M$2)=2,'CABLE LENGTH'!$AL55,0)","v":0},{"$f":"IF(COUNTIF('CABLE LENGTH'!$A55:$P55,N$1)+COUNTIF('CABLE LENGTH'!$B55:$P55,N$2)=2,'CABLE LENGTH'!$AL55,0)","v":0},{"$f":"IF(COUNTIF('CABLE LENGTH'!$A55:$P55,O$1)+COUNTIF('CABLE LENGTH'!$B55:$P55,O$2)=2,'CABLE LENGTH'!$AL55,0)","v":0},{"$f":"IF(COUNTIF('CABLE LENGTH'!$A55:$P55,P$1)+COUNTIF('CABLE LENGTH'!$B55:$P55,P$2)=2,'CABLE LENGTH'!$AL55,0)","v":0},{"$f":"IF(COUNTIF('CABLE LENGTH'!$A55:$P55,Q$1)+COUNTIF('CABLE LENGTH'!$B55:$P55,Q$2)=2,'CABLE LENGTH'!$AL55,0)","v":0},{"$f":"IF(COUNTIF('CABLE LENGTH'!$A55:$P55,R$1)+COUNTIF('CABLE LENGTH'!$B55:$P55,R$2)=2,'CABLE LENGTH'!$AL55,0)","v":0},{"$f":"IF(COUNTIF('CABLE LENGTH'!$A55:$P55,S$1)+COUNTIF('CABLE LENGTH'!$B55:$P55,S$2)=2,'CABLE LENGTH'!$AL55,0)","v":0},{"$f":"IF(COUNTIF('CABLE LENGTH'!$A55:$P55,T$1)+COUNTIF('CABLE LENGTH'!$B55:$P55,T$2)=2,'CABLE LENGTH'!$AL55,0)","v":0},{"$f":"IF(COUNTIF('CABLE LENGTH'!$A55:$P55,U$1)+COUNTIF('CABLE LENGTH'!$B55:$P55,U$2)=2,'CABLE LENGTH'!$AL55,0)","v":0},{"$f":"IF(COUNTIF('CABLE LENGTH'!$A55:$P55,V$1)+COUNTIF('CABLE LENGTH'!$B55:$P55,V$2)=2,'CABLE LENGTH'!$AL55,0)","v":0},{"$f":"IF(COUNTIF('CABLE LENGTH'!$A55:$P55,W$1)+COUNTIF('CABLE LENGTH'!$B55:$P55,W$2)=2,'CABLE LENGTH'!$AL55,0)","v":0},{"$f":"IF(COUNTIF('CABLE LENGTH'!$A55:$P55,X$1)+COUNTIF('CABLE LENGTH'!$B55:$P55,X$2)=2,'CABLE LENGTH'!$AL55,0)","v":0},{"$f":"IF(COUNTIF('CABLE LENGTH'!$A55:$P55,Y$1)+COUNTIF('CABLE LENGTH'!$A55:$P55,Y$2)=2,'CABLE LENGTH'!$AL55,0)","v":0},{"$f":"IF(COUNTIF('CABLE LENGTH'!$A55:$P55,Z$1)+COUNTIF('CABLE LENGTH'!$A55:$P55,Z$2)=2,'CABLE LENGTH'!$AL55,0)","v":0},{"$f":"IF(COUNTIF('CABLE LENGTH'!$A55:$P55,AA$1)+COUNTIF('CABLE LENGTH'!$A55:$P55,AA$2)=2,'CABLE LENGTH'!$AL55,0)","v":0},{"$f":"IF(COUNTIF('CABLE LENGTH'!$A55:$P55,AB$1)+COUNTIF('CABLE LENGTH'!$A55:$P55,AB$2)=2,'CABLE LENGTH'!$AL55,0)","v":0},{"$f":"IF(COUNTIF('CABLE LENGTH'!$A55:$P55,AC$1)+COUNTIF('CABLE LENGTH'!$A55:$P55,AC$2)=2,'CABLE LENGTH'!$AL55,0)","v":0},{"$f":"IF(COUNTIF('CABLE LENGTH'!$A55:$P55,AD$1)+COUNTIF('CABLE LENGTH'!$A55:$P55,AD$2)=2,'CABLE LENGTH'!$AL55,0)","v":0},{"$f":"IF(COUNTIF('CABLE LENGTH'!$A55:$P55,AE$1)+COUNTIF('CABLE LENGTH'!$A55:$P55,AE$2)=2,'CABLE LENGTH'!$AL55,0)","v":0},{"$f":"IF(COUNTIF('CABLE LENGTH'!$A55:$P55,AF$1)+COUNTIF('CABLE LENGTH'!$A55:$P55,AF$2)=2,'CABLE LENGTH'!$AL55,0)","v":0},{"$f":"IF(COUNTIF('CABLE LENGTH'!$A55:$P55,AG$1)+COUNTIF('CABLE LENGTH'!$A55:$P55,AG$2)=2,'CABLE LENGTH'!$AL55,0)","v":0},{"$f":"IF(COUNTIF('CABLE LENGTH'!$A55:$P55,AH$1)+COUNTIF('CABLE LENGTH'!$A55:$P55,AH$2)=2,'CABLE LENGTH'!$AL55,0)","v":0},{"$f":"IF(COUNTIF('CABLE LENGTH'!$A55:$P55,AI$1)+COUNTIF('CABLE LENGTH'!$A55:$P55,AI$2)=2,'CABLE LENGTH'!$AL55,0)","v":0},{"$f":"IF(COUNTIF('CABLE LENGTH'!$A55:$P55,AJ$1)+COUNTIF('CABLE LENGTH'!$A55:$P55,AJ$2)=2,'CABLE LENGTH'!$AL55,0)","v":0},{"$f":"IF(COUNTIF('CABLE LENGTH'!$A55:$P55,AK$1)+COUNTIF('CABLE LENGTH'!$A55:$P55,AK$2)=2,'CABLE LENGTH'!$AL55,0)","v":0},{"$f":"IF(COUNTIF('CABLE LENGTH'!$A55:$P55,AL$1)+COUNTIF('CABLE LENGTH'!$A55:$P55,AL$2)=2,'CABLE LENGTH'!$AL55,0)","v":0},{"$f":"IF(COUNTIF('CABLE LENGTH'!$A55:$P55,AM$1)+COUNTIF('CABLE LENGTH'!$A55:$P55,AM$2)=2,'CABLE LENGTH'!$AL55,0)","v":0},{"$f":"IF(COUNTIF('CABLE LENGTH'!$A55:$P55,AN$1)+COUNTIF('CABLE LENGTH'!$A55:$P55,AN$2)=2,'CABLE LENGTH'!$AL55,0)","v":0},{"$f":"IF(COUNTIF('CABLE LENGTH'!$A55:$P55,AO$1)+COUNTIF('CABLE LENGTH'!$A55:$P55,AO$2)=2,'CABLE LENGTH'!$AL55,0)","v":0},{"$f":"IF(COUNTIF('CABLE LENGTH'!$A55:$P55,AP$1)+COUNTIF('CABLE LENGTH'!$A55:$P55,AP$2)=2,'CABLE LENGTH'!$AL55,0)","v":0},{"$f":"IF(COUNTIF('CABLE LENGTH'!$A55:$P55,AQ$1)+COUNTIF('CABLE LENGTH'!$A55:$P55,AQ$2)=2,'CABLE LENGTH'!$AL55,0)","v":0},{"$f":"IF(COUNTIF('CABLE LENGTH'!$A55:$P55,AR$1)+COUNTIF('CABLE LENGTH'!$A55:$P55,AR$2)=2,'CABLE LENGTH'!$AL55,0)","v":0},{"$f":"IF(COUNTIF('CABLE LENGTH'!$A55:$P55,AS$1)+COUNTIF('CABLE LENGTH'!$A55:$P55,AS$2)=2,'CABLE LENGTH'!$AL55,0)","v":0},{"$f":"IF(COUNTIF('CABLE LENGTH'!$A55:$P55,AT$1)+COUNTIF('CABLE LENGTH'!$A55:$P55,AT$2)=2,'CABLE LENGTH'!$AL55,0)","v":0},{"$f":"IF(COUNTIF('CABLE LENGTH'!$A55:$P55,AU$1)+COUNTIF('CABLE LENGTH'!$A55:$P55,AU$2)=2,'CABLE LENGTH'!$AL55,0)","v":0},{"$f":"IF(COUNTIF('CABLE LENGTH'!$A55:$P55,AV$1)+COUNTIF('CABLE LENGTH'!$A55:$P55,AV$2)=2,'CABLE LENGTH'!$AL55,0)","v":0},{"$f":"IF(COUNTIF('CABLE LENGTH'!$A55:$P55,AW$1)+COUNTIF('CABLE LENGTH'!$A55:$P55,AW$2)=2,'CABLE LENGTH'!$AL55,0)","v":0},{"$f":"IF(COUNTIF('CABLE LENGTH'!$A55:$P55,AX$1)+COUNTIF('CABLE LENGTH'!$A55:$P55,AX$2)=2,'CABLE LENGTH'!$AL55,0)","v":0},{"$f":"IF(COUNTIF('CABLE LENGTH'!$A55:$P55,AY$1)+COUNTIF('CABLE LENGTH'!$A55:$P55,AY$2)=2,'CABLE LENGTH'!$AL55,0)","v":0},{"$f":"IF(COUNTIF('CABLE LENGTH'!$A55:$P55,AZ$1)+COUNTIF('CABLE LENGTH'!$A55:$P55,AZ$2)=2,'CABLE LENGTH'!$AL55,0)","v":0}]
[null,{"$f":"+'CABLE LENGTH'!AK56","v":0},{"$f":"IF(COUNTIF('CABLE LENGTH'!$A56:$P56,C$1)+COUNTIF('CABLE LENGTH'!$B56:$P56,C$2)=2,'CABLE LENGTH'!$AL56,0)","v":0},{"$f":"IF(COUNTIF('CABLE LENGTH'!$A56:$P56,D$1)+COUNTIF('CABLE LENGTH'!$B56:$P56,D$2)=2,'CABLE LENGTH'!$AL56,0)","v":0},{"$f":"IF(COUNTIF('CABLE LENGTH'!$A56:$P56,E$1)+COUNTIF('CABLE LENGTH'!$B56:$P56,E$2)=2,'CABLE LENGTH'!$AL56,0)","v":0},{"$f":"IF(COUNTIF('CABLE LENGTH'!$A56:$P56,F$1)+COUNTIF('CABLE LENGTH'!$B56:$P56,F$2)=2,'CABLE LENGTH'!$AL56,0)","v":0},{"$f":"IF(COUNTIF('CABLE LENGTH'!$A56:$P56,G$1)+COUNTIF('CABLE LENGTH'!$B56:$P56,G$2)=2,'CABLE LENGTH'!$AL56,0)","v":0},{"$f":"IF(COUNTIF('CABLE LENGTH'!$A56:$P56,H$1)+COUNTIF('CABLE LENGTH'!$B56:$P56,H$2)=2,'CABLE LENGTH'!$AL56,0)","v":0},{"$f":"IF(COUNTIF('CABLE LENGTH'!$A56:$P56,I$1)+COUNTIF('CABLE LENGTH'!$B56:$P56,I$2)=2,'CABLE LENGTH'!$AL56,0)","v":0},{"$f":"IF(COUNTIF('CABLE LENGTH'!$A56:$P56,J$1)+COUNTIF('CABLE LENGTH'!$B56:$P56,J$2)=2,'CABLE LENGTH'!$AL56,0)","v":0},{"$f":"IF(COUNTIF('CABLE LENGTH'!$A56:$P56,K$1)+COUNTIF('CABLE LENGTH'!$B56:$P56,K$2)=2,'CABLE LENGTH'!$AL56,0)","v":0},{"$f":"IF(COUNTIF('CABLE LENGTH'!$A56:$P56,L$1)+COUNTIF('CABLE LENGTH'!$B56:$P56,L$2)=2,'CABLE LENGTH'!$AL56,0)","v":0},{"$f":"IF(COUNTIF('CABLE LENGTH'!$A56:$P56,M$1)+COUNTIF('CABLE LENGTH'!$B56:$P56,M$2)=2,'CABLE LENGTH'!$AL56,0)","v":0},{"$f":"IF(COUNTIF('CABLE LENGTH'!$A56:$P56,N$1)+COUNTIF('CABLE LENGTH'!$B56:$P56,N$2)=2,'CABLE LENGTH'!$AL56,0)","v":0},{"$f":"IF(COUNTIF('CABLE LENGTH'!$A56:$P56,O$1)+COUNTIF('CABLE LENGTH'!$B56:$P56,O$2)=2,'CABLE LENGTH'!$AL56,0)","v":0},{"$f":"IF(COUNTIF('CABLE LENGTH'!$A56:$P56,P$1)+COUNTIF('CABLE LENGTH'!$B56:$P56,P$2)=2,'CABLE LENGTH'!$AL56,0)","v":0},{"$f":"IF(COUNTIF('CABLE LENGTH'!$A56:$P56,Q$1)+COUNTIF('CABLE LENGTH'!$B56:$P56,Q$2)=2,'CABLE LENGTH'!$AL56,0)","v":0},{"$f":"IF(COUNTIF('CABLE LENGTH'!$A56:$P56,R$1)+COUNTIF('CABLE LENGTH'!$B56:$P56,R$2)=2,'CABLE LENGTH'!$AL56,0)","v":0},{"$f":"IF(COUNTIF('CABLE LENGTH'!$A56:$P56,S$1)+COUNTIF('CABLE LENGTH'!$B56:$P56,S$2)=2,'CABLE LENGTH'!$AL56,0)","v":0},{"$f":"IF(COUNTIF('CABLE LENGTH'!$A56:$P56,T$1)+COUNTIF('CABLE LENGTH'!$B56:$P56,T$2)=2,'CABLE LENGTH'!$AL56,0)","v":0},{"$f":"IF(COUNTIF('CABLE LENGTH'!$A56:$P56,U$1)+COUNTIF('CABLE LENGTH'!$B56:$P56,U$2)=2,'CABLE LENGTH'!$AL56,0)","v":0},{"$f":"IF(COUNTIF('CABLE LENGTH'!$A56:$P56,V$1)+COUNTIF('CABLE LENGTH'!$B56:$P56,V$2)=2,'CABLE LENGTH'!$AL56,0)","v":0},{"$f":"IF(COUNTIF('CABLE LENGTH'!$A56:$P56,W$1)+COUNTIF('CABLE LENGTH'!$B56:$P56,W$2)=2,'CABLE LENGTH'!$AL56,0)","v":0},{"$f":"IF(COUNTIF('CABLE LENGTH'!$A56:$P56,X$1)+COUNTIF('CABLE LENGTH'!$B56:$P56,X$2)=2,'CABLE LENGTH'!$AL56,0)","v":0},{"$f":"IF(COUNTIF('CABLE LENGTH'!$A56:$P56,Y$1)+COUNTIF('CABLE LENGTH'!$A56:$P56,Y$2)=2,'CABLE LENGTH'!$AL56,0)","v":0},{"$f":"IF(COUNTIF('CABLE LENGTH'!$A56:$P56,Z$1)+COUNTIF('CABLE LENGTH'!$A56:$P56,Z$2)=2,'CABLE LENGTH'!$AL56,0)","v":0},{"$f":"IF(COUNTIF('CABLE LENGTH'!$A56:$P56,AA$1)+COUNTIF('CABLE LENGTH'!$A56:$P56,AA$2)=2,'CABLE LENGTH'!$AL56,0)","v":0},{"$f":"IF(COUNTIF('CABLE LENGTH'!$A56:$P56,AB$1)+COUNTIF('CABLE LENGTH'!$A56:$P56,AB$2)=2,'CABLE LENGTH'!$AL56,0)","v":0},{"$f":"IF(COUNTIF('CABLE LENGTH'!$A56:$P56,AC$1)+COUNTIF('CABLE LENGTH'!$A56:$P56,AC$2)=2,'CABLE LENGTH'!$AL56,0)","v":0},{"$f":"IF(COUNTIF('CABLE LENGTH'!$A56:$P56,AD$1)+COUNTIF('CABLE LENGTH'!$A56:$P56,AD$2)=2,'CABLE LENGTH'!$AL56,0)","v":0},{"$f":"IF(COUNTIF('CABLE LENGTH'!$A56:$P56,AE$1)+COUNTIF('CABLE LENGTH'!$A56:$P56,AE$2)=2,'CABLE LENGTH'!$AL56,0)","v":0},{"$f":"IF(COUNTIF('CABLE LENGTH'!$A56:$P56,AF$1)+COUNTIF('CABLE LENGTH'!$A56:$P56,AF$2)=2,'CABLE LENGTH'!$AL56,0)","v":0},{"$f":"IF(COUNTIF('CABLE LENGTH'!$A56:$P56,AG$1)+COUNTIF('CABLE LENGTH'!$A56:$P56,AG$2)=2,'CABLE LENGTH'!$AL56,0)","v":0},{"$f":"IF(COUNTIF('CABLE LENGTH'!$A56:$P56,AH$1)+COUNTIF('CABLE LENGTH'!$A56:$P56,AH$2)=2,'CABLE LENGTH'!$AL56,0)","v":0},{"$f":"IF(COUNTIF('CABLE LENGTH'!$A56:$P56,AI$1)+COUNTIF('CABLE LENGTH'!$A56:$P56,AI$2)=2,'CABLE LENGTH'!$AL56,0)","v":0},{"$f":"IF(COUNTIF('CABLE LENGTH'!$A56:$P56,AJ$1)+COUNTIF('CABLE LENGTH'!$A56:$P56,AJ$2)=2,'CABLE LENGTH'!$AL56,0)","v":0},{"$f":"IF(COUNTIF('CABLE LENGTH'!$A56:$P56,AK$1)+COUNTIF('CABLE LENGTH'!$A56:$P56,AK$2)=2,'CABLE LENGTH'!$AL56,0)","v":0},{"$f":"IF(COUNTIF('CABLE LENGTH'!$A56:$P56,AL$1)+COUNTIF('CABLE LENGTH'!$A56:$P56,AL$2)=2,'CABLE LENGTH'!$AL56,0)","v":0},{"$f":"IF(COUNTIF('CABLE LENGTH'!$A56:$P56,AM$1)+COUNTIF('CABLE LENGTH'!$A56:$P56,AM$2)=2,'CABLE LENGTH'!$AL56,0)","v":0},{"$f":"IF(COUNTIF('CABLE LENGTH'!$A56:$P56,AN$1)+COUNTIF('CABLE LENGTH'!$A56:$P56,AN$2)=2,'CABLE LENGTH'!$AL56,0)","v":0},{"$f":"IF(COUNTIF('CABLE LENGTH'!$A56:$P56,AO$1)+COUNTIF('CABLE LENGTH'!$A56:$P56,AO$2)=2,'CABLE LENGTH'!$AL56,0)","v":0},{"$f":"IF(COUNTIF('CABLE LENGTH'!$A56:$P56,AP$1)+COUNTIF('CABLE LENGTH'!$A56:$P56,AP$2)=2,'CABLE LENGTH'!$AL56,0)","v":0},{"$f":"IF(COUNTIF('CABLE LENGTH'!$A56:$P56,AQ$1)+COUNTIF('CABLE LENGTH'!$A56:$P56,AQ$2)=2,'CABLE LENGTH'!$AL56,0)","v":0},{"$f":"IF(COUNTIF('CABLE LENGTH'!$A56:$P56,AR$1)+COUNTIF('CABLE LENGTH'!$A56:$P56,AR$2)=2,'CABLE LENGTH'!$AL56,0)","v":0},{"$f":"IF(COUNTIF('CABLE LENGTH'!$A56:$P56,AS$1)+COUNTIF('CABLE LENGTH'!$A56:$P56,AS$2)=2,'CABLE LENGTH'!$AL56,0)","v":0},{"$f":"IF(COUNTIF('CABLE LENGTH'!$A56:$P56,AT$1)+COUNTIF('CABLE LENGTH'!$A56:$P56,AT$2)=2,'CABLE LENGTH'!$AL56,0)","v":0},{"$f":"IF(COUNTIF('CABLE LENGTH'!$A56:$P56,AU$1)+COUNTIF('CABLE LENGTH'!$A56:$P56,AU$2)=2,'CABLE LENGTH'!$AL56,0)","v":0},{"$f":"IF(COUNTIF('CABLE LENGTH'!$A56:$P56,AV$1)+COUNTIF('CABLE LENGTH'!$A56:$P56,AV$2)=2,'CABLE LENGTH'!$AL56,0)","v":0},{"$f":"IF(COUNTIF('CABLE LENGTH'!$A56:$P56,AW$1)+COUNTIF('CABLE LENGTH'!$A56:$P56,AW$2)=2,'CABLE LENGTH'!$AL56,0)","v":0},{"$f":"IF(COUNTIF('CABLE LENGTH'!$A56:$P56,AX$1)+COUNTIF('CABLE LENGTH'!$A56:$P56,AX$2)=2,'CABLE LENGTH'!$AL56,0)","v":0},{"$f":"IF(COUNTIF('CABLE LENGTH'!$A56:$P56,AY$1)+COUNTIF('CABLE LENGTH'!$A56:$P56,AY$2)=2,'CABLE LENGTH'!$AL56,0)","v":0},{"$f":"IF(COUNTIF('CABLE LENGTH'!$A56:$P56,AZ$1)+COUNTIF('CABLE LENGTH'!$A56:$P56,AZ$2)=2,'CABLE LENGTH'!$AL56,0)","v":0}]
["CABLE SIZES IN CONDUIT",{"$f":"+B6","v":0},{"$f":"IF($B6=$B$122,$C$122,IF($B6=$B$123,$C$123,IF($B6=$B$124,$C$124,IF($B6=$B$125,$C$125,IF($B6=$B$126,$C$126,IF($B6=$B$127,$C$127,IF($B6=$B$128,$C$128,IF($B6=$B$129,$C$129,IF($B6=$B$130,$C$130,IF($B6=$B$131,$C$131,IF($B6=$B$132,$C$132,IF($B6=$B$133,$C$133,IF($B6=$B$134,$C$134,0)))))))))))))*C6","v":0},0,0,0,0,0,0,0,0,0,0,0,0,0,0,0,0,0,0,0,0,0,0,0,0,0,0,0,0,0,0,0,{"$f":"IF($B6=$B$122,$C$122,IF($B6=$B$123,$C$123,IF($B6=$B$124,$C$124,IF($B6=$B$125,$C$125,IF($B6=$B$126,$C$126,IF($B6=$B$127,$C$127,IF($B6=$B$128,$C$128,IF($B6=$B$129,$C$129,IF($B6=$B$130,$C$130,IF($B6=$B$131,$C$131,IF($B6=$B$132,$C$132,IF($B6=$B$133,$C$133,IF($B6=$B$134,$C$134,0)))))))))))))*AI6","v":0},0,0,0,0,0,0,0,0,0,0,0,0,0,0,0,0,0]
[null,{"$f":"+B7","v":0},{"$f":"IF($B7=$B$122,$C$122,IF($B7=$B$123,$C$123,IF($B7=$B$124,$C$124,IF($B7=$B$125,$C$125,IF($B7=$B$126,$C$126,IF($B7=$B$127,$C$127,IF($B7=$B$128,$C$128,IF($B7=$B$129,$C$129,IF($B7=$B$130,$C$130,IF($B7=$B$131,$C$131,IF($B7=$B$132,$C$132,IF($B7=$B$133,$C$133,IF($B7=$B$134,$C$134,0)))))))))))))*C7","v":0},0,0,0,0,0,0,0,0,0,0,0,0,0,0,0,0,0,0,0,0,0,0,0,0,0,0,0,0,0,0,0,{"$f":"IF($B7=$B$122,$C$122,IF($B7=$B$123,$C$123,IF($B7=$B$124,$C$124,IF($B7=$B$125,$C$125,IF($B7=$B$126,$C$126,IF($B7=$B$127,$C$127,IF($B7=$B$128,$C$128,IF($B7=$B$129,$C$129,IF($B7=$B$130,$C$130,IF($B7=$B$131,$C$131,IF($B7=$B$132,$C$132,IF($B7=$B$133,$C$133,IF($B7=$B$134,$C$134,0)))))))))))))*AI7","v":0},0,0,0,0,0,0,0,0,0,0,0,0,0,0,0,0,0]
[null,0,{"$f":"IF($B8=$B$122,$C$122,IF($B8=$B$123,$C$123,IF($B8=$B$124,$C$124,IF($B8=$B$125,$C$125,IF($B8=$B$126,$C$126,IF($B8=$B$127,$C$127,IF($B8=$B$128,$C$128,IF($B8=$B$129,$C$129,IF($B8=$B$130,$C$130,IF($B8=$B$131,$C$131,IF($B8=$B$132,$C$132,IF($B8=$B$133,$C$133,IF($B8=$B$134,$C$134,0)))))))))))))*C8","v":0},0,0,0,0,0,0,0,0,0,0,0,0,0,0,0,0,0,0,0,0,0,0,0,0,0,0,0,0,0,0,0,{"$f":"IF($B8=$B$122,$C$122,IF($B8=$B$123,$C$123,IF($B8=$B$124,$C$124,IF($B8=$B$125,$C$125,IF($B8=$B$126,$C$126,IF($B8=$B$127,$C$127,IF($B8=$B$128,$C$128,IF($B8=$B$129,$C$129,IF($B8=$B$130,$C$130,IF($B8=$B$131,$C$131,IF($B8=$B$132,$C$132,IF($B8=$B$133,$C$133,IF($B8=$B$134,$C$134,0)))))))))))))*AI8","v":0},0,0,0,0,0,0,0,0,0,0,0,0,0,0,0,0,0]
[null,0,{"$f":"IF($B9=$B$122,$C$122,IF($B9=$B$123,$C$123,IF($B9=$B$124,$C$124,IF($B9=$B$125,$C$125,IF($B9=$B$126,$C$126,IF($B9=$B$127,$C$127,IF($B9=$B$128,$C$128,IF($B9=$B$129,$C$129,IF($B9=$B$130,$C$130,IF($B9=$B$131,$C$131,IF($B9=$B$132,$C$132,IF($B9=$B$133,$C$133,IF($B9=$B$134,$C$134,0)))))))))))))*C9","v":0},0,0,0,0,0,0,0,0,0,0,0,0,0,0,0,0,0,0,0,0,0,0,0,0,0,0,0,0,0,0,0,{"$f":"IF($B9=$B$122,$C$122,IF($B9=$B$123,$C$123,IF($B9=$B$124,$C$124,IF($B9=$B$125,$C$125,IF($B9=$B$126,$C$126,IF($B9=$B$127,$C$127,IF($B9=$B$128,$C$128,IF($B9=$B$129,$C$129,IF($B9=$B$130,$C$130,IF($B9=$B$131,$C$131,IF($B9=$B$132,$C$132,IF($B9=$B$133,$C$133,IF($B9=$B$134,$C$134,0)))))))))))))*AI9","v":0},0,0,0,0,0,0,0,0,0,0,0,0,0,0,0,0,0]
[null,0,{"$f":"IF($B10=$B$122,$C$122,IF($B10=$B$123,$C$123,IF($B10=$B$124,$C$124,IF($B10=$B$125,$C$125,IF($B10=$B$126,$C$126,IF($B10=$B$127,$C$127,IF($B10=$B$128,$C$128,IF($B10=$B$129,$C$129,IF($B10=$B$130,$C$130,IF($B10=$B$131,$C$131,IF($B10=$B$132,$C$132,IF($B10=$B$133,$C$133,IF($B10=$B$134,$C$134,0)))))))))))))*C10","v":0},0,0,0,0,0,0,0,0,0,0,0,0,0,0,0,0,0,0,0,0,0,0,0,0,0,0,0,0,0,0,0,{"$f":"IF($B10=$B$122,$C$122,IF($B10=$B$123,$C$123,IF($B10=$B$124,$C$124,IF($B10=$B$125,$C$125,IF($B10=$B$126,$C$126,IF($B10=$B$127,$C$127,IF($B10=$B$128,$C$128,IF($B10=$B$129,$C$129,IF($B10=$B$130,$C$130,IF($B10=$B$131,$C$131,IF($B10=$B$132,$C$132,IF($B10=$B$133,$C$133,IF($B10=$B$134,$C$134,0)))))))))))))*AI10","v":0},0,0,0,0,0,0,0,0,0,0,0,0,0,0,0,0,0]
[null,0,{"$f":"IF($B11=$B$122,$C$122,IF($B11=$B$123,$C$123,IF($B11=$B$124,$C$124,IF($B11=$B$125,$C$125,IF($B11=$B$126,$C$126,IF($B11=$B$127,$C$127,IF($B11=$B$128,$C$128,IF($B11=$B$129,$C$129,IF($B11=$B$130,$C$130,IF($B11=$B$131,$C$131,IF($B11=$B$132,$C$132,IF($B11=$B$133,$C$133,IF($B11=$B$134,$C$134,0)))))))))))))*C11","v":0},0,0,0,0,0,0,0,0,0,0,0,0,0,0,0,0,0,0,0,0,0,0,0,0,0,0,0,0,0,0,0,{"$f":"IF($B11=$B$122,$C$122,IF($B11=$B$123,$C$123,IF($B11=$B$124,$C$124,IF($B11=$B$125,$C$125,IF($B11=$B$126,$C$126,IF($B11=$B$127,$C$127,IF($B11=$B$128,$C$128,IF($B11=$B$129,$C$129,IF($B11=$B$130,$C$130,IF($B11=$B$131,$C$131,IF($B11=$B$132,$C$132,IF($B11=$B$133,$C$133,IF($B11=$B$134,$C$134,0)))))))))))))*AI11","v":0},0,0,0,0,0,0,0,0,0,0,0,0,0,0,0,0,0]
[null,0,{"$f":"IF($B12=$B$122,$C$122,IF($B12=$B$123,$C$123,IF($B12=$B$124,$C$124,IF($B12=$B$125,$C$125,IF($B12=$B$126,$C$126,IF($B12=$B$127,$C$127,IF($B12=$B$128,$C$128,IF($B12=$B$129,$C$129,IF($B12=$B$130,$C$130,IF($B12=$B$131,$C$131,IF($B12=$B$132,$C$132,IF($B12=$B$133,$C$133,IF($B12=$B$134,$C$134,0)))))))))))))*C12","v":0},0,0,0,0,0,0,0,0,0,0,0,0,0,0,0,0,0,0,0,0,0,0,0,0,0,0,0,0,0,0,0,{"$f":"IF($B12=$B$122,$C$122,IF($B12=$B$123,$C$123,IF($B12=$B$124,$C$124,IF($B12=$B$125,$C$125,IF($B12=$B$126,$C$126,IF($B12=$B$127,$C$127,IF($B12=$B$128,$C$128,IF($B12=$B$129,$C$129,IF($B12=$B$130,$C$130,IF($B12=$B$131,$C$131,IF($B12=$B$132,$C$132,IF($B12=$B$133,$C$133,IF($B12=$B$134,$C$134,0)))))))))))))*AI12","v":0},0,0,0,0,0,0,0,0,0,0,0,0,0,0,0,0,0]
[null,0,{"$f":"IF($B13=$B$122,$C$122,IF($B13=$B$123,$C$123,IF($B13=$B$124,$C$124,IF($B13=$B$125,$C$125,IF($B13=$B$126,$C$126,IF($B13=$B$127,$C$127,IF($B13=$B$128,$C$128,IF($B13=$B$129,$C$129,IF($B13=$B$130,$C$130,IF($B13=$B$131,$C$131,IF($B13=$B$132,$C$132,IF($B13=$B$133,$C$133,IF($B13=$B$134,$C$134,0)))))))))))))*C13","v":0},0,0,0,0,0,0,0,0,0,0,0,0,0,0,0,0,0,0,0,0,0,0,0,0,0,0,0,0,0,0,0,{"$f":"IF($B13=$B$122,$C$122,IF($B13=$B$123,$C$123,IF($B13=$B$124,$C$124,IF($B13=$B$125,$C$125,IF($B13=$B$126,$C$126,IF($B13=$B$127,$C$127,IF($B13=$B$128,$C$128,IF($B13=$B$129,$C$129,IF($B13=$B$130,$C$130,IF($B13=$B$131,$C$131,IF($B13=$B$132,$C$132,IF($B13=$B$133,$C$133,IF($B13=$B$134,$C$134,0)))))))))))))*AI13","v":0},0,0,0,0,0,0,0,0,0,0,0,0,0,0,0,0,0]
[null,0,{"$f":"IF($B14=$B$122,$C$122,IF($B14=$B$123,$C$123,IF($B14=$B$124,$C$124,IF($B14=$B$125,$C$125,IF($B14=$B$126,$C$126,IF($B14=$B$127,$C$127,IF($B14=$B$128,$C$128,IF($B14=$B$129,$C$129,IF($B14=$B$130,$C$130,IF($B14=$B$131,$C$131,IF($B14=$B$132,$C$132,IF($B14=$B$133,$C$133,IF($B14=$B$134,$C$134,0)))))))))))))*C14","v":0},0,0,0,0,0,0,0,0,0,0,0,0,0,0,0,0,0,0,0,0,0,0,0,0,0,0,0,0,0,0,0,{"$f":"IF($B14=$B$122,$C$122,IF($B14=$B$123,$C$123,IF($B14=$B$124,$C$124,IF($B14=$B$125,$C$125,IF($B14=$B$126,$C$126,IF($B14=$B$127,$C$127,IF($B14=$B$128,$C$128,IF($B14=$B$129,$C$129,IF($B14=$B$130,$C$130,IF($B14=$B$131,$C$131,IF($B14=$B$132,$C$132,IF($B14=$B$133,$C$133,IF($B14=$B$134,$C$134,0)))))))))))))*AI14","v":0},0,0,0,0,0,0,0,0,0,0,0,0,0,0,0,0,0]
[null,0,{"$f":"IF($B15=$B$122,$C$122,IF($B15=$B$123,$C$123,IF($B15=$B$124,$C$124,IF($B15=$B$125,$C$125,IF($B15=$B$126,$C$126,IF($B15=$B$127,$C$127,IF($B15=$B$128,$C$128,IF($B15=$B$129,$C$129,IF($B15=$B$130,$C$130,IF($B15=$B$131,$C$131,IF($B15=$B$132,$C$132,IF($B15=$B$133,$C$133,IF($B15=$B$134,$C$134,0)))))))))))))*C15","v":0},0,0,0,0,0,0,0,0,0,0,0,0,0,0,0,0,0,0,0,0,0,0,0,0,0,0,0,0,0,0,0,{"$f":"IF($B15=$B$122,$C$122,IF($B15=$B$123,$C$123,IF($B15=$B$124,$C$124,IF($B15=$B$125,$C$125,IF($B15=$B$126,$C$126,IF($B15=$B$127,$C$127,IF($B15=$B$128,$C$128,IF($B15=$B$129,$C$129,IF($B15=$B$130,$C$130,IF($B15=$B$131,$C$131,IF($B15=$B$132,$C$132,IF($B15=$B$133,$C$133,IF($B15=$B$134,$C$134,0)))))))))))))*AI15","v":0},0,0,0,0,0,0,0,0,0,0,0,0,0,0,0,0,0]
[null,0,{"$f":"IF($B16=$B$122,$C$122,IF($B16=$B$123,$C$123,IF($B16=$B$124,$C$124,IF($B16=$B$125,$C$125,IF($B16=$B$126,$C$126,IF($B16=$B$127,$C$127,IF($B16=$B$128,$C$128,IF($B16=$B$129,$C$129,IF($B16=$B$130,$C$130,IF($B16=$B$131,$C$131,IF($B16=$B$132,$C$132,IF($B16=$B$133,$C$133,IF($B16=$B$134,$C$134,0)))))))))))))*C16","v":0},0,0,0,0,0,0,0,0,0,0,0,0,0,0,0,0,0,0,0,0,0,0,0,0,0,0,0,0,0,0,0,{"$f":"IF($B16=$B$122,$C$122,IF($B16=$B$123,$C$123,IF($B16=$B$124,$C$124,IF($B16=$B$125,$C$125,IF($B16=$B$126,$C$126,IF($B16=$B$127,$C$127,IF($B16=$B$128,$C$128,IF($B16=$B$129,$C$129,IF($B16=$B$130,$C$130,IF($B16=$B$131,$C$131,IF($B16=$B$132,$C$132,IF($B16=$B$133,$C$133,IF($B16=$B$134,$C$134,0)))))))))))))*AI16","v":0},0,0,0,0,0,0,0,0,0,0,0,0,0,0,0,0,0]
[null,0,{"$f":"IF($B17=$B$122,$C$122,IF($B17=$B$123,$C$123,IF($B17=$B$124,$C$124,IF($B17=$B$125,$C$125,IF($B17=$B$126,$C$126,IF($B17=$B$127,$C$127,IF($B17=$B$128,$C$128,IF($B17=$B$129,$C$129,IF($B17=$B$130,$C$130,IF($B17=$B$131,$C$131,IF($B17=$B$132,$C$132,IF($B17=$B$133,$C$133,IF($B17=$B$134,$C$134,0)))))))))))))*C17","v":0},0,0,0,0,0,0,0,0,0,0,0,0,0,0,0,0,0,0,0,0,0,0,0,0,0,0,0,0,0,0,0,{"$f":"IF($B17=$B$122,$C$122,IF($B17=$B$123,$C$123,IF($B17=$B$124,$C$124,IF($B17=$B$125,$C$125,IF($B17=$B$126,$C$126,IF($B17=$B$127,$C$127,IF($B17=$B$128,$C$128,IF($B17=$B$129,$C$129,IF($B17=$B$130,$C$130,IF($B17=$B$131,$C$131,IF($B17=$B$132,$C$132,IF($B17=$B$133,$C$133,IF($B17=$B$134,$C$134,0)))))))))))))*AI17","v":0},0,0,0,0,0,0,0,0,0,0,0,0,0,0,0,0,0]
[null,0,{"$f":"IF($B18=$B$122,$C$122,IF($B18=$B$123,$C$123,IF($B18=$B$124,$C$124,IF($B18=$B$125,$C$125,IF($B18=$B$126,$C$126,IF($B18=$B$127,$C$127,IF($B18=$B$128,$C$128,IF($B18=$B$129,$C$129,IF($B18=$B$130,$C$130,IF($B18=$B$131,$C$131,IF($B18=$B$132,$C$132,IF($B18=$B$133,$C$133,IF($B18=$B$134,$C$134,0)))))))))))))*C18","v":0},0,0,0,0,0,0,0,0,0,0,0,0,0,0,0,0,0,0,0,0,0,0,0,0,0,0,0,0,0,0,0,{"$f":"IF($B18=$B$122,$C$122,IF($B18=$B$123,$C$123,IF($B18=$B$124,$C$124,IF($B18=$B$125,$C$125,IF($B18=$B$126,$C$126,IF($B18=$B$127,$C$127,IF($B18=$B$128,$C$128,IF($B18=$B$129,$C$129,IF($B18=$B$130,$C$130,IF($B18=$B$131,$C$131,IF($B18=$B$132,$C$132,IF($B18=$B$133,$C$133,IF($B18=$B$134,$C$134,0)))))))))))))*AI18","v":0},0,0,0,0,0,0,0,0,0,0,0,0,0,0,0,0,0]
[null,0,{"$f":"IF($B19=$B$122,$C$122,IF($B19=$B$123,$C$123,IF($B19=$B$124,$C$124,IF($B19=$B$125,$C$125,IF($B19=$B$126,$C$126,IF($B19=$B$127,$C$127,IF($B19=$B$128,$C$128,IF($B19=$B$129,$C$129,IF($B19=$B$130,$C$130,IF($B19=$B$131,$C$131,IF($B19=$B$132,$C$132,IF($B19=$B$133,$C$133,IF($B19=$B$134,$C$134,0)))))))))))))*C19","v":0},0,0,0,0,0,0,0,0,0,0,0,0,0,0,0,0,0,0,0,0,0,0,0,0,0,0,0,0,0,0,0,{"$f":"IF($B19=$B$122,$C$122,IF($B19=$B$123,$C$123,IF($B19=$B$124,$C$124,IF($B19=$B$125,$C$125,IF($B19=$B$126,$C$126,IF($B19=$B$127,$C$127,IF($B19=$B$128,$C$128,IF($B19=$B$129,$C$129,IF($B19=$B$130,$C$130,IF($B19=$B$131,$C$131,IF($B19=$B$132,$C$132,IF($B19=$B$133,$C$133,IF($B19=$B$134,$C$134,0)))))))))))))*AI19","v":0},0,0,0,0,0,0,0,0,0,0,0,0,0,0,0,0,0]
[null,0,{"$f":"IF($B20=$B$122,$C$122,IF($B20=$B$123,$C$123,IF($B20=$B$124,$C$124,IF($B20=$B$125,$C$125,IF($B20=$B$126,$C$126,IF($B20=$B$127,$C$127,IF($B20=$B$128,$C$128,IF($B20=$B$129,$C$129,IF($B20=$B$130,$C$130,IF($B20=$B$131,$C$131,IF($B20=$B$132,$C$132,IF($B20=$B$133,$C$133,IF($B20=$B$134,$C$134,0)))))))))))))*C20","v":0},0,0,0,0,0,0,0,0,0,0,0,0,0,0,0,0,0,0,0,0,0,0,0,0,0,0,0,0,0,0,0,{"$f":"IF($B20=$B$122,$C$122,IF($B20=$B$123,$C$123,IF($B20=$B$124,$C$124,IF($B20=$B$125,$C$125,IF($B20=$B$126,$C$126,IF($B20=$B$127,$C$127,IF($B20=$B$128,$C$128,IF($B20=$B$129,$C$129,IF($B20=$B$130,$C$130,IF($B20=$B$131,$C$131,IF($B20=$B$132,$C$132,IF($B20=$B$133,$C$133,IF($B20=$B$134,$C$134,0)))))))))))))*AI20","v":0},0,0,0,0,0,0,0,0,0,0,0,0,0,0,0,0,0]
[null,0,{"$f":"IF($B21=$B$122,$C$122,IF($B21=$B$123,$C$123,IF($B21=$B$124,$C$124,IF($B21=$B$125,$C$125,IF($B21=$B$126,$C$126,IF($B21=$B$127,$C$127,IF($B21=$B$128,$C$128,IF($B21=$B$129,$C$129,IF($B21=$B$130,$C$130,IF($B21=$B$131,$C$131,IF($B21=$B$132,$C$132,IF($B21=$B$133,$C$133,IF($B21=$B$134,$C$134,0)))))))))))))*C21","v":0},0,0,0,0,0,0,0,0,0,0,0,0,0,0,0,0,0,0,0,0,0,0,0,0,0,0,0,0,0,0,0,{"$f":"IF($B21=$B$122,$C$122,IF($B21=$B$123,$C$123,IF($B21=$B$124,$C$124,IF($B21=$B$125,$C$125,IF($B21=$B$126,$C$126,IF($B21=$B$127,$C$127,IF($B21=$B$128,$C$128,IF($B21=$B$129,$C$129,IF($B21=$B$130,$C$130,IF($B21=$B$131,$C$131,IF($B21=$B$132,$C$132,IF($B21=$B$133,$C$133,IF($B21=$B$134,$C$134,0)))))))))))))*AI21","v":0},0,0,0,0,0,0,0,0,0,0,0,0,0,0,0,0,0]
[null,0,{"$f":"IF($B22=$B$122,$C$122,IF($B22=$B$123,$C$123,IF($B22=$B$124,$C$124,IF($B22=$B$125,$C$125,IF($B22=$B$126,$C$126,IF($B22=$B$127,$C$127,IF($B22=$B$128,$C$128,IF($B22=$B$129,$C$129,IF($B22=$B$130,$C$130,IF($B22=$B$131,$C$131,IF($B22=$B$132,$C$132,IF($B22=$B$133,$C$133,IF($B22=$B$134,$C$134,0)))))))))))))*C22","v":0},0,0,0,0,0,0,0,0,0,0,0,0,0,0,0,0,0,0,0,0,0,0,0,0,0,0,0,0,0,0,0,{"$f":"IF($B22=$B$122,$C$122,IF($B22=$B$123,$C$123,IF($B22=$B$124,$C$124,IF($B22=$B$125,$C$125,IF($B22=$B$126,$C$126,IF($B22=$B$127,$C$127,IF($B22=$B$128,$C$128,IF($B22=$B$129,$C$129,IF($B22=$B$130,$C$130,IF($B22=$B$131,$C$131,IF($B22=$B$132,$C$132,IF($B22=$B$133,$C$133,IF($B22=$B$134,$C$134,0)))))))))))))*AI22","v":0},0,0,0,0,0,0,0,0,0,0,0,0,0,0,0,0,0]
[null,0,{"$f":"IF($B23=$B$122,$C$122,IF($B23=$B$123,$C$123,IF($B23=$B$124,$C$124,IF($B23=$B$125,$C$125,IF($B23=$B$126,$C$126,IF($B23=$B$127,$C$127,IF($B23=$B$128,$C$128,IF($B23=$B$129,$C$129,IF($B23=$B$130,$C$130,IF($B23=$B$131,$C$131,IF($B23=$B$132,$C$132,IF($B23=$B$133,$C$133,IF($B23=$B$134,$C$134,0)))))))))))))*C23","v":0},0,0,0,0,0,0,0,0,0,0,0,0,0,0,0,0,0,0,0,0,0,0,0,0,0,0,0,0,0,0,0,{"$f":"IF($B23=$B$122,$C$122,IF($B23=$B$123,$C$123,IF($B23=$B$124,$C$124,IF($B23=$B$125,$C$125,IF($B23=$B$126,$C$126,IF($B23=$B$127,$C$127,IF($B23=$B$128,$C$128,IF($B23=$B$129,$C$129,IF($B23=$B$130,$C$130,IF($B23=$B$131,$C$131,IF($B23=$B$132,$C$132,IF($B23=$B$133,$C$133,IF($B23=$B$134,$C$134,0)))))))))))))*AI23","v":0},0,0,0,0,0,0,0,0,0,0,0,0,0,0,0,0,0]
[null,0,{"$f":"IF($B24=$B$122,$C$122,IF($B24=$B$123,$C$123,IF($B24=$B$124,$C$124,IF($B24=$B$125,$C$125,IF($B24=$B$126,$C$126,IF($B24=$B$127,$C$127,IF($B24=$B$128,$C$128,IF($B24=$B$129,$C$129,IF($B24=$B$130,$C$130,IF($B24=$B$131,$C$131,IF($B24=$B$132,$C$132,IF($B24=$B$133,$C$133,IF($B24=$B$134,$C$134,0)))))))))))))*C24","v":0},0,0,0,0,0,0,0,0,0,0,0,0,0,0,0,0,0,0,0,0,0,0,0,0,0,0,0,0,0,0,0,{"$f":"IF($B24=$B$122,$C$122,IF($B24=$B$123,$C$123,IF($B24=$B$124,$C$124,IF($B24=$B$125,$C$125,IF($B24=$B$126,$C$126,IF($B24=$B$127,$C$127,IF($B24=$B$128,$C$128,IF($B24=$B$129,$C$129,IF($B24=$B$130,$C$130,IF($B24=$B$131,$C$131,IF($B24=$B$132,$C$132,IF($B24=$B$133,$C$133,IF($B24=$B$134,$C$134,0)))))))))))))*AI24","v":0},0,0,0,0,0,0,0,0,0,0,0,0,0,0,0,0,0]
[null,0,{"$f":"IF($B25=$B$122,$C$122,IF($B25=$B$123,$C$123,IF($B25=$B$124,$C$124,IF($B25=$B$125,$C$125,IF($B25=$B$126,$C$126,IF($B25=$B$127,$C$127,IF($B25=$B$128,$C$128,IF($B25=$B$129,$C$129,IF($B25=$B$130,$C$130,IF($B25=$B$131,$C$131,IF($B25=$B$132,$C$132,IF($B25=$B$133,$C$133,IF($B25=$B$134,$C$134,0)))))))))))))*C25","v":0},0,0,0,0,0,0,0,0,0,0,0,0,0,0,0,0,0,0,0,0,0,0,0,0,0,0,0,0,0,0,0,{"$f":"IF($B25=$B$122,$C$122,IF($B25=$B$123,$C$123,IF($B25=$B$124,$C$124,IF($B25=$B$125,$C$125,IF($B25=$B$126,$C$126,IF($B25=$B$127,$C$127,IF($B25=$B$128,$C$128,IF($B25=$B$129,$C$129,IF($B25=$B$130,$C$130,IF($B25=$B$131,$C$131,IF($B25=$B$132,$C$132,IF($B25=$B$133,$C$133,IF($B25=$B$134,$C$134,0)))))))))))))*AI25","v":0},0,0,0,0,0,0,0,0,0,0,0,0,0,0,0,0,0]
[null,0,{"$f":"IF($B26=$B$122,$C$122,IF($B26=$B$123,$C$123,IF($B26=$B$124,$C$124,IF($B26=$B$125,$C$125,IF($B26=$B$126,$C$126,IF($B26=$B$127,$C$127,IF($B26=$B$128,$C$128,IF($B26=$B$129,$C$129,IF($B26=$B$130,$C$130,IF($B26=$B$131,$C$131,IF($B26=$B$132,$C$132,IF($B26=$B$133,$C$133,IF($B26=$B$134,$C$134,0)))))))))))))*C26","v":0},0,0,0,0,0,0,0,0,0,0,0,0,0,0,0,0,0,0,0,0,0,0,0,0,0,0,0,0,0,0,0,{"$f":"IF($B26=$B$122,$C$122,IF($B26=$B$123,$C$123,IF($B26=$B$124,$C$124,IF($B26=$B$125,$C$125,IF($B26=$B$126,$C$126,IF($B26=$B$127,$C$127,IF($B26=$B$128,$C$128,IF($B26=$B$129,$C$129,IF($B26=$B$130,$C$130,IF($B26=$B$131,$C$131,IF($B26=$B$132,$C$132,IF($B26=$B$133,$C$133,IF($B26=$B$134,$C$134,0)))))))))))))*AI26","v":0},0,0,0,0,0,0,0,0,0,0,0,0,0,0,0,0,0]
[null,0,{"$f":"IF($B27=$B$122,$C$122,IF($B27=$B$123,$C$123,IF($B27=$B$124,$C$124,IF($B27=$B$125,$C$125,IF($B27=$B$126,$C$126,IF($B27=$B$127,$C$127,IF($B27=$B$128,$C$128,IF($B27=$B$129,$C$129,IF($B27=$B$130,$C$130,IF($B27=$B$131,$C$131,IF($B27=$B$132,$C$132,IF($B27=$B$133,$C$133,IF($B27=$B$134,$C$134,0)))))))))))))*C27","v":0},0,0,0,0,0,0,0,0,0,0,0,0,0,0,0,0,0,0,0,0,0,0,0,0,0,0,0,0,0,0,0,{"$f":"IF($B27=$B$122,$C$122,IF($B27=$B$123,$C$123,IF($B27=$B$124,$C$124,IF($B27=$B$125,$C$125,IF($B27=$B$126,$C$126,IF($B27=$B$127,$C$127,IF($B27=$B$128,$C$128,IF($B27=$B$129,$C$129,IF($B27=$B$130,$C$130,IF($B27=$B$131,$C$131,IF($B27=$B$132,$C$132,IF($B27=$B$133,$C$133,IF($B27=$B$134,$C$134,0)))))))))))))*AI27","v":0},0,0,0,0,0,0,0,0,0,0,0,0,0,0,0,0,0]
[null,0,{"$f":"IF($B28=$B$122,$C$122,IF($B28=$B$123,$C$123,IF($B28=$B$124,$C$124,IF($B28=$B$125,$C$125,IF($B28=$B$126,$C$126,IF($B28=$B$127,$C$127,IF($B28=$B$128,$C$128,IF($B28=$B$129,$C$129,IF($B28=$B$130,$C$130,IF($B28=$B$131,$C$131,IF($B28=$B$132,$C$132,IF($B28=$B$133,$C$133,IF($B28=$B$134,$C$134,0)))))))))))))*C28","v":0},0,0,0,0,0,0,0,0,0,0,0,0,0,0,0,0,0,0,0,0,0,0,0,0,0,0,0,0,0,0,0,{"$f":"IF($B28=$B$122,$C$122,IF($B28=$B$123,$C$123,IF($B28=$B$124,$C$124,IF($B28=$B$125,$C$125,IF($B28=$B$126,$C$126,IF($B28=$B$127,$C$127,IF($B28=$B$128,$C$128,IF($B28=$B$129,$C$129,IF($B28=$B$130,$C$130,IF($B28=$B$131,$C$131,IF($B28=$B$132,$C$132,IF($B28=$B$133,$C$133,IF($B28=$B$134,$C$134,0)))))))))))))*AI28","v":0},0,0,0,0,0,0,0,0,0,0,0,0,0,0,0,0,0]
[null,0,{"$f":"IF($B29=$B$122,$C$122,IF($B29=$B$123,$C$123,IF($B29=$B$124,$C$124,IF($B29=$B$125,$C$125,IF($B29=$B$126,$C$126,IF($B29=$B$127,$C$127,IF($B29=$B$128,$C$128,IF($B29=$B$129,$C$129,IF($B29=$B$130,$C$130,IF($B29=$B$131,$C$131,IF($B29=$B$132,$C$132,IF($B29=$B$133,$C$133,IF($B29=$B$134,$C$134,0)))))))))))))*C29","v":0},0,0,0,0,0,0,0,0,0,0,0,0,0,0,0,0,0,0,0,0,0,0,0,0,0,0,0,0,0,0,0,{"$f":"IF($B29=$B$122,$C$122,IF($B29=$B$123,$C$123,IF($B29=$B$124,$C$124,IF($B29=$B$125,$C$125,IF($B29=$B$126,$C$126,IF($B29=$B$127,$C$127,IF($B29=$B$128,$C$128,IF($B29=$B$129,$C$129,IF($B29=$B$130,$C$130,IF($B29=$B$131,$C$131,IF($B29=$B$132,$C$132,IF($B29=$B$133,$C$133,IF($B29=$B$134,$C$134,0)))))))))))))*AI29","v":0},0,0,0,0,0,0,0,0,0,0,0,0,0,0,0,0,0]
[null,0,{"$f":"IF($B30=$B$122,$C$122,IF($B30=$B$123,$C$123,IF($B30=$B$124,$C$124,IF($B30=$B$125,$C$125,IF($B30=$B$126,$C$126,IF($B30=$B$127,$C$127,IF($B30=$B$128,$C$128,IF($B30=$B$129,$C$129,IF($B30=$B$130,$C$130,IF($B30=$B$131,$C$131,IF($B30=$B$132,$C$132,IF($B30=$B$133,$C$133,IF($B30=$B$134,$C$134,0)))))))))))))*C30","v":0},0,0,0,0,0,0,0,0,0,0,0,0,0,0,0,0,0,0,0,0,0,0,0,0,0,0,0,0,0,0,0,{"$f":"IF($B30=$B$122,$C$122,IF($B30=$B$123,$C$123,IF($B30=$B$124,$C$124,IF($B30=$B$125,$C$125,IF($B30=$B$126,$C$126,IF($B30=$B$127,$C$127,IF($B30=$B$128,$C$128,IF($B30=$B$129,$C$129,IF($B30=$B$130,$C$130,IF($B30=$B$131,$C$131,IF($B30=$B$132,$C$132,IF($B30=$B$133,$C$133,IF($B30=$B$134,$C$134,0)))))))))))))*AI30","v":0},0,0,0,0,0,0,0,0,0,0,0,0,0,0,0,0,0]
[null,0,{"$f":"IF($B31=$B$122,$C$122,IF($B31=$B$123,$C$123,IF($B31=$B$124,$C$124,IF($B31=$B$125,$C$125,IF($B31=$B$126,$C$126,IF($B31=$B$127,$C$127,IF($B31=$B$128,$C$128,IF($B31=$B$129,$C$129,IF($B31=$B$130,$C$130,IF($B31=$B$131,$C$131,IF($B31=$B$132,$C$132,IF($B31=$B$133,$C$133,IF($B31=$B$134,$C$134,0)))))))))))))*C31","v":0},0,0,0,0,0,0,0,0,0,0,0,0,0,0,0,0,0,0,0,0,0,0,0,0,0,0,0,0,0,0,0,{"$f":"IF($B31=$B$122,$C$122,IF($B31=$B$123,$C$123,IF($B31=$B$124,$C$124,IF($B31=$B$125,$C$125,IF($B31=$B$126,$C$126,IF($B31=$B$127,$C$127,IF($B31=$B$128,$C$128,IF($B31=$B$129,$C$129,IF($B31=$B$130,$C$130,IF($B31=$B$131,$C$131,IF($B31=$B$132,$C$132,IF($B31=$B$133,$C$133,IF($B31=$B$134,$C$134,0)))))))))))))*AI31","v":0},0,0,0,0,0,0,0,0,0,0,0,0,0,0,0,0,0]
[null,0,{"$f":"IF($B32=$B$122,$C$122,IF($B32=$B$123,$C$123,IF($B32=$B$124,$C$124,IF($B32=$B$125,$C$125,IF($B32=$B$126,$C$126,IF($B32=$B$127,$C$127,IF($B32=$B$128,$C$128,IF($B32=$B$129,$C$129,IF($B32=$B$130,$C$130,IF($B32=$B$131,$C$131,IF($B32=$B$132,$C$132,IF($B32=$B$133,$C$133,IF($B32=$B$134,$C$134,0)))))))))))))*C32","v":0},0,0,0,0,0,0,0,0,0,0,0,0,0,0,0,0,0,0,0,0,0,0,0,0,0,0,0,0,0,0,0,{"$f":"IF($B32=$B$122,$C$122,IF($B32=$B$123,$C$123,IF($B32=$B$124,$C$124,IF($B32=$B$125,$C$125,IF($B32=$B$126,$C$126,IF($B32=$B$127,$C$127,IF($B32=$B$128,$C$128,IF($B32=$B$129,$C$129,IF($B32=$B$130,$C$130,IF($B32=$B$131,$C$131,IF($B32=$B$132,$C$132,IF($B32=$B$133,$C$133,IF($B32=$B$134,$C$134,0)))))))))))))*AI32","v":0},0,0,0,0,0,0,0,0,0,0,0,0,0,0,0,0,0]
[null,0,{"$f":"IF($B33=$B$122,$C$122,IF($B33=$B$123,$C$123,IF($B33=$B$124,$C$124,IF($B33=$B$125,$C$125,IF($B33=$B$126,$C$126,IF($B33=$B$127,$C$127,IF($B33=$B$128,$C$128,IF($B33=$B$129,$C$129,IF($B33=$B$130,$C$130,IF($B33=$B$131,$C$131,IF($B33=$B$132,$C$132,IF($B33=$B$133,$C$133,IF($B33=$B$134,$C$134,0)))))))))))))*C33","v":0},0,0,0,0,0,0,0,0,0,0,0,0,0,0,0,0,0,0,0,0,0,0,0,0,0,0,0,0,0,0,0,{"$f":"IF($B33=$B$122,$C$122,IF($B33=$B$123,$C$123,IF($B33=$B$124,$C$124,IF($B33=$B$125,$C$125,IF($B33=$B$126,$C$126,IF($B33=$B$127,$C$127,IF($B33=$B$128,$C$128,IF($B33=$B$129,$C$129,IF($B33=$B$130,$C$130,IF($B33=$B$131,$C$131,IF($B33=$B$132,$C$132,IF($B33=$B$133,$C$133,IF($B33=$B$134,$C$134,0)))))))))))))*AI33","v":0},0,0,0,0,0,0,0,0,0,0,0,0,0,0,0,0,0]
[null,0,{"$f":"IF($B34=$B$122,$C$122,IF($B34=$B$123,$C$123,IF($B34=$B$124,$C$124,IF($B34=$B$125,$C$125,IF($B34=$B$126,$C$126,IF($B34=$B$127,$C$127,IF($B34=$B$128,$C$128,IF($B34=$B$129,$C$129,IF($B34=$B$130,$C$130,IF($B34=$B$131,$C$131,IF($B34=$B$132,$C$132,IF($B34=$B$133,$C$133,IF($B34=$B$134,$C$134,0)))))))))))))*C34","v":0},0,0,0,0,0,0,0,0,0,0,0,0,0,0,0,0,0,0,0,0,0,0,0,0,0,0,0,0,0,0,0,{"$f":"IF($B34=$B$122,$C$122,IF($B34=$B$123,$C$123,IF($B34=$B$124,$C$124,IF($B34=$B$125,$C$125,IF($B34=$B$126,$C$126,IF($B34=$B$127,$C$127,IF($B34=$B$128,$C$128,IF($B34=$B$129,$C$129,IF($B34=$B$130,$C$130,IF($B34=$B$131,$C$131,IF($B34=$B$132,$C$132,IF($B34=$B$133,$C$133,IF($B34=$B$134,$C$134,0)))))))))))))*AI34","v":0},0,0,0,0,0,0,0,0,0,0,0,0,0,0,0,0,0]
[null,0,{"$f":"IF($B35=$B$122,$C$122,IF($B35=$B$123,$C$123,IF($B35=$B$124,$C$124,IF($B35=$B$125,$C$125,IF($B35=$B$126,$C$126,IF($B35=$B$127,$C$127,IF($B35=$B$128,$C$128,IF($B35=$B$129,$C$129,IF($B35=$B$130,$C$130,IF($B35=$B$131,$C$131,IF($B35=$B$132,$C$132,IF($B35=$B$133,$C$133,IF($B35=$B$134,$C$134,0)))))))))))))*C35","v":0},0,0,0,0,0,0,0,0,0,0,0,0,0,0,0,0,0,0,0,0,0,0,0,0,0,0,0,0,0,0,0,{"$f":"IF($B35=$B$122,$C$122,IF($B35=$B$123,$C$123,IF($B35=$B$124,$C$124,IF($B35=$B$125,$C$125,IF($B35=$B$126,$C$126,IF($B35=$B$127,$C$127,IF($B35=$B$128,$C$128,IF($B35=$B$129,$C$129,IF($B35=$B$130,$C$130,IF($B35=$B$131,$C$131,IF($B35=$B$132,$C$132,IF($B35=$B$133,$C$133,IF($B35=$B$134,$C$134,0)))))))))))))*AI35","v":0},0,0,0,0,0,0,0,0,0,0,0,0,0,0,0,0,0]
[null,0,{"$f":"IF($B36=$B$122,$C$122,IF($B36=$B$123,$C$123,IF($B36=$B$124,$C$124,IF($B36=$B$125,$C$125,IF($B36=$B$126,$C$126,IF($B36=$B$127,$C$127,IF($B36=$B$128,$C$128,IF($B36=$B$129,$C$129,IF($B36=$B$130,$C$130,IF($B36=$B$131,$C$131,IF($B36=$B$132,$C$132,IF($B36=$B$133,$C$133,IF($B36=$B$134,$C$134,0)))))))))))))*C36","v":0},0,0,0,0,0,0,0,0,0,0,0,0,0,0,0,0,0,0,0,0,0,0,0,0,0,0,0,0,0,0,0,{"$f":"IF($B36=$B$122,$C$122,IF($B36=$B$123,$C$123,IF($B36=$B$124,$C$124,IF($B36=$B$125,$C$125,IF($B36=$B$126,$C$126,IF($B36=$B$127,$C$127,IF($B36=$B$128,$C$128,IF($B36=$B$129,$C$129,IF($B36=$B$130,$C$130,IF($B36=$B$131,$C$131,IF($B36=$B$132,$C$132,IF($B36=$B$133,$C$133,IF($B36=$B$134,$C$134,0)))))))))))))*AI36","v":0},0,0,0,0,0,0,0,0,0,0,0,0,0,0,0,0,0]
[null,0,{"$f":"IF($B37=$B$122,$C$122,IF($B37=$B$123,$C$123,IF($B37=$B$124,$C$124,IF($B37=$B$125,$C$125,IF($B37=$B$126,$C$126,IF($B37=$B$127,$C$127,IF($B37=$B$128,$C$128,IF($B37=$B$129,$C$129,IF($B37=$B$130,$C$130,IF($B37=$B$131,$C$131,IF($B37=$B$132,$C$132,IF($B37=$B$133,$C$133,IF($B37=$B$134,$C$134,0)))))))))))))*C37","v":0},0,0,0,0,0,0,0,0,0,0,0,0,0,0,0,0,0,0,0,0,0,0,0,0,0,0,0,0,0,0,0,{"$f":"IF($B37=$B$122,$C$122,IF($B37=$B$123,$C$123,IF($B37=$B$124,$C$124,IF($B37=$B$125,$C$125,IF($B37=$B$126,$C$126,IF($B37=$B$127,$C$127,IF($B37=$B$128,$C$128,IF($B37=$B$129,$C$129,IF($B37=$B$130,$C$130,IF($B37=$B$131,$C$131,IF($B37=$B$132,$C$132,IF($B37=$B$133,$C$133,IF($B37=$B$134,$C$134,0)))))))))))))*AI37","v":0},0,0,0,0,0,0,0,0,0,0,0,0,0,0,0,0,0]
[null,0,{"$f":"IF($B38=$B$122,$C$122,IF($B38=$B$123,$C$123,IF($B38=$B$124,$C$124,IF($B38=$B$125,$C$125,IF($B38=$B$126,$C$126,IF($B38=$B$127,$C$127,IF($B38=$B$128,$C$128,IF($B38=$B$129,$C$129,IF($B38=$B$130,$C$130,IF($B38=$B$131,$C$131,IF($B38=$B$132,$C$132,IF($B38=$B$133,$C$133,IF($B38=$B$134,$C$134,0)))))))))))))*C38","v":0},0,0,0,0,0,0,0,0,0,0,0,0,0,0,0,0,0,0,0,0,0,0,0,0,0,0,0,0,0,0,0,{"$f":"IF($B38=$B$122,$C$122,IF($B38=$B$123,$C$123,IF($B38=$B$124,$C$124,IF($B38=$B$125,$C$125,IF($B38=$B$126,$C$126,IF($B38=$B$127,$C$127,IF($B38=$B$128,$C$128,IF($B38=$B$129,$C$129,IF($B38=$B$130,$C$130,IF($B38=$B$131,$C$131,IF($B38=$B$132,$C$132,IF($B38=$B$133,$C$133,IF($B38=$B$134,$C$134,0)))))))))))))*AI38","v":0},0,0,0,0,0,0,0,0,0,0,0,0,0,0,0,0,0]
[null,0,{"$f":"IF($B39=$B$122,$C$122,IF($B39=$B$123,$C$123,IF($B39=$B$124,$C$124,IF($B39=$B$125,$C$125,IF($B39=$B$126,$C$126,IF($B39=$B$127,$C$127,IF($B39=$B$128,$C$128,IF($B39=$B$129,$C$129,IF($B39=$B$130,$C$130,IF($B39=$B$131,$C$131,IF($B39=$B$132,$C$132,IF($B39=$B$133,$C$133,IF($B39=$B$134,$C$134,0)))))))))))))*C39","v":0},0,0,0,0,0,0,0,0,0,0,0,0,0,0,0,0,0,0,0,0,0,0,0,0,0,0,0,0,0,0,0,{"$f":"IF($B39=$B$122,$C$122,IF($B39=$B$123,$C$123,IF($B39=$B$124,$C$124,IF($B39=$B$125,$C$125,IF($B39=$B$126,$C$126,IF($B39=$B$127,$C$127,IF($B39=$B$128,$C$128,IF($B39=$B$129,$C$129,IF($B39=$B$130,$C$130,IF($B39=$B$131,$C$131,IF($B39=$B$132,$C$132,IF($B39=$B$133,$C$133,IF($B39=$B$134,$C$134,0)))))))))))))*AI39","v":0},0,0,0,0,0,0,0,0,0,0,0,0,0,0,0,0,0]
[null,0,{"$f":"IF($B40=$B$122,$C$122,IF($B40=$B$123,$C$123,IF($B40=$B$124,$C$124,IF($B40=$B$125,$C$125,IF($B40=$B$126,$C$126,IF($B40=$B$127,$C$127,IF($B40=$B$128,$C$128,IF($B40=$B$129,$C$129,IF($B40=$B$130,$C$130,IF($B40=$B$131,$C$131,IF($B40=$B$132,$C$132,IF($B40=$B$133,$C$133,IF($B40=$B$134,$C$134,0)))))))))))))*C40","v":0},0,0,0,0,0,0,0,0,0,0,0,0,0,0,0,0,0,0,0,0,0,0,0,0,0,0,0,0,0,0,0,{"$f":"IF($B40=$B$122,$C$122,IF($B40=$B$123,$C$123,IF($B40=$B$124,$C$124,IF($B40=$B$125,$C$125,IF($B40=$B$126,$C$126,IF($B40=$B$127,$C$127,IF($B40=$B$128,$C$128,IF($B40=$B$129,$C$129,IF($B40=$B$130,$C$130,IF($B40=$B$131,$C$131,IF($B40=$B$132,$C$132,IF($B40=$B$133,$C$133,IF($B40=$B$134,$C$134,0)))))))))))))*AI40","v":0},0,0,0,0,0,0,0,0,0,0,0,0,0,0,0,0,0]
[null,0,{"$f":"IF($B41=$B$122,$C$122,IF($B41=$B$123,$C$123,IF($B41=$B$124,$C$124,IF($B41=$B$125,$C$125,IF($B41=$B$126,$C$126,IF($B41=$B$127,$C$127,IF($B41=$B$128,$C$128,IF($B41=$B$129,$C$129,IF($B41=$B$130,$C$130,IF($B41=$B$131,$C$131,IF($B41=$B$132,$C$132,IF($B41=$B$133,$C$133,IF($B41=$B$134,$C$134,0)))))))))))))*C41","v":0},0,0,0,0,0,0,0,0,0,0,0,0,0,0,0,0,0,0,0,0,0,0,0,0,0,0,0,0,0,0,0,{"$f":"IF($B41=$B$122,$C$122,IF($B41=$B$123,$C$123,IF($B41=$B$124,$C$124,IF($B41=$B$125,$C$125,IF($B41=$B$126,$C$126,IF($B41=$B$127,$C$127,IF($B41=$B$128,$C$128,IF($B41=$B$129,$C$129,IF($B41=$B$130,$C$130,IF($B41=$B$131,$C$131,IF($B41=$B$132,$C$132,IF($B41=$B$133,$C$133,IF($B41=$B$134,$C$134,0)))))))))))))*AI41","v":0},0,0,0,0,0,0,0,0,0,0,0,0,0,0,0,0,0]
[null,0,{"$f":"IF($B42=$B$122,$C$122,IF($B42=$B$123,$C$123,IF($B42=$B$124,$C$124,IF($B42=$B$125,$C$125,IF($B42=$B$126,$C$126,IF($B42=$B$127,$C$127,IF($B42=$B$128,$C$128,IF($B42=$B$129,$C$129,IF($B42=$B$130,$C$130,IF($B42=$B$131,$C$131,IF($B42=$B$132,$C$132,IF($B42=$B$133,$C$133,IF($B42=$B$134,$C$134,0)))))))))))))*C42","v":0},0,0,0,0,0,0,0,0,0,0,0,0,0,0,0,0,0,0,0,0,0,0,0,0,0,0,0,0,0,0,0,{"$f":"IF($B42=$B$122,$C$122,IF($B42=$B$123,$C$123,IF($B42=$B$124,$C$124,IF($B42=$B$125,$C$125,IF($B42=$B$126,$C$126,IF($B42=$B$127,$C$127,IF($B42=$B$128,$C$128,IF($B42=$B$129,$C$129,IF($B42=$B$130,$C$130,IF($B42=$B$131,$C$131,IF($B42=$B$132,$C$132,IF($B42=$B$133,$C$133,IF($B42=$B$134,$C$134,0)))))))))))))*AI42","v":0},0,0,0,0,0,0,0,0,0,0,0,0,0,0,0,0,0]
[null,0,{"$f":"IF($B43=$B$122,$C$122,IF($B43=$B$123,$C$123,IF($B43=$B$124,$C$124,IF($B43=$B$125,$C$125,IF($B43=$B$126,$C$126,IF($B43=$B$127,$C$127,IF($B43=$B$128,$C$128,IF($B43=$B$129,$C$129,IF($B43=$B$130,$C$130,IF($B43=$B$131,$C$131,IF($B43=$B$132,$C$132,IF($B43=$B$133,$C$133,IF($B43=$B$134,$C$134,0)))))))))))))*C43","v":0},0,0,0,0,0,0,0,0,0,0,0,0,0,0,0,0,0,0,0,0,0,0,0,0,0,0,0,0,0,0,0,{"$f":"IF($B43=$B$122,$C$122,IF($B43=$B$123,$C$123,IF($B43=$B$124,$C$124,IF($B43=$B$125,$C$125,IF($B43=$B$126,$C$126,IF($B43=$B$127,$C$127,IF($B43=$B$128,$C$128,IF($B43=$B$129,$C$129,IF($B43=$B$130,$C$130,IF($B43=$B$131,$C$131,IF($B43=$B$132,$C$132,IF($B43=$B$133,$C$133,IF($B43=$B$134,$C$134,0)))))))))))))*AI43","v":0},0,0,0,0,0,0,0,0,0,0,0,0,0,0,0,0,0]
[null,0,{"$f":"IF($B44=$B$122,$C$122,IF($B44=$B$123,$C$123,IF($B44=$B$124,$C$124,IF($B44=$B$125,$C$125,IF($B44=$B$126,$C$126,IF($B44=$B$127,$C$127,IF($B44=$B$128,$C$128,IF($B44=$B$129,$C$129,IF($B44=$B$130,$C$130,IF($B44=$B$131,$C$131,IF($B44=$B$132,$C$132,IF($B44=$B$133,$C$133,IF($B44=$B$134,$C$134,0)))))))))))))*C44","v":0},0,0,0,0,0,0,0,0,0,0,0,0,0,0,0,0,0,0,0,0,0,0,0,0,0,0,0,0,0,0,0,{"$f":"IF($B44=$B$122,$C$122,IF($B44=$B$123,$C$123,IF($B44=$B$124,$C$124,IF($B44=$B$125,$C$125,IF($B44=$B$126,$C$126,IF($B44=$B$127,$C$127,IF($B44=$B$128,$C$128,IF($B44=$B$129,$C$129,IF($B44=$B$130,$C$130,IF($B44=$B$131,$C$131,IF($B44=$B$132,$C$132,IF($B44=$B$133,$C$133,IF($B44=$B$134,$C$134,0)))))))))))))*AI44","v":0},0,0,0,0,0,0,0,0,0,0,0,0,0,0,0,0,0]
[null,0,{"$f":"IF($B45=$B$122,$C$122,IF($B45=$B$123,$C$123,IF($B45=$B$124,$C$124,IF($B45=$B$125,$C$125,IF($B45=$B$126,$C$126,IF($B45=$B$127,$C$127,IF($B45=$B$128,$C$128,IF($B45=$B$129,$C$129,IF($B45=$B$130,$C$130,IF($B45=$B$131,$C$131,IF($B45=$B$132,$C$132,IF($B45=$B$133,$C$133,IF($B45=$B$134,$C$134,0)))))))))))))*C45","v":0},0,0,0,0,0,0,0,0,0,0,0,0,0,0,0,0,0,0,0,0,0,0,0,0,0,0,0,0,0,0,0,{"$f":"IF($B45=$B$122,$C$122,IF($B45=$B$123,$C$123,IF($B45=$B$124,$C$124,IF($B45=$B$125,$C$125,IF($B45=$B$126,$C$126,IF($B45=$B$127,$C$127,IF($B45=$B$128,$C$128,IF($B45=$B$129,$C$129,IF($B45=$B$130,$C$130,IF($B45=$B$131,$C$131,IF($B45=$B$132,$C$132,IF($B45=$B$133,$C$133,IF($B45=$B$134,$C$134,0)))))))))))))*AI45","v":0},0,0,0,0,0,0,0,0,0,0,0,0,0,0,0,0,0]
[null,0,{"$f":"IF($B46=$B$122,$C$122,IF($B46=$B$123,$C$123,IF($B46=$B$124,$C$124,IF($B46=$B$125,$C$125,IF($B46=$B$126,$C$126,IF($B46=$B$127,$C$127,IF($B46=$B$128,$C$128,IF($B46=$B$129,$C$129,IF($B46=$B$130,$C$130,IF($B46=$B$131,$C$131,IF($B46=$B$132,$C$132,IF($B46=$B$133,$C$133,IF($B46=$B$134,$C$134,0)))))))))))))*C46","v":0},0,0,0,0,0,0,0,0,0,0,0,0,0,0,0,0,0,0,0,0,0,0,0,0,0,0,0,0,0,0,0,{"$f":"IF($B46=$B$122,$C$122,IF($B46=$B$123,$C$123,IF($B46=$B$124,$C$124,IF($B46=$B$125,$C$125,IF($B46=$B$126,$C$126,IF($B46=$B$127,$C$127,IF($B46=$B$128,$C$128,IF($B46=$B$129,$C$129,IF($B46=$B$130,$C$130,IF($B46=$B$131,$C$131,IF($B46=$B$132,$C$132,IF($B46=$B$133,$C$133,IF($B46=$B$134,$C$134,0)))))))))))))*AI46","v":0},0,0,0,0,0,0,0,0,0,0,0,0,0,0,0,0,0]
[null,0,{"$f":"IF($B47=$B$122,$C$122,IF($B47=$B$123,$C$123,IF($B47=$B$124,$C$124,IF($B47=$B$125,$C$125,IF($B47=$B$126,$C$126,IF($B47=$B$127,$C$127,IF($B47=$B$128,$C$128,IF($B47=$B$129,$C$129,IF($B47=$B$130,$C$130,IF($B47=$B$131,$C$131,IF($B47=$B$132,$C$132,IF($B47=$B$133,$C$133,IF($B47=$B$134,$C$134,0)))))))))))))*C47","v":0},0,0,0,0,0,0,0,0,0,0,0,0,0,0,0,0,0,0,0,0,0,0,0,0,0,0,0,0,0,0,0,{"$f":"IF($B47=$B$122,$C$122,IF($B47=$B$123,$C$123,IF($B47=$B$124,$C$124,IF($B47=$B$125,$C$125,IF($B47=$B$126,$C$126,IF($B47=$B$127,$C$127,IF($B47=$B$128,$C$128,IF($B47=$B$129,$C$129,IF($B47=$B$130,$C$130,IF($B47=$B$131,$C$131,IF($B47=$B$132,$C$132,IF($B47=$B$133,$C$133,IF($B47=$B$134,$C$134,0)))))))))))))*AI47","v":0},0,0,0,0,0,0,0,0,0,0,0,0,0,0,0,0,0]
[null,0,{"$f":"IF($B48=$B$122,$C$122,IF($B48=$B$123,$C$123,IF($B48=$B$124,$C$124,IF($B48=$B$125,$C$125,IF($B48=$B$126,$C$126,IF($B48=$B$127,$C$127,IF($B48=$B$128,$C$128,IF($B48=$B$129,$C$129,IF($B48=$B$130,$C$130,IF($B48=$B$131,$C$131,IF($B48=$B$132,$C$132,IF($B48=$B$133,$C$133,IF($B48=$B$134,$C$134,0)))))))))))))*C48","v":0},0,0,0,0,0,0,0,0,0,0,0,0,0,0,0,0,0,0,0,0,0,0,0,0,0,0,0,0,0,0,0,{"$f":"IF($B48=$B$122,$C$122,IF($B48=$B$123,$C$123,IF($B48=$B$124,$C$124,IF($B48=$B$125,$C$125,IF($B48=$B$126,$C$126,IF($B48=$B$127,$C$127,IF($B48=$B$128,$C$128,IF($B48=$B$129,$C$129,IF($B48=$B$130,$C$130,IF($B48=$B$131,$C$131,IF($B48=$B$132,$C$132,IF($B48=$B$133,$C$133,IF($B48=$B$134,$C$134,0)))))))))))))*AI48","v":0},0,0,0,0,0,0,0,0,0,0,0,0,0,0,0,0,0]
[null,0,{"$f":"IF($B49=$B$122,$C$122,IF($B49=$B$123,$C$123,IF($B49=$B$124,$C$124,IF($B49=$B$125,$C$125,IF($B49=$B$126,$C$126,IF($B49=$B$127,$C$127,IF($B49=$B$128,$C$128,IF($B49=$B$129,$C$129,IF($B49=$B$130,$C$130,IF($B49=$B$131,$C$131,IF($B49=$B$132,$C$132,IF($B49=$B$133,$C$133,IF($B49=$B$134,$C$134,0)))))))))))))*C49","v":0},0,0,0,0,0,0,0,0,0,0,0,0,0,0,0,0,0,0,0,0,0,0,0,0,0,0,0,0,0,0,0,{"$f":"IF($B49=$B$122,$C$122,IF($B49=$B$123,$C$123,IF($B49=$B$124,$C$124,IF($B49=$B$125,$C$125,IF($B49=$B$126,$C$126,IF($B49=$B$127,$C$127,IF($B49=$B$128,$C$128,IF($B49=$B$129,$C$129,IF($B49=$B$130,$C$130,IF($B49=$B$131,$C$131,IF($B49=$B$132,$C$132,IF($B49=$B$133,$C$133,IF($B49=$B$134,$C$134,0)))))))))))))*AI49","v":0},0,0,0,0,0,0,0,0,0,0,0,0,0,0,0,0,0]
[null,0,{"$f":"IF($B50=$B$122,$C$122,IF($B50=$B$123,$C$123,IF($B50=$B$124,$C$124,IF($B50=$B$125,$C$125,IF($B50=$B$126,$C$126,IF($B50=$B$127,$C$127,IF($B50=$B$128,$C$128,IF($B50=$B$129,$C$129,IF($B50=$B$130,$C$130,IF($B50=$B$131,$C$131,IF($B50=$B$132,$C$132,IF($B50=$B$133,$C$133,IF($B50=$B$134,$C$134,0)))))))))))))*C50","v":0},0,0,0,0,0,0,0,0,0,0,0,0,0,0,0,0,0,0,0,0,0,0,0,0,0,0,0,0,0,0,0,{"$f":"IF($B50=$B$122,$C$122,IF($B50=$B$123,$C$123,IF($B50=$B$124,$C$124,IF($B50=$B$125,$C$125,IF($B50=$B$126,$C$126,IF($B50=$B$127,$C$127,IF($B50=$B$128,$C$128,IF($B50=$B$129,$C$129,IF($B50=$B$130,$C$130,IF($B50=$B$131,$C$131,IF($B50=$B$132,$C$132,IF($B50=$B$133,$C$133,IF($B50=$B$134,$C$134,0)))))))))))))*AI50","v":0},0,0,0,0,0,0,0,0,0,0,0,0,0,0,0,0,0]
[null,0,{"$f":"IF($B51=$B$122,$C$122,IF($B51=$B$123,$C$123,IF($B51=$B$124,$C$124,IF($B51=$B$125,$C$125,IF($B51=$B$126,$C$126,IF($B51=$B$127,$C$127,IF($B51=$B$128,$C$128,IF($B51=$B$129,$C$129,IF($B51=$B$130,$C$130,IF($B51=$B$131,$C$131,IF($B51=$B$132,$C$132,IF($B51=$B$133,$C$133,IF($B51=$B$134,$C$134,0)))))))))))))*C51","v":0},0,0,0,0,0,0,0,0,0,0,0,0,0,0,0,0,0,0,0,0,0,0,0,0,0,0,0,0,0,0,0,{"$f":"IF($B51=$B$122,$C$122,IF($B51=$B$123,$C$123,IF($B51=$B$124,$C$124,IF($B51=$B$125,$C$125,IF($B51=$B$126,$C$126,IF($B51=$B$127,$C$127,IF($B51=$B$128,$C$128,IF($B51=$B$129,$C$129,IF($B51=$B$130,$C$130,IF($B51=$B$131,$C$131,IF($B51=$B$132,$C$132,IF($B51=$B$133,$C$133,IF($B51=$B$134,$C$134,0)))))))))))))*AI51","v":0},0,0,0,0,0,0,0,0,0,0,0,0,0,0,0,0,0]
[null,0,{"$f":"IF($B52=$B$122,$C$122,IF($B52=$B$123,$C$123,IF($B52=$B$124,$C$124,IF($B52=$B$125,$C$125,IF($B52=$B$126,$C$126,IF($B52=$B$127,$C$127,IF($B52=$B$128,$C$128,IF($B52=$B$129,$C$129,IF($B52=$B$130,$C$130,IF($B52=$B$131,$C$131,IF($B52=$B$132,$C$132,IF($B52=$B$133,$C$133,IF($B52=$B$134,$C$134,0)))))))))))))*C52","v":0},0,0,0,0,0,0,0,0,0,0,0,0,0,0,0,0,0,0,0,0,0,0,0,0,0,0,0,0,0,0,0,{"$f":"IF($B52=$B$122,$C$122,IF($B52=$B$123,$C$123,IF($B52=$B$124,$C$124,IF($B52=$B$125,$C$125,IF($B52=$B$126,$C$126,IF($B52=$B$127,$C$127,IF($B52=$B$128,$C$128,IF($B52=$B$129,$C$129,IF($B52=$B$130,$C$130,IF($B52=$B$131,$C$131,IF($B52=$B$132,$C$132,IF($B52=$B$133,$C$133,IF($B52=$B$134,$C$134,0)))))))))))))*AI52","v":0},0,0,0,0,0,0,0,0,0,0,0,0,0,0,0,0,0]
[null,0,{"$f":"IF($B53=$B$122,$C$122,IF($B53=$B$123,$C$123,IF($B53=$B$124,$C$124,IF($B53=$B$125,$C$125,IF($B53=$B$126,$C$126,IF($B53=$B$127,$C$127,IF($B53=$B$128,$C$128,IF($B53=$B$129,$C$129,IF($B53=$B$130,$C$130,IF($B53=$B$131,$C$131,IF($B53=$B$132,$C$132,IF($B53=$B$133,$C$133,IF($B53=$B$134,$C$134,0)))))))))))))*C53","v":0},0,0,0,0,0,0,0,0,0,0,0,0,0,0,0,0,0,0,0,0,0,0,0,0,0,0,0,0,0,0,0,{"$f":"IF($B53=$B$122,$C$122,IF($B53=$B$123,$C$123,IF($B53=$B$124,$C$124,IF($B53=$B$125,$C$125,IF($B53=$B$126,$C$126,IF($B53=$B$127,$C$127,IF($B53=$B$128,$C$128,IF($B53=$B$129,$C$129,IF($B53=$B$130,$C$130,IF($B53=$B$131,$C$131,IF($B53=$B$132,$C$132,IF($B53=$B$133,$C$133,IF($B53=$B$134,$C$134,0)))))))))))))*AI53","v":0},0,0,0,0,0,0,0,0,0,0,0,0,0,0,0,0,0]
[null,0,{"$f":"IF($B54=$B$122,$C$122,IF($B54=$B$123,$C$123,IF($B54=$B$124,$C$124,IF($B54=$B$125,$C$125,IF($B54=$B$126,$C$126,IF($B54=$B$127,$C$127,IF($B54=$B$128,$C$128,IF($B54=$B$129,$C$129,IF($B54=$B$130,$C$130,IF($B54=$B$131,$C$131,IF($B54=$B$132,$C$132,IF($B54=$B$133,$C$133,IF($B54=$B$134,$C$134,0)))))))))))))*C54","v":0},0,0,0,0,0,0,0,0,0,0,0,0,0,0,0,0,0,0,0,0,0,0,0,0,0,0,0,0,0,0,0,{"$f":"IF($B54=$B$122,$C$122,IF($B54=$B$123,$C$123,IF($B54=$B$124,$C$124,IF($B54=$B$125,$C$125,IF($B54=$B$126,$C$126,IF($B54=$B$127,$C$127,IF($B54=$B$128,$C$128,IF($B54=$B$129,$C$129,IF($B54=$B$130,$C$130,IF($B54=$B$131,$C$131,IF($B54=$B$132,$C$132,IF($B54=$B$133,$C$133,IF($B54=$B$134,$C$134,0)))))))))))))*AI54","v":0},0,0,0,0,0,0,0,0,0,0,0,0,0,0,0,0,0]
[null,0,{"$f":"IF($B55=$B$122,$C$122,IF($B55=$B$123,$C$123,IF($B55=$B$124,$C$124,IF($B55=$B$125,$C$125,IF($B55=$B$126,$C$126,IF($B55=$B$127,$C$127,IF($B55=$B$128,$C$128,IF($B55=$B$129,$C$129,IF($B55=$B$130,$C$130,IF($B55=$B$131,$C$131,IF($B55=$B$132,$C$132,IF($B55=$B$133,$C$133,IF($B55=$B$134,$C$134,0)))))))))))))*C55","v":0},0,0,0,0,0,0,0,0,0,0,0,0,0,0,0,0,0,0,0,0,0,0,0,0,0,0,0,0,0,0,0,{"$f":"IF($B55=$B$122,$C$122,IF($B55=$B$123,$C$123,IF($B55=$B$124,$C$124,IF($B55=$B$125,$C$125,IF($B55=$B$126,$C$126,IF($B55=$B$127,$C$127,IF($B55=$B$128,$C$128,IF($B55=$B$129,$C$129,IF($B55=$B$130,$C$130,IF($B55=$B$131,$C$131,IF($B55=$B$132,$C$132,IF($B55=$B$133,$C$133,IF($B55=$B$134,$C$134,0)))))))))))))*AI55","v":0},0,0,0,0,0,0,0,0,0,0,0,0,0,0,0,0,0]
[null,0,{"$f":"IF($B56=$B$122,$C$122,IF($B56=$B$123,$C$123,IF($B56=$B$124,$C$124,IF($B56=$B$125,$C$125,IF($B56=$B$126,$C$126,IF($B56=$B$127,$C$127,IF($B56=$B$128,$C$128,IF($B56=$B$129,$C$129,IF($B56=$B$130,$C$130,IF($B56=$B$131,$C$131,IF($B56=$B$132,$C$132,IF($B56=$B$133,$C$133,IF($B56=$B$134,$C$134,0)))))))))))))*C56","v":0},0,0,0,0,0,0,0,0,0,0,0,0,0,0,0,0,0,0,0,0,0,0,0,0,0,0,0,0,0,0,0,{"$f":"IF($B56=$B$122,$C$122,IF($B56=$B$123,$C$123,IF($B56=$B$124,$C$124,IF($B56=$B$125,$C$125,IF($B56=$B$126,$C$126,IF($B56=$B$127,$C$127,IF($B56=$B$128,$C$128,IF($B56=$B$129,$C$129,IF($B56=$B$130,$C$130,IF($B56=$B$131,$C$131,IF($B56=$B$132,$C$132,IF($B56=$B$133,$C$133,IF($B56=$B$134,$C$134,0)))))))))))))*AI56","v":0},0,0,0,0,0,0,0,0,0,0,0,0,0,0,0,0,0]
["CABLE AREA:",null,{"$f":"SUM(C57:C107)","v":0},{"$f":"SUM(D57:D107)","v":0},0,0,0,0,0,0,0,0,0,0,0,0,0,0,0,0,0,0,0,0,0,0,0,0,0,0,0,0,0,0,0,0,0,0,0,0,0,0,0,0,0,0,0,0,0,0,0,0]
["SUFFICIENT?",null,{"$f":"IF(C108<=C5,\"YES\",\"NO\")","v":"YES"},"YES","YES","YES","YES","YES","YES","YES","YES","YES","YES","YES","YES","YES","YES","YES","YES","YES","YES","YES","YES","YES","YES","YES","YES","YES","YES","YES","YES","YES","YES","YES",{"$f":"IF(AI108<=AI5,\"YES\",\"NO\")","v":"YES"},"YES","YES","YES","YES","YES","YES","YES","YES","YES","YES","YES","YES","YES","YES","YES","YES","YES"]
[]
[]
[]
[]
[]
[]
[]
[]
[]
[]
[null,"CABLE SIZE",null,"CONDUIT SIZE"]
[null,"TYPE","AREA","(in)","AREA","40% AREA"]
[null,"7c-#16",0.13700000000000001,"1\"",{"$f":"ROUND(PI()*1*1/4,2)","v":0.79},{"$f":"+E122*0.4","v":0.31600000000000006}]
[null,"5c-#16",0.11700000000000001,"2\"",3.29,1.32]
[null,"2c-#16",8.3000000000000004E-2,"2x2\"",{"$f":"+E123*2","v":6.58},{"$f":"+F123*2","v":2.64}]
[null,"2c-#12",0.16600000000000001,"3\"",7.27,2.91]
[null,"2c-#14",0.10199999999999999,"2x3\"",{"$f":"+E125*2","v":14.54},{"$f":"+F125*2","v":5.82}]
[null,"1c-#12",9.7000000000000003E-2,"4\"",12.55,5.0199999999999996]
[null,"1c-#10",0.13300000000000001,"5\"",19.760000000000002,7.9]
[null,"VIDEO",0.30499999999999999]
[null,"24 FIBER",{"$f":"+ROUND(PI()*0.56*0.56/4,3)","v":0.246}]
[null,"1c-#2",0.114]
[null,"1c-#4",8.14E-2]
[null,"1c-#8",4.3700000000000003E-2]
[null,"1c-#6",5.8999999999999997E-2]
[null,"Note:  1c-#14 cable left out of chart since it"]
[null,"does not run through conduit."]

{"sheet":"CONDUIT CAPACITY","index":9,"n_rows":127,"n_cols":27,"rows_kept":127,"cut":false,"hidden":false,"merged":[[0,0,0,8],[1,2,1,3],[2,0,2,1],[2,2,2,3],[2,4,2,5],[60,2,60,3],[24,2,24,3],[2,14,2,16],[8,2,8,3],[9,0,9,1],[9,2,9,3],[9,4,9,5],[2,12,2,13],[15,2,15,3],[16,0,16,1],[16,2,16,3],[16,4,16,5],[33,2,33,3],[34,0,34,1],[34,2,34,3],[34,4,34,5],[78,0,78,1],[78,2,78,3],[78,4,78,5],[61,0,61,1],[61,2,61,3],[61,4,61,5],[69,2,69,3],[70,0,70,1],[70,2,70,3],[70,4,70,5],[77,2,77,3],[25,0,25,1],[25,2,25,3],[25,4,25,5],[51,2,51,3],[52,0,52,1],[52,2,52,3],[52,4,52,5],[42,2,42,3],[43,0,43,1],[43,2,43,3],[43,4,43,5],[121,0,121,1],[121,2,121,3],[121,4,121,5],[96,2,96,3],[112,2,112,3],[120,2,120,3],[113,0,113,1],[113,2,113,3],[113,4,113,5],[96,0,96,1],[96,4,96,5],[104,2,104,3],[105,0,105,1],[105,2,105,3],[105,4,105,5],[86,2,86,3],[87,0,87,1],[87,2,87,3],[87,4,87,5],[95,2,95,3]]}
["CONDUIT CAPACITY"]
[null,null,"CONDUIT",null,null,null,"CABLE","CONDUIT"]
["CONDUIT RUN",null,"SIZE",null,"CARRIES",null,"AREA","AREA",null,null,null,null,"CABLE SIZE",null,"CONDUIT SIZE"]
["From","To","#","(in)","#","TYPE","(in2)","(in2)","SUFFICIENT?",null,null,null,"TYPE","AREA","(in)","AREA","40% AREA"]
["SOURCE","PS",1,2,3,"1c-#2",{"$f":"(IF(F5=$M$5,$N$5,0)+IF(F5=$M$6,$N$6,0)+IF(F5=$M$7,$N$7,0)+IF(F5=$M$8,$N$8,0)+IF(F5=$M$9,$N$9,0)+IF(F5=$M$10,$N$10,0)+IF(F5=$M$11,$N$11,0)+IF(F5=$M$12,$N$12,0)+IF(F5=$M$13,$N$13,0)+IF(F5=$M$14,$N$14,0)+IF(F5=$M$15,$N$15,0))*E5","v":0.34200000000000003},{"$f":"(IF(D5=$O$5,$Q$5,0)+IF(D5=$O$6,$Q$6,0)+IF(D5=$O$7,$Q$7,0)+IF(D5=$O$8,$Q$8,0)+IF(D5=$O$9,$Q$9,0)+IF(D5=$O$10,$Q$10,0)+IF(D5=$O$11,$Q$11,0))*C5","v":1.32},null,null,null,null,"7c-#16",0.13700000000000001,1]
[null,null,null,null,null,null,{"$f":"(IF(F6=$M$5,$N$5,0)+IF(F6=$M$6,$N$6,0)+IF(F6=$M$7,$N$7,0)+IF(F6=$M$8,$N$8,0)+IF(F6=$M$9,$N$9,0)+IF(F6=$M$10,$N$10,0)+IF(F6=$M$11,$N$11,0)+IF(F6=$M$12,$N$12,0)+IF(F6=$M$13,$N$13,0)+IF(F6=$M$14,$N$14,0)+IF(F6=$M$15,$N$15,0))*E6","v":0},null,null,null,null,null,"5c-#16",0.11700000000000001,2,3.29,1.32,null,null,null,null,null,null,null,null,null,{"$f":"+N6+2*0.25*0.25*PI()","v":0.50969908169872413}]
[null,null,null,null,null,"TOTAL",{"$f":"SUM(G5:G6)","v":0.34200000000000003},{"$f":"SUM(H5:H6)","v":1.32},{"$f":"+IF(H7>=G7,\"YES\",\"NO\")","v":"YES"},null,null,null,"2c-#16",8.3000000000000004E-2,3,7.27,2.91,null,null,null,null,null,null,null,null,null,{"$f":"+AA6*2","v":1.0193981633974483}]
[null,null,null,null,null,null,null,null,null,null,null,null,"2c-#12",0.16600000000000001,4,12.55,5.0199999999999996]
[null,null,"CONDUIT",null,null,null,"CABLE","CONDUIT",null,null,null,null,"2c-#14",0.10199999999999999,5,19.760000000000002,7.9]
["CONDUIT RUN",null,"SIZE",null,"CARRIES",null,"AREA","AREA",null,null,null,null,"1c-#12",9.7000000000000003E-2]
["From","To","#","(in)","#","TYPE","(in2)","(in2)","SUFFICIENT?",null,null,null,"1c-#10",0.13300000000000001]
["PS","CA",1,2,3,"1c-#8",{"$f":"(IF(F12=$M$5,$N$5,0)+IF(F12=$M$6,$N$6,0)+IF(F12=$M$7,$N$7,0)+IF(F12=$M$8,$N$8,0)+IF(F12=$M$9,$N$9,0)+IF(F12=$M$10,$N$10,0)+IF(F12=$M$11,$N$11,0)+IF(F12=$M$12,$N$12,0)+IF(F12=$M$13,$N$13,0)+IF(F12=$M$14,$N$14,0)+IF(F12=$M$15,$N$15,0))*E12","v":0.13109999999999999},{"$f":"(IF(D12=$O$5,$Q$5,0)+IF(D12=$O$6,$Q$6,0)+IF(D12=$O$7,$Q$7,0)+IF(D12=$O$8,$Q$8,0)+IF(D12=$O$9,$Q$9,0)+IF(D12=$O$10,$Q$10,0)+IF(D12=$O$11,$Q$11,0))*C12","v":1.32},null,null,null,null,"VIDEO",{"$f":"ROUND(0.305*0.305*PI()/4+0.166,3)","v":0.23899999999999999}]
[null,null,null,null,null,null,{"$f":"(IF(F13=$M$5,$N$5,0)+IF(F13=$M$6,$N$6,0)+IF(F13=$M$7,$N$7,0)+IF(F13=$M$8,$N$8,0)+IF(F13=$M$9,$N$9,0)+IF(F13=$M$10,$N$10,0)+IF(F13=$M$11,$N$11,0)+IF(F13=$M$12,$N$12,0)+IF(F13=$M$13,$N$13,0)+IF(F13=$M$14,$N$14,0)+IF(F13=$M$15,$N$15,0))*E13","v":0},null,null,null,null,null,"1c-#2",0.114]
[null,null,null,null,null,"TOTAL",{"$f":"SUM(G12:G13)","v":0.13109999999999999},{"$f":"SUM(H12:H13)","v":1.32},{"$f":"+IF(H14>=G14,\"YES\",\"NO\")","v":"YES"},null,null,null,"1c-#8",4.3700000000000003E-2]
[null,null,null,null,null,null,null,null,null,null,null,null,"1c-#6",5.8999999999999997E-2]
[null,null,"CONDUIT",null,null,null,"CABLE","CONDUIT"]
["CONDUIT RUN",null,"SIZE",null,"CARRIES",null,"AREA","AREA"]
["From","To","#","(in)","#","TYPE","(in2)","(in2)","SUFFICIENT?"]
["CA","PB1",2,3,9,"7c-#16",{"$f":"(IF(F19=$M$5,$N$5,0)+IF(F19=$M$6,$N$6,0)+IF(F19=$M$7,$N$7,0)+IF(F19=$M$8,$N$8,0)+IF(F19=$M$9,$N$9,0)+IF(F19=$M$10,$N$10,0)+IF(F19=$M$11,$N$11,0)+IF(F19=$M$12,$N$12,0)+IF(F19=$M$13,$N$13,0)+IF(F19=$M$14,$N$14,0)+IF(F19=$M$15,$N$15,0))*E19","v":1.2330000000000001},{"$f":"(IF(D19=$O$5,$Q$5,0)+IF(D19=$O$6,$Q$6,0)+IF(D19=$O$7,$Q$7,0)+IF(D19=$O$8,$Q$8,0)+IF(D19=$O$9,$Q$9,0)+IF(D19=$O$10,$Q$10,0)+IF(D19=$O$11,$Q$11,0))*C19","v":5.82}]
[null,null,null,null,8,"5c-#16",{"$f":"(IF(F20=$M$5,$N$5,0)+IF(F20=$M$6,$N$6,0)+IF(F20=$M$7,$N$7,0)+IF(F20=$M$8,$N$8,0)+IF(F20=$M$9,$N$9,0)+IF(F20=$M$10,$N$10,0)+IF(F20=$M$11,$N$11,0)+IF(F20=$M$12,$N$12,0)+IF(F20=$M$13,$N$13,0)+IF(F20=$M$14,$N$14,0)+IF(F20=$M$15,$N$15,0))*E20","v":0.93600000000000005}]
[null,null,null,null,8,"2c-#16",{"$f":"(IF(F21=$M$5,$N$5,0)+IF(F21=$M$6,$N$6,0)+IF(F21=$M$7,$N$7,0)+IF(F21=$M$8,$N$8,0)+IF(F21=$M$9,$N$9,0)+IF(F21=$M$10,$N$10,0)+IF(F21=$M$11,$N$11,0)+IF(F21=$M$12,$N$12,0)+IF(F21=$M$13,$N$13,0)+IF(F21=$M$14,$N$14,0)+IF(F21=$M$15,$N$15,0))*E21","v":0.66400000000000003}]
[null,null,null,null,1,"2c-#14",{"$f":"(IF(F22=$M$5,$N$5,0)+IF(F22=$M$6,$N$6,0)+IF(F22=$M$7,$N$7,0)+IF(F22=$M$8,$N$8,0)+IF(F22=$M$9,$N$9,0)+IF(F22=$M$10,$N$10,0)+IF(F22=$M$11,$N$11,0)+IF(F22=$M$12,$N$12,0)+IF(F22=$M$13,$N$13,0)+IF(F22=$M$14,$N$14,0)+IF(F22=$M$15,$N$15,0))*E22","v":0.10199999999999999}]
[null,null,null,null,null,"TOTAL",{"$f":"SUM(G19:G22)","v":2.9350000000000001},{"$f":"SUM(H19:H22)","v":5.82},{"$f":"+IF(H23>=G23,\"YES\",\"NO\")","v":"YES"}]
[]
[null,null,"CONDUIT",null,null,null,"CABLE","CONDUIT"]
["CONDUIT RUN",null,"SIZE",null,"CARRIES",null,"AREA","AREA"]
["From","To","#","(in)","#","TYPE","(in2)","(in2)","SUFFICIENT?"]
["PB1","P1",1,3,0,"7c-#16",{"$f":"(IF(F28=$M$5,$N$5,0)+IF(F28=$M$6,$N$6,0)+IF(F28=$M$7,$N$7,0)+IF(F28=$M$8,$N$8,0)+IF(F28=$M$9,$N$9,0)+IF(F28=$M$10,$N$10,0)+IF(F28=$M$11,$N$11,0)+IF(F28=$M$12,$N$12,0)+IF(F28=$M$13,$N$13,0)+IF(F28=$M$14,$N$14,0)+IF(F28=$M$15,$N$15,0))*E28","v":0},{"$f":"(IF(D28=$O$5,$Q$5,0)+IF(D28=$O$6,$Q$6,0)+IF(D28=$O$7,$Q$7,0)+IF(D28=$O$8,$Q$8,0)+IF(D28=$O$9,$Q$9,0)+IF(D28=$O$10,$Q$10,0)+IF(D28=$O$11,$Q$11,0))*C28","v":2.91}]
[null,null,null,null,1,"5c-#16",{"$f":"(IF(F29=$M$5,$N$5,0)+IF(F29=$M$6,$N$6,0)+IF(F29=$M$7,$N$7,0)+IF(F29=$M$8,$N$8,0)+IF(F29=$M$9,$N$9,0)+IF(F29=$M$10,$N$10,0)+IF(F29=$M$11,$N$11,0)+IF(F29=$M$12,$N$12,0)+IF(F29=$M$13,$N$13,0)+IF(F29=$M$14,$N$14,0)+IF(F29=$M$15,$N$15,0))*E29","v":0.11700000000000001}]
[null,null,null,null,1,"2c-#16",{"$f":"(IF(F30=$M$5,$N$5,0)+IF(F30=$M$6,$N$6,0)+IF(F30=$M$7,$N$7,0)+IF(F30=$M$8,$N$8,0)+IF(F30=$M$9,$N$9,0)+IF(F30=$M$10,$N$10,0)+IF(F30=$M$11,$N$11,0)+IF(F30=$M$12,$N$12,0)+IF(F30=$M$13,$N$13,0)+IF(F30=$M$14,$N$14,0)+IF(F30=$M$15,$N$15,0))*E30","v":8.3000000000000004E-2}]
[null,null,null,null,0,"VIDEO",{"$f":"(IF(F31=$M$5,$N$5,0)+IF(F31=$M$6,$N$6,0)+IF(F31=$M$7,$N$7,0)+IF(F31=$M$8,$N$8,0)+IF(F31=$M$9,$N$9,0)+IF(F31=$M$10,$N$10,0)+IF(F31=$M$11,$N$11,0)+IF(F31=$M$12,$N$12,0)+IF(F31=$M$13,$N$13,0)+IF(F31=$M$14,$N$14,0)+IF(F31=$M$15,$N$15,0))*E31","v":0}]
[null,null,null,null,null,"TOTAL",{"$f":"SUM(G28:G31)","v":0.2},{"$f":"SUM(H28:H31)","v":2.91},{"$f":"+IF(H32>=G32,\"YES\",\"NO\")","v":"YES"}]
[]
[null,null,"CONDUIT",null,null,null,"CABLE","CONDUIT"]
["CONDUIT RUN",null,"SIZE",null,"CARRIES",null,"AREA","AREA"]
["From","To","#","(in)","#","TYPE","(in2)","(in2)","SUFFICIENT?"]
["PB1","P9",1,3,2,"7c-#16",{"$f":"(IF(F37=$M$5,$N$5,0)+IF(F37=$M$6,$N$6,0)+IF(F37=$M$7,$N$7,0)+IF(F37=$M$8,$N$8,0)+IF(F37=$M$9,$N$9,0)+IF(F37=$M$10,$N$10,0)+IF(F37=$M$11,$N$11,0)+IF(F37=$M$12,$N$12,0)+IF(F37=$M$13,$N$13,0)+IF(F37=$M$14,$N$14,0)+IF(F37=$M$15,$N$15,0))*E37","v":0.27400000000000002},{"$f":"(IF(D37=$O$5,$Q$5,0)+IF(D37=$O$6,$Q$6,0)+IF(D37=$O$7,$Q$7,0)+IF(D37=$O$8,$Q$8,0)+IF(D37=$O$9,$Q$9,0)+IF(D37=$O$10,$Q$10,0)+IF(D37=$O$11,$Q$11,0))*C37","v":2.91}]
[null,null,null,null,1,"5c-#16",{"$f":"(IF(F38=$M$5,$N$5,0)+IF(F38=$M$6,$N$6,0)+IF(F38=$M$7,$N$7,0)+IF(F38=$M$8,$N$8,0)+IF(F38=$M$9,$N$9,0)+IF(F38=$M$10,$N$10,0)+IF(F38=$M$11,$N$11,0)+IF(F38=$M$12,$N$12,0)+IF(F38=$M$13,$N$13,0)+IF(F38=$M$14,$N$14,0)+IF(F38=$M$15,$N$15,0))*E38","v":0.11700000000000001}]
[null,null,null,null,1,"2c-#16",{"$f":"(IF(F39=$M$5,$N$5,0)+IF(F39=$M$6,$N$6,0)+IF(F39=$M$7,$N$7,0)+IF(F39=$M$8,$N$8,0)+IF(F39=$M$9,$N$9,0)+IF(F39=$M$10,$N$10,0)+IF(F39=$M$11,$N$11,0)+IF(F39=$M$12,$N$12,0)+IF(F39=$M$13,$N$13,0)+IF(F39=$M$14,$N$14,0)+IF(F39=$M$15,$N$15,0))*E39","v":8.3000000000000004E-2}]
[null,null,null,null,0,"VIDEO",{"$f":"(IF(F40=$M$5,$N$5,0)+IF(F40=$M$6,$N$6,0)+IF(F40=$M$7,$N$7,0)+IF(F40=$M$8,$N$8,0)+IF(F40=$M$9,$N$9,0)+IF(F40=$M$10,$N$10,0)+IF(F40=$M$11,$N$11,0)+IF(F40=$M$12,$N$12,0)+IF(F40=$M$13,$N$13,0)+IF(F40=$M$14,$N$14,0)+IF(F40=$M$15,$N$15,0))*E40","v":0}]
[null,null,null,null,null,"TOTAL",{"$f":"SUM(G37:G40)","v":0.47400000000000003},{"$f":"SUM(H37:H40)","v":2.91},{"$f":"+IF(H41>=G41,\"YES\",\"NO\")","v":"YES"}]
[]
[null,null,"CONDUIT",null,null,null,"CABLE","CONDUIT"]
["CONDUIT RUN",null,"SIZE",null,"CARRIES",null,"AREA","AREA"]
["From","To","#","(in)","#","TYPE","(in2)","(in2)","SUFFICIENT?"]
["PB1","PB2",1,3,2,"7c-#16",{"$f":"(IF(F46=$M$5,$N$5,0)+IF(F46=$M$6,$N$6,0)+IF(F46=$M$7,$N$7,0)+IF(F46=$M$8,$N$8,0)+IF(F46=$M$9,$N$9,0)+IF(F46=$M$10,$N$10,0)+IF(F46=$M$11,$N$11,0)+IF(F46=$M$12,$N$12,0)+IF(F46=$M$13,$N$13,0)+IF(F46=$M$14,$N$14,0)+IF(F46=$M$15,$N$15,0))*E46","v":0.27400000000000002},{"$f":"(IF(D46=$O$5,$Q$5,0)+IF(D46=$O$6,$Q$6,0)+IF(D46=$O$7,$Q$7,0)+IF(D46=$O$8,$Q$8,0)+IF(D46=$O$9,$Q$9,0)+IF(D46=$O$10,$Q$10,0)+IF(D46=$O$11,$Q$11,0))*C46","v":2.91}]
[null,null,null,null,2,"5c-#16",{"$f":"(IF(F47=$M$5,$N$5,0)+IF(F47=$M$6,$N$6,0)+IF(F47=$M$7,$N$7,0)+IF(F47=$M$8,$N$8,0)+IF(F47=$M$9,$N$9,0)+IF(F47=$M$10,$N$10,0)+IF(F47=$M$11,$N$11,0)+IF(F47=$M$12,$N$12,0)+IF(F47=$M$13,$N$13,0)+IF(F47=$M$14,$N$14,0)+IF(F47=$M$15,$N$15,0))*E47","v":0.23400000000000001}]
[null,null,null,null,2,"2c-#16",{"$f":"(IF(F48=$M$5,$N$5,0)+IF(F48=$M$6,$N$6,0)+IF(F48=$M$7,$N$7,0)+IF(F48=$M$8,$N$8,0)+IF(F48=$M$9,$N$9,0)+IF(F48=$M$10,$N$10,0)+IF(F48=$M$11,$N$11,0)+IF(F48=$M$12,$N$12,0)+IF(F48=$M$13,$N$13,0)+IF(F48=$M$14,$N$14,0)+IF(F48=$M$15,$N$15,0))*E48","v":0.16600000000000001}]
[null,null,null,null,0,"VIDEO",{"$f":"(IF(F49=$M$5,$N$5,0)+IF(F49=$M$6,$N$6,0)+IF(F49=$M$7,$N$7,0)+IF(F49=$M$8,$N$8,0)+IF(F49=$M$9,$N$9,0)+IF(F49=$M$10,$N$10,0)+IF(F49=$M$11,$N$11,0)+IF(F49=$M$12,$N$12,0)+IF(F49=$M$13,$N$13,0)+IF(F49=$M$14,$N$14,0)+IF(F49=$M$15,$N$15,0))*E49","v":0}]
[null,null,null,null,null,"TOTAL",{"$f":"SUM(G46:G49)","v":0.67400000000000004},{"$f":"SUM(H46:H49)","v":2.91},{"$f":"+IF(H50>=G50,\"YES\",\"NO\")","v":"YES"}]
[]
[null,null,"CONDUIT",null,null,null,"CABLE","CONDUIT"]
["CONDUIT RUN",null,"SIZE",null,"CARRIES",null,"AREA","AREA"]
["From","To","#","(in)","#","TYPE","(in2)","(in2)","SUFFICIENT?"]
["PB2","P3",1,3,0,"7c-#16",{"$f":"(IF(F55=$M$5,$N$5,0)+IF(F55=$M$6,$N$6,0)+IF(F55=$M$7,$N$7,0)+IF(F55=$M$8,$N$8,0)+IF(F55=$M$9,$N$9,0)+IF(F55=$M$10,$N$10,0)+IF(F55=$M$11,$N$11,0)+IF(F55=$M$12,$N$12,0)+IF(F55=$M$13,$N$13,0)+IF(F55=$M$14,$N$14,0)+IF(F55=$M$15,$N$15,0))*E55","v":0},{"$f":"(IF(D55=$O$5,$Q$5,0)+IF(D55=$O$6,$Q$6,0)+IF(D55=$O$7,$Q$7,0)+IF(D55=$O$8,$Q$8,0)+IF(D55=$O$9,$Q$9,0)+IF(D55=$O$10,$Q$10,0)+IF(D55=$O$11,$Q$11,0))*C55","v":2.91}]
[null,null,null,null,1,"5c-#16",{"$f":"(IF(F56=$M$5,$N$5,0)+IF(F56=$M$6,$N$6,0)+IF(F56=$M$7,$N$7,0)+IF(F56=$M$8,$N$8,0)+IF(F56=$M$9,$N$9,0)+IF(F56=$M$10,$N$10,0)+IF(F56=$M$11,$N$11,0)+IF(F56=$M$12,$N$12,0)+IF(F56=$M$13,$N$13,0)+IF(F56=$M$14,$N$14,0)+IF(F56=$M$15,$N$15,0))*E56","v":0.11700000000000001}]
[null,null,null,null,1,"2c-#16",{"$f":"(IF(F57=$M$5,$N$5,0)+IF(F57=$M$6,$N$6,0)+IF(F57=$M$7,$N$7,0)+IF(F57=$M$8,$N$8,0)+IF(F57=$M$9,$N$9,0)+IF(F57=$M$10,$N$10,0)+IF(F57=$M$11,$N$11,0)+IF(F57=$M$12,$N$12,0)+IF(F57=$M$13,$N$13,0)+IF(F57=$M$14,$N$14,0)+IF(F57=$M$15,$N$15,0))*E57","v":8.3000000000000004E-2}]
[null,null,null,null,0,"VIDEO",{"$f":"(IF(F58=$M$5,$N$5,0)+IF(F58=$M$6,$N$6,0)+IF(F58=$M$7,$N$7,0)+IF(F58=$M$8,$N$8,0)+IF(F58=$M$9,$N$9,0)+IF(F58=$M$10,$N$10,0)+IF(F58=$M$11,$N$11,0)+IF(F58=$M$12,$N$12,0)+IF(F58=$M$13,$N$13,0)+IF(F58=$M$14,$N$14,0)+IF(F58=$M$15,$N$15,0))*E58","v":0}]
[null,null,null,null,null,"TOTAL",{"$f":"SUM(G55:G58)","v":0.2},{"$f":"SUM(H55:H58)","v":2.91},{"$f":"+IF(H59>=G59,\"YES\",\"NO\")","v":"YES"}]
[]
[null,null,"CONDUIT",null,null,null,"CABLE","CONDUIT"]
["CONDUIT RUN",null,"SIZE",null,"CARRIES",null,"AREA","AREA"]
["From","To","#","(in)","#","TYPE","(in2)","(in2)","SUFFICIENT?"]
["PB2","P2",1,3,2,"7c-#16",{"$f":"(IF(F64=$M$5,$N$5,0)+IF(F64=$M$6,$N$6,0)+IF(F64=$M$7,$N$7,0)+IF(F64=$M$8,$N$8,0)+IF(F64=$M$9,$N$9,0)+IF(F64=$M$10,$N$10,0)+IF(F64=$M$11,$N$11,0)+IF(F64=$M$12,$N$12,0)+IF(F64=$M$13,$N$13,0)+IF(F64=$M$14,$N$14,0)+IF(F64=$M$15,$N$15,0))*E64","v":0.27400000000000002},{"$f":"(IF(D64=$O$5,$Q$5,0)+IF(D64=$O$6,$Q$6,0)+IF(D64=$O$7,$Q$7,0)+IF(D64=$O$8,$Q$8,0)+IF(D64=$O$9,$Q$9,0)+IF(D64=$O$10,$Q$10,0)+IF(D64=$O$11,$Q$11,0))*C64","v":2.91}]
[null,null,null,null,1,"5c-#16",{"$f":"(IF(F65=$M$5,$N$5,0)+IF(F65=$M$6,$N$6,0)+IF(F65=$M$7,$N$7,0)+IF(F65=$M$8,$N$8,0)+IF(F65=$M$9,$N$9,0)+IF(F65=$M$10,$N$10,0)+IF(F65=$M$11,$N$11,0)+IF(F65=$M$12,$N$12,0)+IF(F65=$M$13,$N$13,0)+IF(F65=$M$14,$N$14,0)+IF(F65=$M$15,$N$15,0))*E65","v":0.11700000000000001}]
[null,null,null,null,1,"2c-#16",{"$f":"(IF(F66=$M$5,$N$5,0)+IF(F66=$M$6,$N$6,0)+IF(F66=$M$7,$N$7,0)+IF(F66=$M$8,$N$8,0)+IF(F66=$M$9,$N$9,0)+IF(F66=$M$10,$N$10,0)+IF(F66=$M$11,$N$11,0)+IF(F66=$M$12,$N$12,0)+IF(F66=$M$13,$N$13,0)+IF(F66=$M$14,$N$14,0)+IF(F66=$M$15,$N$15,0))*E66","v":8.3000000000000004E-2}]
[null,null,null,null,0,"VIDEO",{"$f":"(IF(F67=$M$5,$N$5,0)+IF(F67=$M$6,$N$6,0)+IF(F67=$M$7,$N$7,0)+IF(F67=$M$8,$N$8,0)+IF(F67=$M$9,$N$9,0)+IF(F67=$M$10,$N$10,0)+IF(F67=$M$11,$N$11,0)+IF(F67=$M$12,$N$12,0)+IF(F67=$M$13,$N$13,0)+IF(F67=$M$14,$N$14,0)+IF(F67=$M$15,$N$15,0))*E67","v":0}]
[null,null,null,null,null,"TOTAL",{"$f":"SUM(G64:G67)","v":0.47400000000000003},{"$f":"SUM(H64:H67)","v":2.91},{"$f":"+IF(H68>=G68,\"YES\",\"NO\")","v":"YES"}]
[]
[null,null,"CONDUIT",null,null,null,"CABLE","CONDUIT"]
["CONDUIT RUN",null,"SIZE",null,"CARRIES",null,"AREA","AREA"]
["From","To","#","(in)","#","TYPE","(in2)","(in2)","SUFFICIENT?"]
["PB1","PB4",1,3,5,"7c-#16",{"$f":"(IF(F73=$M$5,$N$5,0)+IF(F73=$M$6,$N$6,0)+IF(F73=$M$7,$N$7,0)+IF(F73=$M$8,$N$8,0)+IF(F73=$M$9,$N$9,0)+IF(F73=$M$10,$N$10,0)+IF(F73=$M$11,$N$11,0)+IF(F73=$M$12,$N$12,0)+IF(F73=$M$13,$N$13,0)+IF(F73=$M$14,$N$14,0)+IF(F73=$M$15,$N$15,0))*E73","v":0.68500000000000005},{"$f":"(IF(D73=$O$5,$Q$5,0)+IF(D73=$O$6,$Q$6,0)+IF(D73=$O$7,$Q$7,0)+IF(D73=$O$8,$Q$8,0)+IF(D73=$O$9,$Q$9,0)+IF(D73=$O$10,$Q$10,0)+IF(D73=$O$11,$Q$11,0))*C73","v":2.91}]
[null,null,null,null,4,"5c-#16",{"$f":"(IF(F74=$M$5,$N$5,0)+IF(F74=$M$6,$N$6,0)+IF(F74=$M$7,$N$7,0)+IF(F74=$M$8,$N$8,0)+IF(F74=$M$9,$N$9,0)+IF(F74=$M$10,$N$10,0)+IF(F74=$M$11,$N$11,0)+IF(F74=$M$12,$N$12,0)+IF(F74=$M$13,$N$13,0)+IF(F74=$M$14,$N$14,0)+IF(F74=$M$15,$N$15,0))*E74","v":0.46800000000000003}]
[null,null,null,null,4,"2c-#16",{"$f":"(IF(F75=$M$5,$N$5,0)+IF(F75=$M$6,$N$6,0)+IF(F75=$M$7,$N$7,0)+IF(F75=$M$8,$N$8,0)+IF(F75=$M$9,$N$9,0)+IF(F75=$M$10,$N$10,0)+IF(F75=$M$11,$N$11,0)+IF(F75=$M$12,$N$12,0)+IF(F75=$M$13,$N$13,0)+IF(F75=$M$14,$N$14,0)+IF(F75=$M$15,$N$15,0))*E75","v":0.33200000000000002}]
[null,null,null,null,null,"TOTAL",{"$f":"SUM(G73:G75)","v":1.4850000000000001},{"$f":"SUM(H73:H75)","v":2.91},{"$f":"+IF(H76>=G76,\"YES\",\"NO\")","v":"YES"}]
[]
[null,null,"CONDUIT",null,null,null,"CABLE","CONDUIT"]
["CONDUIT RUN",null,"SIZE",null,"CARRIES",null,"AREA","AREA"]
["From","To","#","(in)","#","TYPE","(in2)","(in2)","SUFFICIENT?"]
["PB4","P6",1,3,1,"7c-#16",{"$f":"(IF(F81=$M$5,$N$5,0)+IF(F81=$M$6,$N$6,0)+IF(F81=$M$7,$N$7,0)+IF(F81=$M$8,$N$8,0)+IF(F81=$M$9,$N$9,0)+IF(F81=$M$10,$N$10,0)+IF(F81=$M$11,$N$11,0)+IF(F81=$M$12,$N$12,0)+IF(F81=$M$13,$N$13,0)+IF(F81=$M$14,$N$14,0)+IF(F81=$M$15,$N$15,0))*E81","v":0.13700000000000001},{"$f":"(IF(D81=$O$5,$Q$5,0)+IF(D81=$O$6,$Q$6,0)+IF(D81=$O$7,$Q$7,0)+IF(D81=$O$8,$Q$8,0)+IF(D81=$O$9,$Q$9,0)+IF(D81=$O$10,$Q$10,0)+IF(D81=$O$11,$Q$11,0))*C81","v":2.91}]
[null,null,null,null,1,"5c-#16",{"$f":"(IF(F82=$M$5,$N$5,0)+IF(F82=$M$6,$N$6,0)+IF(F82=$M$7,$N$7,0)+IF(F82=$M$8,$N$8,0)+IF(F82=$M$9,$N$9,0)+IF(F82=$M$10,$N$10,0)+IF(F82=$M$11,$N$11,0)+IF(F82=$M$12,$N$12,0)+IF(F82=$M$13,$N$13,0)+IF(F82=$M$14,$N$14,0)+IF(F82=$M$15,$N$15,0))*E82","v":0.11700000000000001}]
[null,null,null,null,1,"2c-#16",{"$f":"(IF(F83=$M$5,$N$5,0)+IF(F83=$M$6,$N$6,0)+IF(F83=$M$7,$N$7,0)+IF(F83=$M$8,$N$8,0)+IF(F83=$M$9,$N$9,0)+IF(F83=$M$10,$N$10,0)+IF(F83=$M$11,$N$11,0)+IF(F83=$M$12,$N$12,0)+IF(F83=$M$13,$N$13,0)+IF(F83=$M$14,$N$14,0)+IF(F83=$M$15,$N$15,0))*E83","v":8.3000000000000004E-2}]
[null,null,null,null,0,"VIDEO",{"$f":"(IF(F84=$M$5,$N$5,0)+IF(F84=$M$6,$N$6,0)+IF(F84=$M$7,$N$7,0)+IF(F84=$M$8,$N$8,0)+IF(F84=$M$9,$N$9,0)+IF(F84=$M$10,$N$10,0)+IF(F84=$M$11,$N$11,0)+IF(F84=$M$12,$N$12,0)+IF(F84=$M$13,$N$13,0)+IF(F84=$M$14,$N$14,0)+IF(F84=$M$15,$N$15,0))*E84","v":0}]
[null,null,null,null,null,"TOTAL",{"$f":"SUM(G81:G84)","v":0.33700000000000002},{"$f":"SUM(H81:H84)","v":2.91},{"$f":"+IF(H85>=G85,\"YES\",\"NO\")","v":"YES"}]
[]
[null,null,"CONDUIT",null,null,null,"CABLE","CONDUIT"]
["CONDUIT RUN",null,"SIZE",null,"CARRIES",null,"AREA","AREA"]
["From","To","#","(in)","#","TYPE","(in2)","(in2)","SUFFICIENT?"]
["PB4","P7",1,3,2,"7c-#16",{"$f":"(IF(F90=$M$5,$N$5,0)+IF(F90=$M$6,$N$6,0)+IF(F90=$M$7,$N$7,0)+IF(F90=$M$8,$N$8,0)+IF(F90=$M$9,$N$9,0)+IF(F90=$M$10,$N$10,0)+IF(F90=$M$11,$N$11,0)+IF(F90=$M$12,$N$12,0)+IF(F90=$M$13,$N$13,0)+IF(F90=$M$14,$N$14,0)+IF(F90=$M$15,$N$15,0))*E90","v":0.27400000000000002},{"$f":"(IF(D90=$O$5,$Q$5,0)+IF(D90=$O$6,$Q$6,0)+IF(D90=$O$7,$Q$7,0)+IF(D90=$O$8,$Q$8,0)+IF(D90=$O$9,$Q$9,0)+IF(D90=$O$10,$Q$10,0)+IF(D90=$O$11,$Q$11,0))*C90","v":2.91}]
[null,null,null,null,0,"5c-#16",{"$f":"(IF(F91=$M$5,$N$5,0)+IF(F91=$M$6,$N$6,0)+IF(F91=$M$7,$N$7,0)+IF(F91=$M$8,$N$8,0)+IF(F91=$M$9,$N$9,0)+IF(F91=$M$10,$N$10,0)+IF(F91=$M$11,$N$11,0)+IF(F91=$M$12,$N$12,0)+IF(F91=$M$13,$N$13,0)+IF(F91=$M$14,$N$14,0)+IF(F91=$M$15,$N$15,0))*E91","v":0}]
[null,null,null,null,0,"2c-#16",{"$f":"(IF(F92=$M$5,$N$5,0)+IF(F92=$M$6,$N$6,0)+IF(F92=$M$7,$N$7,0)+IF(F92=$M$8,$N$8,0)+IF(F92=$M$9,$N$9,0)+IF(F92=$M$10,$N$10,0)+IF(F92=$M$11,$N$11,0)+IF(F92=$M$12,$N$12,0)+IF(F92=$M$13,$N$13,0)+IF(F92=$M$14,$N$14,0)+IF(F92=$M$15,$N$15,0))*E92","v":0}]
[null,null,null,null,0,"VIDEO",{"$f":"(IF(F93=$M$5,$N$5,0)+IF(F93=$M$6,$N$6,0)+IF(F93=$M$7,$N$7,0)+IF(F93=$M$8,$N$8,0)+IF(F93=$M$9,$N$9,0)+IF(F93=$M$10,$N$10,0)+IF(F93=$M$11,$N$11,0)+IF(F93=$M$12,$N$12,0)+IF(F93=$M$13,$N$13,0)+IF(F93=$M$14,$N$14,0)+IF(F93=$M$15,$N$15,0))*E93","v":0}]
[null,null,null,null,null,"TOTAL",{"$f":"SUM(G90:G93)","v":0.27400000000000002},{"$f":"SUM(H90:H93)","v":2.91},{"$f":"+IF(H94>=G94,\"YES\",\"NO\")","v":"YES"}]
[]
[null,null,"CONDUIT",null,null,null,"CABLE","CONDUIT"]
["CONDUIT RUN",null,"SIZE",null,"CARRIES",null,"AREA","AREA"]
["From","To","#","(in)","#","TYPE","(in2)","(in2)","SUFFICIENT?"]
["PB4","P9",1,3,0,"7c-#16",{"$f":"(IF(F99=$M$5,$N$5,0)+IF(F99=$M$6,$N$6,0)+IF(F99=$M$7,$N$7,0)+IF(F99=$M$8,$N$8,0)+IF(F99=$M$9,$N$9,0)+IF(F99=$M$10,$N$10,0)+IF(F99=$M$11,$N$11,0)+IF(F99=$M$12,$N$12,0)+IF(F99=$M$13,$N$13,0)+IF(F99=$M$14,$N$14,0)+IF(F99=$M$15,$N$15,0))*E99","v":0},{"$f":"(IF(D99=$O$5,$Q$5,0)+IF(D99=$O$6,$Q$6,0)+IF(D99=$O$7,$Q$7,0)+IF(D99=$O$8,$Q$8,0)+IF(D99=$O$9,$Q$9,0)+IF(D99=$O$10,$Q$10,0)+IF(D99=$O$11,$Q$11,0))*C99","v":2.91}]
[null,null,null,null,1,"5c-#16",{"$f":"(IF(F100=$M$5,$N$5,0)+IF(F100=$M$6,$N$6,0)+IF(F100=$M$7,$N$7,0)+IF(F100=$M$8,$N$8,0)+IF(F100=$M$9,$N$9,0)+IF(F100=$M$10,$N$10,0)+IF(F100=$M$11,$N$11,0)+IF(F100=$M$12,$N$12,0)+IF(F100=$M$13,$N$13,0)+IF(F100=$M$14,$N$14,0)+IF(F100=$M$15,$N$15,0))*E100","v":0.11700000000000001}]
[null,null,null,null,1,"2c-#16",{"$f":"(IF(F101=$M$5,$N$5,0)+IF(F101=$M$6,$N$6,0)+IF(F101=$M$7,$N$7,0)+IF(F101=$M$8,$N$8,0)+IF(F101=$M$9,$N$9,0)+IF(F101=$M$10,$N$10,0)+IF(F101=$M$11,$N$11,0)+IF(F101=$M$12,$N$12,0)+IF(F101=$M$13,$N$13,0)+IF(F101=$M$14,$N$14,0)+IF(F101=$M$15,$N$15,0))*E101","v":8.3000000000000004E-2}]
[null,null,null,null,0,"VIDEO",{"$f":"(IF(F102=$M$5,$N$5,0)+IF(F102=$M$6,$N$6,0)+IF(F102=$M$7,$N$7,0)+IF(F102=$M$8,$N$8,0)+IF(F102=$M$9,$N$9,0)+IF(F102=$M$10,$N$10,0)+IF(F102=$M$11,$N$11,0)+IF(F102=$M$12,$N$12,0)+IF(F102=$M$13,$N$13,0)+IF(F102=$M$14,$N$14,0)+IF(F102=$M$15,$N$15,0))*E102","v":0}]
[null,null,null,null,null,"TOTAL",{"$f":"SUM(G99:G102)","v":0.2},{"$f":"SUM(H99:H102)","v":2.91},{"$f":"+IF(H103>=G103,\"YES\",\"NO\")","v":"YES"}]
[]
[null,null,"CONDUIT",null,null,null,"CABLE","CONDUIT"]
["CONDUIT RUN",null,"SIZE",null,"CARRIES",null,"AREA","AREA"]
["From","To","#","(in)","#","TYPE","(in2)","(in2)","SUFFICIENT?"]
["PB4","PB3",1,3,2,"7c-#16",{"$f":"(IF(F108=$M$5,$N$5,0)+IF(F108=$M$6,$N$6,0)+IF(F108=$M$7,$N$7,0)+IF(F108=$M$8,$N$8,0)+IF(F108=$M$9,$N$9,0)+IF(F108=$M$10,$N$10,0)+IF(F108=$M$11,$N$11,0)+IF(F108=$M$12,$N$12,0)+IF(F108=$M$13,$N$13,0)+IF(F108=$M$14,$N$14,0)+IF(F108=$M$15,$N$15,0))*E108","v":0.27400000000000002},{"$f":"(IF(D108=$O$5,$Q$5,0)+IF(D108=$O$6,$Q$6,0)+IF(D108=$O$7,$Q$7,0)+IF(D108=$O$8,$Q$8,0)+IF(D108=$O$9,$Q$9,0)+IF(D108=$O$10,$Q$10,0)+IF(D108=$O$11,$Q$11,0))*C108","v":2.91}]
[null,null,null,null,2,"5c-#16",{"$f":"(IF(F109=$M$5,$N$5,0)+IF(F109=$M$6,$N$6,0)+IF(F109=$M$7,$N$7,0)+IF(F109=$M$8,$N$8,0)+IF(F109=$M$9,$N$9,0)+IF(F109=$M$10,$N$10,0)+IF(F109=$M$11,$N$11,0)+IF(F109=$M$12,$N$12,0)+IF(F109=$M$13,$N$13,0)+IF(F109=$M$14,$N$14,0)+IF(F109=$M$15,$N$15,0))*E109","v":0.23400000000000001}]
[null,null,null,null,2,"2c-#16",{"$f":"(IF(F110=$M$5,$N$5,0)+IF(F110=$M$6,$N$6,0)+IF(F110=$M$7,$N$7,0)+IF(F110=$M$8,$N$8,0)+IF(F110=$M$9,$N$9,0)+IF(F110=$M$10,$N$10,0)+IF(F110=$M$11,$N$11,0)+IF(F110=$M$12,$N$12,0)+IF(F110=$M$13,$N$13,0)+IF(F110=$M$14,$N$14,0)+IF(F110=$M$15,$N$15,0))*E110","v":0.16600000000000001}]
[null,null,null,null,null,"TOTAL",{"$f":"SUM(G108:G110)","v":0.67400000000000004},{"$f":"SUM(H108:H110)","v":2.91},{"$f":"+IF(H111>=G111,\"YES\",\"NO\")","v":"YES"}]
[]
[null,null,"CONDUIT",null,null,null,"CABLE","CONDUIT"]
["CONDUIT RUN",null,"SIZE",null,"CARRIES",null,"AREA","AREA"]
["From","To","#","(in)","#","TYPE","(in2)","(in2)","SUFFICIENT?"]
["PB3","P4",1,3,2,"7c-#16",{"$f":"(IF(F116=$M$5,$N$5,0)+IF(F116=$M$6,$N$6,0)+IF(F116=$M$7,$N$7,0)+IF(F116=$M$8,$N$8,0)+IF(F116=$M$9,$N$9,0)+IF(F116=$M$10,$N$10,0)+IF(F116=$M$11,$N$11,0)+IF(F116=$M$12,$N$12,0)+IF(F116=$M$13,$N$13,0)+IF(F116=$M$14,$N$14,0)+IF(F116=$M$15,$N$15,0))*E116","v":0.27400000000000002},{"$f":"(IF(D116=$O$5,$Q$5,0)+IF(D116=$O$6,$Q$6,0)+IF(D116=$O$7,$Q$7,0)+IF(D116=$O$8,$Q$8,0)+IF(D116=$O$9,$Q$9,0)+IF(D116=$O$10,$Q$10,0)+IF(D116=$O$11,$Q$11,0))*C116","v":2.91}]
[null,null,null,null,1,"5c-#16",{"$f":"(IF(F117=$M$5,$N$5,0)+IF(F117=$M$6,$N$6,0)+IF(F117=$M$7,$N$7,0)+IF(F117=$M$8,$N$8,0)+IF(F117=$M$9,$N$9,0)+IF(F117=$M$10,$N$10,0)+IF(F117=$M$11,$N$11,0)+IF(F117=$M$12,$N$12,0)+IF(F117=$M$13,$N$13,0)+IF(F117=$M$14,$N$14,0)+IF(F117=$M$15,$N$15,0))*E117","v":0.11700000000000001}]
[null,null,null,null,1,"2c-#16",{"$f":"(IF(F118=$M$5,$N$5,0)+IF(F118=$M$6,$N$6,0)+IF(F118=$M$7,$N$7,0)+IF(F118=$M$8,$N$8,0)+IF(F118=$M$9,$N$9,0)+IF(F118=$M$10,$N$10,0)+IF(F118=$M$11,$N$11,0)+IF(F118=$M$12,$N$12,0)+IF(F118=$M$13,$N$13,0)+IF(F118=$M$14,$N$14,0)+IF(F118=$M$15,$N$15,0))*E118","v":8.3000000000000004E-2}]
[null,null,null,null,null,"TOTAL",{"$f":"SUM(G116:G118)","v":0.47400000000000003},{"$f":"SUM(H116:H118)","v":2.91},{"$f":"+IF(H119>=G119,\"YES\",\"NO\")","v":"YES"}]
[]
[null,null,"CONDUIT",null,null,null,"CABLE","CONDUIT"]
["CONDUIT RUN",null,"SIZE",null,"CARRIES",null,"AREA","AREA"]
["From","To","#","(in)","#","TYPE","(in2)","(in2)","SUFFICIENT?"]
["PB3","P5",1,3,0,"7c-#16",{"$f":"(IF(F124=$M$5,$N$5,0)+IF(F124=$M$6,$N$6,0)+IF(F124=$M$7,$N$7,0)+IF(F124=$M$8,$N$8,0)+IF(F124=$M$9,$N$9,0)+IF(F124=$M$10,$N$10,0)+IF(F124=$M$11,$N$11,0)+IF(F124=$M$12,$N$12,0)+IF(F124=$M$13,$N$13,0)+IF(F124=$M$14,$N$14,0)+IF(F124=$M$15,$N$15,0))*E124","v":0},{"$f":"(IF(D124=$O$5,$Q$5,0)+IF(D124=$O$6,$Q$6,0)+IF(D124=$O$7,$Q$7,0)+IF(D124=$O$8,$Q$8,0)+IF(D124=$O$9,$Q$9,0)+IF(D124=$O$10,$Q$10,0)+IF(D124=$O$11,$Q$11,0))*C124","v":2.91}]
[null,null,null,null,1,"5c-#16",{"$f":"(IF(F125=$M$5,$N$5,0)+IF(F125=$M$6,$N$6,0)+IF(F125=$M$7,$N$7,0)+IF(F125=$M$8,$N$8,0)+IF(F125=$M$9,$N$9,0)+IF(F125=$M$10,$N$10,0)+IF(F125=$M$11,$N$11,0)+IF(F125=$M$12,$N$12,0)+IF(F125=$M$13,$N$13,0)+IF(F125=$M$14,$N$14,0)+IF(F125=$M$15,$N$15,0))*E125","v":0.11700000000000001}]
[null,null,null,null,1,"2c-#16",{"$f":"(IF(F126=$M$5,$N$5,0)+IF(F126=$M$6,$N$6,0)+IF(F126=$M$7,$N$7,0)+IF(F126=$M$8,$N$8,0)+IF(F126=$M$9,$N$9,0)+IF(F126=$M$10,$N$10,0)+IF(F126=$M$11,$N$11,0)+IF(F126=$M$12,$N$12,0)+IF(F126=$M$13,$N$13,0)+IF(F126=$M$14,$N$14,0)+IF(F126=$M$15,$N$15,0))*E126","v":8.3000000000000004E-2}]
[null,null,null,null,null,"TOTAL",{"$f":"SUM(G124:G126)","v":0.2},{"$f":"SUM(H124:H126)","v":2.91},{"$f":"+IF(H127>=G127,\"YES\",\"NO\")","v":"YES"}]

{"sheet":"REV D37B","index":10,"n_rows":68,"n_cols":34,"rows_kept":68,"cut":false,"hidden":false,"merged":[[8,21,9,21],[8,22,9,22],[6,27,6,28],[4,21,4,22],[5,21,5,22],[6,21,6,22],[4,23,4,26],[5,23,5,26],[6,23,6,26],[5,29,5,30],[3,1,3,17],[3,18,3,32],[4,27,4,28],[5,27,5,28]]}
[null,1.1000000000000001,1.1000000000000001,0.9,0.54210000000000003,0.5,0.5,0.5,0.5,0.5,0.5,0.5,0.5,0.5,0.5,0.5,0.5,3.25,1.1000000000000001,1.1000000000000001,0.9,0.5,0.5,0.75,0.75,0.75,0.75,1.25,1.25,1,1,1.5,3.25,{"$f":"SUM(B1:AG1)","v":29.242100000000001}]
[]
[]
[0.5,"CONDUIT",null,null,null,null,null,null,null,null,null,null,null,null,null,null,null,null,"CABLE"]
[0.25,null,null,null,"LOOP",null,null,null,null,null,null,null,null,null,null,"ON"]
[0.25,null,null,null,"DETECT",null,"TRENCHED",null,null,"PUSHED",null,null,"MEDIAN",null,null,"STRUCTURE",null,null,null,null,null,"POWER",null,"CONTROL",null,null,null,"LIGHTING",null,"DETECTOR",null,"FIBER"]
[0.18756]
[0.18756,"FROM","TO","CTR TO CTR DIST.",null,null,null,null,null,null,null,null,null,null,null,null,null,"REMARKS","FROM","TO","CTR TO CTR DIST.",null,null,null,null,null,null,"CONTROL","POLE &",null,null,null,"REMARKS"]
[0.18756,null,null,null,"1\"","2\"","3\"","4\"","2\"","3\"","4\"","2\"","3\"","4\"","2\"","3\"","4\"",null,null,null,null,"1c-#2","1c-#8",null,null,null,null,null,"BRACKET","1c-#14","2c-#14","24 FIBER"]
[0.18756,null,null,null,null,null,null,null,null,null,null,null,null,null,null,null,null,null,null,null,null,null,null,"2c-#16","5c-#16","7c-#16","12c-#12","2c-#12","1c-#10","IN DUCT","LEAD IN","SINGLEMODE"]
[0.18756]
[0.3,{"$f":"IF('CONDUIT LENGTH'!A5>0,'CONDUIT LENGTH'!A5,\" \")","v":" "},{"$f":"IF('CONDUIT LENGTH'!B5>0,'CONDUIT LENGTH'!B5,\" \")","v":" "},{"$f":"IF('CONDUIT LENGTH'!C5>0,'CONDUIT LENGTH'!C5,\" \")","v":" "},{"$f":"IF($B12=\"SOURCE\",IF(LEFT(E$5,1)='CONDUIT LENGTH'!$M5,IF(E$9='CONDUIT LENGTH'!$L5,'CONDUIT LENGTH'!$K5*-1,IF(AND(E$9=RIGHT('CONDUIT LENGTH'!$L5,2),LEFT('CONDUIT LENGTH'!$L5,3)=\"2x3\")=TRUE,IF(LEFT('CONDUIT LENGTH'!$L5,2)=\"2x\",'CONDUIT LENGTH'!$K5*-1*2,\"\"),\"\")),\"\"),IF(LEFT(E$5,1)='CONDUIT LENGTH'!$M5,IF(E$9='CONDUIT LENGTH'!$L5,'CONDUIT LENGTH'!$K5,IF(AND(E$9=RIGHT('CONDUIT LENGTH'!$L5,2),LEFT('CONDUIT LENGTH'!$L5,3)=\"2x3\")=TRUE,IF(LEFT('CONDUIT LENGTH'!$L5,2)=\"2x\",'CONDUIT LENGTH'!$K5*2,\"\"),\"\")),\"\"))","v":""},{"$f":"IF($B12=\"SOURCE\",IF(LEFT(G$6,1)='CONDUIT LENGTH'!$M5,IF(F$9='CONDUIT LENGTH'!$L5,'CONDUIT LENGTH'!$K5*-1,IF(AND(F$9=RIGHT('CONDUIT LENGTH'!$L5,2),LEFT('CONDUIT LENGTH'!$L5,3)=\"2x3\")=TRUE,IF(LEFT('CONDUIT LENGTH'!$L5,2)=\"2x\",'CONDUIT LENGTH'!$K5*-1*2,\"\"),\"\")),\"\"),IF(LEFT(G$6,1)='CONDUIT LENGTH'!$M5,IF(F$9='CONDUIT LENGTH'!$L5,'CONDUIT LENGTH'!$K5,IF(AND(F$9=RIGHT('CONDUIT LENGTH'!$L5,2),LEFT('CONDUIT LENGTH'!$L5,3)=\"2x3\")=TRUE,IF(LEFT('CONDUIT LENGTH'!$L5,2)=\"2x\",'CONDUIT LENGTH'!$K5*2,\"\"),\"\")),\"\"))","v":""},{"$f":"IF($B12=\"SOURCE\",IF(LEFT(G$6,1)='CONDUIT LENGTH'!$M5,IF(G$9='CONDUIT LENGTH'!$L5,'CONDUIT LENGTH'!$K5*-1,IF(AND(G$9=RIGHT('CONDUIT LENGTH'!$L5,2),LEFT('CONDUIT LENGTH'!$L5,3)=\"2x3\")=TRUE,IF(LEFT('CONDUIT LENGTH'!$L5,2)=\"2x\",'CONDUIT LENGTH'!$K5*-1*2,\"\"),\"\")),\"\"),IF(LEFT(G$6,1)='CONDUIT LENGTH'!$M5,IF(G$9='CONDUIT LENGTH'!$L5,'CONDUIT LENGTH'!$K5,IF(AND(G$9=RIGHT('CONDUIT LENGTH'!$L5,2),LEFT('CONDUIT LENGTH'!$L5,3)=\"2x3\")=TRUE,IF(LEFT('CONDUIT LENGTH'!$L5,2)=\"2x\",'CONDUIT LENGTH'!$K5*2,\"\"),\"\")),\"\"))","v":""},{"$f":"IF($B12=\"SOURCE\",IF(LEFT(G$6,1)='CONDUIT LENGTH'!$M5,IF(H$9='CONDUIT LENGTH'!$L5,'CONDUIT LENGTH'!$K5*-1,IF(AND(H$9=RIGHT('CONDUIT LENGTH'!$L5,2),LEFT('CONDUIT LENGTH'!$L5,3)=\"2x3\")=TRUE,IF(LEFT('CONDUIT LENGTH'!$L5,2)=\"2x\",'CONDUIT LENGTH'!$K5*-1*2,\"\"),\"\")),\"\"),IF(LEFT(G$6,1)='CONDUIT LENGTH'!$M5,IF(H$9='CONDUIT LENGTH'!$L5,'CONDUIT LENGTH'!$K5,IF(AND(H$9=RIGHT('CONDUIT LENGTH'!$L5,2),LEFT('CONDUIT LENGTH'!$L5,3)=\"2x3\")=TRUE,IF(LEFT('CONDUIT LENGTH'!$L5,2)=\"2x\",'CONDUIT LENGTH'!$K5*2,\"\"),\"\")),\"\"))","v":""},{"$f":"IF($B12=\"SOURCE\",IF(LEFT(J$6,1)='CONDUIT LENGTH'!$M5,IF(I$9='CONDUIT LENGTH'!$L5,'CONDUIT LENGTH'!$K5*-1,IF(AND(I$9=RIGHT('CONDUIT LENGTH'!$L5,2),LEFT('CONDUIT LENGTH'!$L5,3)=\"2x3\")=TRUE,IF(LEFT('CONDUIT LENGTH'!$L5,2)=\"2x\",'CONDUIT LENGTH'!$K5*-1*2,\"\"),\"\")),\"\"),IF(LEFT(J$6,1)='CONDUIT LENGTH'!$M5,IF(I$9='CONDUIT LENGTH'!$L5,'CONDUIT LENGTH'!$K5,IF(AND(I$9=RIGHT('CONDUIT LENGTH'!$L5,2),LEFT('CONDUIT LENGTH'!$L5,3)=\"2x3\")=TRUE,IF(LEFT('CONDUIT LENGTH'!$L5,2)=\"2x\",'CONDUIT LENGTH'!$K5*2,\"\"),\"\")),\"\"))","v":""},{"$f":"IF($B12=\"SOURCE\",IF(LEFT(J$6,1)='CONDUIT LENGTH'!$M5,IF(J$9='CONDUIT LENGTH'!$L5,'CONDUIT LENGTH'!$K5*-1,IF(AND(J$9=RIGHT('CONDUIT LENGTH'!$L5,2),LEFT('CONDUIT LENGTH'!$L5,3)=\"2x3\")=TRUE,IF(LEFT('CONDUIT LENGTH'!$L5,2)=\"2x\",'CONDUIT LENGTH'!$K5*-1*2,\"\"),\"\")),\"\"),IF(LEFT(J$6,1)='CONDUIT LENGTH'!$M5,IF(J$9='CONDUIT LENGTH'!$L5,'CONDUIT LENGTH'!$K5,IF(AND(J$9=RIGHT('CONDUIT LENGTH'!$L5,2),LEFT('CONDUIT LENGTH'!$L5,3)=\"2x3\")=TRUE,IF(LEFT('CONDUIT LENGTH'!$L5,2)=\"2x\",'CONDUIT LENGTH'!$K5*2,\"\"),\"\")),\"\"))","v":""},{"$f":"IF($B12=\"SOURCE\",IF(LEFT(J$6,1)='CONDUIT LENGTH'!$M5,IF(K$9='CONDUIT LENGTH'!$L5,'CONDUIT LENGTH'!$K5*-1,IF(AND(K$9=RIGHT('CONDUIT LENGTH'!$L5,2),LEFT('CONDUIT LENGTH'!$L5,3)=\"2x3\")=TRUE,IF(LEFT('CONDUIT LENGTH'!$L5,2)=\"2x\",'CONDUIT LENGTH'!$K5*-1*2,\"\"),\"\")),\"\"),IF(LEFT(J$6,1)='CONDUIT LENGTH'!$M5,IF(K$9='CONDUIT LENGTH'!$L5,'CONDUIT LENGTH'!$K5,IF(AND(K$9=RIGHT('CONDUIT LENGTH'!$L5,2),LEFT('CONDUIT LENGTH'!$L5,3)=\"2x3\")=TRUE,IF(LEFT('CONDUIT LENGTH'!$L5,2)=\"2x\",'CONDUIT LENGTH'!$K5*2,\"\"),\"\")),\"\"))","v":""},{"$f":"IF($B12=\"SOURCE\",IF(LEFT(M$6,1)='CONDUIT LENGTH'!$M5,IF(L$9='CONDUIT LENGTH'!$L5,'CONDUIT LENGTH'!$K5*-1,IF(AND(L$9=RIGHT('CONDUIT LENGTH'!$L5,2),LEFT('CONDUIT LENGTH'!$L5,3)=\"2x3\")=TRUE,IF(LEFT('CONDUIT LENGTH'!$L5,2)=\"2x\",'CONDUIT LENGTH'!$K5*-1*2,\"\"),\"\")),\"\"),IF(LEFT(M$6,1)='CONDUIT LENGTH'!$M5,IF(L$9='CONDUIT LENGTH'!$L5,'CONDUIT LENGTH'!$K5,IF(AND(L$9=RIGHT('CONDUIT LENGTH'!$L5,2),LEFT('CONDUIT LENGTH'!$L5,3)=\"2x3\")=TRUE,IF(LEFT('CONDUIT LENGTH'!$L5,2)=\"2x\",'CONDUIT LENGTH'!$K5*2,\"\"),\"\")),\"\"))","v":""},{"$f":"IF($B12=\"SOURCE\",IF(LEFT(M$6,1)='CONDUIT LENGTH'!$M5,IF(M$9='CONDUIT LENGTH'!$L5,'CONDUIT LENGTH'!$K5*-1,IF(AND(M$9=RIGHT('CONDUIT LENGTH'!$L5,2),LEFT('CONDUIT LENGTH'!$L5,3)=\"2x3\")=TRUE,IF(LEFT('CONDUIT LENGTH'!$L5,2)=\"2x\",'CONDUIT LENGTH'!$K5*-1*2,\"\"),\"\")),\"\"),IF(LEFT(M$6,1)='CONDUIT LENGTH'!$M5,IF(M$9='CONDUIT LENGTH'!$L5,'CONDUIT LENGTH'!$K5,IF(AND(M$9=RIGHT('CONDUIT LENGTH'!$L5,2),LEFT('CONDUIT LENGTH'!$L5,3)=\"2x3\")=TRUE,IF(LEFT('CONDUIT LENGTH'!$L5,2)=\"2x\",'CONDUIT LENGTH'!$K5*2,\"\"),\"\")),\"\"))","v":""},{"$f":"IF($B12=\"SOURCE\",IF(LEFT(M$6,1)='CONDUIT LENGTH'!$M5,IF(N$9='CONDUIT LENGTH'!$L5,'CONDUIT LENGTH'!$K5*-1,IF(AND(N$9=RIGHT('CONDUIT LENGTH'!$L5,2),LEFT('CONDUIT LENGTH'!$L5,3)=\"2x3\")=TRUE,IF(LEFT('CONDUIT LENGTH'!$L5,2)=\"2x\",'CONDUIT LENGTH'!$K5*-1*2,\"\"),\"\")),\"\"),IF(LEFT(M$6,1)='CONDUIT LENGTH'!$M5,IF(N$9='CONDUIT LENGTH'!$L5,'CONDUIT LENGTH'!$K5,IF(AND(N$9=RIGHT('CONDUIT LENGTH'!$L5,2),LEFT('CONDUIT LENGTH'!$L5,3)=\"2x3\")=TRUE,IF(LEFT('CONDUIT LENGTH'!$L5,2)=\"2x\",'CONDUIT LENGTH'!$K5*2,\"\"),\"\")),\"\"))","v":""},{"$f":"IF($B12=\"SOURCE\",IF(LEFT(P$5,1)='CONDUIT LENGTH'!$M5,IF(O$9='CONDUIT LENGTH'!$L5,'CONDUIT LENGTH'!$K5*-1,IF(AND(O$9=RIGHT('CONDUIT LENGTH'!$L5,2),LEFT('CONDUIT LENGTH'!$L5,3)=\"2x3\")=TRUE,IF(LEFT('CONDUIT LENGTH'!$L5,2)=\"2x\",'CONDUIT LENGTH'!$K5*-1*2,\"\"),\"\")),\"\"),IF(LEFT(P$6,1)='CONDUIT LENGTH'!$M5,IF(O$9='CONDUIT LENGTH'!$L5,'CONDUIT LENGTH'!$K5,IF(AND(O$9=RIGHT('CONDUIT LENGTH'!$L5,2),LEFT('CONDUIT LENGTH'!$L5,3)=\"2x3\")=TRUE,IF(LEFT('CONDUIT LENGTH'!$L5,2)=\"2x\",'CONDUIT LENGTH'!$K5*2,\"\"),\"\")),\"\"))","v":""},{"$f":"IF($B12=\"SOURCE\",IF(LEFT(P$5,1)='CONDUIT LENGTH'!$M5,IF(P$9='CONDUIT LENGTH'!$L5,'CONDUIT LENGTH'!$K5*-1,IF(AND(P$9=RIGHT('CONDUIT LENGTH'!$L5,2),LEFT('CONDUIT LENGTH'!$L5,3)=\"2x3\")=TRUE,IF(LEFT('CONDUIT LENGTH'!$L5,2)=\"2x\",'CONDUIT LENGTH'!$K5*-1*2,\"\"),\"\")),\"\"),IF(LEFT(P$6,1)='CONDUIT LENGTH'!$M5,IF(P$9='CONDUIT LENGTH'!$L5,'CONDUIT LENGTH'!$K5,IF(AND(P$9=RIGHT('CONDUIT LENGTH'!$L5,2),LEFT('CONDUIT LENGTH'!$L5,3)=\"2x3\")=TRUE,IF(LEFT('CONDUIT LENGTH'!$L5,2)=\"2x\",'CONDUIT LENGTH'!$K5*2,\"\"),\"\")),\"\"))","v":""},{"$f":"IF($B12=\"SOURCE\",IF(LEFT(P$5,1)='CONDUIT LENGTH'!$M5,IF(Q$9='CONDUIT LENGTH'!$L5,'CONDUIT LENGTH'!$K5*-1,IF(AND(Q$9=RIGHT('CONDUIT LENGTH'!$L5,2),LEFT('CONDUIT LENGTH'!$L5,3)=\"2x3\")=TRUE,IF(LEFT('CONDUIT LENGTH'!$L5,2)=\"2x\",'CONDUIT LENGTH'!$K5*-1*2,\"\"),\"\")),\"\"),IF(LEFT(Q$6,1)='CONDUIT LENGTH'!$M5,IF(Q$9='CONDUIT LENGTH'!$L5,'CONDUIT LENGTH'!$K5,IF(AND(Q$9=RIGHT('CONDUIT LENGTH'!$L5,2),LEFT('CONDUIT LENGTH'!$L5,3)=\"2x3\")=TRUE,IF(LEFT('CONDUIT LENGTH'!$L5,2)=\"2x\",'CONDUIT LENGTH'!$K5*2,\"\"),\"\")),\"\"))","v":""},"INCLUDED IN COST OF PS",{"$f":"IF('CABLE LENGTH'!A6>0,'CABLE LENGTH'!A6,\"\")","v":""},{"$f":"IF('CABLE LENGTH'!B6>0,'CABLE LENGTH'!B6,\"\")","v":""},{"$f":"IF('CABLE LENGTH'!Q6>0,'CABLE LENGTH'!Q6,\"\")","v":""},{"$f":"IF($S12=\"SOURCE\",IF(V$9='CABLE LENGTH'!$AK6,'CABLE LENGTH'!$AJ6*'CABLE LENGTH'!$AL6*-1,\"\"),IF(V$9=\"VIDEO\",IF(V$9='CABLE LENGTH'!$AK6,'CABLE LENGTH'!$AJ6*'CABLE LENGTH'!$AL6*-1,\"\"),IF(V$9='CABLE LENGTH'!$AK6,'CABLE LENGTH'!$AJ6*'CABLE LENGTH'!$AL6,\"\")))","v":""},{"$f":"IF($S12=\"SOURCE\",IF(W$9='CABLE LENGTH'!$AK6,'CABLE LENGTH'!$AJ6*'CABLE LENGTH'!$AL6*-1,\"\"),IF(W$9=\"VIDEO\",IF(W$9='CABLE LENGTH'!$AK6,'CABLE LENGTH'!$AJ6*'CABLE LENGTH'!$AL6*-1,\"\"),IF(W$9='CABLE LENGTH'!$AK6,'CABLE LENGTH'!$AJ6*'CABLE LENGTH'!$AL6,\"\")))","v":""},{"$f":"IF($S12=\"SOURCE\",IF(X$10='CABLE LENGTH'!$AK6,'CABLE LENGTH'!$AJ6*'CABLE LENGTH'!$AL6*-1,\"\"),IF(X$10=\"VIDEO\",IF(X$10='CABLE LENGTH'!$AK6,'CABLE LENGTH'!$AJ6*'CABLE LENGTH'!$AL6*-1,\"\"),IF(X$10='CABLE LENGTH'!$AK6,'CABLE LENGTH'!$AJ6*'CABLE LENGTH'!$AL6,\"\")))","v":""},{"$f":"IF($S12=\"SOURCE\",IF(Y$10='CABLE LENGTH'!$AK6,'CABLE LENGTH'!$AJ6*'CABLE LENGTH'!$AL6*-1,\"\"),IF(Y$10=\"VIDEO\",IF(Y$10='CABLE LENGTH'!$AK6,'CABLE LENGTH'!$AJ6*'CABLE LENGTH'!$AL6*-1,\"\"),IF(Y$10='CABLE LENGTH'!$AK6,'CABLE LENGTH'!$AJ6*'CABLE LENGTH'!$AL6,\"\")))","v":""},{"$f":"IF($S12=\"SOURCE\",IF(Z$10='CABLE LENGTH'!$AK6,'CABLE LENGTH'!$AJ6*'CABLE LENGTH'!$AL6*-1,\"\"),IF(Z$10=\"VIDEO\",IF(Z$10='CABLE LENGTH'!$AK6,'CABLE LENGTH'!$AJ6*'CABLE LENGTH'!$AL6*-1,\"\"),IF(Z$10='CABLE LENGTH'!$AK6,'CABLE LENGTH'!$AJ6*'CABLE LENGTH'!$AL6,\"\")))","v":""},{"$f":"IF($S12=\"SOURCE\",IF(AA$10='CABLE LENGTH'!$AK6,'CABLE LENGTH'!$AJ6*'CABLE LENGTH'!$AL6*-1,\"\"),IF(AA$10=\"VIDEO\",IF(AA$10='CABLE LENGTH'!$AK6,'CABLE LENGTH'!$AJ6*'CABLE LENGTH'!$AL6*-1,\"\"),IF(AA$10='CABLE LENGTH'!$AK6,'CABLE LENGTH'!$AJ6*'CABLE LENGTH'!$AL6,\"\")))","v":""},{"$f":"IF($S12=\"SOURCE\",IF(AB$10='CABLE LENGTH'!$AK6,'CABLE LENGTH'!$AJ6*'CABLE LENGTH'!$AL6*-1,\"\"),IF(AB$10=\"VIDEO\",IF(AB$10='CABLE LENGTH'!$AK6,'CABLE LENGTH'!$AJ6*'CABLE LENGTH'!$AL6*-1,\"\"),IF(AB$10='CABLE LENGTH'!$AK6,'CABLE LENGTH'!$AJ6*'CABLE LENGTH'!$AL6,\"\")))","v":""},{"$f":"IF($S12=\"SOURCE\",IF(AC$10='CABLE LENGTH'!$AK6,'CABLE LENGTH'!$AJ6*'CABLE LENGTH'!$AL6*-1,\"\"),IF(AC$10=\"VIDEO\",IF(AC$10='CABLE LENGTH'!$AK6,'CABLE LENGTH'!$AJ6*'CABLE LENGTH'!$AL6*-1,\"\"),IF(AC$10='CABLE LENGTH'!$AK6,'CABLE LENGTH'!$AJ6*'CABLE LENGTH'!$AL6,\"\")))","v":""},{"$f":"IF($S12=\"SOURCE\",IF(AD$9='CABLE LENGTH'!$AK6,'CABLE LENGTH'!$AJ6*'CABLE LENGTH'!$AL6*-1,\"\"),IF(AD$9=\"VIDEO\",IF(AD$9='CABLE LENGTH'!$AK6,'CABLE LENGTH'!$AJ6*'CABLE LENGTH'!$AL6*-1,\"\"),IF(AD$9='CABLE LENGTH'!$AK6,'CABLE LENGTH'!$AJ6*'CABLE LENGTH'!$AL6,\"\")))","v":""},{"$f":"IF($S12=\"SOURCE\",IF(AE$9='CABLE LENGTH'!$AK6,'CABLE LENGTH'!$AJ6*'CABLE LENGTH'!$AL6*-1,\"\"),IF(AE$9=\"VIDEO\",IF(AE$9='CABLE LENGTH'!$AK6,'CABLE LENGTH'!$AJ6*'CABLE LENGTH'!$AL6*-1,\"\"),IF(AE$9='CABLE LENGTH'!$AK6,'CABLE LENGTH'!$AJ6*'CABLE LENGTH'!$AL6,\"\")))","v":""},{"$f":"IF($S12=\"SOURCE\",IF(AF$9='CABLE LENGTH'!$AK6,'CABLE LENGTH'!$AJ6*'CABLE LENGTH'!$AL6*-1,\"\"),IF(AF$9=\"VIDEO\",IF(AF$9='CABLE LENGTH'!$AK6,'CABLE LENGTH'!$AJ6*'CABLE LENGTH'!$AL6*-1,\"\"),IF(AF$9='CABLE LENGTH'!$AK6,'CABLE LENGTH'!$AJ6*'CABLE LENGTH'!$AL6,\"\")))","v":""},"3x52' INCLUDED IN COST OF PS"]
[0.3,{"$f":"IF('CONDUIT LENGTH'!A6>0,'CONDUIT LENGTH'!A6,\" \")","v":" "},{"$f":"IF('CONDUIT LENGTH'!B6>0,'CONDUIT LENGTH'!B6,\" \")","v":" "},{"$f":"IF('CONDUIT LENGTH'!C6>0,'CONDUIT LENGTH'!C6,\" \")","v":" "},{"$f":"IF($B13=\"SOURCE\",IF(LEFT(E$5,1)='CONDUIT LENGTH'!$M6,IF(E$9='CONDUIT LENGTH'!$L6,'CONDUIT LENGTH'!$K6*-1,IF(AND(E$9=RIGHT('CONDUIT LENGTH'!$L6,2),LEFT('CONDUIT LENGTH'!$L6,3)=\"2x3\")=TRUE,IF(LEFT('CONDUIT LENGTH'!$L6,2)=\"2x\",'CONDUIT LENGTH'!$K6*-1*2,\"\"),\"\")),\"\"),IF(LEFT(E$5,1)='CONDUIT LENGTH'!$M6,IF(E$9='CONDUIT LENGTH'!$L6,'CONDUIT LENGTH'!$K6,IF(AND(E$9=RIGHT('CONDUIT LENGTH'!$L6,2),LEFT('CONDUIT LENGTH'!$L6,3)=\"2x3\")=TRUE,IF(LEFT('CONDUIT LENGTH'!$L6,2)=\"2x\",'CONDUIT LENGTH'!$K6*2,\"\"),\"\")),\"\"))","v":""},{"$f":"IF($B13=\"SOURCE\",IF(LEFT(G$6,1)='CONDUIT LENGTH'!$M6,IF(F$9='CONDUIT LENGTH'!$L6,'CONDUIT LENGTH'!$K6*-1,IF(AND(F$9=RIGHT('CONDUIT LENGTH'!$L6,2),LEFT('CONDUIT LENGTH'!$L6,3)=\"2x3\")=TRUE,IF(LEFT('CONDUIT LENGTH'!$L6,2)=\"2x\",'CONDUIT LENGTH'!$K6*-1*2,\"\"),\"\")),\"\"),IF(LEFT(G$6,1)='CONDUIT LENGTH'!$M6,IF(F$9='CONDUIT LENGTH'!$L6,'CONDUIT LENGTH'!$K6,IF(AND(F$9=RIGHT('CONDUIT LENGTH'!$L6,2),LEFT('CONDUIT LENGTH'!$L6,3)=\"2x3\")=TRUE,IF(LEFT('CONDUIT LENGTH'!$L6,2)=\"2x\",'CONDUIT LENGTH'!$K6*2,\"\"),\"\")),\"\"))","v":""},{"$f":"IF($B13=\"SOURCE\",IF(LEFT(G$6,1)='CONDUIT LENGTH'!$M6,IF(G$9='CONDUIT LENGTH'!$L6,'CONDUIT LENGTH'!$K6*-1,IF(AND(G$9=RIGHT('CONDUIT LENGTH'!$L6,2),LEFT('CONDUIT LENGTH'!$L6,3)=\"2x3\")=TRUE,IF(LEFT('CONDUIT LENGTH'!$L6,2)=\"2x\",'CONDUIT LENGTH'!$K6*-1*2,\"\"),\"\")),\"\"),IF(LEFT(G$6,1)='CONDUIT LENGTH'!$M6,IF(G$9='CONDUIT LENGTH'!$L6,'CONDUIT LENGTH'!$K6,IF(AND(G$9=RIGHT('CONDUIT LENGTH'!$L6,2),LEFT('CONDUIT LENGTH'!$L6,3)=\"2x3\")=TRUE,IF(LEFT('CONDUIT LENGTH'!$L6,2)=\"2x\",'CONDUIT LENGTH'!$K6*2,\"\"),\"\")),\"\"))","v":""},{"$f":"IF($B13=\"SOURCE\",IF(LEFT(G$6,1)='CONDUIT LENGTH'!$M6,IF(H$9='CONDUIT LENGTH'!$L6,'CONDUIT LENGTH'!$K6*-1,IF(AND(H$9=RIGHT('CONDUIT LENGTH'!$L6,2),LEFT('CONDUIT LENGTH'!$L6,3)=\"2x3\")=TRUE,IF(LEFT('CONDUIT LENGTH'!$L6,2)=\"2x\",'CONDUIT LENGTH'!$K6*-1*2,\"\"),\"\")),\"\"),IF(LEFT(G$6,1)='CONDUIT LENGTH'!$M6,IF(H$9='CONDUIT LENGTH'!$L6,'CONDUIT LENGTH'!$K6,IF(AND(H$9=RIGHT('CONDUIT LENGTH'!$L6,2),LEFT('CONDUIT LENGTH'!$L6,3)=\"2x3\")=TRUE,IF(LEFT('CONDUIT LENGTH'!$L6,2)=\"2x\",'CONDUIT LENGTH'!$K6*2,\"\"),\"\")),\"\"))","v":""},{"$f":"IF($B13=\"SOURCE\",IF(LEFT(J$6,1)='CONDUIT LENGTH'!$M6,IF(I$9='CONDUIT LENGTH'!$L6,'CONDUIT LENGTH'!$K6*-1,IF(AND(I$9=RIGHT('CONDUIT LENGTH'!$L6,2),LEFT('CONDUIT LENGTH'!$L6,3)=\"2x3\")=TRUE,IF(LEFT('CONDUIT LENGTH'!$L6,2)=\"2x\",'CONDUIT LENGTH'!$K6*-1*2,\"\"),\"\")),\"\"),IF(LEFT(J$6,1)='CONDUIT LENGTH'!$M6,IF(I$9='CONDUIT LENGTH'!$L6,'CONDUIT LENGTH'!$K6,IF(AND(I$9=RIGHT('CONDUIT LENGTH'!$L6,2),LEFT('CONDUIT LENGTH'!$L6,3)=\"2x3\")=TRUE,IF(LEFT('CONDUIT LENGTH'!$L6,2)=\"2x\",'CONDUIT LENGTH'!$K6*2,\"\"),\"\")),\"\"))","v":""},{"$f":"IF($B13=\"SOURCE\",IF(LEFT(J$6,1)='CONDUIT LENGTH'!$M6,IF(J$9='CONDUIT LENGTH'!$L6,'CONDUIT LENGTH'!$K6*-1,IF(AND(J$9=RIGHT('CONDUIT LENGTH'!$L6,2),LEFT('CONDUIT LENGTH'!$L6,3)=\"2x3\")=TRUE,IF(LEFT('CONDUIT LENGTH'!$L6,2)=\"2x\",'CONDUIT LENGTH'!$K6*-1*2,\"\"),\"\")),\"\"),IF(LEFT(J$6,1)='CONDUIT LENGTH'!$M6,IF(J$9='CONDUIT LENGTH'!$L6,'CONDUIT LENGTH'!$K6,IF(AND(J$9=RIGHT('CONDUIT LENGTH'!$L6,2),LEFT('CONDUIT LENGTH'!$L6,3)=\"2x3\")=TRUE,IF(LEFT('CONDUIT LENGTH'!$L6,2)=\"2x\",'CONDUIT LENGTH'!$K6*2,\"\"),\"\")),\"\"))","v":""},{"$f":"IF($B13=\"SOURCE\",IF(LEFT(J$6,1)='CONDUIT LENGTH'!$M6,IF(K$9='CONDUIT LENGTH'!$L6,'CONDUIT LENGTH'!$K6*-1,IF(AND(K$9=RIGHT('CONDUIT LENGTH'!$L6,2),LEFT('CONDUIT LENGTH'!$L6,3)=\"2x3\")=TRUE,IF(LEFT('CONDUIT LENGTH'!$L6,2)=\"2x\",'CONDUIT LENGTH'!$K6*-1*2,\"\"),\"\")),\"\"),IF(LEFT(J$6,1)='CONDUIT LENGTH'!$M6,IF(K$9='CONDUIT LENGTH'!$L6,'CONDUIT LENGTH'!$K6,IF(AND(K$9=RIGHT('CONDUIT LENGTH'!$L6,2),LEFT('CONDUIT LENGTH'!$L6,3)=\"2x3\")=TRUE,IF(LEFT('CONDUIT LENGTH'!$L6,2)=\"2x\",'CONDUIT LENGTH'!$K6*2,\"\"),\"\")),\"\"))","v":""},{"$f":"IF($B13=\"SOURCE\",IF(LEFT(M$6,1)='CONDUIT LENGTH'!$M6,IF(L$9='CONDUIT LENGTH'!$L6,'CONDUIT LENGTH'!$K6*-1,IF(AND(L$9=RIGHT('CONDUIT LENGTH'!$L6,2),LEFT('CONDUIT LENGTH'!$L6,3)=\"2x3\")=TRUE,IF(LEFT('CONDUIT LENGTH'!$L6,2)=\"2x\",'CONDUIT LENGTH'!$K6*-1*2,\"\"),\"\")),\"\"),IF(LEFT(M$6,1)='CONDUIT LENGTH'!$M6,IF(L$9='CONDUIT LENGTH'!$L6,'CONDUIT LENGTH'!$K6,IF(AND(L$9=RIGHT('CONDUIT LENGTH'!$L6,2),LEFT('CONDUIT LENGTH'!$L6,3)=\"2x3\")=TRUE,IF(LEFT('CONDUIT LENGTH'!$L6,2)=\"2x\",'CONDUIT LENGTH'!$K6*2,\"\"),\"\")),\"\"))","v":""},{"$f":"IF($B13=\"SOURCE\",IF(LEFT(M$6,1)='CONDUIT LENGTH'!$M6,IF(M$9='CONDUIT LENGTH'!$L6,'CONDUIT LENGTH'!$K6*-1,IF(AND(M$9=RIGHT('CONDUIT LENGTH'!$L6,2),LEFT('CONDUIT LENGTH'!$L6,3)=\"2x3\")=TRUE,IF(LEFT('CONDUIT LENGTH'!$L6,2)=\"2x\",'CONDUIT LENGTH'!$K6*-1*2,\"\"),\"\")),\"\"),IF(LEFT(M$6,1)='CONDUIT LENGTH'!$M6,IF(M$9='CONDUIT LENGTH'!$L6,'CONDUIT LENGTH'!$K6,IF(AND(M$9=RIGHT('CONDUIT LENGTH'!$L6,2),LEFT('CONDUIT LENGTH'!$L6,3)=\"2x3\")=TRUE,IF(LEFT('CONDUIT LENGTH'!$L6,2)=\"2x\",'CONDUIT LENGTH'!$K6*2,\"\"),\"\")),\"\"))","v":""},{"$f":"IF($B13=\"SOURCE\",IF(LEFT(M$6,1)='CONDUIT LENGTH'!$M6,IF(N$9='CONDUIT LENGTH'!$L6,'CONDUIT LENGTH'!$K6*-1,IF(AND(N$9=RIGHT('CONDUIT LENGTH'!$L6,2),LEFT('CONDUIT LENGTH'!$L6,3)=\"2x3\")=TRUE,IF(LEFT('CONDUIT LENGTH'!$L6,2)=\"2x\",'CONDUIT LENGTH'!$K6*-1*2,\"\"),\"\")),\"\"),IF(LEFT(M$6,1)='CONDUIT LENGTH'!$M6,IF(N$9='CONDUIT LENGTH'!$L6,'CONDUIT LENGTH'!$K6,IF(AND(N$9=RIGHT('CONDUIT LENGTH'!$L6,2),LEFT('CONDUIT LENGTH'!$L6,3)=\"2x3\")=TRUE,IF(LEFT('CONDUIT LENGTH'!$L6,2)=\"2x\",'CONDUIT LENGTH'!$K6*2,\"\"),\"\")),\"\"))","v":""},{"$f":"IF($B13=\"SOURCE\",IF(LEFT(P$5,1)='CONDUIT LENGTH'!$M6,IF(O$9='CONDUIT LENGTH'!$L6,'CONDUIT LENGTH'!$K6*-1,IF(AND(O$9=RIGHT('CONDUIT LENGTH'!$L6,2),LEFT('CONDUIT LENGTH'!$L6,3)=\"2x3\")=TRUE,IF(LEFT('CONDUIT LENGTH'!$L6,2)=\"2x\",'CONDUIT LENGTH'!$K6*-1*2,\"\"),\"\")),\"\"),IF(LEFT(P$6,1)='CONDUIT LENGTH'!$M6,IF(O$9='CONDUIT LENGTH'!$L6,'CONDUIT LENGTH'!$K6,IF(AND(O$9=RIGHT('CONDUIT LENGTH'!$L6,2),LEFT('CONDUIT LENGTH'!$L6,3)=\"2x3\")=TRUE,IF(LEFT('CONDUIT LENGTH'!$L6,2)=\"2x\",'CONDUIT LENGTH'!$K6*2,\"\"),\"\")),\"\"))","v":""},{"$f":"IF($B13=\"SOURCE\",IF(LEFT(P$5,1)='CONDUIT LENGTH'!$M6,IF(P$9='CONDUIT LENGTH'!$L6,'CONDUIT LENGTH'!$K6*-1,IF(AND(P$9=RIGHT('CONDUIT LENGTH'!$L6,2),LEFT('CONDUIT LENGTH'!$L6,3)=\"2x3\")=TRUE,IF(LEFT('CONDUIT LENGTH'!$L6,2)=\"2x\",'CONDUIT LENGTH'!$K6*-1*2,\"\"),\"\")),\"\"),IF(LEFT(P$6,1)='CONDUIT LENGTH'!$M6,IF(P$9='CONDUIT LENGTH'!$L6,'CONDUIT LENGTH'!$K6,IF(AND(P$9=RIGHT('CONDUIT LENGTH'!$L6,2),LEFT('CONDUIT LENGTH'!$L6,3)=\"2x3\")=TRUE,IF(LEFT('CONDUIT LENGTH'!$L6,2)=\"2x\",'CONDUIT LENGTH'!$K6*2,\"\"),\"\")),\"\"))","v":""},{"$f":"IF($B13=\"SOURCE\",IF(LEFT(P$5,1)='CONDUIT LENGTH'!$M6,IF(Q$9='CONDUIT LENGTH'!$L6,'CONDUIT LENGTH'!$K6*-1,IF(AND(Q$9=RIGHT('CONDUIT LENGTH'!$L6,2),LEFT('CONDUIT LENGTH'!$L6,3)=\"2x3\")=TRUE,IF(LEFT('CONDUIT LENGTH'!$L6,2)=\"2x\",'CONDUIT LENGTH'!$K6*-1*2,\"\"),\"\")),\"\"),IF(LEFT(Q$6,1)='CONDUIT LENGTH'!$M6,IF(Q$9='CONDUIT LENGTH'!$L6,'CONDUIT LENGTH'!$K6,IF(AND(Q$9=RIGHT('CONDUIT LENGTH'!$L6,2),LEFT('CONDUIT LENGTH'!$L6,3)=\"2x3\")=TRUE,IF(LEFT('CONDUIT LENGTH'!$L6,2)=\"2x\",'CONDUIT LENGTH'!$K6*2,\"\"),\"\")),\"\"))","v":""},{"$f":"IF('CONDUIT LENGTH'!M6=\"UIP\",\"UIP EXISTING\",\"\")","v":""},{"$f":"IF('CABLE LENGTH'!A7>0,'CABLE LENGTH'!A7,\"\")","v":""},{"$f":"IF('CABLE LENGTH'!B7>0,'CABLE LENGTH'!B7,\"\")","v":""},{"$f":"IF('CABLE LENGTH'!Q7>0,'CABLE LENGTH'!Q7,\"\")","v":""},{"$f":"IF($S13=\"SOURCE\",IF(V$9='CABLE LENGTH'!$AK7,'CABLE LENGTH'!$AJ7*'CABLE LENGTH'!$AL7*-1,\"\"),IF(V$9=\"VIDEO\",IF(V$9='CABLE LENGTH'!$AK7,'CABLE LENGTH'!$AJ7*'CABLE LENGTH'!$AL7*-1,\"\"),IF(V$9='CABLE LENGTH'!$AK7,'CABLE LENGTH'!$AJ7*'CABLE LENGTH'!$AL7,\"\")))","v":""},{"$f":"IF($S13=\"SOURCE\",IF(W$9='CABLE LENGTH'!$AK7,'CABLE LENGTH'!$AJ7*'CABLE LENGTH'!$AL7*-1,\"\"),IF(W$9=\"VIDEO\",IF(W$9='CABLE LENGTH'!$AK7,'CABLE LENGTH'!$AJ7*'CABLE LENGTH'!$AL7*-1,\"\"),IF(W$9='CABLE LENGTH'!$AK7,'CABLE LENGTH'!$AJ7*'CABLE LENGTH'!$AL7,\"\")))","v":""},{"$f":"IF($S13=\"SOURCE\",IF(X$10='CABLE LENGTH'!$AK7,'CABLE LENGTH'!$AJ7*'CABLE LENGTH'!$AL7*-1,\"\"),IF(X$10=\"VIDEO\",IF(X$10='CABLE LENGTH'!$AK7,'CABLE LENGTH'!$AJ7*'CABLE LENGTH'!$AL7*-1,\"\"),IF(X$10='CABLE LENGTH'!$AK7,'CABLE LENGTH'!$AJ7*'CABLE LENGTH'!$AL7,\"\")))","v":""},{"$f":"IF($S13=\"SOURCE\",IF(Y$10='CABLE LENGTH'!$AK7,'CABLE LENGTH'!$AJ7*'CABLE LENGTH'!$AL7*-1,\"\"),IF(Y$10=\"VIDEO\",IF(Y$10='CABLE LENGTH'!$AK7,'CABLE LENGTH'!$AJ7*'CABLE LENGTH'!$AL7*-1,\"\"),IF(Y$10='CABLE LENGTH'!$AK7,'CABLE LENGTH'!$AJ7*'CABLE LENGTH'!$AL7,\"\")))","v":""},{"$f":"IF($S13=\"SOURCE\",IF(Z$10='CABLE LENGTH'!$AK7,'CABLE LENGTH'!$AJ7*'CABLE LENGTH'!$AL7*-1,\"\"),IF(Z$10=\"VIDEO\",IF(Z$10='CABLE LENGTH'!$AK7,'CABLE LENGTH'!$AJ7*'CABLE LENGTH'!$AL7*-1,\"\"),IF(Z$10='CABLE LENGTH'!$AK7,'CABLE LENGTH'!$AJ7*'CABLE LENGTH'!$AL7,\"\")))","v":""},{"$f":"IF($S13=\"SOURCE\",IF(AA$10='CABLE LENGTH'!$AK7,'CABLE LENGTH'!$AJ7*'CABLE LENGTH'!$AL7*-1,\"\"),IF(AA$10=\"VIDEO\",IF(AA$10='CABLE LENGTH'!$AK7,'CABLE LENGTH'!$AJ7*'CABLE LENGTH'!$AL7*-1,\"\"),IF(AA$10='CABLE LENGTH'!$AK7,'CABLE LENGTH'!$AJ7*'CABLE LENGTH'!$AL7,\"\")))","v":""},{"$f":"IF($S13=\"SOURCE\",IF(AB$10='CABLE LENGTH'!$AK7,'CABLE LENGTH'!$AJ7*'CABLE LENGTH'!$AL7*-1,\"\"),IF(AB$10=\"VIDEO\",IF(AB$10='CABLE LENGTH'!$AK7,'CABLE LENGTH'!$AJ7*'CABLE LENGTH'!$AL7*-1,\"\"),IF(AB$10='CABLE LENGTH'!$AK7,'CABLE LENGTH'!$AJ7*'CABLE LENGTH'!$AL7,\"\")))","v":""},{"$f":"IF($S13=\"SOURCE\",IF(AC$10='CABLE LENGTH'!$AK7,'CABLE LENGTH'!$AJ7*'CABLE LENGTH'!$AL7*-1,\"\"),IF(AC$10=\"VIDEO\",IF(AC$10='CABLE LENGTH'!$AK7,'CABLE LENGTH'!$AJ7*'CABLE LENGTH'!$AL7*-1,\"\"),IF(AC$10='CABLE LENGTH'!$AK7,'CABLE LENGTH'!$AJ7*'CABLE LENGTH'!$AL7,\"\")))","v":""},{"$f":"IF($S13=\"SOURCE\",IF(AD$9='CABLE LENGTH'!$AK7,'CABLE LENGTH'!$AJ7*'CABLE LENGTH'!$AL7*-1,\"\"),IF(AD$9=\"VIDEO\",IF(AD$9='CABLE LENGTH'!$AK7,'CABLE LENGTH'!$AJ7*'CABLE LENGTH'!$AL7*-1,\"\"),IF(AD$9='CABLE LENGTH'!$AK7,'CABLE LENGTH'!$AJ7*'CABLE LENGTH'!$AL7,\"\")))","v":""},{"$f":"IF($S13=\"SOURCE\",IF(AE$9='CABLE LENGTH'!$AK7,'CABLE LENGTH'!$AJ7*'CABLE LENGTH'!$AL7*-1,\"\"),IF(AE$9=\"VIDEO\",IF(AE$9='CABLE LENGTH'!$AK7,'CABLE LENGTH'!$AJ7*'CABLE LENGTH'!$AL7*-1,\"\"),IF(AE$9='CABLE LENGTH'!$AK7,'CABLE LENGTH'!$AJ7*'CABLE LENGTH'!$AL7,\"\")))","v":""},{"$f":"IF($S13=\"SOURCE\",IF(AF$9='CABLE LENGTH'!$AK7,'CABLE LENGTH'!$AJ7*'CABLE LENGTH'!$AL7*-1,\"\"),IF(AF$9=\"VIDEO\",IF(AF$9='CABLE LENGTH'!$AK7,'CABLE LENGTH'!$AJ7*'CABLE LENGTH'!$AL7*-1,\"\"),IF(AF$9='CABLE LENGTH'!$AK7,'CABLE LENGTH'!$AJ7*'CABLE LENGTH'!$AL7,\"\")))","v":""},"3x27'"]
[0.3,{"$f":"IF('CONDUIT LENGTH'!A7>0,'CONDUIT LENGTH'!A7,\" \")","v":" "},{"$f":"IF('CONDUIT LENGTH'!B7>0,'CONDUIT LENGTH'!B7,\" \")","v":" "},{"$f":"IF('CONDUIT LENGTH'!C7>0,'CONDUIT LENGTH'!C7,\" \")","v":" "},{"$f":"IF($B14=\"SOURCE\",IF(LEFT(E$5,1)='CONDUIT LENGTH'!$M7,IF(E$9='CONDUIT LENGTH'!$L7,'CONDUIT LENGTH'!$K7*-1,IF(AND(E$9=RIGHT('CONDUIT LENGTH'!$L7,2),LEFT('CONDUIT LENGTH'!$L7,3)=\"2x3\")=TRUE,IF(LEFT('CONDUIT LENGTH'!$L7,2)=\"2x\",'CONDUIT LENGTH'!$K7*-1*2,\"\"),\"\")),\"\"),IF(LEFT(E$5,1)='CONDUIT LENGTH'!$M7,IF(E$9='CONDUIT LENGTH'!$L7,'CONDUIT LENGTH'!$K7,IF(AND(E$9=RIGHT('CONDUIT LENGTH'!$L7,2),LEFT('CONDUIT LENGTH'!$L7,3)=\"2x3\")=TRUE,IF(LEFT('CONDUIT LENGTH'!$L7,2)=\"2x\",'CONDUIT LENGTH'!$K7*2,\"\"),\"\")),\"\"))","v":""},{"$f":"IF($B14=\"SOURCE\",IF(LEFT(G$6,1)='CONDUIT LENGTH'!$M7,IF(F$9='CONDUIT LENGTH'!$L7,'CONDUIT LENGTH'!$K7*-1,IF(AND(F$9=RIGHT('CONDUIT LENGTH'!$L7,2),LEFT('CONDUIT LENGTH'!$L7,3)=\"2x3\")=TRUE,IF(LEFT('CONDUIT LENGTH'!$L7,2)=\"2x\",'CONDUIT LENGTH'!$K7*-1*2,\"\"),\"\")),\"\"),IF(LEFT(G$6,1)='CONDUIT LENGTH'!$M7,IF(F$9='CONDUIT LENGTH'!$L7,'CONDUIT LENGTH'!$K7,IF(AND(F$9=RIGHT('CONDUIT LENGTH'!$L7,2),LEFT('CONDUIT LENGTH'!$L7,3)=\"2x3\")=TRUE,IF(LEFT('CONDUIT LENGTH'!$L7,2)=\"2x\",'CONDUIT LENGTH'!$K7*2,\"\"),\"\")),\"\"))","v":""},{"$f":"IF($B14=\"SOURCE\",IF(LEFT(G$6,1)='CONDUIT LENGTH'!$M7,IF(G$9='CONDUIT LENGTH'!$L7,'CONDUIT LENGTH'!$K7*-1,IF(AND(G$9=RIGHT('CONDUIT LENGTH'!$L7,2),LEFT('CONDUIT LENGTH'!$L7,3)=\"2x3\")=TRUE,IF(LEFT('CONDUIT LENGTH'!$L7,2)=\"2x\",'CONDUIT LENGTH'!$K7*-1*2,\"\"),\"\")),\"\"),IF(LEFT(G$6,1)='CONDUIT LENGTH'!$M7,IF(G$9='CONDUIT LENGTH'!$L7,'CONDUIT LENGTH'!$K7,IF(AND(G$9=RIGHT('CONDUIT LENGTH'!$L7,2),LEFT('CONDUIT LENGTH'!$L7,3)=\"2x3\")=TRUE,IF(LEFT('CONDUIT LENGTH'!$L7,2)=\"2x\",'CONDUIT LENGTH'!$K7*2,\"\"),\"\")),\"\"))","v":""},{"$f":"IF($B14=\"SOURCE\",IF(LEFT(G$6,1)='CONDUIT LENGTH'!$M7,IF(H$9='CONDUIT LENGTH'!$L7,'CONDUIT LENGTH'!$K7*-1,IF(AND(H$9=RIGHT('CONDUIT LENGTH'!$L7,2),LEFT('CONDUIT LENGTH'!$L7,3)=\"2x3\")=TRUE,IF(LEFT('CONDUIT LENGTH'!$L7,2)=\"2x\",'CONDUIT LENGTH'!$K7*-1*2,\"\"),\"\")),\"\"),IF(LEFT(G$6,1)='CONDUIT LENGTH'!$M7,IF(H$9='CONDUIT LENGTH'!$L7,'CONDUIT LENGTH'!$K7,IF(AND(H$9=RIGHT('CONDUIT LENGTH'!$L7,2),LEFT('CONDUIT LENGTH'!$L7,3)=\"2x3\")=TRUE,IF(LEFT('CONDUIT LENGTH'!$L7,2)=\"2x\",'CONDUIT LENGTH'!$K7*2,\"\"),\"\")),\"\"))","v":""},{"$f":"IF($B14=\"SOURCE\",IF(LEFT(J$6,1)='CONDUIT LENGTH'!$M7,IF(I$9='CONDUIT LENGTH'!$L7,'CONDUIT LENGTH'!$K7*-1,IF(AND(I$9=RIGHT('CONDUIT LENGTH'!$L7,2),LEFT('CONDUIT LENGTH'!$L7,3)=\"2x3\")=TRUE,IF(LEFT('CONDUIT LENGTH'!$L7,2)=\"2x\",'CONDUIT LENGTH'!$K7*-1*2,\"\"),\"\")),\"\"),IF(LEFT(J$6,1)='CONDUIT LENGTH'!$M7,IF(I$9='CONDUIT LENGTH'!$L7,'CONDUIT LENGTH'!$K7,IF(AND(I$9=RIGHT('CONDUIT LENGTH'!$L7,2),LEFT('CONDUIT LENGTH'!$L7,3)=\"2x3\")=TRUE,IF(LEFT('CONDUIT LENGTH'!$L7,2)=\"2x\",'CONDUIT LENGTH'!$K7*2,\"\"),\"\")),\"\"))","v":""},{"$f":"IF($B14=\"SOURCE\",IF(LEFT(J$6,1)='CONDUIT LENGTH'!$M7,IF(J$9='CONDUIT LENGTH'!$L7,'CONDUIT LENGTH'!$K7*-1,IF(AND(J$9=RIGHT('CONDUIT LENGTH'!$L7,2),LEFT('CONDUIT LENGTH'!$L7,3)=\"2x3\")=TRUE,IF(LEFT('CONDUIT LENGTH'!$L7,2)=\"2x\",'CONDUIT LENGTH'!$K7*-1*2,\"\"),\"\")),\"\"),IF(LEFT(J$6,1)='CONDUIT LENGTH'!$M7,IF(J$9='CONDUIT LENGTH'!$L7,'CONDUIT LENGTH'!$K7,IF(AND(J$9=RIGHT('CONDUIT LENGTH'!$L7,2),LEFT('CONDUIT LENGTH'!$L7,3)=\"2x3\")=TRUE,IF(LEFT('CONDUIT LENGTH'!$L7,2)=\"2x\",'CONDUIT LENGTH'!$K7*2,\"\"),\"\")),\"\"))","v":""},{"$f":"IF($B14=\"SOURCE\",IF(LEFT(J$6,1)='CONDUIT LENGTH'!$M7,IF(K$9='CONDUIT LENGTH'!$L7,'CONDUIT LENGTH'!$K7*-1,IF(AND(K$9=RIGHT('CONDUIT LENGTH'!$L7,2),LEFT('CONDUIT LENGTH'!$L7,3)=\"2x3\")=TRUE,IF(LEFT('CONDUIT LENGTH'!$L7,2)=\"2x\",'CONDUIT LENGTH'!$K7*-1*2,\"\"),\"\")),\"\"),IF(LEFT(J$6,1)='CONDUIT LENGTH'!$M7,IF(K$9='CONDUIT LENGTH'!$L7,'CONDUIT LENGTH'!$K7,IF(AND(K$9=RIGHT('CONDUIT LENGTH'!$L7,2),LEFT('CONDUIT LENGTH'!$L7,3)=\"2x3\")=TRUE,IF(LEFT('CONDUIT LENGTH'!$L7,2)=\"2x\",'CONDUIT LENGTH'!$K7*2,\"\"),\"\")),\"\"))","v":""},{"$f":"IF($B14=\"SOURCE\",IF(LEFT(M$6,1)='CONDUIT LENGTH'!$M7,IF(L$9='CONDUIT LENGTH'!$L7,'CONDUIT LENGTH'!$K7*-1,IF(AND(L$9=RIGHT('CONDUIT LENGTH'!$L7,2),LEFT('CONDUIT LENGTH'!$L7,3)=\"2x3\")=TRUE,IF(LEFT('CONDUIT LENGTH'!$L7,2)=\"2x\",'CONDUIT LENGTH'!$K7*-1*2,\"\"),\"\")),\"\"),IF(LEFT(M$6,1)='CONDUIT LENGTH'!$M7,IF(L$9='CONDUIT LENGTH'!$L7,'CONDUIT LENGTH'!$K7,IF(AND(L$9=RIGHT('CONDUIT LENGTH'!$L7,2),LEFT('CONDUIT LENGTH'!$L7,3)=\"2x3\")=TRUE,IF(LEFT('CONDUIT LENGTH'!$L7,2)=\"2x\",'CONDUIT LENGTH'!$K7*2,\"\"),\"\")),\"\"))","v":""},{"$f":"IF($B14=\"SOURCE\",IF(LEFT(M$6,1)='CONDUIT LENGTH'!$M7,IF(M$9='CONDUIT LENGTH'!$L7,'CONDUIT LENGTH'!$K7*-1,IF(AND(M$9=RIGHT('CONDUIT LENGTH'!$L7,2),LEFT('CONDUIT LENGTH'!$L7,3)=\"2x3\")=TRUE,IF(LEFT('CONDUIT LENGTH'!$L7,2)=\"2x\",'CONDUIT LENGTH'!$K7*-1*2,\"\"),\"\")),\"\"),IF(LEFT(M$6,1)='CONDUIT LENGTH'!$M7,IF(M$9='CONDUIT LENGTH'!$L7,'CONDUIT LENGTH'!$K7,IF(AND(M$9=RIGHT('CONDUIT LENGTH'!$L7,2),LEFT('CONDUIT LENGTH'!$L7,3)=\"2x3\")=TRUE,IF(LEFT('CONDUIT LENGTH'!$L7,2)=\"2x\",'CONDUIT LENGTH'!$K7*2,\"\"),\"\")),\"\"))","v":""},{"$f":"IF($B14=\"SOURCE\",IF(LEFT(M$6,1)='CONDUIT LENGTH'!$M7,IF(N$9='CONDUIT LENGTH'!$L7,'CONDUIT LENGTH'!$K7*-1,IF(AND(N$9=RIGHT('CONDUIT LENGTH'!$L7,2),LEFT('CONDUIT LENGTH'!$L7,3)=\"2x3\")=TRUE,IF(LEFT('CONDUIT LENGTH'!$L7,2)=\"2x\",'CONDUIT LENGTH'!$K7*-1*2,\"\"),\"\")),\"\"),IF(LEFT(M$6,1)='CONDUIT LENGTH'!$M7,IF(N$9='CONDUIT LENGTH'!$L7,'CONDUIT LENGTH'!$K7,IF(AND(N$9=RIGHT('CONDUIT LENGTH'!$L7,2),LEFT('CONDUIT LENGTH'!$L7,3)=\"2x3\")=TRUE,IF(LEFT('CONDUIT LENGTH'!$L7,2)=\"2x\",'CONDUIT LENGTH'!$K7*2,\"\"),\"\")),\"\"))","v":""},{"$f":"IF($B14=\"SOURCE\",IF(LEFT(P$5,1)='CONDUIT LENGTH'!$M7,IF(O$9='CONDUIT LENGTH'!$L7,'CONDUIT LENGTH'!$K7*-1,IF(AND(O$9=RIGHT('CONDUIT LENGTH'!$L7,2),LEFT('CONDUIT LENGTH'!$L7,3)=\"2x3\")=TRUE,IF(LEFT('CONDUIT LENGTH'!$L7,2)=\"2x\",'CONDUIT LENGTH'!$K7*-1*2,\"\"),\"\")),\"\"),IF(LEFT(P$6,1)='CONDUIT LENGTH'!$M7,IF(O$9='CONDUIT LENGTH'!$L7,'CONDUIT LENGTH'!$K7,IF(AND(O$9=RIGHT('CONDUIT LENGTH'!$L7,2),LEFT('CONDUIT LENGTH'!$L7,3)=\"2x3\")=TRUE,IF(LEFT('CONDUIT LENGTH'!$L7,2)=\"2x\",'CONDUIT LENGTH'!$K7*2,\"\"),\"\")),\"\"))","v":""},{"$f":"IF($B14=\"SOURCE\",IF(LEFT(P$5,1)='CONDUIT LENGTH'!$M7,IF(P$9='CONDUIT LENGTH'!$L7,'CONDUIT LENGTH'!$K7*-1,IF(AND(P$9=RIGHT('CONDUIT LENGTH'!$L7,2),LEFT('CONDUIT LENGTH'!$L7,3)=\"2x3\")=TRUE,IF(LEFT('CONDUIT LENGTH'!$L7,2)=\"2x\",'CONDUIT LENGTH'!$K7*-1*2,\"\"),\"\")),\"\"),IF(LEFT(P$6,1)='CONDUIT LENGTH'!$M7,IF(P$9='CONDUIT LENGTH'!$L7,'CONDUIT LENGTH'!$K7,IF(AND(P$9=RIGHT('CONDUIT LENGTH'!$L7,2),LEFT('CONDUIT LENGTH'!$L7,3)=\"2x3\")=TRUE,IF(LEFT('CONDUIT LENGTH'!$L7,2)=\"2x\",'CONDUIT LENGTH'!$K7*2,\"\"),\"\")),\"\"))","v":""},{"$f":"IF($B14=\"SOURCE\",IF(LEFT(P$5,1)='CONDUIT LENGTH'!$M7,IF(Q$9='CONDUIT LENGTH'!$L7,'CONDUIT LENGTH'!$K7*-1,IF(AND(Q$9=RIGHT('CONDUIT LENGTH'!$L7,2),LEFT('CONDUIT LENGTH'!$L7,3)=\"2x3\")=TRUE,IF(LEFT('CONDUIT LENGTH'!$L7,2)=\"2x\",'CONDUIT LENGTH'!$K7*-1*2,\"\"),\"\")),\"\"),IF(LEFT(Q$6,1)='CONDUIT LENGTH'!$M7,IF(Q$9='CONDUIT LENGTH'!$L7,'CONDUIT LENGTH'!$K7,IF(AND(Q$9=RIGHT('CONDUIT LENGTH'!$L7,2),LEFT('CONDUIT LENGTH'!$L7,3)=\"2x3\")=TRUE,IF(LEFT('CONDUIT LENGTH'!$L7,2)=\"2x\",'CONDUIT LENGTH'!$K7*2,\"\"),\"\")),\"\"))","v":""},"2x13'",{"$f":"IF('CABLE LENGTH'!A8>0,'CABLE LENGTH'!A8,\"\")","v":""},{"$f":"IF('CABLE LENGTH'!B8>0,'CABLE LENGTH'!B8,\"\")","v":""},{"$f":"IF('CABLE LENGTH'!Q8>0,'CABLE LENGTH'!Q8,\"\")","v":""},{"$f":"IF($S14=\"SOURCE\",IF(V$9='CABLE LENGTH'!$AK8,'CABLE LENGTH'!$AJ8*'CABLE LENGTH'!$AL8*-1,\"\"),IF(V$9=\"VIDEO\",IF(V$9='CABLE LENGTH'!$AK8,'CABLE LENGTH'!$AJ8*'CABLE LENGTH'!$AL8*-1,\"\"),IF(V$9='CABLE LENGTH'!$AK8,'CABLE LENGTH'!$AJ8*'CABLE LENGTH'!$AL8,\"\")))","v":""},{"$f":"IF($S14=\"SOURCE\",IF(W$9='CABLE LENGTH'!$AK8,'CABLE LENGTH'!$AJ8*'CABLE LENGTH'!$AL8*-1,\"\"),IF(W$9=\"VIDEO\",IF(W$9='CABLE LENGTH'!$AK8,'CABLE LENGTH'!$AJ8*'CABLE LENGTH'!$AL8*-1,\"\"),IF(W$9='CABLE LENGTH'!$AK8,'CABLE LENGTH'!$AJ8*'CABLE LENGTH'!$AL8,\"\")))","v":""},{"$f":"IF($S14=\"SOURCE\",IF(X$10='CABLE LENGTH'!$AK8,'CABLE LENGTH'!$AJ8*'CABLE LENGTH'!$AL8*-1,\"\"),IF(X$10=\"VIDEO\",IF(X$10='CABLE LENGTH'!$AK8,'CABLE LENGTH'!$AJ8*'CABLE LENGTH'!$AL8*-1,\"\"),IF(X$10='CABLE LENGTH'!$AK8,'CABLE LENGTH'!$AJ8*'CABLE LENGTH'!$AL8,\"\")))","v":""},{"$f":"IF($S14=\"SOURCE\",IF(Y$10='CABLE LENGTH'!$AK8,'CABLE LENGTH'!$AJ8*'CABLE LENGTH'!$AL8*-1,\"\"),IF(Y$10=\"VIDEO\",IF(Y$10='CABLE LENGTH'!$AK8,'CABLE LENGTH'!$AJ8*'CABLE LENGTH'!$AL8*-1,\"\"),IF(Y$10='CABLE LENGTH'!$AK8,'CABLE LENGTH'!$AJ8*'CABLE LENGTH'!$AL8,\"\")))","v":""},{"$f":"IF($S14=\"SOURCE\",IF(Z$10='CABLE LENGTH'!$AK8,'CABLE LENGTH'!$AJ8*'CABLE LENGTH'!$AL8*-1,\"\"),IF(Z$10=\"VIDEO\",IF(Z$10='CABLE LENGTH'!$AK8,'CABLE LENGTH'!$AJ8*'CABLE LENGTH'!$AL8*-1,\"\"),IF(Z$10='CABLE LENGTH'!$AK8,'CABLE LENGTH'!$AJ8*'CABLE LENGTH'!$AL8,\"\")))","v":""},{"$f":"IF($S14=\"SOURCE\",IF(AA$10='CABLE LENGTH'!$AK8,'CABLE LENGTH'!$AJ8*'CABLE LENGTH'!$AL8*-1,\"\"),IF(AA$10=\"VIDEO\",IF(AA$10='CABLE LENGTH'!$AK8,'CABLE LENGTH'!$AJ8*'CABLE LENGTH'!$AL8*-1,\"\"),IF(AA$10='CABLE LENGTH'!$AK8,'CABLE LENGTH'!$AJ8*'CABLE LENGTH'!$AL8,\"\")))","v":""},{"$f":"IF($S14=\"SOURCE\",IF(AB$10='CABLE LENGTH'!$AK8,'CABLE LENGTH'!$AJ8*'CABLE LENGTH'!$AL8*-1,\"\"),IF(AB$10=\"VIDEO\",IF(AB$10='CABLE LENGTH'!$AK8,'CABLE LENGTH'!$AJ8*'CABLE LENGTH'!$AL8*-1,\"\"),IF(AB$10='CABLE LENGTH'!$AK8,'CABLE LENGTH'!$AJ8*'CABLE LENGTH'!$AL8,\"\")))","v":""},{"$f":"IF($S14=\"SOURCE\",IF(AC$10='CABLE LENGTH'!$AK8,'CABLE LENGTH'!$AJ8*'CABLE LENGTH'!$AL8*-1,\"\"),IF(AC$10=\"VIDEO\",IF(AC$10='CABLE LENGTH'!$AK8,'CABLE LENGTH'!$AJ8*'CABLE LENGTH'!$AL8*-1,\"\"),IF(AC$10='CABLE LENGTH'!$AK8,'CABLE LENGTH'!$AJ8*'CABLE LENGTH'!$AL8,\"\")))","v":""},{"$f":"IF($S14=\"SOURCE\",IF(AD$9='CABLE LENGTH'!$AK8,'CABLE LENGTH'!$AJ8*'CABLE LENGTH'!$AL8*-1,\"\"),IF(AD$9=\"VIDEO\",IF(AD$9='CABLE LENGTH'!$AK8,'CABLE LENGTH'!$AJ8*'CABLE LENGTH'!$AL8*-1,\"\"),IF(AD$9='CABLE LENGTH'!$AK8,'CABLE LENGTH'!$AJ8*'CABLE LENGTH'!$AL8,\"\")))","v":""},{"$f":"IF($S14=\"SOURCE\",IF(AE$9='CABLE LENGTH'!$AK8,'CABLE LENGTH'!$AJ8*'CABLE LENGTH'!$AL8*-1,\"\"),IF(AE$9=\"VIDEO\",IF(AE$9='CABLE LENGTH'!$AK8,'CABLE LENGTH'!$AJ8*'CABLE LENGTH'!$AL8*-1,\"\"),IF(AE$9='CABLE LENGTH'!$AK8,'CABLE LENGTH'!$AJ8*'CABLE LENGTH'!$AL8,\"\")))","v":""},{"$f":"IF($S14=\"SOURCE\",IF(AF$9='CABLE LENGTH'!$AK8,'CABLE LENGTH'!$AJ8*'CABLE LENGTH'!$AL8*-1,\"\"),IF(AF$9=\"VIDEO\",IF(AF$9='CABLE LENGTH'!$AK8,'CABLE LENGTH'!$AJ8*'CABLE LENGTH'!$AL8*-1,\"\"),IF(AF$9='CABLE LENGTH'!$AK8,'CABLE LENGTH'!$AJ8*'CABLE LENGTH'!$AL8,\"\")))","v":""}]
[0.3,{"$f":"IF('CONDUIT LENGTH'!A8>0,'CONDUIT LENGTH'!A8,\" \")","v":" "},{"$f":"IF('CONDUIT LENGTH'!B8>0,'CONDUIT LENGTH'!B8,\" \")","v":" "},{"$f":"IF('CONDUIT LENGTH'!C8>0,'CONDUIT LENGTH'!C8,\" \")","v":" "},{"$f":"IF($B15=\"SOURCE\",IF(LEFT(E$5,1)='CONDUIT LENGTH'!$M8,IF(E$9='CONDUIT LENGTH'!$L8,'CONDUIT LENGTH'!$K8*-1,IF(AND(E$9=RIGHT('CONDUIT LENGTH'!$L8,2),LEFT('CONDUIT LENGTH'!$L8,3)=\"2x3\")=TRUE,IF(LEFT('CONDUIT LENGTH'!$L8,2)=\"2x\",'CONDUIT LENGTH'!$K8*-1*2,\"\"),\"\")),\"\"),IF(LEFT(E$5,1)='CONDUIT LENGTH'!$M8,IF(E$9='CONDUIT LENGTH'!$L8,'CONDUIT LENGTH'!$K8,IF(AND(E$9=RIGHT('CONDUIT LENGTH'!$L8,2),LEFT('CONDUIT LENGTH'!$L8,3)=\"2x3\")=TRUE,IF(LEFT('CONDUIT LENGTH'!$L8,2)=\"2x\",'CONDUIT LENGTH'!$K8*2,\"\"),\"\")),\"\"))","v":""},{"$f":"IF($B15=\"SOURCE\",IF(LEFT(G$6,1)='CONDUIT LENGTH'!$M8,IF(F$9='CONDUIT LENGTH'!$L8,'CONDUIT LENGTH'!$K8*-1,IF(AND(F$9=RIGHT('CONDUIT LENGTH'!$L8,2),LEFT('CONDUIT LENGTH'!$L8,3)=\"2x3\")=TRUE,IF(LEFT('CONDUIT LENGTH'!$L8,2)=\"2x\",'CONDUIT LENGTH'!$K8*-1*2,\"\"),\"\")),\"\"),IF(LEFT(G$6,1)='CONDUIT LENGTH'!$M8,IF(F$9='CONDUIT LENGTH'!$L8,'CONDUIT LENGTH'!$K8,IF(AND(F$9=RIGHT('CONDUIT LENGTH'!$L8,2),LEFT('CONDUIT LENGTH'!$L8,3)=\"2x3\")=TRUE,IF(LEFT('CONDUIT LENGTH'!$L8,2)=\"2x\",'CONDUIT LENGTH'!$K8*2,\"\"),\"\")),\"\"))","v":""},{"$f":"IF($B15=\"SOURCE\",IF(LEFT(G$6,1)='CONDUIT LENGTH'!$M8,IF(G$9='CONDUIT LENGTH'!$L8,'CONDUIT LENGTH'!$K8*-1,IF(AND(G$9=RIGHT('CONDUIT LENGTH'!$L8,2),LEFT('CONDUIT LENGTH'!$L8,3)=\"2x3\")=TRUE,IF(LEFT('CONDUIT LENGTH'!$L8,2)=\"2x\",'CONDUIT LENGTH'!$K8*-1*2,\"\"),\"\")),\"\"),IF(LEFT(G$6,1)='CONDUIT LENGTH'!$M8,IF(G$9='CONDUIT LENGTH'!$L8,'CONDUIT LENGTH'!$K8,IF(AND(G$9=RIGHT('CONDUIT LENGTH'!$L8,2),LEFT('CONDUIT LENGTH'!$L8,3)=\"2x3\")=TRUE,IF(LEFT('CONDUIT LENGTH'!$L8,2)=\"2x\",'CONDUIT LENGTH'!$K8*2,\"\"),\"\")),\"\"))","v":""},{"$f":"IF($B15=\"SOURCE\",IF(LEFT(G$6,1)='CONDUIT LENGTH'!$M8,IF(H$9='CONDUIT LENGTH'!$L8,'CONDUIT LENGTH'!$K8*-1,IF(AND(H$9=RIGHT('CONDUIT LENGTH'!$L8,2),LEFT('CONDUIT LENGTH'!$L8,3)=\"2x3\")=TRUE,IF(LEFT('CONDUIT LENGTH'!$L8,2)=\"2x\",'CONDUIT LENGTH'!$K8*-1*2,\"\"),\"\")),\"\"),IF(LEFT(G$6,1)='CONDUIT LENGTH'!$M8,IF(H$9='CONDUIT LENGTH'!$L8,'CONDUIT LENGTH'!$K8,IF(AND(H$9=RIGHT('CONDUIT LENGTH'!$L8,2),LEFT('CONDUIT LENGTH'!$L8,3)=\"2x3\")=TRUE,IF(LEFT('CONDUIT LENGTH'!$L8,2)=\"2x\",'CONDUIT LENGTH'!$K8*2,\"\"),\"\")),\"\"))","v":""},{"$f":"IF($B15=\"SOURCE\",IF(LEFT(J$6,1)='CONDUIT LENGTH'!$M8,IF(I$9='CONDUIT LENGTH'!$L8,'CONDUIT LENGTH'!$K8*-1,IF(AND(I$9=RIGHT('CONDUIT LENGTH'!$L8,2),LEFT('CONDUIT LENGTH'!$L8,3)=\"2x3\")=TRUE,IF(LEFT('CONDUIT LENGTH'!$L8,2)=\"2x\",'CONDUIT LENGTH'!$K8*-1*2,\"\"),\"\")),\"\"),IF(LEFT(J$6,1)='CONDUIT LENGTH'!$M8,IF(I$9='CONDUIT LENGTH'!$L8,'CONDUIT LENGTH'!$K8,IF(AND(I$9=RIGHT('CONDUIT LENGTH'!$L8,2),LEFT('CONDUIT LENGTH'!$L8,3)=\"2x3\")=TRUE,IF(LEFT('CONDUIT LENGTH'!$L8,2)=\"2x\",'CONDUIT LENGTH'!$K8*2,\"\"),\"\")),\"\"))","v":""},{"$f":"IF($B15=\"SOURCE\",IF(LEFT(J$6,1)='CONDUIT LENGTH'!$M8,IF(J$9='CONDUIT LENGTH'!$L8,'CONDUIT LENGTH'!$K8*-1,IF(AND(J$9=RIGHT('CONDUIT LENGTH'!$L8,2),LEFT('CONDUIT LENGTH'!$L8,3)=\"2x3\")=TRUE,IF(LEFT('CONDUIT LENGTH'!$L8,2)=\"2x\",'CONDUIT LENGTH'!$K8*-1*2,\"\"),\"\")),\"\"),IF(LEFT(J$6,1)='CONDUIT LENGTH'!$M8,IF(J$9='CONDUIT LENGTH'!$L8,'CONDUIT LENGTH'!$K8,IF(AND(J$9=RIGHT('CONDUIT LENGTH'!$L8,2),LEFT('CONDUIT LENGTH'!$L8,3)=\"2x3\")=TRUE,IF(LEFT('CONDUIT LENGTH'!$L8,2)=\"2x\",'CONDUIT LENGTH'!$K8*2,\"\"),\"\")),\"\"))","v":""},{"$f":"IF($B15=\"SOURCE\",IF(LEFT(J$6,1)='CONDUIT LENGTH'!$M8,IF(K$9='CONDUIT LENGTH'!$L8,'CONDUIT LENGTH'!$K8*-1,IF(AND(K$9=RIGHT('CONDUIT LENGTH'!$L8,2),LEFT('CONDUIT LENGTH'!$L8,3)=\"2x3\")=TRUE,IF(LEFT('CONDUIT LENGTH'!$L8,2)=\"2x\",'CONDUIT LENGTH'!$K8*-1*2,\"\"),\"\")),\"\"),IF(LEFT(J$6,1)='CONDUIT LENGTH'!$M8,IF(K$9='CONDUIT LENGTH'!$L8,'CONDUIT LENGTH'!$K8,IF(AND(K$9=RIGHT('CONDUIT LENGTH'!$L8,2),LEFT('CONDUIT LENGTH'!$L8,3)=\"2x3\")=TRUE,IF(LEFT('CONDUIT LENGTH'!$L8,2)=\"2x\",'CONDUIT LENGTH'!$K8*2,\"\"),\"\")),\"\"))","v":""},{"$f":"IF($B15=\"SOURCE\",IF(LEFT(M$6,1)='CONDUIT LENGTH'!$M8,IF(L$9='CONDUIT LENGTH'!$L8,'CONDUIT LENGTH'!$K8*-1,IF(AND(L$9=RIGHT('CONDUIT LENGTH'!$L8,2),LEFT('CONDUIT LENGTH'!$L8,3)=\"2x3\")=TRUE,IF(LEFT('CONDUIT LENGTH'!$L8,2)=\"2x\",'CONDUIT LENGTH'!$K8*-1*2,\"\"),\"\")),\"\"),IF(LEFT(M$6,1)='CONDUIT LENGTH'!$M8,IF(L$9='CONDUIT LENGTH'!$L8,'CONDUIT LENGTH'!$K8,IF(AND(L$9=RIGHT('CONDUIT LENGTH'!$L8,2),LEFT('CONDUIT LENGTH'!$L8,3)=\"2x3\")=TRUE,IF(LEFT('CONDUIT LENGTH'!$L8,2)=\"2x\",'CONDUIT LENGTH'!$K8*2,\"\"),\"\")),\"\"))","v":""},{"$f":"IF($B15=\"SOURCE\",IF(LEFT(M$6,1)='CONDUIT LENGTH'!$M8,IF(M$9='CONDUIT LENGTH'!$L8,'CONDUIT LENGTH'!$K8*-1,IF(AND(M$9=RIGHT('CONDUIT LENGTH'!$L8,2),LEFT('CONDUIT LENGTH'!$L8,3)=\"2x3\")=TRUE,IF(LEFT('CONDUIT LENGTH'!$L8,2)=\"2x\",'CONDUIT LENGTH'!$K8*-1*2,\"\"),\"\")),\"\"),IF(LEFT(M$6,1)='CONDUIT LENGTH'!$M8,IF(M$9='CONDUIT LENGTH'!$L8,'CONDUIT LENGTH'!$K8,IF(AND(M$9=RIGHT('CONDUIT LENGTH'!$L8,2),LEFT('CONDUIT LENGTH'!$L8,3)=\"2x3\")=TRUE,IF(LEFT('CONDUIT LENGTH'!$L8,2)=\"2x\",'CONDUIT LENGTH'!$K8*2,\"\"),\"\")),\"\"))","v":""},{"$f":"IF($B15=\"SOURCE\",IF(LEFT(M$6,1)='CONDUIT LENGTH'!$M8,IF(N$9='CONDUIT LENGTH'!$L8,'CONDUIT LENGTH'!$K8*-1,IF(AND(N$9=RIGHT('CONDUIT LENGTH'!$L8,2),LEFT('CONDUIT LENGTH'!$L8,3)=\"2x3\")=TRUE,IF(LEFT('CONDUIT LENGTH'!$L8,2)=\"2x\",'CONDUIT LENGTH'!$K8*-1*2,\"\"),\"\")),\"\"),IF(LEFT(M$6,1)='CONDUIT LENGTH'!$M8,IF(N$9='CONDUIT LENGTH'!$L8,'CONDUIT LENGTH'!$K8,IF(AND(N$9=RIGHT('CONDUIT LENGTH'!$L8,2),LEFT('CONDUIT LENGTH'!$L8,3)=\"2x3\")=TRUE,IF(LEFT('CONDUIT LENGTH'!$L8,2)=\"2x\",'CONDUIT LENGTH'!$K8*2,\"\"),\"\")),\"\"))","v":""},{"$f":"IF($B15=\"SOURCE\",IF(LEFT(P$5,1)='CONDUIT LENGTH'!$M8,IF(O$9='CONDUIT LENGTH'!$L8,'CONDUIT LENGTH'!$K8*-1,IF(AND(O$9=RIGHT('CONDUIT LENGTH'!$L8,2),LEFT('CONDUIT LENGTH'!$L8,3)=\"2x3\")=TRUE,IF(LEFT('CONDUIT LENGTH'!$L8,2)=\"2x\",'CONDUIT LENGTH'!$K8*-1*2,\"\"),\"\")),\"\"),IF(LEFT(P$6,1)='CONDUIT LENGTH'!$M8,IF(O$9='CONDUIT LENGTH'!$L8,'CONDUIT LENGTH'!$K8,IF(AND(O$9=RIGHT('CONDUIT LENGTH'!$L8,2),LEFT('CONDUIT LENGTH'!$L8,3)=\"2x3\")=TRUE,IF(LEFT('CONDUIT LENGTH'!$L8,2)=\"2x\",'CONDUIT LENGTH'!$K8*2,\"\"),\"\")),\"\"))","v":""},{"$f":"IF($B15=\"SOURCE\",IF(LEFT(P$5,1)='CONDUIT LENGTH'!$M8,IF(P$9='CONDUIT LENGTH'!$L8,'CONDUIT LENGTH'!$K8*-1,IF(AND(P$9=RIGHT('CONDUIT LENGTH'!$L8,2),LEFT('CONDUIT LENGTH'!$L8,3)=\"2x3\")=TRUE,IF(LEFT('CONDUIT LENGTH'!$L8,2)=\"2x\",'CONDUIT LENGTH'!$K8*-1*2,\"\"),\"\")),\"\"),IF(LEFT(P$6,1)='CONDUIT LENGTH'!$M8,IF(P$9='CONDUIT LENGTH'!$L8,'CONDUIT LENGTH'!$K8,IF(AND(P$9=RIGHT('CONDUIT LENGTH'!$L8,2),LEFT('CONDUIT LENGTH'!$L8,3)=\"2x3\")=TRUE,IF(LEFT('CONDUIT LENGTH'!$L8,2)=\"2x\",'CONDUIT LENGTH'!$K8*2,\"\"),\"\")),\"\"))","v":""},{"$f":"IF($B15=\"SOURCE\",IF(LEFT(P$5,1)='CONDUIT LENGTH'!$M8,IF(Q$9='CONDUIT LENGTH'!$L8,'CONDUIT LENGTH'!$K8*-1,IF(AND(Q$9=RIGHT('CONDUIT LENGTH'!$L8,2),LEFT('CONDUIT LENGTH'!$L8,3)=\"2x3\")=TRUE,IF(LEFT('CONDUIT LENGTH'!$L8,2)=\"2x\",'CONDUIT LENGTH'!$K8*-1*2,\"\"),\"\")),\"\"),IF(LEFT(Q$6,1)='CONDUIT LENGTH'!$M8,IF(Q$9='CONDUIT LENGTH'!$L8,'CONDUIT LENGTH'!$K8,IF(AND(Q$9=RIGHT('CONDUIT LENGTH'!$L8,2),LEFT('CONDUIT LENGTH'!$L8,3)=\"2x3\")=TRUE,IF(LEFT('CONDUIT LENGTH'!$L8,2)=\"2x\",'CONDUIT LENGTH'!$K8*2,\"\"),\"\")),\"\"))","v":""},{"$f":"IF('CONDUIT LENGTH'!M8=\"UIP\",\"UIP EXISTING\",\"\")","v":""},{"$f":"IF('CABLE LENGTH'!A9>0,'CABLE LENGTH'!A9,\"\")","v":""},{"$f":"IF('CABLE LENGTH'!B9>0,'CABLE LENGTH'!B9,\"\")","v":""},{"$f":"IF('CABLE LENGTH'!Q9>0,'CABLE LENGTH'!Q9,\"\")","v":""},{"$f":"IF($S15=\"SOURCE\",IF(V$9='CABLE LENGTH'!$AK9,'CABLE LENGTH'!$AJ9*'CABLE LENGTH'!$AL9*-1,\"\"),IF(V$9=\"VIDEO\",IF(V$9='CABLE LENGTH'!$AK9,'CABLE LENGTH'!$AJ9*'CABLE LENGTH'!$AL9*-1,\"\"),IF(V$9='CABLE LENGTH'!$AK9,'CABLE LENGTH'!$AJ9*'CABLE LENGTH'!$AL9,\"\")))","v":""},{"$f":"IF($S15=\"SOURCE\",IF(W$9='CABLE LENGTH'!$AK9,'CABLE LENGTH'!$AJ9*'CABLE LENGTH'!$AL9*-1,\"\"),IF(W$9=\"VIDEO\",IF(W$9='CABLE LENGTH'!$AK9,'CABLE LENGTH'!$AJ9*'CABLE LENGTH'!$AL9*-1,\"\"),IF(W$9='CABLE LENGTH'!$AK9,'CABLE LENGTH'!$AJ9*'CABLE LENGTH'!$AL9,\"\")))","v":""},{"$f":"IF($S15=\"SOURCE\",IF(X$10='CABLE LENGTH'!$AK9,'CABLE LENGTH'!$AJ9*'CABLE LENGTH'!$AL9*-1,\"\"),IF(X$10=\"VIDEO\",IF(X$10='CABLE LENGTH'!$AK9,'CABLE LENGTH'!$AJ9*'CABLE LENGTH'!$AL9*-1,\"\"),IF(X$10='CABLE LENGTH'!$AK9,'CABLE LENGTH'!$AJ9*'CABLE LENGTH'!$AL9,\"\")))","v":""},{"$f":"IF($S15=\"SOURCE\",IF(Y$10='CABLE LENGTH'!$AK9,'CABLE LENGTH'!$AJ9*'CABLE LENGTH'!$AL9*-1,\"\"),IF(Y$10=\"VIDEO\",IF(Y$10='CABLE LENGTH'!$AK9,'CABLE LENGTH'!$AJ9*'CABLE LENGTH'!$AL9*-1,\"\"),IF(Y$10='CABLE LENGTH'!$AK9,'CABLE LENGTH'!$AJ9*'CABLE LENGTH'!$AL9,\"\")))","v":""},{"$f":"IF($S15=\"SOURCE\",IF(Z$10='CABLE LENGTH'!$AK9,'CABLE LENGTH'!$AJ9*'CABLE LENGTH'!$AL9*-1,\"\"),IF(Z$10=\"VIDEO\",IF(Z$10='CABLE LENGTH'!$AK9,'CABLE LENGTH'!$AJ9*'CABLE LENGTH'!$AL9*-1,\"\"),IF(Z$10='CABLE LENGTH'!$AK9,'CABLE LENGTH'!$AJ9*'CABLE LENGTH'!$AL9,\"\")))","v":""},{"$f":"IF($S15=\"SOURCE\",IF(AA$10='CABLE LENGTH'!$AK9,'CABLE LENGTH'!$AJ9*'CABLE LENGTH'!$AL9*-1,\"\"),IF(AA$10=\"VIDEO\",IF(AA$10='CABLE LENGTH'!$AK9,'CABLE LENGTH'!$AJ9*'CABLE LENGTH'!$AL9*-1,\"\"),IF(AA$10='CABLE LENGTH'!$AK9,'CABLE LENGTH'!$AJ9*'CABLE LENGTH'!$AL9,\"\")))","v":""},{"$f":"IF($S15=\"SOURCE\",IF(AB$10='CABLE LENGTH'!$AK9,'CABLE LENGTH'!$AJ9*'CABLE LENGTH'!$AL9*-1,\"\"),IF(AB$10=\"VIDEO\",IF(AB$10='CABLE LENGTH'!$AK9,'CABLE LENGTH'!$AJ9*'CABLE LENGTH'!$AL9*-1,\"\"),IF(AB$10='CABLE LENGTH'!$AK9,'CABLE LENGTH'!$AJ9*'CABLE LENGTH'!$AL9,\"\")))","v":""},{"$f":"IF($S15=\"SOURCE\",IF(AC$10='CABLE LENGTH'!$AK9,'CABLE LENGTH'!$AJ9*'CABLE LENGTH'!$AL9*-1,\"\"),IF(AC$10=\"VIDEO\",IF(AC$10='CABLE LENGTH'!$AK9,'CABLE LENGTH'!$AJ9*'CABLE LENGTH'!$AL9*-1,\"\"),IF(AC$10='CABLE LENGTH'!$AK9,'CABLE LENGTH'!$AJ9*'CABLE LENGTH'!$AL9,\"\")))","v":""},{"$f":"IF($S15=\"SOURCE\",IF(AD$9='CABLE LENGTH'!$AK9,'CABLE LENGTH'!$AJ9*'CABLE LENGTH'!$AL9*-1,\"\"),IF(AD$9=\"VIDEO\",IF(AD$9='CABLE LENGTH'!$AK9,'CABLE LENGTH'!$AJ9*'CABLE LENGTH'!$AL9*-1,\"\"),IF(AD$9='CABLE LENGTH'!$AK9,'CABLE LENGTH'!$AJ9*'CABLE LENGTH'!$AL9,\"\")))","v":""},{"$f":"IF($S15=\"SOURCE\",IF(AE$9='CABLE LENGTH'!$AK9,'CABLE LENGTH'!$AJ9*'CABLE LENGTH'!$AL9*-1,\"\"),IF(AE$9=\"VIDEO\",IF(AE$9='CABLE LENGTH'!$AK9,'CABLE LENGTH'!$AJ9*'CABLE LENGTH'!$AL9*-1,\"\"),IF(AE$9='CABLE LENGTH'!$AK9,'CABLE LENGTH'!$AJ9*'CABLE LENGTH'!$AL9,\"\")))","v":""},{"$f":"IF($S15=\"SOURCE\",IF(AF$9='CABLE LENGTH'!$AK9,'CABLE LENGTH'!$AJ9*'CABLE LENGTH'!$AL9*-1,\"\"),IF(AF$9=\"VIDEO\",IF(AF$9='CABLE LENGTH'!$AK9,'CABLE LENGTH'!$AJ9*'CABLE LENGTH'!$AL9*-1,\"\"),IF(AF$9='CABLE LENGTH'!$AK9,'CABLE LENGTH'!$AJ9*'CABLE LENGTH'!$AL9,\"\")))","v":""}]
[0.3,{"$f":"IF('CONDUIT LENGTH'!A9>0,'CONDUIT LENGTH'!A9,\" \")","v":" "},{"$f":"IF('CONDUIT LENGTH'!B9>0,'CONDUIT LENGTH'!B9,\" \")","v":" "},{"$f":"IF('CONDUIT LENGTH'!C9>0,'CONDUIT LENGTH'!C9,\" \")","v":" "},{"$f":"IF($B16=\"SOURCE\",IF(LEFT(E$5,1)='CONDUIT LENGTH'!$M9,IF(E$9='CONDUIT LENGTH'!$L9,'CONDUIT LENGTH'!$K9*-1,IF(AND(E$9=RIGHT('CONDUIT LENGTH'!$L9,2),LEFT('CONDUIT LENGTH'!$L9,3)=\"2x3\")=TRUE,IF(LEFT('CONDUIT LENGTH'!$L9,2)=\"2x\",'CONDUIT LENGTH'!$K9*-1*2,\"\"),\"\")),\"\"),IF(LEFT(E$5,1)='CONDUIT LENGTH'!$M9,IF(E$9='CONDUIT LENGTH'!$L9,'CONDUIT LENGTH'!$K9,IF(AND(E$9=RIGHT('CONDUIT LENGTH'!$L9,2),LEFT('CONDUIT LENGTH'!$L9,3)=\"2x3\")=TRUE,IF(LEFT('CONDUIT LENGTH'!$L9,2)=\"2x\",'CONDUIT LENGTH'!$K9*2,\"\"),\"\")),\"\"))","v":""},{"$f":"IF($B16=\"SOURCE\",IF(LEFT(G$6,1)='CONDUIT LENGTH'!$M9,IF(F$9='CONDUIT LENGTH'!$L9,'CONDUIT LENGTH'!$K9*-1,IF(AND(F$9=RIGHT('CONDUIT LENGTH'!$L9,2),LEFT('CONDUIT LENGTH'!$L9,3)=\"2x3\")=TRUE,IF(LEFT('CONDUIT LENGTH'!$L9,2)=\"2x\",'CONDUIT LENGTH'!$K9*-1*2,\"\"),\"\")),\"\"),IF(LEFT(G$6,1)='CONDUIT LENGTH'!$M9,IF(F$9='CONDUIT LENGTH'!$L9,'CONDUIT LENGTH'!$K9,IF(AND(F$9=RIGHT('CONDUIT LENGTH'!$L9,2),LEFT('CONDUIT LENGTH'!$L9,3)=\"2x3\")=TRUE,IF(LEFT('CONDUIT LENGTH'!$L9,2)=\"2x\",'CONDUIT LENGTH'!$K9*2,\"\"),\"\")),\"\"))","v":""},{"$f":"IF($B16=\"SOURCE\",IF(LEFT(G$6,1)='CONDUIT LENGTH'!$M9,IF(G$9='CONDUIT LENGTH'!$L9,'CONDUIT LENGTH'!$K9*-1,IF(AND(G$9=RIGHT('CONDUIT LENGTH'!$L9,2),LEFT('CONDUIT LENGTH'!$L9,3)=\"2x3\")=TRUE,IF(LEFT('CONDUIT LENGTH'!$L9,2)=\"2x\",'CONDUIT LENGTH'!$K9*-1*2,\"\"),\"\")),\"\"),IF(LEFT(G$6,1)='CONDUIT LENGTH'!$M9,IF(G$9='CONDUIT LENGTH'!$L9,'CONDUIT LENGTH'!$K9,IF(AND(G$9=RIGHT('CONDUIT LENGTH'!$L9,2),LEFT('CONDUIT LENGTH'!$L9,3)=\"2x3\")=TRUE,IF(LEFT('CONDUIT LENGTH'!$L9,2)=\"2x\",'CONDUIT LENGTH'!$K9*2,\"\"),\"\")),\"\"))","v":""},{"$f":"IF($B16=\"SOURCE\",IF(LEFT(G$6,1)='CONDUIT LENGTH'!$M9,IF(H$9='CONDUIT LENGTH'!$L9,'CONDUIT LENGTH'!$K9*-1,IF(AND(H$9=RIGHT('CONDUIT LENGTH'!$L9,2),LEFT('CONDUIT LENGTH'!$L9,3)=\"2x3\")=TRUE,IF(LEFT('CONDUIT LENGTH'!$L9,2)=\"2x\",'CONDUIT LENGTH'!$K9*-1*2,\"\"),\"\")),\"\"),IF(LEFT(G$6,1)='CONDUIT LENGTH'!$M9,IF(H$9='CONDUIT LENGTH'!$L9,'CONDUIT LENGTH'!$K9,IF(AND(H$9=RIGHT('CONDUIT LENGTH'!$L9,2),LEFT('CONDUIT LENGTH'!$L9,3)=\"2x3\")=TRUE,IF(LEFT('CONDUIT LENGTH'!$L9,2)=\"2x\",'CONDUIT LENGTH'!$K9*2,\"\"),\"\")),\"\"))","v":""},{"$f":"IF($B16=\"SOURCE\",IF(LEFT(J$6,1)='CONDUIT LENGTH'!$M9,IF(I$9='CONDUIT LENGTH'!$L9,'CONDUIT LENGTH'!$K9*-1,IF(AND(I$9=RIGHT('CONDUIT LENGTH'!$L9,2),LEFT('CONDUIT LENGTH'!$L9,3)=\"2x3\")=TRUE,IF(LEFT('CONDUIT LENGTH'!$L9,2)=\"2x\",'CONDUIT LENGTH'!$K9*-1*2,\"\"),\"\")),\"\"),IF(LEFT(J$6,1)='CONDUIT LENGTH'!$M9,IF(I$9='CONDUIT LENGTH'!$L9,'CONDUIT LENGTH'!$K9,IF(AND(I$9=RIGHT('CONDUIT LENGTH'!$L9,2),LEFT('CONDUIT LENGTH'!$L9,3)=\"2x3\")=TRUE,IF(LEFT('CONDUIT LENGTH'!$L9,2)=\"2x\",'CONDUIT LENGTH'!$K9*2,\"\"),\"\")),\"\"))","v":""},{"$f":"IF($B16=\"SOURCE\",IF(LEFT(J$6,1)='CONDUIT LENGTH'!$M9,IF(J$9='CONDUIT LENGTH'!$L9,'CONDUIT LENGTH'!$K9*-1,IF(AND(J$9=RIGHT('CONDUIT LENGTH'!$L9,2),LEFT('CONDUIT LENGTH'!$L9,3)=\"2x3\")=TRUE,IF(LEFT('CONDUIT LENGTH'!$L9,2)=\"2x\",'CONDUIT LENGTH'!$K9*-1*2,\"\"),\"\")),\"\"),IF(LEFT(J$6,1)='CONDUIT LENGTH'!$M9,IF(J$9='CONDUIT LENGTH'!$L9,'CONDUIT LENGTH'!$K9,IF(AND(J$9=RIGHT('CONDUIT LENGTH'!$L9,2),LEFT('CONDUIT LENGTH'!$L9,3)=\"2x3\")=TRUE,IF(LEFT('CONDUIT LENGTH'!$L9,2)=\"2x\",'CONDUIT LENGTH'!$K9*2,\"\"),\"\")),\"\"))","v":""},{"$f":"IF($B16=\"SOURCE\",IF(LEFT(J$6,1)='CONDUIT LENGTH'!$M9,IF(K$9='CONDUIT LENGTH'!$L9,'CONDUIT LENGTH'!$K9*-1,IF(AND(K$9=RIGHT('CONDUIT LENGTH'!$L9,2),LEFT('CONDUIT LENGTH'!$L9,3)=\"2x3\")=TRUE,IF(LEFT('CONDUIT LENGTH'!$L9,2)=\"2x\",'CONDUIT LENGTH'!$K9*-1*2,\"\"),\"\")),\"\"),IF(LEFT(J$6,1)='CONDUIT LENGTH'!$M9,IF(K$9='CONDUIT LENGTH'!$L9,'CONDUIT LENGTH'!$K9,IF(AND(K$9=RIGHT('CONDUIT LENGTH'!$L9,2),LEFT('CONDUIT LENGTH'!$L9,3)=\"2x3\")=TRUE,IF(LEFT('CONDUIT LENGTH'!$L9,2)=\"2x\",'CONDUIT LENGTH'!$K9*2,\"\"),\"\")),\"\"))","v":""},{"$f":"IF($B16=\"SOURCE\",IF(LEFT(M$6,1)='CONDUIT LENGTH'!$M9,IF(L$9='CONDUIT LENGTH'!$L9,'CONDUIT LENGTH'!$K9*-1,IF(AND(L$9=RIGHT('CONDUIT LENGTH'!$L9,2),LEFT('CONDUIT LENGTH'!$L9,3)=\"2x3\")=TRUE,IF(LEFT('CONDUIT LENGTH'!$L9,2)=\"2x\",'CONDUIT LENGTH'!$K9*-1*2,\"\"),\"\")),\"\"),IF(LEFT(M$6,1)='CONDUIT LENGTH'!$M9,IF(L$9='CONDUIT LENGTH'!$L9,'CONDUIT LENGTH'!$K9,IF(AND(L$9=RIGHT('CONDUIT LENGTH'!$L9,2),LEFT('CONDUIT LENGTH'!$L9,3)=\"2x3\")=TRUE,IF(LEFT('CONDUIT LENGTH'!$L9,2)=\"2x\",'CONDUIT LENGTH'!$K9*2,\"\"),\"\")),\"\"))","v":""},{"$f":"IF($B16=\"SOURCE\",IF(LEFT(M$6,1)='CONDUIT LENGTH'!$M9,IF(M$9='CONDUIT LENGTH'!$L9,'CONDUIT LENGTH'!$K9*-1,IF(AND(M$9=RIGHT('CONDUIT LENGTH'!$L9,2),LEFT('CONDUIT LENGTH'!$L9,3)=\"2x3\")=TRUE,IF(LEFT('CONDUIT LENGTH'!$L9,2)=\"2x\",'CONDUIT LENGTH'!$K9*-1*2,\"\"),\"\")),\"\"),IF(LEFT(M$6,1)='CONDUIT LENGTH'!$M9,IF(M$9='CONDUIT LENGTH'!$L9,'CONDUIT LENGTH'!$K9,IF(AND(M$9=RIGHT('CONDUIT LENGTH'!$L9,2),LEFT('CONDUIT LENGTH'!$L9,3)=\"2x3\")=TRUE,IF(LEFT('CONDUIT LENGTH'!$L9,2)=\"2x\",'CONDUIT LENGTH'!$K9*2,\"\"),\"\")),\"\"))","v":""},{"$f":"IF($B16=\"SOURCE\",IF(LEFT(M$6,1)='CONDUIT LENGTH'!$M9,IF(N$9='CONDUIT LENGTH'!$L9,'CONDUIT LENGTH'!$K9*-1,IF(AND(N$9=RIGHT('CONDUIT LENGTH'!$L9,2),LEFT('CONDUIT LENGTH'!$L9,3)=\"2x3\")=TRUE,IF(LEFT('CONDUIT LENGTH'!$L9,2)=\"2x\",'CONDUIT LENGTH'!$K9*-1*2,\"\"),\"\")),\"\"),IF(LEFT(M$6,1)='CONDUIT LENGTH'!$M9,IF(N$9='CONDUIT LENGTH'!$L9,'CONDUIT LENGTH'!$K9,IF(AND(N$9=RIGHT('CONDUIT LENGTH'!$L9,2),LEFT('CONDUIT LENGTH'!$L9,3)=\"2x3\")=TRUE,IF(LEFT('CONDUIT LENGTH'!$L9,2)=\"2x\",'CONDUIT LENGTH'!$K9*2,\"\"),\"\")),\"\"))","v":""},{"$f":"IF($B16=\"SOURCE\",IF(LEFT(P$5,1)='CONDUIT LENGTH'!$M9,IF(O$9='CONDUIT LENGTH'!$L9,'CONDUIT LENGTH'!$K9*-1,IF(AND(O$9=RIGHT('CONDUIT LENGTH'!$L9,2),LEFT('CONDUIT LENGTH'!$L9,3)=\"2x3\")=TRUE,IF(LEFT('CONDUIT LENGTH'!$L9,2)=\"2x\",'CONDUIT LENGTH'!$K9*-1*2,\"\"),\"\")),\"\"),IF(LEFT(P$6,1)='CONDUIT LENGTH'!$M9,IF(O$9='CONDUIT LENGTH'!$L9,'CONDUIT LENGTH'!$K9,IF(AND(O$9=RIGHT('CONDUIT LENGTH'!$L9,2),LEFT('CONDUIT LENGTH'!$L9,3)=\"2x3\")=TRUE,IF(LEFT('CONDUIT LENGTH'!$L9,2)=\"2x\",'CONDUIT LENGTH'!$K9*2,\"\"),\"\")),\"\"))","v":""},{"$f":"IF($B16=\"SOURCE\",IF(LEFT(P$5,1)='CONDUIT LENGTH'!$M9,IF(P$9='CONDUIT LENGTH'!$L9,'CONDUIT LENGTH'!$K9*-1,IF(AND(P$9=RIGHT('CONDUIT LENGTH'!$L9,2),LEFT('CONDUIT LENGTH'!$L9,3)=\"2x3\")=TRUE,IF(LEFT('CONDUIT LENGTH'!$L9,2)=\"2x\",'CONDUIT LENGTH'!$K9*-1*2,\"\"),\"\")),\"\"),IF(LEFT(P$6,1)='CONDUIT LENGTH'!$M9,IF(P$9='CONDUIT LENGTH'!$L9,'CONDUIT LENGTH'!$K9,IF(AND(P$9=RIGHT('CONDUIT LENGTH'!$L9,2),LEFT('CONDUIT LENGTH'!$L9,3)=\"2x3\")=TRUE,IF(LEFT('CONDUIT LENGTH'!$L9,2)=\"2x\",'CONDUIT LENGTH'!$K9*2,\"\"),\"\")),\"\"))","v":""},{"$f":"IF($B16=\"SOURCE\",IF(LEFT(P$5,1)='CONDUIT LENGTH'!$M9,IF(Q$9='CONDUIT LENGTH'!$L9,'CONDUIT LENGTH'!$K9*-1,IF(AND(Q$9=RIGHT('CONDUIT LENGTH'!$L9,2),LEFT('CONDUIT LENGTH'!$L9,3)=\"2x3\")=TRUE,IF(LEFT('CONDUIT LENGTH'!$L9,2)=\"2x\",'CONDUIT LENGTH'!$K9*-1*2,\"\"),\"\")),\"\"),IF(LEFT(Q$6,1)='CONDUIT LENGTH'!$M9,IF(Q$9='CONDUIT LENGTH'!$L9,'CONDUIT LENGTH'!$K9,IF(AND(Q$9=RIGHT('CONDUIT LENGTH'!$L9,2),LEFT('CONDUIT LENGTH'!$L9,3)=\"2x3\")=TRUE,IF(LEFT('CONDUIT LENGTH'!$L9,2)=\"2x\",'CONDUIT LENGTH'!$K9*2,\"\"),\"\")),\"\"))","v":""},{"$f":"IF('CONDUIT LENGTH'!M9=\"UIP\",\"UIP EXISTING\",\"\")","v":""},{"$f":"IF('CABLE LENGTH'!A10>0,'CABLE LENGTH'!A10,\"\")","v":""},{"$f":"IF('CABLE LENGTH'!B10>0,'CABLE LENGTH'!B10,\"\")","v":""},{"$f":"IF('CABLE LENGTH'!Q10>0,'CABLE LENGTH'!Q10,\"\")","v":""},{"$f":"IF($S16=\"SOURCE\",IF(V$9='CABLE LENGTH'!$AK10,'CABLE LENGTH'!$AJ10*'CABLE LENGTH'!$AL10*-1,\"\"),IF(V$9=\"VIDEO\",IF(V$9='CABLE LENGTH'!$AK10,'CABLE LENGTH'!$AJ10*'CABLE LENGTH'!$AL10*-1,\"\"),IF(V$9='CABLE LENGTH'!$AK10,'CABLE LENGTH'!$AJ10*'CABLE LENGTH'!$AL10,\"\")))","v":""},{"$f":"IF($S16=\"SOURCE\",IF(W$9='CABLE LENGTH'!$AK10,'CABLE LENGTH'!$AJ10*'CABLE LENGTH'!$AL10*-1,\"\"),IF(W$9=\"VIDEO\",IF(W$9='CABLE LENGTH'!$AK10,'CABLE LENGTH'!$AJ10*'CABLE LENGTH'!$AL10*-1,\"\"),IF(W$9='CABLE LENGTH'!$AK10,'CABLE LENGTH'!$AJ10*'CABLE LENGTH'!$AL10,\"\")))","v":""},{"$f":"IF($S16=\"SOURCE\",IF(X$10='CABLE LENGTH'!$AK10,'CABLE LENGTH'!$AJ10*'CABLE LENGTH'!$AL10*-1,\"\"),IF(X$10=\"VIDEO\",IF(X$10='CABLE LENGTH'!$AK10,'CABLE LENGTH'!$AJ10*'CABLE LENGTH'!$AL10*-1,\"\"),IF(X$10='CABLE LENGTH'!$AK10,'CABLE LENGTH'!$AJ10*'CABLE LENGTH'!$AL10,\"\")))","v":""},{"$f":"IF($S16=\"SOURCE\",IF(Y$10='CABLE LENGTH'!$AK10,'CABLE LENGTH'!$AJ10*'CABLE LENGTH'!$AL10*-1,\"\"),IF(Y$10=\"VIDEO\",IF(Y$10='CABLE LENGTH'!$AK10,'CABLE LENGTH'!$AJ10*'CABLE LENGTH'!$AL10*-1,\"\"),IF(Y$10='CABLE LENGTH'!$AK10,'CABLE LENGTH'!$AJ10*'CABLE LENGTH'!$AL10,\"\")))","v":""},{"$f":"IF($S16=\"SOURCE\",IF(Z$10='CABLE LENGTH'!$AK10,'CABLE LENGTH'!$AJ10*'CABLE LENGTH'!$AL10*-1,\"\"),IF(Z$10=\"VIDEO\",IF(Z$10='CABLE LENGTH'!$AK10,'CABLE LENGTH'!$AJ10*'CABLE LENGTH'!$AL10*-1,\"\"),IF(Z$10='CABLE LENGTH'!$AK10,'CABLE LENGTH'!$AJ10*'CABLE LENGTH'!$AL10,\"\")))","v":""},{"$f":"IF($S16=\"SOURCE\",IF(AA$10='CABLE LENGTH'!$AK10,'CABLE LENGTH'!$AJ10*'CABLE LENGTH'!$AL10*-1,\"\"),IF(AA$10=\"VIDEO\",IF(AA$10='CABLE LENGTH'!$AK10,'CABLE LENGTH'!$AJ10*'CABLE LENGTH'!$AL10*-1,\"\"),IF(AA$10='CABLE LENGTH'!$AK10,'CABLE LENGTH'!$AJ10*'CABLE LENGTH'!$AL10,\"\")))","v":""},{"$f":"IF($S16=\"SOURCE\",IF(AB$10='CABLE LENGTH'!$AK10,'CABLE LENGTH'!$AJ10*'CABLE LENGTH'!$AL10*-1,\"\"),IF(AB$10=\"VIDEO\",IF(AB$10='CABLE LENGTH'!$AK10,'CABLE LENGTH'!$AJ10*'CABLE LENGTH'!$AL10*-1,\"\"),IF(AB$10='CABLE LENGTH'!$AK10,'CABLE LENGTH'!$AJ10*'CABLE LENGTH'!$AL10,\"\")))","v":""},{"$f":"IF($S16=\"SOURCE\",IF(AC$10='CABLE LENGTH'!$AK10,'CABLE LENGTH'!$AJ10*'CABLE LENGTH'!$AL10*-1,\"\"),IF(AC$10=\"VIDEO\",IF(AC$10='CABLE LENGTH'!$AK10,'CABLE LENGTH'!$AJ10*'CABLE LENGTH'!$AL10*-1,\"\"),IF(AC$10='CABLE LENGTH'!$AK10,'CABLE LENGTH'!$AJ10*'CABLE LENGTH'!$AL10,\"\")))","v":""},{"$f":"IF($S16=\"SOURCE\",IF(AD$9='CABLE LENGTH'!$AK10,'CABLE LENGTH'!$AJ10*'CABLE LENGTH'!$AL10*-1,\"\"),IF(AD$9=\"VIDEO\",IF(AD$9='CABLE LENGTH'!$AK10,'CABLE LENGTH'!$AJ10*'CABLE LENGTH'!$AL10*-1,\"\"),IF(AD$9='CABLE LENGTH'!$AK10,'CABLE LENGTH'!$AJ10*'CABLE LENGTH'!$AL10,\"\")))","v":""},{"$f":"IF($S16=\"SOURCE\",IF(AE$9='CABLE LENGTH'!$AK10,'CABLE LENGTH'!$AJ10*'CABLE LENGTH'!$AL10*-1,\"\"),IF(AE$9=\"VIDEO\",IF(AE$9='CABLE LENGTH'!$AK10,'CABLE LENGTH'!$AJ10*'CABLE LENGTH'!$AL10*-1,\"\"),IF(AE$9='CABLE LENGTH'!$AK10,'CABLE LENGTH'!$AJ10*'CABLE LENGTH'!$AL10,\"\")))","v":""},{"$f":"IF($S16=\"SOURCE\",IF(AF$9='CABLE LENGTH'!$AK10,'CABLE LENGTH'!$AJ10*'CABLE LENGTH'!$AL10*-1,\"\"),IF(AF$9=\"VIDEO\",IF(AF$9='CABLE LENGTH'!$AK10,'CABLE LENGTH'!$AJ10*'CABLE LENGTH'!$AL10*-1,\"\"),IF(AF$9='CABLE LENGTH'!$AK10,'CABLE LENGTH'!$AJ10*'CABLE LENGTH'!$AL10,\"\")))","v":""}]
[0.3,{"$f":"IF('CONDUIT LENGTH'!A10>0,'CONDUIT LENGTH'!A10,\" \")","v":" "},{"$f":"IF('CONDUIT LENGTH'!B10>0,'CONDUIT LENGTH'!B10,\" \")","v":" "},{"$f":"IF('CONDUIT LENGTH'!C10>0,'CONDUIT LENGTH'!C10,\" \")","v":" "},{"$f":"IF($B17=\"SOURCE\",IF(LEFT(E$5,1)='CONDUIT LENGTH'!$M10,IF(E$9='CONDUIT LENGTH'!$L10,'CONDUIT LENGTH'!$K10*-1,IF(AND(E$9=RIGHT('CONDUIT LENGTH'!$L10,2),LEFT('CONDUIT LENGTH'!$L10,3)=\"2x3\")=TRUE,IF(LEFT('CONDUIT LENGTH'!$L10,2)=\"2x\",'CONDUIT LENGTH'!$K10*-1*2,\"\"),\"\")),\"\"),IF(LEFT(E$5,1)='CONDUIT LENGTH'!$M10,IF(E$9='CONDUIT LENGTH'!$L10,'CONDUIT LENGTH'!$K10,IF(AND(E$9=RIGHT('CONDUIT LENGTH'!$L10,2),LEFT('CONDUIT LENGTH'!$L10,3)=\"2x3\")=TRUE,IF(LEFT('CONDUIT LENGTH'!$L10,2)=\"2x\",'CONDUIT LENGTH'!$K10*2,\"\"),\"\")),\"\"))","v":""},{"$f":"IF($B17=\"SOURCE\",IF(LEFT(G$6,1)='CONDUIT LENGTH'!$M10,IF(F$9='CONDUIT LENGTH'!$L10,'CONDUIT LENGTH'!$K10*-1,IF(AND(F$9=RIGHT('CONDUIT LENGTH'!$L10,2),LEFT('CONDUIT LENGTH'!$L10,3)=\"2x3\")=TRUE,IF(LEFT('CONDUIT LENGTH'!$L10,2)=\"2x\",'CONDUIT LENGTH'!$K10*-1*2,\"\"),\"\")),\"\"),IF(LEFT(G$6,1)='CONDUIT LENGTH'!$M10,IF(F$9='CONDUIT LENGTH'!$L10,'CONDUIT LENGTH'!$K10,IF(AND(F$9=RIGHT('CONDUIT LENGTH'!$L10,2),LEFT('CONDUIT LENGTH'!$L10,3)=\"2x3\")=TRUE,IF(LEFT('CONDUIT LENGTH'!$L10,2)=\"2x\",'CONDUIT LENGTH'!$K10*2,\"\"),\"\")),\"\"))","v":""},{"$f":"IF($B17=\"SOURCE\",IF(LEFT(G$6,1)='CONDUIT LENGTH'!$M10,IF(G$9='CONDUIT LENGTH'!$L10,'CONDUIT LENGTH'!$K10*-1,IF(AND(G$9=RIGHT('CONDUIT LENGTH'!$L10,2),LEFT('CONDUIT LENGTH'!$L10,3)=\"2x3\")=TRUE,IF(LEFT('CONDUIT LENGTH'!$L10,2)=\"2x\",'CONDUIT LENGTH'!$K10*-1*2,\"\"),\"\")),\"\"),IF(LEFT(G$6,1)='CONDUIT LENGTH'!$M10,IF(G$9='CONDUIT LENGTH'!$L10,'CONDUIT LENGTH'!$K10,IF(AND(G$9=RIGHT('CONDUIT LENGTH'!$L10,2),LEFT('CONDUIT LENGTH'!$L10,3)=\"2x3\")=TRUE,IF(LEFT('CONDUIT LENGTH'!$L10,2)=\"2x\",'CONDUIT LENGTH'!$K10*2,\"\"),\"\")),\"\"))","v":""},{"$f":"IF($B17=\"SOURCE\",IF(LEFT(G$6,1)='CONDUIT LENGTH'!$M10,IF(H$9='CONDUIT LENGTH'!$L10,'CONDUIT LENGTH'!$K10*-1,IF(AND(H$9=RIGHT('CONDUIT LENGTH'!$L10,2),LEFT('CONDUIT LENGTH'!$L10,3)=\"2x3\")=TRUE,IF(LEFT('CONDUIT LENGTH'!$L10,2)=\"2x\",'CONDUIT LENGTH'!$K10*-1*2,\"\"),\"\")),\"\"),IF(LEFT(G$6,1)='CONDUIT LENGTH'!$M10,IF(H$9='CONDUIT LENGTH'!$L10,'CONDUIT LENGTH'!$K10,IF(AND(H$9=RIGHT('CONDUIT LENGTH'!$L10,2),LEFT('CONDUIT LENGTH'!$L10,3)=\"2x3\")=TRUE,IF(LEFT('CONDUIT LENGTH'!$L10,2)=\"2x\",'CONDUIT LENGTH'!$K10*2,\"\"),\"\")),\"\"))","v":""},{"$f":"IF($B17=\"SOURCE\",IF(LEFT(J$6,1)='CONDUIT LENGTH'!$M10,IF(I$9='CONDUIT LENGTH'!$L10,'CONDUIT LENGTH'!$K10*-1,IF(AND(I$9=RIGHT('CONDUIT LENGTH'!$L10,2),LEFT('CONDUIT LENGTH'!$L10,3)=\"2x3\")=TRUE,IF(LEFT('CONDUIT LENGTH'!$L10,2)=\"2x\",'CONDUIT LENGTH'!$K10*-1*2,\"\"),\"\")),\"\"),IF(LEFT(J$6,1)='CONDUIT LENGTH'!$M10,IF(I$9='CONDUIT LENGTH'!$L10,'CONDUIT LENGTH'!$K10,IF(AND(I$9=RIGHT('CONDUIT LENGTH'!$L10,2),LEFT('CONDUIT LENGTH'!$L10,3)=\"2x3\")=TRUE,IF(LEFT('CONDUIT LENGTH'!$L10,2)=\"2x\",'CONDUIT LENGTH'!$K10*2,\"\"),\"\")),\"\"))","v":""},{"$f":"IF($B17=\"SOURCE\",IF(LEFT(J$6,1)='CONDUIT LENGTH'!$M10,IF(J$9='CONDUIT LENGTH'!$L10,'CONDUIT LENGTH'!$K10*-1,IF(AND(J$9=RIGHT('CONDUIT LENGTH'!$L10,2),LEFT('CONDUIT LENGTH'!$L10,3)=\"2x3\")=TRUE,IF(LEFT('CONDUIT LENGTH'!$L10,2)=\"2x\",'CONDUIT LENGTH'!$K10*-1*2,\"\"),\"\")),\"\"),IF(LEFT(J$6,1)='CONDUIT LENGTH'!$M10,IF(J$9='CONDUIT LENGTH'!$L10,'CONDUIT LENGTH'!$K10,IF(AND(J$9=RIGHT('CONDUIT LENGTH'!$L10,2),LEFT('CONDUIT LENGTH'!$L10,3)=\"2x3\")=TRUE,IF(LEFT('CONDUIT LENGTH'!$L10,2)=\"2x\",'CONDUIT LENGTH'!$K10*2,\"\"),\"\")),\"\"))","v":""},{"$f":"IF($B17=\"SOURCE\",IF(LEFT(J$6,1)='CONDUIT LENGTH'!$M10,IF(K$9='CONDUIT LENGTH'!$L10,'CONDUIT LENGTH'!$K10*-1,IF(AND(K$9=RIGHT('CONDUIT LENGTH'!$L10,2),LEFT('CONDUIT LENGTH'!$L10,3)=\"2x3\")=TRUE,IF(LEFT('CONDUIT LENGTH'!$L10,2)=\"2x\",'CONDUIT LENGTH'!$K10*-1*2,\"\"),\"\")),\"\"),IF(LEFT(J$6,1)='CONDUIT LENGTH'!$M10,IF(K$9='CONDUIT LENGTH'!$L10,'CONDUIT LENGTH'!$K10,IF(AND(K$9=RIGHT('CONDUIT LENGTH'!$L10,2),LEFT('CONDUIT LENGTH'!$L10,3)=\"2x3\")=TRUE,IF(LEFT('CONDUIT LENGTH'!$L10,2)=\"2x\",'CONDUIT LENGTH'!$K10*2,\"\"),\"\")),\"\"))","v":""},{"$f":"IF($B17=\"SOURCE\",IF(LEFT(M$6,1)='CONDUIT LENGTH'!$M10,IF(L$9='CONDUIT LENGTH'!$L10,'CONDUIT LENGTH'!$K10*-1,IF(AND(L$9=RIGHT('CONDUIT LENGTH'!$L10,2),LEFT('CONDUIT LENGTH'!$L10,3)=\"2x3\")=TRUE,IF(LEFT('CONDUIT LENGTH'!$L10,2)=\"2x\",'CONDUIT LENGTH'!$K10*-1*2,\"\"),\"\")),\"\"),IF(LEFT(M$6,1)='CONDUIT LENGTH'!$M10,IF(L$9='CONDUIT LENGTH'!$L10,'CONDUIT LENGTH'!$K10,IF(AND(L$9=RIGHT('CONDUIT LENGTH'!$L10,2),LEFT('CONDUIT LENGTH'!$L10,3)=\"2x3\")=TRUE,IF(LEFT('CONDUIT LENGTH'!$L10,2)=\"2x\",'CONDUIT LENGTH'!$K10*2,\"\"),\"\")),\"\"))","v":""},{"$f":"IF($B17=\"SOURCE\",IF(LEFT(M$6,1)='CONDUIT LENGTH'!$M10,IF(M$9='CONDUIT LENGTH'!$L10,'CONDUIT LENGTH'!$K10*-1,IF(AND(M$9=RIGHT('CONDUIT LENGTH'!$L10,2),LEFT('CONDUIT LENGTH'!$L10,3)=\"2x3\")=TRUE,IF(LEFT('CONDUIT LENGTH'!$L10,2)=\"2x\",'CONDUIT LENGTH'!$K10*-1*2,\"\"),\"\")),\"\"),IF(LEFT(M$6,1)='CONDUIT LENGTH'!$M10,IF(M$9='CONDUIT LENGTH'!$L10,'CONDUIT LENGTH'!$K10,IF(AND(M$9=RIGHT('CONDUIT LENGTH'!$L10,2),LEFT('CONDUIT LENGTH'!$L10,3)=\"2x3\")=TRUE,IF(LEFT('CONDUIT LENGTH'!$L10,2)=\"2x\",'CONDUIT LENGTH'!$K10*2,\"\"),\"\")),\"\"))","v":""},{"$f":"IF($B17=\"SOURCE\",IF(LEFT(M$6,1)='CONDUIT LENGTH'!$M10,IF(N$9='CONDUIT LENGTH'!$L10,'CONDUIT LENGTH'!$K10*-1,IF(AND(N$9=RIGHT('CONDUIT LENGTH'!$L10,2),LEFT('CONDUIT LENGTH'!$L10,3)=\"2x3\")=TRUE,IF(LEFT('CONDUIT LENGTH'!$L10,2)=\"2x\",'CONDUIT LENGTH'!$K10*-1*2,\"\"),\"\")),\"\"),IF(LEFT(M$6,1)='CONDUIT LENGTH'!$M10,IF(N$9='CONDUIT LENGTH'!$L10,'CONDUIT LENGTH'!$K10,IF(AND(N$9=RIGHT('CONDUIT LENGTH'!$L10,2),LEFT('CONDUIT LENGTH'!$L10,3)=\"2x3\")=TRUE,IF(LEFT('CONDUIT LENGTH'!$L10,2)=\"2x\",'CONDUIT LENGTH'!$K10*2,\"\"),\"\")),\"\"))","v":""},{"$f":"IF($B17=\"SOURCE\",IF(LEFT(P$5,1)='CONDUIT LENGTH'!$M10,IF(O$9='CONDUIT LENGTH'!$L10,'CONDUIT LENGTH'!$K10*-1,IF(AND(O$9=RIGHT('CONDUIT LENGTH'!$L10,2),LEFT('CONDUIT LENGTH'!$L10,3)=\"2x3\")=TRUE,IF(LEFT('CONDUIT LENGTH'!$L10,2)=\"2x\",'CONDUIT LENGTH'!$K10*-1*2,\"\"),\"\")),\"\"),IF(LEFT(P$6,1)='CONDUIT LENGTH'!$M10,IF(O$9='CONDUIT LENGTH'!$L10,'CONDUIT LENGTH'!$K10,IF(AND(O$9=RIGHT('CONDUIT LENGTH'!$L10,2),LEFT('CONDUIT LENGTH'!$L10,3)=\"2x3\")=TRUE,IF(LEFT('CONDUIT LENGTH'!$L10,2)=\"2x\",'CONDUIT LENGTH'!$K10*2,\"\"),\"\")),\"\"))","v":""},{"$f":"IF($B17=\"SOURCE\",IF(LEFT(P$5,1)='CONDUIT LENGTH'!$M10,IF(P$9='CONDUIT LENGTH'!$L10,'CONDUIT LENGTH'!$K10*-1,IF(AND(P$9=RIGHT('CONDUIT LENGTH'!$L10,2),LEFT('CONDUIT LENGTH'!$L10,3)=\"2x3\")=TRUE,IF(LEFT('CONDUIT LENGTH'!$L10,2)=\"2x\",'CONDUIT LENGTH'!$K10*-1*2,\"\"),\"\")),\"\"),IF(LEFT(P$6,1)='CONDUIT LENGTH'!$M10,IF(P$9='CONDUIT LENGTH'!$L10,'CONDUIT LENGTH'!$K10,IF(AND(P$9=RIGHT('CONDUIT LENGTH'!$L10,2),LEFT('CONDUIT LENGTH'!$L10,3)=\"2x3\")=TRUE,IF(LEFT('CONDUIT LENGTH'!$L10,2)=\"2x\",'CONDUIT LENGTH'!$K10*2,\"\"),\"\")),\"\"))","v":""},{"$f":"IF($B17=\"SOURCE\",IF(LEFT(P$5,1)='CONDUIT LENGTH'!$M10,IF(Q$9='CONDUIT LENGTH'!$L10,'CONDUIT LENGTH'!$K10*-1,IF(AND(Q$9=RIGHT('CONDUIT LENGTH'!$L10,2),LEFT('CONDUIT LENGTH'!$L10,3)=\"2x3\")=TRUE,IF(LEFT('CONDUIT LENGTH'!$L10,2)=\"2x\",'CONDUIT LENGTH'!$K10*-1*2,\"\"),\"\")),\"\"),IF(LEFT(Q$6,1)='CONDUIT LENGTH'!$M10,IF(Q$9='CONDUIT LENGTH'!$L10,'CONDUIT LENGTH'!$K10,IF(AND(Q$9=RIGHT('CONDUIT LENGTH'!$L10,2),LEFT('CONDUIT LENGTH'!$L10,3)=\"2x3\")=TRUE,IF(LEFT('CONDUIT LENGTH'!$L10,2)=\"2x\",'CONDUIT LENGTH'!$K10*2,\"\"),\"\")),\"\"))","v":""},{"$f":"IF('CONDUIT LENGTH'!M10=\"UIP\",\"UIP EXISTING\",\"\")","v":""},{"$f":"IF('CABLE LENGTH'!A11>0,'CABLE LENGTH'!A11,\"\")","v":""},{"$f":"IF('CABLE LENGTH'!B11>0,'CABLE LENGTH'!B11,\"\")","v":""},{"$f":"IF('CABLE LENGTH'!Q11>0,'CABLE LENGTH'!Q11,\"\")","v":""},{"$f":"IF($S17=\"SOURCE\",IF(V$9='CABLE LENGTH'!$AK11,'CABLE LENGTH'!$AJ11*'CABLE LENGTH'!$AL11*-1,\"\"),IF(V$9=\"VIDEO\",IF(V$9='CABLE LENGTH'!$AK11,'CABLE LENGTH'!$AJ11*'CABLE LENGTH'!$AL11*-1,\"\"),IF(V$9='CABLE LENGTH'!$AK11,'CABLE LENGTH'!$AJ11*'CABLE LENGTH'!$AL11,\"\")))","v":""},{"$f":"IF($S17=\"SOURCE\",IF(W$9='CABLE LENGTH'!$AK11,'CABLE LENGTH'!$AJ11*'CABLE LENGTH'!$AL11*-1,\"\"),IF(W$9=\"VIDEO\",IF(W$9='CABLE LENGTH'!$AK11,'CABLE LENGTH'!$AJ11*'CABLE LENGTH'!$AL11*-1,\"\"),IF(W$9='CABLE LENGTH'!$AK11,'CABLE LENGTH'!$AJ11*'CABLE LENGTH'!$AL11,\"\")))","v":""},{"$f":"IF($S17=\"SOURCE\",IF(X$10='CABLE LENGTH'!$AK11,'CABLE LENGTH'!$AJ11*'CABLE LENGTH'!$AL11*-1,\"\"),IF(X$10=\"VIDEO\",IF(X$10='CABLE LENGTH'!$AK11,'CABLE LENGTH'!$AJ11*'CABLE LENGTH'!$AL11*-1,\"\"),IF(X$10='CABLE LENGTH'!$AK11,'CABLE LENGTH'!$AJ11*'CABLE LENGTH'!$AL11,\"\")))","v":""},{"$f":"IF($S17=\"SOURCE\",IF(Y$10='CABLE LENGTH'!$AK11,'CABLE LENGTH'!$AJ11*'CABLE LENGTH'!$AL11*-1,\"\"),IF(Y$10=\"VIDEO\",IF(Y$10='CABLE LENGTH'!$AK11,'CABLE LENGTH'!$AJ11*'CABLE LENGTH'!$AL11*-1,\"\"),IF(Y$10='CABLE LENGTH'!$AK11,'CABLE LENGTH'!$AJ11*'CABLE LENGTH'!$AL11,\"\")))","v":""},{"$f":"IF($S17=\"SOURCE\",IF(Z$10='CABLE LENGTH'!$AK11,'CABLE LENGTH'!$AJ11*'CABLE LENGTH'!$AL11*-1,\"\"),IF(Z$10=\"VIDEO\",IF(Z$10='CABLE LENGTH'!$AK11,'CABLE LENGTH'!$AJ11*'CABLE LENGTH'!$AL11*-1,\"\"),IF(Z$10='CABLE LENGTH'!$AK11,'CABLE LENGTH'!$AJ11*'CABLE LENGTH'!$AL11,\"\")))","v":""},{"$f":"IF($S17=\"SOURCE\",IF(AA$10='CABLE LENGTH'!$AK11,'CABLE LENGTH'!$AJ11*'CABLE LENGTH'!$AL11*-1,\"\"),IF(AA$10=\"VIDEO\",IF(AA$10='CABLE LENGTH'!$AK11,'CABLE LENGTH'!$AJ11*'CABLE LENGTH'!$AL11*-1,\"\"),IF(AA$10='CABLE LENGTH'!$AK11,'CABLE LENGTH'!$AJ11*'CABLE LENGTH'!$AL11,\"\")))","v":""},{"$f":"IF($S17=\"SOURCE\",IF(AB$10='CABLE LENGTH'!$AK11,'CABLE LENGTH'!$AJ11*'CABLE LENGTH'!$AL11*-1,\"\"),IF(AB$10=\"VIDEO\",IF(AB$10='CABLE LENGTH'!$AK11,'CABLE LENGTH'!$AJ11*'CABLE LENGTH'!$AL11*-1,\"\"),IF(AB$10='CABLE LENGTH'!$AK11,'CABLE LENGTH'!$AJ11*'CABLE LENGTH'!$AL11,\"\")))","v":""},{"$f":"IF($S17=\"SOURCE\",IF(AC$10='CABLE LENGTH'!$AK11,'CABLE LENGTH'!$AJ11*'CABLE LENGTH'!$AL11*-1,\"\"),IF(AC$10=\"VIDEO\",IF(AC$10='CABLE LENGTH'!$AK11,'CABLE LENGTH'!$AJ11*'CABLE LENGTH'!$AL11*-1,\"\"),IF(AC$10='CABLE LENGTH'!$AK11,'CABLE LENGTH'!$AJ11*'CABLE LENGTH'!$AL11,\"\")))","v":""},{"$f":"IF($S17=\"SOURCE\",IF(AD$9='CABLE LENGTH'!$AK11,'CABLE LENGTH'!$AJ11*'CABLE LENGTH'!$AL11*-1,\"\"),IF(AD$9=\"VIDEO\",IF(AD$9='CABLE LENGTH'!$AK11,'CABLE LENGTH'!$AJ11*'CABLE LENGTH'!$AL11*-1,\"\"),IF(AD$9='CABLE LENGTH'!$AK11,'CABLE LENGTH'!$AJ11*'CABLE LENGTH'!$AL11,\"\")))","v":""},{"$f":"IF($S17=\"SOURCE\",IF(AE$9='CABLE LENGTH'!$AK11,'CABLE LENGTH'!$AJ11*'CABLE LENGTH'!$AL11*-1,\"\"),IF(AE$9=\"VIDEO\",IF(AE$9='CABLE LENGTH'!$AK11,'CABLE LENGTH'!$AJ11*'CABLE LENGTH'!$AL11*-1,\"\"),IF(AE$9='CABLE LENGTH'!$AK11,'CABLE LENGTH'!$AJ11*'CABLE LENGTH'!$AL11,\"\")))","v":""},{"$f":"IF($S17=\"SOURCE\",IF(AF$9='CABLE LENGTH'!$AK11,'CABLE LENGTH'!$AJ11*'CABLE LENGTH'!$AL11*-1,\"\"),IF(AF$9=\"VIDEO\",IF(AF$9='CABLE LENGTH'!$AK11,'CABLE LENGTH'!$AJ11*'CABLE LENGTH'!$AL11*-1,\"\"),IF(AF$9='CABLE LENGTH'!$AK11,'CABLE LENGTH'!$AJ11*'CABLE LENGTH'!$AL11,\"\")))","v":""},"INCLUDES JUMPER"]
[0.3,{"$f":"IF('CONDUIT LENGTH'!A11>0,'CONDUIT LENGTH'!A11,\" \")","v":" "},{"$f":"IF('CONDUIT LENGTH'!B11>0,'CONDUIT LENGTH'!B11,\" \")","v":" "},{"$f":"IF('CONDUIT LENGTH'!C11>0,'CONDUIT LENGTH'!C11,\" \")","v":" "},{"$f":"IF($B18=\"SOURCE\",IF(LEFT(E$5,1)='CONDUIT LENGTH'!$M11,IF(E$9='CONDUIT LENGTH'!$L11,'CONDUIT LENGTH'!$K11*-1,IF(AND(E$9=RIGHT('CONDUIT LENGTH'!$L11,2),LEFT('CONDUIT LENGTH'!$L11,3)=\"2x3\")=TRUE,IF(LEFT('CONDUIT LENGTH'!$L11,2)=\"2x\",'CONDUIT LENGTH'!$K11*-1*2,\"\"),\"\")),\"\"),IF(LEFT(E$5,1)='CONDUIT LENGTH'!$M11,IF(E$9='CONDUIT LENGTH'!$L11,'CONDUIT LENGTH'!$K11,IF(AND(E$9=RIGHT('CONDUIT LENGTH'!$L11,2),LEFT('CONDUIT LENGTH'!$L11,3)=\"2x3\")=TRUE,IF(LEFT('CONDUIT LENGTH'!$L11,2)=\"2x\",'CONDUIT LENGTH'!$K11*2,\"\"),\"\")),\"\"))","v":""},{"$f":"IF($B18=\"SOURCE\",IF(LEFT(G$6,1)='CONDUIT LENGTH'!$M11,IF(F$9='CONDUIT LENGTH'!$L11,'CONDUIT LENGTH'!$K11*-1,IF(AND(F$9=RIGHT('CONDUIT LENGTH'!$L11,2),LEFT('CONDUIT LENGTH'!$L11,3)=\"2x3\")=TRUE,IF(LEFT('CONDUIT LENGTH'!$L11,2)=\"2x\",'CONDUIT LENGTH'!$K11*-1*2,\"\"),\"\")),\"\"),IF(LEFT(G$6,1)='CONDUIT LENGTH'!$M11,IF(F$9='CONDUIT LENGTH'!$L11,'CONDUIT LENGTH'!$K11,IF(AND(F$9=RIGHT('CONDUIT LENGTH'!$L11,2),LEFT('CONDUIT LENGTH'!$L11,3)=\"2x3\")=TRUE,IF(LEFT('CONDUIT LENGTH'!$L11,2)=\"2x\",'CONDUIT LENGTH'!$K11*2,\"\"),\"\")),\"\"))","v":""},{"$f":"IF($B18=\"SOURCE\",IF(LEFT(G$6,1)='CONDUIT LENGTH'!$M11,IF(G$9='CONDUIT LENGTH'!$L11,'CONDUIT LENGTH'!$K11*-1,IF(AND(G$9=RIGHT('CONDUIT LENGTH'!$L11,2),LEFT('CONDUIT LENGTH'!$L11,3)=\"2x3\")=TRUE,IF(LEFT('CONDUIT LENGTH'!$L11,2)=\"2x\",'CONDUIT LENGTH'!$K11*-1*2,\"\"),\"\")),\"\"),IF(LEFT(G$6,1)='CONDUIT LENGTH'!$M11,IF(G$9='CONDUIT LENGTH'!$L11,'CONDUIT LENGTH'!$K11,IF(AND(G$9=RIGHT('CONDUIT LENGTH'!$L11,2),LEFT('CONDUIT LENGTH'!$L11,3)=\"2x3\")=TRUE,IF(LEFT('CONDUIT LENGTH'!$L11,2)=\"2x\",'CONDUIT LENGTH'!$K11*2,\"\"),\"\")),\"\"))","v":""},{"$f":"IF($B18=\"SOURCE\",IF(LEFT(G$6,1)='CONDUIT LENGTH'!$M11,IF(H$9='CONDUIT LENGTH'!$L11,'CONDUIT LENGTH'!$K11*-1,IF(AND(H$9=RIGHT('CONDUIT LENGTH'!$L11,2),LEFT('CONDUIT LENGTH'!$L11,3)=\"2x3\")=TRUE,IF(LEFT('CONDUIT LENGTH'!$L11,2)=\"2x\",'CONDUIT LENGTH'!$K11*-1*2,\"\"),\"\")),\"\"),IF(LEFT(G$6,1)='CONDUIT LENGTH'!$M11,IF(H$9='CONDUIT LENGTH'!$L11,'CONDUIT LENGTH'!$K11,IF(AND(H$9=RIGHT('CONDUIT LENGTH'!$L11,2),LEFT('CONDUIT LENGTH'!$L11,3)=\"2x3\")=TRUE,IF(LEFT('CONDUIT LENGTH'!$L11,2)=\"2x\",'CONDUIT LENGTH'!$K11*2,\"\"),\"\")),\"\"))","v":""},{"$f":"IF($B18=\"SOURCE\",IF(LEFT(J$6,1)='CONDUIT LENGTH'!$M11,IF(I$9='CONDUIT LENGTH'!$L11,'CONDUIT LENGTH'!$K11*-1,IF(AND(I$9=RIGHT('CONDUIT LENGTH'!$L11,2),LEFT('CONDUIT LENGTH'!$L11,3)=\"2x3\")=TRUE,IF(LEFT('CONDUIT LENGTH'!$L11,2)=\"2x\",'CONDUIT LENGTH'!$K11*-1*2,\"\"),\"\")),\"\"),IF(LEFT(J$6,1)='CONDUIT LENGTH'!$M11,IF(I$9='CONDUIT LENGTH'!$L11,'CONDUIT LENGTH'!$K11,IF(AND(I$9=RIGHT('CONDUIT LENGTH'!$L11,2),LEFT('CONDUIT LENGTH'!$L11,3)=\"2x3\")=TRUE,IF(LEFT('CONDUIT LENGTH'!$L11,2)=\"2x\",'CONDUIT LENGTH'!$K11*2,\"\"),\"\")),\"\"))","v":""},{"$f":"IF($B18=\"SOURCE\",IF(LEFT(J$6,1)='CONDUIT LENGTH'!$M11,IF(J$9='CONDUIT LENGTH'!$L11,'CONDUIT LENGTH'!$K11*-1,IF(AND(J$9=RIGHT('CONDUIT LENGTH'!$L11,2),LEFT('CONDUIT LENGTH'!$L11,3)=\"2x3\")=TRUE,IF(LEFT('CONDUIT LENGTH'!$L11,2)=\"2x\",'CONDUIT LENGTH'!$K11*-1*2,\"\"),\"\")),\"\"),IF(LEFT(J$6,1)='CONDUIT LENGTH'!$M11,IF(J$9='CONDUIT LENGTH'!$L11,'CONDUIT LENGTH'!$K11,IF(AND(J$9=RIGHT('CONDUIT LENGTH'!$L11,2),LEFT('CONDUIT LENGTH'!$L11,3)=\"2x3\")=TRUE,IF(LEFT('CONDUIT LENGTH'!$L11,2)=\"2x\",'CONDUIT LENGTH'!$K11*2,\"\"),\"\")),\"\"))","v":""},{"$f":"IF($B18=\"SOURCE\",IF(LEFT(J$6,1)='CONDUIT LENGTH'!$M11,IF(K$9='CONDUIT LENGTH'!$L11,'CONDUIT LENGTH'!$K11*-1,IF(AND(K$9=RIGHT('CONDUIT LENGTH'!$L11,2),LEFT('CONDUIT LENGTH'!$L11,3)=\"2x3\")=TRUE,IF(LEFT('CONDUIT LENGTH'!$L11,2)=\"2x\",'CONDUIT LENGTH'!$K11*-1*2,\"\"),\"\")),\"\"),IF(LEFT(J$6,1)='CONDUIT LENGTH'!$M11,IF(K$9='CONDUIT LENGTH'!$L11,'CONDUIT LENGTH'!$K11,IF(AND(K$9=RIGHT('CONDUIT LENGTH'!$L11,2),LEFT('CONDUIT LENGTH'!$L11,3)=\"2x3\")=TRUE,IF(LEFT('CONDUIT LENGTH'!$L11,2)=\"2x\",'CONDUIT LENGTH'!$K11*2,\"\"),\"\")),\"\"))","v":""},{"$f":"IF($B18=\"SOURCE\",IF(LEFT(M$6,1)='CONDUIT LENGTH'!$M11,IF(L$9='CONDUIT LENGTH'!$L11,'CONDUIT LENGTH'!$K11*-1,IF(AND(L$9=RIGHT('CONDUIT LENGTH'!$L11,2),LEFT('CONDUIT LENGTH'!$L11,3)=\"2x3\")=TRUE,IF(LEFT('CONDUIT LENGTH'!$L11,2)=\"2x\",'CONDUIT LENGTH'!$K11*-1*2,\"\"),\"\")),\"\"),IF(LEFT(M$6,1)='CONDUIT LENGTH'!$M11,IF(L$9='CONDUIT LENGTH'!$L11,'CONDUIT LENGTH'!$K11,IF(AND(L$9=RIGHT('CONDUIT LENGTH'!$L11,2),LEFT('CONDUIT LENGTH'!$L11,3)=\"2x3\")=TRUE,IF(LEFT('CONDUIT LENGTH'!$L11,2)=\"2x\",'CONDUIT LENGTH'!$K11*2,\"\"),\"\")),\"\"))","v":""},{"$f":"IF($B18=\"SOURCE\",IF(LEFT(M$6,1)='CONDUIT LENGTH'!$M11,IF(M$9='CONDUIT LENGTH'!$L11,'CONDUIT LENGTH'!$K11*-1,IF(AND(M$9=RIGHT('CONDUIT LENGTH'!$L11,2),LEFT('CONDUIT LENGTH'!$L11,3)=\"2x3\")=TRUE,IF(LEFT('CONDUIT LENGTH'!$L11,2)=\"2x\",'CONDUIT LENGTH'!$K11*-1*2,\"\"),\"\")),\"\"),IF(LEFT(M$6,1)='CONDUIT LENGTH'!$M11,IF(M$9='CONDUIT LENGTH'!$L11,'CONDUIT LENGTH'!$K11,IF(AND(M$9=RIGHT('CONDUIT LENGTH'!$L11,2),LEFT('CONDUIT LENGTH'!$L11,3)=\"2x3\")=TRUE,IF(LEFT('CONDUIT LENGTH'!$L11,2)=\"2x\",'CONDUIT LENGTH'!$K11*2,\"\"),\"\")),\"\"))","v":""},{"$f":"IF($B18=\"SOURCE\",IF(LEFT(M$6,1)='CONDUIT LENGTH'!$M11,IF(N$9='CONDUIT LENGTH'!$L11,'CONDUIT LENGTH'!$K11*-1,IF(AND(N$9=RIGHT('CONDUIT LENGTH'!$L11,2),LEFT('CONDUIT LENGTH'!$L11,3)=\"2x3\")=TRUE,IF(LEFT('CONDUIT LENGTH'!$L11,2)=\"2x\",'CONDUIT LENGTH'!$K11*-1*2,\"\"),\"\")),\"\"),IF(LEFT(M$6,1)='CONDUIT LENGTH'!$M11,IF(N$9='CONDUIT LENGTH'!$L11,'CONDUIT LENGTH'!$K11,IF(AND(N$9=RIGHT('CONDUIT LENGTH'!$L11,2),LEFT('CONDUIT LENGTH'!$L11,3)=\"2x3\")=TRUE,IF(LEFT('CONDUIT LENGTH'!$L11,2)=\"2x\",'CONDUIT LENGTH'!$K11*2,\"\"),\"\")),\"\"))","v":""},{"$f":"IF($B18=\"SOURCE\",IF(LEFT(P$5,1)='CONDUIT LENGTH'!$M11,IF(O$9='CONDUIT LENGTH'!$L11,'CONDUIT LENGTH'!$K11*-1,IF(AND(O$9=RIGHT('CONDUIT LENGTH'!$L11,2),LEFT('CONDUIT LENGTH'!$L11,3)=\"2x3\")=TRUE,IF(LEFT('CONDUIT LENGTH'!$L11,2)=\"2x\",'CONDUIT LENGTH'!$K11*-1*2,\"\"),\"\")),\"\"),IF(LEFT(P$6,1)='CONDUIT LENGTH'!$M11,IF(O$9='CONDUIT LENGTH'!$L11,'CONDUIT LENGTH'!$K11,IF(AND(O$9=RIGHT('CONDUIT LENGTH'!$L11,2),LEFT('CONDUIT LENGTH'!$L11,3)=\"2x3\")=TRUE,IF(LEFT('CONDUIT LENGTH'!$L11,2)=\"2x\",'CONDUIT LENGTH'!$K11*2,\"\"),\"\")),\"\"))","v":""},{"$f":"IF($B18=\"SOURCE\",IF(LEFT(P$5,1)='CONDUIT LENGTH'!$M11,IF(P$9='CONDUIT LENGTH'!$L11,'CONDUIT LENGTH'!$K11*-1,IF(AND(P$9=RIGHT('CONDUIT LENGTH'!$L11,2),LEFT('CONDUIT LENGTH'!$L11,3)=\"2x3\")=TRUE,IF(LEFT('CONDUIT LENGTH'!$L11,2)=\"2x\",'CONDUIT LENGTH'!$K11*-1*2,\"\"),\"\")),\"\"),IF(LEFT(P$6,1)='CONDUIT LENGTH'!$M11,IF(P$9='CONDUIT LENGTH'!$L11,'CONDUIT LENGTH'!$K11,IF(AND(P$9=RIGHT('CONDUIT LENGTH'!$L11,2),LEFT('CONDUIT LENGTH'!$L11,3)=\"2x3\")=TRUE,IF(LEFT('CONDUIT LENGTH'!$L11,2)=\"2x\",'CONDUIT LENGTH'!$K11*2,\"\"),\"\")),\"\"))","v":""},{"$f":"IF($B18=\"SOURCE\",IF(LEFT(P$5,1)='CONDUIT LENGTH'!$M11,IF(Q$9='CONDUIT LENGTH'!$L11,'CONDUIT LENGTH'!$K11*-1,IF(AND(Q$9=RIGHT('CONDUIT LENGTH'!$L11,2),LEFT('CONDUIT LENGTH'!$L11,3)=\"2x3\")=TRUE,IF(LEFT('CONDUIT LENGTH'!$L11,2)=\"2x\",'CONDUIT LENGTH'!$K11*-1*2,\"\"),\"\")),\"\"),IF(LEFT(Q$6,1)='CONDUIT LENGTH'!$M11,IF(Q$9='CONDUIT LENGTH'!$L11,'CONDUIT LENGTH'!$K11,IF(AND(Q$9=RIGHT('CONDUIT LENGTH'!$L11,2),LEFT('CONDUIT LENGTH'!$L11,3)=\"2x3\")=TRUE,IF(LEFT('CONDUIT LENGTH'!$L11,2)=\"2x\",'CONDUIT LENGTH'!$K11*2,\"\"),\"\")),\"\"))","v":""},{"$f":"IF('CONDUIT LENGTH'!M11=\"UIP\",\"UIP EXISTING\",\"\")","v":""},{"$f":"IF('CABLE LENGTH'!A12>0,'CABLE LENGTH'!A12,\"\")","v":""},{"$f":"IF('CABLE LENGTH'!B12>0,'CABLE LENGTH'!B12,\"\")","v":""},{"$f":"IF('CABLE LENGTH'!Q12>0,'CABLE LENGTH'!Q12,\"\")","v":""},{"$f":"IF($S18=\"SOURCE\",IF(V$9='CABLE LENGTH'!$AK12,'CABLE LENGTH'!$AJ12*'CABLE LENGTH'!$AL12*-1,\"\"),IF(V$9=\"VIDEO\",IF(V$9='CABLE LENGTH'!$AK12,'CABLE LENGTH'!$AJ12*'CABLE LENGTH'!$AL12*-1,\"\"),IF(V$9='CABLE LENGTH'!$AK12,'CABLE LENGTH'!$AJ12*'CABLE LENGTH'!$AL12,\"\")))","v":""},{"$f":"IF($S18=\"SOURCE\",IF(W$9='CABLE LENGTH'!$AK12,'CABLE LENGTH'!$AJ12*'CABLE LENGTH'!$AL12*-1,\"\"),IF(W$9=\"VIDEO\",IF(W$9='CABLE LENGTH'!$AK12,'CABLE LENGTH'!$AJ12*'CABLE LENGTH'!$AL12*-1,\"\"),IF(W$9='CABLE LENGTH'!$AK12,'CABLE LENGTH'!$AJ12*'CABLE LENGTH'!$AL12,\"\")))","v":""},{"$f":"IF($S18=\"SOURCE\",IF(X$10='CABLE LENGTH'!$AK12,'CABLE LENGTH'!$AJ12*'CABLE LENGTH'!$AL12*-1,\"\"),IF(X$10=\"VIDEO\",IF(X$10='CABLE LENGTH'!$AK12,'CABLE LENGTH'!$AJ12*'CABLE LENGTH'!$AL12*-1,\"\"),IF(X$10='CABLE LENGTH'!$AK12,'CABLE LENGTH'!$AJ12*'CABLE LENGTH'!$AL12,\"\")))","v":""},{"$f":"IF($S18=\"SOURCE\",IF(Y$10='CABLE LENGTH'!$AK12,'CABLE LENGTH'!$AJ12*'CABLE LENGTH'!$AL12*-1,\"\"),IF(Y$10=\"VIDEO\",IF(Y$10='CABLE LENGTH'!$AK12,'CABLE LENGTH'!$AJ12*'CABLE LENGTH'!$AL12*-1,\"\"),IF(Y$10='CABLE LENGTH'!$AK12,'CABLE LENGTH'!$AJ12*'CABLE LENGTH'!$AL12,\"\")))","v":""},{"$f":"IF($S18=\"SOURCE\",IF(Z$10='CABLE LENGTH'!$AK12,'CABLE LENGTH'!$AJ12*'CABLE LENGTH'!$AL12*-1,\"\"),IF(Z$10=\"VIDEO\",IF(Z$10='CABLE LENGTH'!$AK12,'CABLE LENGTH'!$AJ12*'CABLE LENGTH'!$AL12*-1,\"\"),IF(Z$10='CABLE LENGTH'!$AK12,'CABLE LENGTH'!$AJ12*'CABLE LENGTH'!$AL12,\"\")))","v":""},{"$f":"IF($S18=\"SOURCE\",IF(AA$10='CABLE LENGTH'!$AK12,'CABLE LENGTH'!$AJ12*'CABLE LENGTH'!$AL12*-1,\"\"),IF(AA$10=\"VIDEO\",IF(AA$10='CABLE LENGTH'!$AK12,'CABLE LENGTH'!$AJ12*'CABLE LENGTH'!$AL12*-1,\"\"),IF(AA$10='CABLE LENGTH'!$AK12,'CABLE LENGTH'!$AJ12*'CABLE LENGTH'!$AL12,\"\")))","v":""},{"$f":"IF($S18=\"SOURCE\",IF(AB$10='CABLE LENGTH'!$AK12,'CABLE LENGTH'!$AJ12*'CABLE LENGTH'!$AL12*-1,\"\"),IF(AB$10=\"VIDEO\",IF(AB$10='CABLE LENGTH'!$AK12,'CABLE LENGTH'!$AJ12*'CABLE LENGTH'!$AL12*-1,\"\"),IF(AB$10='CABLE LENGTH'!$AK12,'CABLE LENGTH'!$AJ12*'CABLE LENGTH'!$AL12,\"\")))","v":""},{"$f":"IF($S18=\"SOURCE\",IF(AC$10='CABLE LENGTH'!$AK12,'CABLE LENGTH'!$AJ12*'CABLE LENGTH'!$AL12*-1,\"\"),IF(AC$10=\"VIDEO\",IF(AC$10='CABLE LENGTH'!$AK12,'CABLE LENGTH'!$AJ12*'CABLE LENGTH'!$AL12*-1,\"\"),IF(AC$10='CABLE LENGTH'!$AK12,'CABLE LENGTH'!$AJ12*'CABLE LENGTH'!$AL12,\"\")))","v":""},{"$f":"IF($S18=\"SOURCE\",IF(AD$9='CABLE LENGTH'!$AK12,'CABLE LENGTH'!$AJ12*'CABLE LENGTH'!$AL12*-1,\"\"),IF(AD$9=\"VIDEO\",IF(AD$9='CABLE LENGTH'!$AK12,'CABLE LENGTH'!$AJ12*'CABLE LENGTH'!$AL12*-1,\"\"),IF(AD$9='CABLE LENGTH'!$AK12,'CABLE LENGTH'!$AJ12*'CABLE LENGTH'!$AL12,\"\")))","v":""},{"$f":"IF($S18=\"SOURCE\",IF(AE$9='CABLE LENGTH'!$AK12,'CABLE LENGTH'!$AJ12*'CABLE LENGTH'!$AL12*-1,\"\"),IF(AE$9=\"VIDEO\",IF(AE$9='CABLE LENGTH'!$AK12,'CABLE LENGTH'!$AJ12*'CABLE LENGTH'!$AL12*-1,\"\"),IF(AE$9='CABLE LENGTH'!$AK12,'CABLE LENGTH'!$AJ12*'CABLE LENGTH'!$AL12,\"\")))","v":""},{"$f":"IF($S18=\"SOURCE\",IF(AF$9='CABLE LENGTH'!$AK12,'CABLE LENGTH'!$AJ12*'CABLE LENGTH'!$AL12*-1,\"\"),IF(AF$9=\"VIDEO\",IF(AF$9='CABLE LENGTH'!$AK12,'CABLE LENGTH'!$AJ12*'CABLE LENGTH'!$AL12*-1,\"\"),IF(AF$9='CABLE LENGTH'!$AK12,'CABLE LENGTH'!$AJ12*'CABLE LENGTH'!$AL12,\"\")))","v":""}]
[0.3,{"$f":"IF('CONDUIT LENGTH'!A12>0,'CONDUIT LENGTH'!A12,\" \")","v":" "},{"$f":"IF('CONDUIT LENGTH'!B12>0,'CONDUIT LENGTH'!B12,\" \")","v":" "},{"$f":"IF('CONDUIT LENGTH'!C12>0,'CONDUIT LENGTH'!C12,\" \")","v":" "},{"$f":"IF($B19=\"SOURCE\",IF(LEFT(E$5,1)='CONDUIT LENGTH'!$M12,IF(E$9='CONDUIT LENGTH'!$L12,'CONDUIT LENGTH'!$K12*-1,IF(AND(E$9=RIGHT('CONDUIT LENGTH'!$L12,2),LEFT('CONDUIT LENGTH'!$L12,3)=\"2x3\")=TRUE,IF(LEFT('CONDUIT LENGTH'!$L12,2)=\"2x\",'CONDUIT LENGTH'!$K12*-1*2,\"\"),\"\")),\"\"),IF(LEFT(E$5,1)='CONDUIT LENGTH'!$M12,IF(E$9='CONDUIT LENGTH'!$L12,'CONDUIT LENGTH'!$K12,IF(AND(E$9=RIGHT('CONDUIT LENGTH'!$L12,2),LEFT('CONDUIT LENGTH'!$L12,3)=\"2x3\")=TRUE,IF(LEFT('CONDUIT LENGTH'!$L12,2)=\"2x\",'CONDUIT LENGTH'!$K12*2,\"\"),\"\")),\"\"))","v":""},{"$f":"IF($B19=\"SOURCE\",IF(LEFT(G$6,1)='CONDUIT LENGTH'!$M12,IF(F$9='CONDUIT LENGTH'!$L12,'CONDUIT LENGTH'!$K12*-1,IF(AND(F$9=RIGHT('CONDUIT LENGTH'!$L12,2),LEFT('CONDUIT LENGTH'!$L12,3)=\"2x3\")=TRUE,IF(LEFT('CONDUIT LENGTH'!$L12,2)=\"2x\",'CONDUIT LENGTH'!$K12*-1*2,\"\"),\"\")),\"\"),IF(LEFT(G$6,1)='CONDUIT LENGTH'!$M12,IF(F$9='CONDUIT LENGTH'!$L12,'CONDUIT LENGTH'!$K12,IF(AND(F$9=RIGHT('CONDUIT LENGTH'!$L12,2),LEFT('CONDUIT LENGTH'!$L12,3)=\"2x3\")=TRUE,IF(LEFT('CONDUIT LENGTH'!$L12,2)=\"2x\",'CONDUIT LENGTH'!$K12*2,\"\"),\"\")),\"\"))","v":""},{"$f":"IF($B19=\"SOURCE\",IF(LEFT(G$6,1)='CONDUIT LENGTH'!$M12,IF(G$9='CONDUIT LENGTH'!$L12,'CONDUIT LENGTH'!$K12*-1,IF(AND(G$9=RIGHT('CONDUIT LENGTH'!$L12,2),LEFT('CONDUIT LENGTH'!$L12,3)=\"2x3\")=TRUE,IF(LEFT('CONDUIT LENGTH'!$L12,2)=\"2x\",'CONDUIT LENGTH'!$K12*-1*2,\"\"),\"\")),\"\"),IF(LEFT(G$6,1)='CONDUIT LENGTH'!$M12,IF(G$9='CONDUIT LENGTH'!$L12,'CONDUIT LENGTH'!$K12,IF(AND(G$9=RIGHT('CONDUIT LENGTH'!$L12,2),LEFT('CONDUIT LENGTH'!$L12,3)=\"2x3\")=TRUE,IF(LEFT('CONDUIT LENGTH'!$L12,2)=\"2x\",'CONDUIT LENGTH'!$K12*2,\"\"),\"\")),\"\"))","v":""},{"$f":"IF($B19=\"SOURCE\",IF(LEFT(G$6,1)='CONDUIT LENGTH'!$M12,IF(H$9='CONDUIT LENGTH'!$L12,'CONDUIT LENGTH'!$K12*-1,IF(AND(H$9=RIGHT('CONDUIT LENGTH'!$L12,2),LEFT('CONDUIT LENGTH'!$L12,3)=\"2x3\")=TRUE,IF(LEFT('CONDUIT LENGTH'!$L12,2)=\"2x\",'CONDUIT LENGTH'!$K12*-1*2,\"\"),\"\")),\"\"),IF(LEFT(G$6,1)='CONDUIT LENGTH'!$M12,IF(H$9='CONDUIT LENGTH'!$L12,'CONDUIT LENGTH'!$K12,IF(AND(H$9=RIGHT('CONDUIT LENGTH'!$L12,2),LEFT('CONDUIT LENGTH'!$L12,3)=\"2x3\")=TRUE,IF(LEFT('CONDUIT LENGTH'!$L12,2)=\"2x\",'CONDUIT LENGTH'!$K12*2,\"\"),\"\")),\"\"))","v":""},{"$f":"IF($B19=\"SOURCE\",IF(LEFT(J$6,1)='CONDUIT LENGTH'!$M12,IF(I$9='CONDUIT LENGTH'!$L12,'CONDUIT LENGTH'!$K12*-1,IF(AND(I$9=RIGHT('CONDUIT LENGTH'!$L12,2),LEFT('CONDUIT LENGTH'!$L12,3)=\"2x3\")=TRUE,IF(LEFT('CONDUIT LENGTH'!$L12,2)=\"2x\",'CONDUIT LENGTH'!$K12*-1*2,\"\"),\"\")),\"\"),IF(LEFT(J$6,1)='CONDUIT LENGTH'!$M12,IF(I$9='CONDUIT LENGTH'!$L12,'CONDUIT LENGTH'!$K12,IF(AND(I$9=RIGHT('CONDUIT LENGTH'!$L12,2),LEFT('CONDUIT LENGTH'!$L12,3)=\"2x3\")=TRUE,IF(LEFT('CONDUIT LENGTH'!$L12,2)=\"2x\",'CONDUIT LENGTH'!$K12*2,\"\"),\"\")),\"\"))","v":""},{"$f":"IF($B19=\"SOURCE\",IF(LEFT(J$6,1)='CONDUIT LENGTH'!$M12,IF(J$9='CONDUIT LENGTH'!$L12,'CONDUIT LENGTH'!$K12*-1,IF(AND(J$9=RIGHT('CONDUIT LENGTH'!$L12,2),LEFT('CONDUIT LENGTH'!$L12,3)=\"2x3\")=TRUE,IF(LEFT('CONDUIT LENGTH'!$L12,2)=\"2x\",'CONDUIT LENGTH'!$K12*-1*2,\"\"),\"\")),\"\"),IF(LEFT(J$6,1)='CONDUIT LENGTH'!$M12,IF(J$9='CONDUIT LENGTH'!$L12,'CONDUIT LENGTH'!$K12,IF(AND(J$9=RIGHT('CONDUIT LENGTH'!$L12,2),LEFT('CONDUIT LENGTH'!$L12,3)=\"2x3\")=TRUE,IF(LEFT('CONDUIT LENGTH'!$L12,2)=\"2x\",'CONDUIT LENGTH'!$K12*2,\"\"),\"\")),\"\"))","v":""},{"$f":"IF($B19=\"SOURCE\",IF(LEFT(J$6,1)='CONDUIT LENGTH'!$M12,IF(K$9='CONDUIT LENGTH'!$L12,'CONDUIT LENGTH'!$K12*-1,IF(AND(K$9=RIGHT('CONDUIT LENGTH'!$L12,2),LEFT('CONDUIT LENGTH'!$L12,3)=\"2x3\")=TRUE,IF(LEFT('CONDUIT LENGTH'!$L12,2)=\"2x\",'CONDUIT LENGTH'!$K12*-1*2,\"\"),\"\")),\"\"),IF(LEFT(J$6,1)='CONDUIT LENGTH'!$M12,IF(K$9='CONDUIT LENGTH'!$L12,'CONDUIT LENGTH'!$K12,IF(AND(K$9=RIGHT('CONDUIT LENGTH'!$L12,2),LEFT('CONDUIT LENGTH'!$L12,3)=\"2x3\")=TRUE,IF(LEFT('CONDUIT LENGTH'!$L12,2)=\"2x\",'CONDUIT LENGTH'!$K12*2,\"\"),\"\")),\"\"))","v":""},{"$f":"IF($B19=\"SOURCE\",IF(LEFT(M$6,1)='CONDUIT LENGTH'!$M12,IF(L$9='CONDUIT LENGTH'!$L12,'CONDUIT LENGTH'!$K12*-1,IF(AND(L$9=RIGHT('CONDUIT LENGTH'!$L12,2),LEFT('CONDUIT LENGTH'!$L12,3)=\"2x3\")=TRUE,IF(LEFT('CONDUIT LENGTH'!$L12,2)=\"2x\",'CONDUIT LENGTH'!$K12*-1*2,\"\"),\"\")),\"\"),IF(LEFT(M$6,1)='CONDUIT LENGTH'!$M12,IF(L$9='CONDUIT LENGTH'!$L12,'CONDUIT LENGTH'!$K12,IF(AND(L$9=RIGHT('CONDUIT LENGTH'!$L12,2),LEFT('CONDUIT LENGTH'!$L12,3)=\"2x3\")=TRUE,IF(LEFT('CONDUIT LENGTH'!$L12,2)=\"2x\",'CONDUIT LENGTH'!$K12*2,\"\"),\"\")),\"\"))","v":""},{"$f":"IF($B19=\"SOURCE\",IF(LEFT(M$6,1)='CONDUIT LENGTH'!$M12,IF(M$9='CONDUIT LENGTH'!$L12,'CONDUIT LENGTH'!$K12*-1,IF(AND(M$9=RIGHT('CONDUIT LENGTH'!$L12,2),LEFT('CONDUIT LENGTH'!$L12,3)=\"2x3\")=TRUE,IF(LEFT('CONDUIT LENGTH'!$L12,2)=\"2x\",'CONDUIT LENGTH'!$K12*-1*2,\"\"),\"\")),\"\"),IF(LEFT(M$6,1)='CONDUIT LENGTH'!$M12,IF(M$9='CONDUIT LENGTH'!$L12,'CONDUIT LENGTH'!$K12,IF(AND(M$9=RIGHT('CONDUIT LENGTH'!$L12,2),LEFT('CONDUIT LENGTH'!$L12,3)=\"2x3\")=TRUE,IF(LEFT('CONDUIT LENGTH'!$L12,2)=\"2x\",'CONDUIT LENGTH'!$K12*2,\"\"),\"\")),\"\"))","v":""},{"$f":"IF($B19=\"SOURCE\",IF(LEFT(M$6,1)='CONDUIT LENGTH'!$M12,IF(N$9='CONDUIT LENGTH'!$L12,'CONDUIT LENGTH'!$K12*-1,IF(AND(N$9=RIGHT('CONDUIT LENGTH'!$L12,2),LEFT('CONDUIT LENGTH'!$L12,3)=\"2x3\")=TRUE,IF(LEFT('CONDUIT LENGTH'!$L12,2)=\"2x\",'CONDUIT LENGTH'!$K12*-1*2,\"\"),\"\")),\"\"),IF(LEFT(M$6,1)='CONDUIT LENGTH'!$M12,IF(N$9='CONDUIT LENGTH'!$L12,'CONDUIT LENGTH'!$K12,IF(AND(N$9=RIGHT('CONDUIT LENGTH'!$L12,2),LEFT('CONDUIT LENGTH'!$L12,3)=\"2x3\")=TRUE,IF(LEFT('CONDUIT LENGTH'!$L12,2)=\"2x\",'CONDUIT LENGTH'!$K12*2,\"\"),\"\")),\"\"))","v":""},{"$f":"IF($B19=\"SOURCE\",IF(LEFT(P$5,1)='CONDUIT LENGTH'!$M12,IF(O$9='CONDUIT LENGTH'!$L12,'CONDUIT LENGTH'!$K12*-1,IF(AND(O$9=RIGHT('CONDUIT LENGTH'!$L12,2),LEFT('CONDUIT LENGTH'!$L12,3)=\"2x3\")=TRUE,IF(LEFT('CONDUIT LENGTH'!$L12,2)=\"2x\",'CONDUIT LENGTH'!$K12*-1*2,\"\"),\"\")),\"\"),IF(LEFT(P$6,1)='CONDUIT LENGTH'!$M12,IF(O$9='CONDUIT LENGTH'!$L12,'CONDUIT LENGTH'!$K12,IF(AND(O$9=RIGHT('CONDUIT LENGTH'!$L12,2),LEFT('CONDUIT LENGTH'!$L12,3)=\"2x3\")=TRUE,IF(LEFT('CONDUIT LENGTH'!$L12,2)=\"2x\",'CONDUIT LENGTH'!$K12*2,\"\"),\"\")),\"\"))","v":""},{"$f":"IF($B19=\"SOURCE\",IF(LEFT(P$5,1)='CONDUIT LENGTH'!$M12,IF(P$9='CONDUIT LENGTH'!$L12,'CONDUIT LENGTH'!$K12*-1,IF(AND(P$9=RIGHT('CONDUIT LENGTH'!$L12,2),LEFT('CONDUIT LENGTH'!$L12,3)=\"2x3\")=TRUE,IF(LEFT('CONDUIT LENGTH'!$L12,2)=\"2x\",'CONDUIT LENGTH'!$K12*-1*2,\"\"),\"\")),\"\"),IF(LEFT(P$6,1)='CONDUIT LENGTH'!$M12,IF(P$9='CONDUIT LENGTH'!$L12,'CONDUIT LENGTH'!$K12,IF(AND(P$9=RIGHT('CONDUIT LENGTH'!$L12,2),LEFT('CONDUIT LENGTH'!$L12,3)=\"2x3\")=TRUE,IF(LEFT('CONDUIT LENGTH'!$L12,2)=\"2x\",'CONDUIT LENGTH'!$K12*2,\"\"),\"\")),\"\"))","v":""},{"$f":"IF($B19=\"SOURCE\",IF(LEFT(P$5,1)='CONDUIT LENGTH'!$M12,IF(Q$9='CONDUIT LENGTH'!$L12,'CONDUIT LENGTH'!$K12*-1,IF(AND(Q$9=RIGHT('CONDUIT LENGTH'!$L12,2),LEFT('CONDUIT LENGTH'!$L12,3)=\"2x3\")=TRUE,IF(LEFT('CONDUIT LENGTH'!$L12,2)=\"2x\",'CONDUIT LENGTH'!$K12*-1*2,\"\"),\"\")),\"\"),IF(LEFT(Q$6,1)='CONDUIT LENGTH'!$M12,IF(Q$9='CONDUIT LENGTH'!$L12,'CONDUIT LENGTH'!$K12,IF(AND(Q$9=RIGHT('CONDUIT LENGTH'!$L12,2),LEFT('CONDUIT LENGTH'!$L12,3)=\"2x3\")=TRUE,IF(LEFT('CONDUIT LENGTH'!$L12,2)=\"2x\",'CONDUIT LENGTH'!$K12*2,\"\"),\"\")),\"\"))","v":""},{"$f":"IF('CONDUIT LENGTH'!M12=\"UIP\",\"UIP EXISTING\",\"\")","v":""},{"$f":"IF('CABLE LENGTH'!A13>0,'CABLE LENGTH'!A13,\"\")","v":""},{"$f":"IF('CABLE LENGTH'!B13>0,'CABLE LENGTH'!B13,\"\")","v":""},{"$f":"IF('CABLE LENGTH'!Q13>0,'CABLE LENGTH'!Q13,\"\")","v":""},{"$f":"IF($S19=\"SOURCE\",IF(V$9='CABLE LENGTH'!$AK13,'CABLE LENGTH'!$AJ13*'CABLE LENGTH'!$AL13*-1,\"\"),IF(V$9=\"VIDEO\",IF(V$9='CABLE LENGTH'!$AK13,'CABLE LENGTH'!$AJ13*'CABLE LENGTH'!$AL13*-1,\"\"),IF(V$9='CABLE LENGTH'!$AK13,'CABLE LENGTH'!$AJ13*'CABLE LENGTH'!$AL13,\"\")))","v":""},{"$f":"IF($S19=\"SOURCE\",IF(W$9='CABLE LENGTH'!$AK13,'CABLE LENGTH'!$AJ13*'CABLE LENGTH'!$AL13*-1,\"\"),IF(W$9=\"VIDEO\",IF(W$9='CABLE LENGTH'!$AK13,'CABLE LENGTH'!$AJ13*'CABLE LENGTH'!$AL13*-1,\"\"),IF(W$9='CABLE LENGTH'!$AK13,'CABLE LENGTH'!$AJ13*'CABLE LENGTH'!$AL13,\"\")))","v":""},{"$f":"IF($S19=\"SOURCE\",IF(X$10='CABLE LENGTH'!$AK13,'CABLE LENGTH'!$AJ13*'CABLE LENGTH'!$AL13*-1,\"\"),IF(X$10=\"VIDEO\",IF(X$10='CABLE LENGTH'!$AK13,'CABLE LENGTH'!$AJ13*'CABLE LENGTH'!$AL13*-1,\"\"),IF(X$10='CABLE LENGTH'!$AK13,'CABLE LENGTH'!$AJ13*'CABLE LENGTH'!$AL13,\"\")))","v":""},{"$f":"IF($S19=\"SOURCE\",IF(Y$10='CABLE LENGTH'!$AK13,'CABLE LENGTH'!$AJ13*'CABLE LENGTH'!$AL13*-1,\"\"),IF(Y$10=\"VIDEO\",IF(Y$10='CABLE LENGTH'!$AK13,'CABLE LENGTH'!$AJ13*'CABLE LENGTH'!$AL13*-1,\"\"),IF(Y$10='CABLE LENGTH'!$AK13,'CABLE LENGTH'!$AJ13*'CABLE LENGTH'!$AL13,\"\")))","v":""},{"$f":"IF($S19=\"SOURCE\",IF(Z$10='CABLE LENGTH'!$AK13,'CABLE LENGTH'!$AJ13*'CABLE LENGTH'!$AL13*-1,\"\"),IF(Z$10=\"VIDEO\",IF(Z$10='CABLE LENGTH'!$AK13,'CABLE LENGTH'!$AJ13*'CABLE LENGTH'!$AL13*-1,\"\"),IF(Z$10='CABLE LENGTH'!$AK13,'CABLE LENGTH'!$AJ13*'CABLE LENGTH'!$AL13,\"\")))","v":""},{"$f":"IF($S19=\"SOURCE\",IF(AA$10='CABLE LENGTH'!$AK13,'CABLE LENGTH'!$AJ13*'CABLE LENGTH'!$AL13*-1,\"\"),IF(AA$10=\"VIDEO\",IF(AA$10='CABLE LENGTH'!$AK13,'CABLE LENGTH'!$AJ13*'CABLE LENGTH'!$AL13*-1,\"\"),IF(AA$10='CABLE LENGTH'!$AK13,'CABLE LENGTH'!$AJ13*'CABLE LENGTH'!$AL13,\"\")))","v":""},{"$f":"IF($S19=\"SOURCE\",IF(AB$10='CABLE LENGTH'!$AK13,'CABLE LENGTH'!$AJ13*'CABLE LENGTH'!$AL13*-1,\"\"),IF(AB$10=\"VIDEO\",IF(AB$10='CABLE LENGTH'!$AK13,'CABLE LENGTH'!$AJ13*'CABLE LENGTH'!$AL13*-1,\"\"),IF(AB$10='CABLE LENGTH'!$AK13,'CABLE LENGTH'!$AJ13*'CABLE LENGTH'!$AL13,\"\")))","v":""},{"$f":"IF($S19=\"SOURCE\",IF(AC$10='CABLE LENGTH'!$AK13,'CABLE LENGTH'!$AJ13*'CABLE LENGTH'!$AL13*-1,\"\"),IF(AC$10=\"VIDEO\",IF(AC$10='CABLE LENGTH'!$AK13,'CABLE LENGTH'!$AJ13*'CABLE LENGTH'!$AL13*-1,\"\"),IF(AC$10='CABLE LENGTH'!$AK13,'CABLE LENGTH'!$AJ13*'CABLE LENGTH'!$AL13,\"\")))","v":""},{"$f":"IF($S19=\"SOURCE\",IF(AD$9='CABLE LENGTH'!$AK13,'CABLE LENGTH'!$AJ13*'CABLE LENGTH'!$AL13*-1,\"\"),IF(AD$9=\"VIDEO\",IF(AD$9='CABLE LENGTH'!$AK13,'CABLE LENGTH'!$AJ13*'CABLE LENGTH'!$AL13*-1,\"\"),IF(AD$9='CABLE LENGTH'!$AK13,'CABLE LENGTH'!$AJ13*'CABLE LENGTH'!$AL13,\"\")))","v":""},{"$f":"IF($S19=\"SOURCE\",IF(AE$9='CABLE LENGTH'!$AK13,'CABLE LENGTH'!$AJ13*'CABLE LENGTH'!$AL13*-1,\"\"),IF(AE$9=\"VIDEO\",IF(AE$9='CABLE LENGTH'!$AK13,'CABLE LENGTH'!$AJ13*'CABLE LENGTH'!$AL13*-1,\"\"),IF(AE$9='CABLE LENGTH'!$AK13,'CABLE LENGTH'!$AJ13*'CABLE LENGTH'!$AL13,\"\")))","v":""},{"$f":"IF($S19=\"SOURCE\",IF(AF$9='CABLE LENGTH'!$AK13,'CABLE LENGTH'!$AJ13*'CABLE LENGTH'!$AL13*-1,\"\"),IF(AF$9=\"VIDEO\",IF(AF$9='CABLE LENGTH'!$AK13,'CABLE LENGTH'!$AJ13*'CABLE LENGTH'!$AL13*-1,\"\"),IF(AF$9='CABLE LENGTH'!$AK13,'CABLE LENGTH'!$AJ13*'CABLE LENGTH'!$AL13,\"\")))","v":""}]
[0.3,{"$f":"IF('CONDUIT LENGTH'!A13>0,'CONDUIT LENGTH'!A13,\" \")","v":" "},{"$f":"IF('CONDUIT LENGTH'!B13>0,'CONDUIT LENGTH'!B13,\" \")","v":" "},{"$f":"IF('CONDUIT LENGTH'!C13>0,'CONDUIT LENGTH'!C13,\" \")","v":" "},{"$f":"IF($B20=\"SOURCE\",IF(LEFT(E$5,1)='CONDUIT LENGTH'!$M13,IF(E$9='CONDUIT LENGTH'!$L13,'CONDUIT LENGTH'!$K13*-1,IF(AND(E$9=RIGHT('CONDUIT LENGTH'!$L13,2),LEFT('CONDUIT LENGTH'!$L13,3)=\"2x3\")=TRUE,IF(LEFT('CONDUIT LENGTH'!$L13,2)=\"2x\",'CONDUIT LENGTH'!$K13*-1*2,\"\"),\"\")),\"\"),IF(LEFT(E$5,1)='CONDUIT LENGTH'!$M13,IF(E$9='CONDUIT LENGTH'!$L13,'CONDUIT LENGTH'!$K13,IF(AND(E$9=RIGHT('CONDUIT LENGTH'!$L13,2),LEFT('CONDUIT LENGTH'!$L13,3)=\"2x3\")=TRUE,IF(LEFT('CONDUIT LENGTH'!$L13,2)=\"2x\",'CONDUIT LENGTH'!$K13*2,\"\"),\"\")),\"\"))","v":""},{"$f":"IF($B20=\"SOURCE\",IF(LEFT(G$6,1)='CONDUIT LENGTH'!$M13,IF(F$9='CONDUIT LENGTH'!$L13,'CONDUIT LENGTH'!$K13*-1,IF(AND(F$9=RIGHT('CONDUIT LENGTH'!$L13,2),LEFT('CONDUIT LENGTH'!$L13,3)=\"2x3\")=TRUE,IF(LEFT('CONDUIT LENGTH'!$L13,2)=\"2x\",'CONDUIT LENGTH'!$K13*-1*2,\"\"),\"\")),\"\"),IF(LEFT(G$6,1)='CONDUIT LENGTH'!$M13,IF(F$9='CONDUIT LENGTH'!$L13,'CONDUIT LENGTH'!$K13,IF(AND(F$9=RIGHT('CONDUIT LENGTH'!$L13,2),LEFT('CONDUIT LENGTH'!$L13,3)=\"2x3\")=TRUE,IF(LEFT('CONDUIT LENGTH'!$L13,2)=\"2x\",'CONDUIT LENGTH'!$K13*2,\"\"),\"\")),\"\"))","v":""},{"$f":"IF($B20=\"SOURCE\",IF(LEFT(G$6,1)='CONDUIT LENGTH'!$M13,IF(G$9='CONDUIT LENGTH'!$L13,'CONDUIT LENGTH'!$K13*-1,IF(AND(G$9=RIGHT('CONDUIT LENGTH'!$L13,2),LEFT('CONDUIT LENGTH'!$L13,3)=\"2x3\")=TRUE,IF(LEFT('CONDUIT LENGTH'!$L13,2)=\"2x\",'CONDUIT LENGTH'!$K13*-1*2,\"\"),\"\")),\"\"),IF(LEFT(G$6,1)='CONDUIT LENGTH'!$M13,IF(G$9='CONDUIT LENGTH'!$L13,'CONDUIT LENGTH'!$K13,IF(AND(G$9=RIGHT('CONDUIT LENGTH'!$L13,2),LEFT('CONDUIT LENGTH'!$L13,3)=\"2x3\")=TRUE,IF(LEFT('CONDUIT LENGTH'!$L13,2)=\"2x\",'CONDUIT LENGTH'!$K13*2,\"\"),\"\")),\"\"))","v":""},{"$f":"IF($B20=\"SOURCE\",IF(LEFT(G$6,1)='CONDUIT LENGTH'!$M13,IF(H$9='CONDUIT LENGTH'!$L13,'CONDUIT LENGTH'!$K13*-1,IF(AND(H$9=RIGHT('CONDUIT LENGTH'!$L13,2),LEFT('CONDUIT LENGTH'!$L13,3)=\"2x3\")=TRUE,IF(LEFT('CONDUIT LENGTH'!$L13,2)=\"2x\",'CONDUIT LENGTH'!$K13*-1*2,\"\"),\"\")),\"\"),IF(LEFT(G$6,1)='CONDUIT LENGTH'!$M13,IF(H$9='CONDUIT LENGTH'!$L13,'CONDUIT LENGTH'!$K13,IF(AND(H$9=RIGHT('CONDUIT LENGTH'!$L13,2),LEFT('CONDUIT LENGTH'!$L13,3)=\"2x3\")=TRUE,IF(LEFT('CONDUIT LENGTH'!$L13,2)=\"2x\",'CONDUIT LENGTH'!$K13*2,\"\"),\"\")),\"\"))","v":""},{"$f":"IF($B20=\"SOURCE\",IF(LEFT(J$6,1)='CONDUIT LENGTH'!$M13,IF(I$9='CONDUIT LENGTH'!$L13,'CONDUIT LENGTH'!$K13*-1,IF(AND(I$9=RIGHT('CONDUIT LENGTH'!$L13,2),LEFT('CONDUIT LENGTH'!$L13,3)=\"2x3\")=TRUE,IF(LEFT('CONDUIT LENGTH'!$L13,2)=\"2x\",'CONDUIT LENGTH'!$K13*-1*2,\"\"),\"\")),\"\"),IF(LEFT(J$6,1)='CONDUIT LENGTH'!$M13,IF(I$9='CONDUIT LENGTH'!$L13,'CONDUIT LENGTH'!$K13,IF(AND(I$9=RIGHT('CONDUIT LENGTH'!$L13,2),LEFT('CONDUIT LENGTH'!$L13,3)=\"2x3\")=TRUE,IF(LEFT('CONDUIT LENGTH'!$L13,2)=\"2x\",'CONDUIT LENGTH'!$K13*2,\"\"),\"\")),\"\"))","v":""},{"$f":"IF($B20=\"SOURCE\",IF(LEFT(J$6,1)='CONDUIT LENGTH'!$M13,IF(J$9='CONDUIT LENGTH'!$L13,'CONDUIT LENGTH'!$K13*-1,IF(AND(J$9=RIGHT('CONDUIT LENGTH'!$L13,2),LEFT('CONDUIT LENGTH'!$L13,3)=\"2x3\")=TRUE,IF(LEFT('CONDUIT LENGTH'!$L13,2)=\"2x\",'CONDUIT LENGTH'!$K13*-1*2,\"\"),\"\")),\"\"),IF(LEFT(J$6,1)='CONDUIT LENGTH'!$M13,IF(J$9='CONDUIT LENGTH'!$L13,'CONDUIT LENGTH'!$K13,IF(AND(J$9=RIGHT('CONDUIT LENGTH'!$L13,2),LEFT('CONDUIT LENGTH'!$L13,3)=\"2x3\")=TRUE,IF(LEFT('CONDUIT LENGTH'!$L13,2)=\"2x\",'CONDUIT LENGTH'!$K13*2,\"\"),\"\")),\"\"))","v":""},{"$f":"IF($B20=\"SOURCE\",IF(LEFT(J$6,1)='CONDUIT LENGTH'!$M13,IF(K$9='CONDUIT LENGTH'!$L13,'CONDUIT LENGTH'!$K13*-1,IF(AND(K$9=RIGHT('CONDUIT LENGTH'!$L13,2),LEFT('CONDUIT LENGTH'!$L13,3)=\"2x3\")=TRUE,IF(LEFT('CONDUIT LENGTH'!$L13,2)=\"2x\",'CONDUIT LENGTH'!$K13*-1*2,\"\"),\"\")),\"\"),IF(LEFT(J$6,1)='CONDUIT LENGTH'!$M13,IF(K$9='CONDUIT LENGTH'!$L13,'CONDUIT LENGTH'!$K13,IF(AND(K$9=RIGHT('CONDUIT LENGTH'!$L13,2),LEFT('CONDUIT LENGTH'!$L13,3)=\"2x3\")=TRUE,IF(LEFT('CONDUIT LENGTH'!$L13,2)=\"2x\",'CONDUIT LENGTH'!$K13*2,\"\"),\"\")),\"\"))","v":""},{"$f":"IF($B20=\"SOURCE\",IF(LEFT(M$6,1)='CONDUIT LENGTH'!$M13,IF(L$9='CONDUIT LENGTH'!$L13,'CONDUIT LENGTH'!$K13*-1,IF(AND(L$9=RIGHT('CONDUIT LENGTH'!$L13,2),LEFT('CONDUIT LENGTH'!$L13,3)=\"2x3\")=TRUE,IF(LEFT('CONDUIT LENGTH'!$L13,2)=\"2x\",'CONDUIT LENGTH'!$K13*-1*2,\"\"),\"\")),\"\"),IF(LEFT(M$6,1)='CONDUIT LENGTH'!$M13,IF(L$9='CONDUIT LENGTH'!$L13,'CONDUIT LENGTH'!$K13,IF(AND(L$9=RIGHT('CONDUIT LENGTH'!$L13,2),LEFT('CONDUIT LENGTH'!$L13,3)=\"2x3\")=TRUE,IF(LEFT('CONDUIT LENGTH'!$L13,2)=\"2x\",'CONDUIT LENGTH'!$K13*2,\"\"),\"\")),\"\"))","v":""},{"$f":"IF($B20=\"SOURCE\",IF(LEFT(M$6,1)='CONDUIT LENGTH'!$M13,IF(M$9='CONDUIT LENGTH'!$L13,'CONDUIT LENGTH'!$K13*-1,IF(AND(M$9=RIGHT('CONDUIT LENGTH'!$L13,2),LEFT('CONDUIT LENGTH'!$L13,3)=\"2x3\")=TRUE,IF(LEFT('CONDUIT LENGTH'!$L13,2)=\"2x\",'CONDUIT LENGTH'!$K13*-1*2,\"\"),\"\")),\"\"),IF(LEFT(M$6,1)='CONDUIT LENGTH'!$M13,IF(M$9='CONDUIT LENGTH'!$L13,'CONDUIT LENGTH'!$K13,IF(AND(M$9=RIGHT('CONDUIT LENGTH'!$L13,2),LEFT('CONDUIT LENGTH'!$L13,3)=\"2x3\")=TRUE,IF(LEFT('CONDUIT LENGTH'!$L13,2)=\"2x\",'CONDUIT LENGTH'!$K13*2,\"\"),\"\")),\"\"))","v":""},{"$f":"IF($B20=\"SOURCE\",IF(LEFT(M$6,1)='CONDUIT LENGTH'!$M13,IF(N$9='CONDUIT LENGTH'!$L13,'CONDUIT LENGTH'!$K13*-1,IF(AND(N$9=RIGHT('CONDUIT LENGTH'!$L13,2),LEFT('CONDUIT LENGTH'!$L13,3)=\"2x3\")=TRUE,IF(LEFT('CONDUIT LENGTH'!$L13,2)=\"2x\",'CONDUIT LENGTH'!$K13*-1*2,\"\"),\"\")),\"\"),IF(LEFT(M$6,1)='CONDUIT LENGTH'!$M13,IF(N$9='CONDUIT LENGTH'!$L13,'CONDUIT LENGTH'!$K13,IF(AND(N$9=RIGHT('CONDUIT LENGTH'!$L13,2),LEFT('CONDUIT LENGTH'!$L13,3)=\"2x3\")=TRUE,IF(LEFT('CONDUIT LENGTH'!$L13,2)=\"2x\",'CONDUIT LENGTH'!$K13*2,\"\"),\"\")),\"\"))","v":""},{"$f":"IF($B20=\"SOURCE\",IF(LEFT(P$5,1)='CONDUIT LENGTH'!$M13,IF(O$9='CONDUIT LENGTH'!$L13,'CONDUIT LENGTH'!$K13*-1,IF(AND(O$9=RIGHT('CONDUIT LENGTH'!$L13,2),LEFT('CONDUIT LENGTH'!$L13,3)=\"2x3\")=TRUE,IF(LEFT('CONDUIT LENGTH'!$L13,2)=\"2x\",'CONDUIT LENGTH'!$K13*-1*2,\"\"),\"\")),\"\"),IF(LEFT(P$6,1)='CONDUIT LENGTH'!$M13,IF(O$9='CONDUIT LENGTH'!$L13,'CONDUIT LENGTH'!$K13,IF(AND(O$9=RIGHT('CONDUIT LENGTH'!$L13,2),LEFT('CONDUIT LENGTH'!$L13,3)=\"2x3\")=TRUE,IF(LEFT('CONDUIT LENGTH'!$L13,2)=\"2x\",'CONDUIT LENGTH'!$K13*2,\"\"),\"\")),\"\"))","v":""},{"$f":"IF($B20=\"SOURCE\",IF(LEFT(P$5,1)='CONDUIT LENGTH'!$M13,IF(P$9='CONDUIT LENGTH'!$L13,'CONDUIT LENGTH'!$K13*-1,IF(AND(P$9=RIGHT('CONDUIT LENGTH'!$L13,2),LEFT('CONDUIT LENGTH'!$L13,3)=\"2x3\")=TRUE,IF(LEFT('CONDUIT LENGTH'!$L13,2)=\"2x\",'CONDUIT LENGTH'!$K13*-1*2,\"\"),\"\")),\"\"),IF(LEFT(P$6,1)='CONDUIT LENGTH'!$M13,IF(P$9='CONDUIT LENGTH'!$L13,'CONDUIT LENGTH'!$K13,IF(AND(P$9=RIGHT('CONDUIT LENGTH'!$L13,2),LEFT('CONDUIT LENGTH'!$L13,3)=\"2x3\")=TRUE,IF(LEFT('CONDUIT LENGTH'!$L13,2)=\"2x\",'CONDUIT LENGTH'!$K13*2,\"\"),\"\")),\"\"))","v":""},{"$f":"IF($B20=\"SOURCE\",IF(LEFT(P$5,1)='CONDUIT LENGTH'!$M13,IF(Q$9='CONDUIT LENGTH'!$L13,'CONDUIT LENGTH'!$K13*-1,IF(AND(Q$9=RIGHT('CONDUIT LENGTH'!$L13,2),LEFT('CONDUIT LENGTH'!$L13,3)=\"2x3\")=TRUE,IF(LEFT('CONDUIT LENGTH'!$L13,2)=\"2x\",'CONDUIT LENGTH'!$K13*-1*2,\"\"),\"\")),\"\"),IF(LEFT(Q$6,1)='CONDUIT LENGTH'!$M13,IF(Q$9='CONDUIT LENGTH'!$L13,'CONDUIT LENGTH'!$K13,IF(AND(Q$9=RIGHT('CONDUIT LENGTH'!$L13,2),LEFT('CONDUIT LENGTH'!$L13,3)=\"2x3\")=TRUE,IF(LEFT('CONDUIT LENGTH'!$L13,2)=\"2x\",'CONDUIT LENGTH'!$K13*2,\"\"),\"\")),\"\"))","v":""},{"$f":"IF('CONDUIT LENGTH'!M13=\"UIP\",\"UIP EXISTING\",\"\")","v":""},{"$f":"IF('CABLE LENGTH'!A14>0,'CABLE LENGTH'!A14,\"\")","v":""},{"$f":"IF('CABLE LENGTH'!B14>0,'CABLE LENGTH'!B14,\"\")","v":""},{"$f":"IF('CABLE LENGTH'!Q14>0,'CABLE LENGTH'!Q14,\"\")","v":""},{"$f":"IF($S20=\"SOURCE\",IF(V$9='CABLE LENGTH'!$AK14,'CABLE LENGTH'!$AJ14*'CABLE LENGTH'!$AL14*-1,\"\"),IF(V$9=\"VIDEO\",IF(V$9='CABLE LENGTH'!$AK14,'CABLE LENGTH'!$AJ14*'CABLE LENGTH'!$AL14*-1,\"\"),IF(V$9='CABLE LENGTH'!$AK14,'CABLE LENGTH'!$AJ14*'CABLE LENGTH'!$AL14,\"\")))","v":""},{"$f":"IF($S20=\"SOURCE\",IF(W$9='CABLE LENGTH'!$AK14,'CABLE LENGTH'!$AJ14*'CABLE LENGTH'!$AL14*-1,\"\"),IF(W$9=\"VIDEO\",IF(W$9='CABLE LENGTH'!$AK14,'CABLE LENGTH'!$AJ14*'CABLE LENGTH'!$AL14*-1,\"\"),IF(W$9='CABLE LENGTH'!$AK14,'CABLE LENGTH'!$AJ14*'CABLE LENGTH'!$AL14,\"\")))","v":""},{"$f":"IF($S20=\"SOURCE\",IF(X$10='CABLE LENGTH'!$AK14,'CABLE LENGTH'!$AJ14*'CABLE LENGTH'!$AL14*-1,\"\"),IF(X$10=\"VIDEO\",IF(X$10='CABLE LENGTH'!$AK14,'CABLE LENGTH'!$AJ14*'CABLE LENGTH'!$AL14*-1,\"\"),IF(X$10='CABLE LENGTH'!$AK14,'CABLE LENGTH'!$AJ14*'CABLE LENGTH'!$AL14,\"\")))","v":""},{"$f":"IF($S20=\"SOURCE\",IF(Y$10='CABLE LENGTH'!$AK14,'CABLE LENGTH'!$AJ14*'CABLE LENGTH'!$AL14*-1,\"\"),IF(Y$10=\"VIDEO\",IF(Y$10='CABLE LENGTH'!$AK14,'CABLE LENGTH'!$AJ14*'CABLE LENGTH'!$AL14*-1,\"\"),IF(Y$10='CABLE LENGTH'!$AK14,'CABLE LENGTH'!$AJ14*'CABLE LENGTH'!$AL14,\"\")))","v":""},{"$f":"IF($S20=\"SOURCE\",IF(Z$10='CABLE LENGTH'!$AK14,'CABLE LENGTH'!$AJ14*'CABLE LENGTH'!$AL14*-1,\"\"),IF(Z$10=\"VIDEO\",IF(Z$10='CABLE LENGTH'!$AK14,'CABLE LENGTH'!$AJ14*'CABLE LENGTH'!$AL14*-1,\"\"),IF(Z$10='CABLE LENGTH'!$AK14,'CABLE LENGTH'!$AJ14*'CABLE LENGTH'!$AL14,\"\")))","v":""},{"$f":"IF($S20=\"SOURCE\",IF(AA$10='CABLE LENGTH'!$AK14,'CABLE LENGTH'!$AJ14*'CABLE LENGTH'!$AL14*-1,\"\"),IF(AA$10=\"VIDEO\",IF(AA$10='CABLE LENGTH'!$AK14,'CABLE LENGTH'!$AJ14*'CABLE LENGTH'!$AL14*-1,\"\"),IF(AA$10='CABLE LENGTH'!$AK14,'CABLE LENGTH'!$AJ14*'CABLE LENGTH'!$AL14,\"\")))","v":""},{"$f":"IF($S20=\"SOURCE\",IF(AB$10='CABLE LENGTH'!$AK14,'CABLE LENGTH'!$AJ14*'CABLE LENGTH'!$AL14*-1,\"\"),IF(AB$10=\"VIDEO\",IF(AB$10='CABLE LENGTH'!$AK14,'CABLE LENGTH'!$AJ14*'CABLE LENGTH'!$AL14*-1,\"\"),IF(AB$10='CABLE LENGTH'!$AK14,'CABLE LENGTH'!$AJ14*'CABLE LENGTH'!$AL14,\"\")))","v":""},{"$f":"IF($S20=\"SOURCE\",IF(AC$10='CABLE LENGTH'!$AK14,'CABLE LENGTH'!$AJ14*'CABLE LENGTH'!$AL14*-1,\"\"),IF(AC$10=\"VIDEO\",IF(AC$10='CABLE LENGTH'!$AK14,'CABLE LENGTH'!$AJ14*'CABLE LENGTH'!$AL14*-1,\"\"),IF(AC$10='CABLE LENGTH'!$AK14,'CABLE LENGTH'!$AJ14*'CABLE LENGTH'!$AL14,\"\")))","v":""},{"$f":"IF($S20=\"SOURCE\",IF(AD$9='CABLE LENGTH'!$AK14,'CABLE LENGTH'!$AJ14*'CABLE LENGTH'!$AL14*-1,\"\"),IF(AD$9=\"VIDEO\",IF(AD$9='CABLE LENGTH'!$AK14,'CABLE LENGTH'!$AJ14*'CABLE LENGTH'!$AL14*-1,\"\"),IF(AD$9='CABLE LENGTH'!$AK14,'CABLE LENGTH'!$AJ14*'CABLE LENGTH'!$AL14,\"\")))","v":""},{"$f":"IF($S20=\"SOURCE\",IF(AE$9='CABLE LENGTH'!$AK14,'CABLE LENGTH'!$AJ14*'CABLE LENGTH'!$AL14*-1,\"\"),IF(AE$9=\"VIDEO\",IF(AE$9='CABLE LENGTH'!$AK14,'CABLE LENGTH'!$AJ14*'CABLE LENGTH'!$AL14*-1,\"\"),IF(AE$9='CABLE LENGTH'!$AK14,'CABLE LENGTH'!$AJ14*'CABLE LENGTH'!$AL14,\"\")))","v":""},{"$f":"IF($S20=\"SOURCE\",IF(AF$9='CABLE LENGTH'!$AK14,'CABLE LENGTH'!$AJ14*'CABLE LENGTH'!$AL14*-1,\"\"),IF(AF$9=\"VIDEO\",IF(AF$9='CABLE LENGTH'!$AK14,'CABLE LENGTH'!$AJ14*'CABLE LENGTH'!$AL14*-1,\"\"),IF(AF$9='CABLE LENGTH'!$AK14,'CABLE LENGTH'!$AJ14*'CABLE LENGTH'!$AL14,\"\")))","v":""}]
[0.3,{"$f":"IF('CONDUIT LENGTH'!A14>0,'CONDUIT LENGTH'!A14,\" \")","v":" "},{"$f":"IF('CONDUIT LENGTH'!B14>0,'CONDUIT LENGTH'!B14,\" \")","v":" "},{"$f":"IF('CONDUIT LENGTH'!C14>0,'CONDUIT LENGTH'!C14,\" \")","v":" "},{"$f":"IF($B21=\"SOURCE\",IF(LEFT(E$5,1)='CONDUIT LENGTH'!$M14,IF(E$9='CONDUIT LENGTH'!$L14,'CONDUIT LENGTH'!$K14*-1,IF(AND(E$9=RIGHT('CONDUIT LENGTH'!$L14,2),LEFT('CONDUIT LENGTH'!$L14,3)=\"2x3\")=TRUE,IF(LEFT('CONDUIT LENGTH'!$L14,2)=\"2x\",'CONDUIT LENGTH'!$K14*-1*2,\"\"),\"\")),\"\"),IF(LEFT(E$5,1)='CONDUIT LENGTH'!$M14,IF(E$9='CONDUIT LENGTH'!$L14,'CONDUIT LENGTH'!$K14,IF(AND(E$9=RIGHT('CONDUIT LENGTH'!$L14,2),LEFT('CONDUIT LENGTH'!$L14,3)=\"2x3\")=TRUE,IF(LEFT('CONDUIT LENGTH'!$L14,2)=\"2x\",'CONDUIT LENGTH'!$K14*2,\"\"),\"\")),\"\"))","v":""},{"$f":"IF($B21=\"SOURCE\",IF(LEFT(G$6,1)='CONDUIT LENGTH'!$M14,IF(F$9='CONDUIT LENGTH'!$L14,'CONDUIT LENGTH'!$K14*-1,IF(AND(F$9=RIGHT('CONDUIT LENGTH'!$L14,2),LEFT('CONDUIT LENGTH'!$L14,3)=\"2x3\")=TRUE,IF(LEFT('CONDUIT LENGTH'!$L14,2)=\"2x\",'CONDUIT LENGTH'!$K14*-1*2,\"\"),\"\")),\"\"),IF(LEFT(G$6,1)='CONDUIT LENGTH'!$M14,IF(F$9='CONDUIT LENGTH'!$L14,'CONDUIT LENGTH'!$K14,IF(AND(F$9=RIGHT('CONDUIT LENGTH'!$L14,2),LEFT('CONDUIT LENGTH'!$L14,3)=\"2x3\")=TRUE,IF(LEFT('CONDUIT LENGTH'!$L14,2)=\"2x\",'CONDUIT LENGTH'!$K14*2,\"\"),\"\")),\"\"))","v":""},{"$f":"IF($B21=\"SOURCE\",IF(LEFT(G$6,1)='CONDUIT LENGTH'!$M14,IF(G$9='CONDUIT LENGTH'!$L14,'CONDUIT LENGTH'!$K14*-1,IF(AND(G$9=RIGHT('CONDUIT LENGTH'!$L14,2),LEFT('CONDUIT LENGTH'!$L14,3)=\"2x3\")=TRUE,IF(LEFT('CONDUIT LENGTH'!$L14,2)=\"2x\",'CONDUIT LENGTH'!$K14*-1*2,\"\"),\"\")),\"\"),IF(LEFT(G$6,1)='CONDUIT LENGTH'!$M14,IF(G$9='CONDUIT LENGTH'!$L14,'CONDUIT LENGTH'!$K14,IF(AND(G$9=RIGHT('CONDUIT LENGTH'!$L14,2),LEFT('CONDUIT LENGTH'!$L14,3)=\"2x3\")=TRUE,IF(LEFT('CONDUIT LENGTH'!$L14,2)=\"2x\",'CONDUIT LENGTH'!$K14*2,\"\"),\"\")),\"\"))","v":""},{"$f":"IF($B21=\"SOURCE\",IF(LEFT(G$6,1)='CONDUIT LENGTH'!$M14,IF(H$9='CONDUIT LENGTH'!$L14,'CONDUIT LENGTH'!$K14*-1,IF(AND(H$9=RIGHT('CONDUIT LENGTH'!$L14,2),LEFT('CONDUIT LENGTH'!$L14,3)=\"2x3\")=TRUE,IF(LEFT('CONDUIT LENGTH'!$L14,2)=\"2x\",'CONDUIT LENGTH'!$K14*-1*2,\"\"),\"\")),\"\"),IF(LEFT(G$6,1)='CONDUIT LENGTH'!$M14,IF(H$9='CONDUIT LENGTH'!$L14,'CONDUIT LENGTH'!$K14,IF(AND(H$9=RIGHT('CONDUIT LENGTH'!$L14,2),LEFT('CONDUIT LENGTH'!$L14,3)=\"2x3\")=TRUE,IF(LEFT('CONDUIT LENGTH'!$L14,2)=\"2x\",'CONDUIT LENGTH'!$K14*2,\"\"),\"\")),\"\"))","v":""},{"$f":"IF($B21=\"SOURCE\",IF(LEFT(J$6,1)='CONDUIT LENGTH'!$M14,IF(I$9='CONDUIT LENGTH'!$L14,'CONDUIT LENGTH'!$K14*-1,IF(AND(I$9=RIGHT('CONDUIT LENGTH'!$L14,2),LEFT('CONDUIT LENGTH'!$L14,3)=\"2x3\")=TRUE,IF(LEFT('CONDUIT LENGTH'!$L14,2)=\"2x\",'CONDUIT LENGTH'!$K14*-1*2,\"\"),\"\")),\"\"),IF(LEFT(J$6,1)='CONDUIT LENGTH'!$M14,IF(I$9='CONDUIT LENGTH'!$L14,'CONDUIT LENGTH'!$K14,IF(AND(I$9=RIGHT('CONDUIT LENGTH'!$L14,2),LEFT('CONDUIT LENGTH'!$L14,3)=\"2x3\")=TRUE,IF(LEFT('CONDUIT LENGTH'!$L14,2)=\"2x\",'CONDUIT LENGTH'!$K14*2,\"\"),\"\")),\"\"))","v":""},{"$f":"IF($B21=\"SOURCE\",IF(LEFT(J$6,1)='CONDUIT LENGTH'!$M14,IF(J$9='CONDUIT LENGTH'!$L14,'CONDUIT LENGTH'!$K14*-1,IF(AND(J$9=RIGHT('CONDUIT LENGTH'!$L14,2),LEFT('CONDUIT LENGTH'!$L14,3)=\"2x3\")=TRUE,IF(LEFT('CONDUIT LENGTH'!$L14,2)=\"2x\",'CONDUIT LENGTH'!$K14*-1*2,\"\"),\"\")),\"\"),IF(LEFT(J$6,1)='CONDUIT LENGTH'!$M14,IF(J$9='CONDUIT LENGTH'!$L14,'CONDUIT LENGTH'!$K14,IF(AND(J$9=RIGHT('CONDUIT LENGTH'!$L14,2),LEFT('CONDUIT LENGTH'!$L14,3)=\"2x3\")=TRUE,IF(LEFT('CONDUIT LENGTH'!$L14,2)=\"2x\",'CONDUIT LENGTH'!$K14*2,\"\"),\"\")),\"\"))","v":""},{"$f":"IF($B21=\"SOURCE\",IF(LEFT(J$6,1)='CONDUIT LENGTH'!$M14,IF(K$9='CONDUIT LENGTH'!$L14,'CONDUIT LENGTH'!$K14*-1,IF(AND(K$9=RIGHT('CONDUIT LENGTH'!$L14,2),LEFT('CONDUIT LENGTH'!$L14,3)=\"2x3\")=TRUE,IF(LEFT('CONDUIT LENGTH'!$L14,2)=\"2x\",'CONDUIT LENGTH'!$K14*-1*2,\"\"),\"\")),\"\"),IF(LEFT(J$6,1)='CONDUIT LENGTH'!$M14,IF(K$9='CONDUIT LENGTH'!$L14,'CONDUIT LENGTH'!$K14,IF(AND(K$9=RIGHT('CONDUIT LENGTH'!$L14,2),LEFT('CONDUIT LENGTH'!$L14,3)=\"2x3\")=TRUE,IF(LEFT('CONDUIT LENGTH'!$L14,2)=\"2x\",'CONDUIT LENGTH'!$K14*2,\"\"),\"\")),\"\"))","v":""},{"$f":"IF($B21=\"SOURCE\",IF(LEFT(M$6,1)='CONDUIT LENGTH'!$M14,IF(L$9='CONDUIT LENGTH'!$L14,'CONDUIT LENGTH'!$K14*-1,IF(AND(L$9=RIGHT('CONDUIT LENGTH'!$L14,2),LEFT('CONDUIT LENGTH'!$L14,3)=\"2x3\")=TRUE,IF(LEFT('CONDUIT LENGTH'!$L14,2)=\"2x\",'CONDUIT LENGTH'!$K14*-1*2,\"\"),\"\")),\"\"),IF(LEFT(M$6,1)='CONDUIT LENGTH'!$M14,IF(L$9='CONDUIT LENGTH'!$L14,'CONDUIT LENGTH'!$K14,IF(AND(L$9=RIGHT('CONDUIT LENGTH'!$L14,2),LEFT('CONDUIT LENGTH'!$L14,3)=\"2x3\")=TRUE,IF(LEFT('CONDUIT LENGTH'!$L14,2)=\"2x\",'CONDUIT LENGTH'!$K14*2,\"\"),\"\")),\"\"))","v":""},{"$f":"IF($B21=\"SOURCE\",IF(LEFT(M$6,1)='CONDUIT LENGTH'!$M14,IF(M$9='CONDUIT LENGTH'!$L14,'CONDUIT LENGTH'!$K14*-1,IF(AND(M$9=RIGHT('CONDUIT LENGTH'!$L14,2),LEFT('CONDUIT LENGTH'!$L14,3)=\"2x3\")=TRUE,IF(LEFT('CONDUIT LENGTH'!$L14,2)=\"2x\",'CONDUIT LENGTH'!$K14*-1*2,\"\"),\"\")),\"\"),IF(LEFT(M$6,1)='CONDUIT LENGTH'!$M14,IF(M$9='CONDUIT LENGTH'!$L14,'CONDUIT LENGTH'!$K14,IF(AND(M$9=RIGHT('CONDUIT LENGTH'!$L14,2),LEFT('CONDUIT LENGTH'!$L14,3)=\"2x3\")=TRUE,IF(LEFT('CONDUIT LENGTH'!$L14,2)=\"2x\",'CONDUIT LENGTH'!$K14*2,\"\"),\"\")),\"\"))","v":""},{"$f":"IF($B21=\"SOURCE\",IF(LEFT(M$6,1)='CONDUIT LENGTH'!$M14,IF(N$9='CONDUIT LENGTH'!$L14,'CONDUIT LENGTH'!$K14*-1,IF(AND(N$9=RIGHT('CONDUIT LENGTH'!$L14,2),LEFT('CONDUIT LENGTH'!$L14,3)=\"2x3\")=TRUE,IF(LEFT('CONDUIT LENGTH'!$L14,2)=\"2x\",'CONDUIT LENGTH'!$K14*-1*2,\"\"),\"\")),\"\"),IF(LEFT(M$6,1)='CONDUIT LENGTH'!$M14,IF(N$9='CONDUIT LENGTH'!$L14,'CONDUIT LENGTH'!$K14,IF(AND(N$9=RIGHT('CONDUIT LENGTH'!$L14,2),LEFT('CONDUIT LENGTH'!$L14,3)=\"2x3\")=TRUE,IF(LEFT('CONDUIT LENGTH'!$L14,2)=\"2x\",'CONDUIT LENGTH'!$K14*2,\"\"),\"\")),\"\"))","v":""},{"$f":"IF($B21=\"SOURCE\",IF(LEFT(P$5,1)='CONDUIT LENGTH'!$M14,IF(O$9='CONDUIT LENGTH'!$L14,'CONDUIT LENGTH'!$K14*-1,IF(AND(O$9=RIGHT('CONDUIT LENGTH'!$L14,2),LEFT('CONDUIT LENGTH'!$L14,3)=\"2x3\")=TRUE,IF(LEFT('CONDUIT LENGTH'!$L14,2)=\"2x\",'CONDUIT LENGTH'!$K14*-1*2,\"\"),\"\")),\"\"),IF(LEFT(P$6,1)='CONDUIT LENGTH'!$M14,IF(O$9='CONDUIT LENGTH'!$L14,'CONDUIT LENGTH'!$K14,IF(AND(O$9=RIGHT('CONDUIT LENGTH'!$L14,2),LEFT('CONDUIT LENGTH'!$L14,3)=\"2x3\")=TRUE,IF(LEFT('CONDUIT LENGTH'!$L14,2)=\"2x\",'CONDUIT LENGTH'!$K14*2,\"\"),\"\")),\"\"))","v":""},{"$f":"IF($B21=\"SOURCE\",IF(LEFT(P$5,1)='CONDUIT LENGTH'!$M14,IF(P$9='CONDUIT LENGTH'!$L14,'CONDUIT LENGTH'!$K14*-1,IF(AND(P$9=RIGHT('CONDUIT LENGTH'!$L14,2),LEFT('CONDUIT LENGTH'!$L14,3)=\"2x3\")=TRUE,IF(LEFT('CONDUIT LENGTH'!$L14,2)=\"2x\",'CONDUIT LENGTH'!$K14*-1*2,\"\"),\"\")),\"\"),IF(LEFT(P$6,1)='CONDUIT LENGTH'!$M14,IF(P$9='CONDUIT LENGTH'!$L14,'CONDUIT LENGTH'!$K14,IF(AND(P$9=RIGHT('CONDUIT LENGTH'!$L14,2),LEFT('CONDUIT LENGTH'!$L14,3)=\"2x3\")=TRUE,IF(LEFT('CONDUIT LENGTH'!$L14,2)=\"2x\",'CONDUIT LENGTH'!$K14*2,\"\"),\"\")),\"\"))","v":""},{"$f":"IF($B21=\"SOURCE\",IF(LEFT(P$5,1)='CONDUIT LENGTH'!$M14,IF(Q$9='CONDUIT LENGTH'!$L14,'CONDUIT LENGTH'!$K14*-1,IF(AND(Q$9=RIGHT('CONDUIT LENGTH'!$L14,2),LEFT('CONDUIT LENGTH'!$L14,3)=\"2x3\")=TRUE,IF(LEFT('CONDUIT LENGTH'!$L14,2)=\"2x\",'CONDUIT LENGTH'!$K14*-1*2,\"\"),\"\")),\"\"),IF(LEFT(Q$6,1)='CONDUIT LENGTH'!$M14,IF(Q$9='CONDUIT LENGTH'!$L14,'CONDUIT LENGTH'!$K14,IF(AND(Q$9=RIGHT('CONDUIT LENGTH'!$L14,2),LEFT('CONDUIT LENGTH'!$L14,3)=\"2x3\")=TRUE,IF(LEFT('CONDUIT LENGTH'!$L14,2)=\"2x\",'CONDUIT LENGTH'!$K14*2,\"\"),\"\")),\"\"))","v":""},{"$f":"IF('CONDUIT LENGTH'!M14=\"UIP\",\"UIP EXISTING\",\"\")","v":""},{"$f":"IF('CABLE LENGTH'!A15>0,'CABLE LENGTH'!A15,\"\")","v":""},{"$f":"IF('CABLE LENGTH'!B15>0,'CABLE LENGTH'!B15,\"\")","v":""},{"$f":"IF('CABLE LENGTH'!Q15>0,'CABLE LENGTH'!Q15,\"\")","v":""},{"$f":"IF($S21=\"SOURCE\",IF(V$9='CABLE LENGTH'!$AK15,'CABLE LENGTH'!$AJ15*'CABLE LENGTH'!$AL15*-1,\"\"),IF(V$9=\"VIDEO\",IF(V$9='CABLE LENGTH'!$AK15,'CABLE LENGTH'!$AJ15*'CABLE LENGTH'!$AL15*-1,\"\"),IF(V$9='CABLE LENGTH'!$AK15,'CABLE LENGTH'!$AJ15*'CABLE LENGTH'!$AL15,\"\")))","v":""},{"$f":"IF($S21=\"SOURCE\",IF(W$9='CABLE LENGTH'!$AK15,'CABLE LENGTH'!$AJ15*'CABLE LENGTH'!$AL15*-1,\"\"),IF(W$9=\"VIDEO\",IF(W$9='CABLE LENGTH'!$AK15,'CABLE LENGTH'!$AJ15*'CABLE LENGTH'!$AL15*-1,\"\"),IF(W$9='CABLE LENGTH'!$AK15,'CABLE LENGTH'!$AJ15*'CABLE LENGTH'!$AL15,\"\")))","v":""},{"$f":"IF($S21=\"SOURCE\",IF(X$10='CABLE LENGTH'!$AK15,'CABLE LENGTH'!$AJ15*'CABLE LENGTH'!$AL15*-1,\"\"),IF(X$10=\"VIDEO\",IF(X$10='CABLE LENGTH'!$AK15,'CABLE LENGTH'!$AJ15*'CABLE LENGTH'!$AL15*-1,\"\"),IF(X$10='CABLE LENGTH'!$AK15,'CABLE LENGTH'!$AJ15*'CABLE LENGTH'!$AL15,\"\")))","v":""},{"$f":"IF($S21=\"SOURCE\",IF(Y$10='CABLE LENGTH'!$AK15,'CABLE LENGTH'!$AJ15*'CABLE LENGTH'!$AL15*-1,\"\"),IF(Y$10=\"VIDEO\",IF(Y$10='CABLE LENGTH'!$AK15,'CABLE LENGTH'!$AJ15*'CABLE LENGTH'!$AL15*-1,\"\"),IF(Y$10='CABLE LENGTH'!$AK15,'CABLE LENGTH'!$AJ15*'CABLE LENGTH'!$AL15,\"\")))","v":""},{"$f":"IF($S21=\"SOURCE\",IF(Z$10='CABLE LENGTH'!$AK15,'CABLE LENGTH'!$AJ15*'CABLE LENGTH'!$AL15*-1,\"\"),IF(Z$10=\"VIDEO\",IF(Z$10='CABLE LENGTH'!$AK15,'CABLE LENGTH'!$AJ15*'CABLE LENGTH'!$AL15*-1,\"\"),IF(Z$10='CABLE LENGTH'!$AK15,'CABLE LENGTH'!$AJ15*'CABLE LENGTH'!$AL15,\"\")))","v":""},{"$f":"IF($S21=\"SOURCE\",IF(AA$10='CABLE LENGTH'!$AK15,'CABLE LENGTH'!$AJ15*'CABLE LENGTH'!$AL15*-1,\"\"),IF(AA$10=\"VIDEO\",IF(AA$10='CABLE LENGTH'!$AK15,'CABLE LENGTH'!$AJ15*'CABLE LENGTH'!$AL15*-1,\"\"),IF(AA$10='CABLE LENGTH'!$AK15,'CABLE LENGTH'!$AJ15*'CABLE LENGTH'!$AL15,\"\")))","v":""},{"$f":"IF($S21=\"SOURCE\",IF(AB$10='CABLE LENGTH'!$AK15,'CABLE LENGTH'!$AJ15*'CABLE LENGTH'!$AL15*-1,\"\"),IF(AB$10=\"VIDEO\",IF(AB$10='CABLE LENGTH'!$AK15,'CABLE LENGTH'!$AJ15*'CABLE LENGTH'!$AL15*-1,\"\"),IF(AB$10='CABLE LENGTH'!$AK15,'CABLE LENGTH'!$AJ15*'CABLE LENGTH'!$AL15,\"\")))","v":""},{"$f":"IF($S21=\"SOURCE\",IF(AC$10='CABLE LENGTH'!$AK15,'CABLE LENGTH'!$AJ15*'CABLE LENGTH'!$AL15*-1,\"\"),IF(AC$10=\"VIDEO\",IF(AC$10='CABLE LENGTH'!$AK15,'CABLE LENGTH'!$AJ15*'CABLE LENGTH'!$AL15*-1,\"\"),IF(AC$10='CABLE LENGTH'!$AK15,'CABLE LENGTH'!$AJ15*'CABLE LENGTH'!$AL15,\"\")))","v":""},{"$f":"IF($S21=\"SOURCE\",IF(AD$9='CABLE LENGTH'!$AK15,'CABLE LENGTH'!$AJ15*'CABLE LENGTH'!$AL15*-1,\"\"),IF(AD$9=\"VIDEO\",IF(AD$9='CABLE LENGTH'!$AK15,'CABLE LENGTH'!$AJ15*'CABLE LENGTH'!$AL15*-1,\"\"),IF(AD$9='CABLE LENGTH'!$AK15,'CABLE LENGTH'!$AJ15*'CABLE LENGTH'!$AL15,\"\")))","v":""},{"$f":"IF($S21=\"SOURCE\",IF(AE$9='CABLE LENGTH'!$AK15,'CABLE LENGTH'!$AJ15*'CABLE LENGTH'!$AL15*-1,\"\"),IF(AE$9=\"VIDEO\",IF(AE$9='CABLE LENGTH'!$AK15,'CABLE LENGTH'!$AJ15*'CABLE LENGTH'!$AL15*-1,\"\"),IF(AE$9='CABLE LENGTH'!$AK15,'CABLE LENGTH'!$AJ15*'CABLE LENGTH'!$AL15,\"\")))","v":""},{"$f":"IF($S21=\"SOURCE\",IF(AF$9='CABLE LENGTH'!$AK15,'CABLE LENGTH'!$AJ15*'CABLE LENGTH'!$AL15*-1,\"\"),IF(AF$9=\"VIDEO\",IF(AF$9='CABLE LENGTH'!$AK15,'CABLE LENGTH'!$AJ15*'CABLE LENGTH'!$AL15*-1,\"\"),IF(AF$9='CABLE LENGTH'!$AK15,'CABLE LENGTH'!$AJ15*'CABLE LENGTH'!$AL15,\"\")))","v":""}]
[0.3,{"$f":"IF('CONDUIT LENGTH'!A15>0,'CONDUIT LENGTH'!A15,\" \")","v":" "},{"$f":"IF('CONDUIT LENGTH'!B15>0,'CONDUIT LENGTH'!B15,\" \")","v":" "},{"$f":"IF('CONDUIT LENGTH'!C15>0,'CONDUIT LENGTH'!C15,\" \")","v":" "},{"$f":"IF($B22=\"SOURCE\",IF(LEFT(E$5,1)='CONDUIT LENGTH'!$M15,IF(E$9='CONDUIT LENGTH'!$L15,'CONDUIT LENGTH'!$K15*-1,IF(AND(E$9=RIGHT('CONDUIT LENGTH'!$L15,2),LEFT('CONDUIT LENGTH'!$L15,3)=\"2x3\")=TRUE,IF(LEFT('CONDUIT LENGTH'!$L15,2)=\"2x\",'CONDUIT LENGTH'!$K15*-1*2,\"\"),\"\")),\"\"),IF(LEFT(E$5,1)='CONDUIT LENGTH'!$M15,IF(E$9='CONDUIT LENGTH'!$L15,'CONDUIT LENGTH'!$K15,IF(AND(E$9=RIGHT('CONDUIT LENGTH'!$L15,2),LEFT('CONDUIT LENGTH'!$L15,3)=\"2x3\")=TRUE,IF(LEFT('CONDUIT LENGTH'!$L15,2)=\"2x\",'CONDUIT LENGTH'!$K15*2,\"\"),\"\")),\"\"))","v":""},{"$f":"IF($B22=\"SOURCE\",IF(LEFT(G$6,1)='CONDUIT LENGTH'!$M15,IF(F$9='CONDUIT LENGTH'!$L15,'CONDUIT LENGTH'!$K15*-1,IF(AND(F$9=RIGHT('CONDUIT LENGTH'!$L15,2),LEFT('CONDUIT LENGTH'!$L15,3)=\"2x3\")=TRUE,IF(LEFT('CONDUIT LENGTH'!$L15,2)=\"2x\",'CONDUIT LENGTH'!$K15*-1*2,\"\"),\"\")),\"\"),IF(LEFT(G$6,1)='CONDUIT LENGTH'!$M15,IF(F$9='CONDUIT LENGTH'!$L15,'CONDUIT LENGTH'!$K15,IF(AND(F$9=RIGHT('CONDUIT LENGTH'!$L15,2),LEFT('CONDUIT LENGTH'!$L15,3)=\"2x3\")=TRUE,IF(LEFT('CONDUIT LENGTH'!$L15,2)=\"2x\",'CONDUIT LENGTH'!$K15*2,\"\"),\"\")),\"\"))","v":""},{"$f":"IF($B22=\"SOURCE\",IF(LEFT(G$6,1)='CONDUIT LENGTH'!$M15,IF(G$9='CONDUIT LENGTH'!$L15,'CONDUIT LENGTH'!$K15*-1,IF(AND(G$9=RIGHT('CONDUIT LENGTH'!$L15,2),LEFT('CONDUIT LENGTH'!$L15,3)=\"2x3\")=TRUE,IF(LEFT('CONDUIT LENGTH'!$L15,2)=\"2x\",'CONDUIT LENGTH'!$K15*-1*2,\"\"),\"\")),\"\"),IF(LEFT(G$6,1)='CONDUIT LENGTH'!$M15,IF(G$9='CONDUIT LENGTH'!$L15,'CONDUIT LENGTH'!$K15,IF(AND(G$9=RIGHT('CONDUIT LENGTH'!$L15,2),LEFT('CONDUIT LENGTH'!$L15,3)=\"2x3\")=TRUE,IF(LEFT('CONDUIT LENGTH'!$L15,2)=\"2x\",'CONDUIT LENGTH'!$K15*2,\"\"),\"\")),\"\"))","v":""},{"$f":"IF($B22=\"SOURCE\",IF(LEFT(G$6,1)='CONDUIT LENGTH'!$M15,IF(H$9='CONDUIT LENGTH'!$L15,'CONDUIT LENGTH'!$K15*-1,IF(AND(H$9=RIGHT('CONDUIT LENGTH'!$L15,2),LEFT('CONDUIT LENGTH'!$L15,3)=\"2x3\")=TRUE,IF(LEFT('CONDUIT LENGTH'!$L15,2)=\"2x\",'CONDUIT LENGTH'!$K15*-1*2,\"\"),\"\")),\"\"),IF(LEFT(G$6,1)='CONDUIT LENGTH'!$M15,IF(H$9='CONDUIT LENGTH'!$L15,'CONDUIT LENGTH'!$K15,IF(AND(H$9=RIGHT('CONDUIT LENGTH'!$L15,2),LEFT('CONDUIT LENGTH'!$L15,3)=\"2x3\")=TRUE,IF(LEFT('CONDUIT LENGTH'!$L15,2)=\"2x\",'CONDUIT LENGTH'!$K15*2,\"\"),\"\")),\"\"))","v":""},{"$f":"IF($B22=\"SOURCE\",IF(LEFT(J$6,1)='CONDUIT LENGTH'!$M15,IF(I$9='CONDUIT LENGTH'!$L15,'CONDUIT LENGTH'!$K15*-1,IF(AND(I$9=RIGHT('CONDUIT LENGTH'!$L15,2),LEFT('CONDUIT LENGTH'!$L15,3)=\"2x3\")=TRUE,IF(LEFT('CONDUIT LENGTH'!$L15,2)=\"2x\",'CONDUIT LENGTH'!$K15*-1*2,\"\"),\"\")),\"\"),IF(LEFT(J$6,1)='CONDUIT LENGTH'!$M15,IF(I$9='CONDUIT LENGTH'!$L15,'CONDUIT LENGTH'!$K15,IF(AND(I$9=RIGHT('CONDUIT LENGTH'!$L15,2),LEFT('CONDUIT LENGTH'!$L15,3)=\"2x3\")=TRUE,IF(LEFT('CONDUIT LENGTH'!$L15,2)=\"2x\",'CONDUIT LENGTH'!$K15*2,\"\"),\"\")),\"\"))","v":""},{"$f":"IF($B22=\"SOURCE\",IF(LEFT(J$6,1)='CONDUIT LENGTH'!$M15,IF(J$9='CONDUIT LENGTH'!$L15,'CONDUIT LENGTH'!$K15*-1,IF(AND(J$9=RIGHT('CONDUIT LENGTH'!$L15,2),LEFT('CONDUIT LENGTH'!$L15,3)=\"2x3\")=TRUE,IF(LEFT('CONDUIT LENGTH'!$L15,2)=\"2x\",'CONDUIT LENGTH'!$K15*-1*2,\"\"),\"\")),\"\"),IF(LEFT(J$6,1)='CONDUIT LENGTH'!$M15,IF(J$9='CONDUIT LENGTH'!$L15,'CONDUIT LENGTH'!$K15,IF(AND(J$9=RIGHT('CONDUIT LENGTH'!$L15,2),LEFT('CONDUIT LENGTH'!$L15,3)=\"2x3\")=TRUE,IF(LEFT('CONDUIT LENGTH'!$L15,2)=\"2x\",'CONDUIT LENGTH'!$K15*2,\"\"),\"\")),\"\"))","v":""},{"$f":"IF($B22=\"SOURCE\",IF(LEFT(J$6,1)='CONDUIT LENGTH'!$M15,IF(K$9='CONDUIT LENGTH'!$L15,'CONDUIT LENGTH'!$K15*-1,IF(AND(K$9=RIGHT('CONDUIT LENGTH'!$L15,2),LEFT('CONDUIT LENGTH'!$L15,3)=\"2x3\")=TRUE,IF(LEFT('CONDUIT LENGTH'!$L15,2)=\"2x\",'CONDUIT LENGTH'!$K15*-1*2,\"\"),\"\")),\"\"),IF(LEFT(J$6,1)='CONDUIT LENGTH'!$M15,IF(K$9='CONDUIT LENGTH'!$L15,'CONDUIT LENGTH'!$K15,IF(AND(K$9=RIGHT('CONDUIT LENGTH'!$L15,2),LEFT('CONDUIT LENGTH'!$L15,3)=\"2x3\")=TRUE,IF(LEFT('CONDUIT LENGTH'!$L15,2)=\"2x\",'CONDUIT LENGTH'!$K15*2,\"\"),\"\")),\"\"))","v":""},{"$f":"IF($B22=\"SOURCE\",IF(LEFT(M$6,1)='CONDUIT LENGTH'!$M15,IF(L$9='CONDUIT LENGTH'!$L15,'CONDUIT LENGTH'!$K15*-1,IF(AND(L$9=RIGHT('CONDUIT LENGTH'!$L15,2),LEFT('CONDUIT LENGTH'!$L15,3)=\"2x3\")=TRUE,IF(LEFT('CONDUIT LENGTH'!$L15,2)=\"2x\",'CONDUIT LENGTH'!$K15*-1*2,\"\"),\"\")),\"\"),IF(LEFT(M$6,1)='CONDUIT LENGTH'!$M15,IF(L$9='CONDUIT LENGTH'!$L15,'CONDUIT LENGTH'!$K15,IF(AND(L$9=RIGHT('CONDUIT LENGTH'!$L15,2),LEFT('CONDUIT LENGTH'!$L15,3)=\"2x3\")=TRUE,IF(LEFT('CONDUIT LENGTH'!$L15,2)=\"2x\",'CONDUIT LENGTH'!$K15*2,\"\"),\"\")),\"\"))","v":""},{"$f":"IF($B22=\"SOURCE\",IF(LEFT(M$6,1)='CONDUIT LENGTH'!$M15,IF(M$9='CONDUIT LENGTH'!$L15,'CONDUIT LENGTH'!$K15*-1,IF(AND(M$9=RIGHT('CONDUIT LENGTH'!$L15,2),LEFT('CONDUIT LENGTH'!$L15,3)=\"2x3\")=TRUE,IF(LEFT('CONDUIT LENGTH'!$L15,2)=\"2x\",'CONDUIT LENGTH'!$K15*-1*2,\"\"),\"\")),\"\"),IF(LEFT(M$6,1)='CONDUIT LENGTH'!$M15,IF(M$9='CONDUIT LENGTH'!$L15,'CONDUIT LENGTH'!$K15,IF(AND(M$9=RIGHT('CONDUIT LENGTH'!$L15,2),LEFT('CONDUIT LENGTH'!$L15,3)=\"2x3\")=TRUE,IF(LEFT('CONDUIT LENGTH'!$L15,2)=\"2x\",'CONDUIT LENGTH'!$K15*2,\"\"),\"\")),\"\"))","v":""},{"$f":"IF($B22=\"SOURCE\",IF(LEFT(M$6,1)='CONDUIT LENGTH'!$M15,IF(N$9='CONDUIT LENGTH'!$L15,'CONDUIT LENGTH'!$K15*-1,IF(AND(N$9=RIGHT('CONDUIT LENGTH'!$L15,2),LEFT('CONDUIT LENGTH'!$L15,3)=\"2x3\")=TRUE,IF(LEFT('CONDUIT LENGTH'!$L15,2)=\"2x\",'CONDUIT LENGTH'!$K15*-1*2,\"\"),\"\")),\"\"),IF(LEFT(M$6,1)='CONDUIT LENGTH'!$M15,IF(N$9='CONDUIT LENGTH'!$L15,'CONDUIT LENGTH'!$K15,IF(AND(N$9=RIGHT('CONDUIT LENGTH'!$L15,2),LEFT('CONDUIT LENGTH'!$L15,3)=\"2x3\")=TRUE,IF(LEFT('CONDUIT LENGTH'!$L15,2)=\"2x\",'CONDUIT LENGTH'!$K15*2,\"\"),\"\")),\"\"))","v":""},{"$f":"IF($B22=\"SOURCE\",IF(LEFT(P$5,1)='CONDUIT LENGTH'!$M15,IF(O$9='CONDUIT LENGTH'!$L15,'CONDUIT LENGTH'!$K15*-1,IF(AND(O$9=RIGHT('CONDUIT LENGTH'!$L15,2),LEFT('CONDUIT LENGTH'!$L15,3)=\"2x3\")=TRUE,IF(LEFT('CONDUIT LENGTH'!$L15,2)=\"2x\",'CONDUIT LENGTH'!$K15*-1*2,\"\"),\"\")),\"\"),IF(LEFT(P$6,1)='CONDUIT LENGTH'!$M15,IF(O$9='CONDUIT LENGTH'!$L15,'CONDUIT LENGTH'!$K15,IF(AND(O$9=RIGHT('CONDUIT LENGTH'!$L15,2),LEFT('CONDUIT LENGTH'!$L15,3)=\"2x3\")=TRUE,IF(LEFT('CONDUIT LENGTH'!$L15,2)=\"2x\",'CONDUIT LENGTH'!$K15*2,\"\"),\"\")),\"\"))","v":""},{"$f":"IF($B22=\"SOURCE\",IF(LEFT(P$5,1)='CONDUIT LENGTH'!$M15,IF(P$9='CONDUIT LENGTH'!$L15,'CONDUIT LENGTH'!$K15*-1,IF(AND(P$9=RIGHT('CONDUIT LENGTH'!$L15,2),LEFT('CONDUIT LENGTH'!$L15,3)=\"2x3\")=TRUE,IF(LEFT('CONDUIT LENGTH'!$L15,2)=\"2x\",'CONDUIT LENGTH'!$K15*-1*2,\"\"),\"\")),\"\"),IF(LEFT(P$6,1)='CONDUIT LENGTH'!$M15,IF(P$9='CONDUIT LENGTH'!$L15,'CONDUIT LENGTH'!$K15,IF(AND(P$9=RIGHT('CONDUIT LENGTH'!$L15,2),LEFT('CONDUIT LENGTH'!$L15,3)=\"2x3\")=TRUE,IF(LEFT('CONDUIT LENGTH'!$L15,2)=\"2x\",'CONDUIT LENGTH'!$K15*2,\"\"),\"\")),\"\"))","v":""},{"$f":"IF($B22=\"SOURCE\",IF(LEFT(P$5,1)='CONDUIT LENGTH'!$M15,IF(Q$9='CONDUIT LENGTH'!$L15,'CONDUIT LENGTH'!$K15*-1,IF(AND(Q$9=RIGHT('CONDUIT LENGTH'!$L15,2),LEFT('CONDUIT LENGTH'!$L15,3)=\"2x3\")=TRUE,IF(LEFT('CONDUIT LENGTH'!$L15,2)=\"2x\",'CONDUIT LENGTH'!$K15*-1*2,\"\"),\"\")),\"\"),IF(LEFT(Q$6,1)='CONDUIT LENGTH'!$M15,IF(Q$9='CONDUIT LENGTH'!$L15,'CONDUIT LENGTH'!$K15,IF(AND(Q$9=RIGHT('CONDUIT LENGTH'!$L15,2),LEFT('CONDUIT LENGTH'!$L15,3)=\"2x3\")=TRUE,IF(LEFT('CONDUIT LENGTH'!$L15,2)=\"2x\",'CONDUIT LENGTH'!$K15*2,\"\"),\"\")),\"\"))","v":""},{"$f":"IF('CONDUIT LENGTH'!M15=\"UIP\",\"UIP EXISTING\",\"\")","v":""},{"$f":"IF('CABLE LENGTH'!A16>0,'CABLE LENGTH'!A16,\"\")","v":""},{"$f":"IF('CABLE LENGTH'!B16>0,'CABLE LENGTH'!B16,\"\")","v":""},{"$f":"IF('CABLE LENGTH'!Q16>0,'CABLE LENGTH'!Q16,\"\")","v":""},{"$f":"IF($S22=\"SOURCE\",IF(V$9='CABLE LENGTH'!$AK16,'CABLE LENGTH'!$AJ16*'CABLE LENGTH'!$AL16*-1,\"\"),IF(V$9=\"VIDEO\",IF(V$9='CABLE LENGTH'!$AK16,'CABLE LENGTH'!$AJ16*'CABLE LENGTH'!$AL16*-1,\"\"),IF(V$9='CABLE LENGTH'!$AK16,'CABLE LENGTH'!$AJ16*'CABLE LENGTH'!$AL16,\"\")))","v":""},{"$f":"IF($S22=\"SOURCE\",IF(W$9='CABLE LENGTH'!$AK16,'CABLE LENGTH'!$AJ16*'CABLE LENGTH'!$AL16*-1,\"\"),IF(W$9=\"VIDEO\",IF(W$9='CABLE LENGTH'!$AK16,'CABLE LENGTH'!$AJ16*'CABLE LENGTH'!$AL16*-1,\"\"),IF(W$9='CABLE LENGTH'!$AK16,'CABLE LENGTH'!$AJ16*'CABLE LENGTH'!$AL16,\"\")))","v":""},{"$f":"IF($S22=\"SOURCE\",IF(X$10='CABLE LENGTH'!$AK16,'CABLE LENGTH'!$AJ16*'CABLE LENGTH'!$AL16*-1,\"\"),IF(X$10=\"VIDEO\",IF(X$10='CABLE LENGTH'!$AK16,'CABLE LENGTH'!$AJ16*'CABLE LENGTH'!$AL16*-1,\"\"),IF(X$10='CABLE LENGTH'!$AK16,'CABLE LENGTH'!$AJ16*'CABLE LENGTH'!$AL16,\"\")))","v":""},{"$f":"IF($S22=\"SOURCE\",IF(Y$10='CABLE LENGTH'!$AK16,'CABLE LENGTH'!$AJ16*'CABLE LENGTH'!$AL16*-1,\"\"),IF(Y$10=\"VIDEO\",IF(Y$10='CABLE LENGTH'!$AK16,'CABLE LENGTH'!$AJ16*'CABLE LENGTH'!$AL16*-1,\"\"),IF(Y$10='CABLE LENGTH'!$AK16,'CABLE LENGTH'!$AJ16*'CABLE LENGTH'!$AL16,\"\")))","v":""},{"$f":"IF($S22=\"SOURCE\",IF(Z$10='CABLE LENGTH'!$AK16,'CABLE LENGTH'!$AJ16*'CABLE LENGTH'!$AL16*-1,\"\"),IF(Z$10=\"VIDEO\",IF(Z$10='CABLE LENGTH'!$AK16,'CABLE LENGTH'!$AJ16*'CABLE LENGTH'!$AL16*-1,\"\"),IF(Z$10='CABLE LENGTH'!$AK16,'CABLE LENGTH'!$AJ16*'CABLE LENGTH'!$AL16,\"\")))","v":""},{"$f":"IF($S22=\"SOURCE\",IF(AA$10='CABLE LENGTH'!$AK16,'CABLE LENGTH'!$AJ16*'CABLE LENGTH'!$AL16*-1,\"\"),IF(AA$10=\"VIDEO\",IF(AA$10='CABLE LENGTH'!$AK16,'CABLE LENGTH'!$AJ16*'CABLE LENGTH'!$AL16*-1,\"\"),IF(AA$10='CABLE LENGTH'!$AK16,'CABLE LENGTH'!$AJ16*'CABLE LENGTH'!$AL16,\"\")))","v":""},{"$f":"IF($S22=\"SOURCE\",IF(AB$10='CABLE LENGTH'!$AK16,'CABLE LENGTH'!$AJ16*'CABLE LENGTH'!$AL16*-1,\"\"),IF(AB$10=\"VIDEO\",IF(AB$10='CABLE LENGTH'!$AK16,'CABLE LENGTH'!$AJ16*'CABLE LENGTH'!$AL16*-1,\"\"),IF(AB$10='CABLE LENGTH'!$AK16,'CABLE LENGTH'!$AJ16*'CABLE LENGTH'!$AL16,\"\")))","v":""},{"$f":"IF($S22=\"SOURCE\",IF(AC$10='CABLE LENGTH'!$AK16,'CABLE LENGTH'!$AJ16*'CABLE LENGTH'!$AL16*-1,\"\"),IF(AC$10=\"VIDEO\",IF(AC$10='CABLE LENGTH'!$AK16,'CABLE LENGTH'!$AJ16*'CABLE LENGTH'!$AL16*-1,\"\"),IF(AC$10='CABLE LENGTH'!$AK16,'CABLE LENGTH'!$AJ16*'CABLE LENGTH'!$AL16,\"\")))","v":""},{"$f":"IF($S22=\"SOURCE\",IF(AD$9='CABLE LENGTH'!$AK16,'CABLE LENGTH'!$AJ16*'CABLE LENGTH'!$AL16*-1,\"\"),IF(AD$9=\"VIDEO\",IF(AD$9='CABLE LENGTH'!$AK16,'CABLE LENGTH'!$AJ16*'CABLE LENGTH'!$AL16*-1,\"\"),IF(AD$9='CABLE LENGTH'!$AK16,'CABLE LENGTH'!$AJ16*'CABLE LENGTH'!$AL16,\"\")))","v":""},{"$f":"IF($S22=\"SOURCE\",IF(AE$9='CABLE LENGTH'!$AK16,'CABLE LENGTH'!$AJ16*'CABLE LENGTH'!$AL16*-1,\"\"),IF(AE$9=\"VIDEO\",IF(AE$9='CABLE LENGTH'!$AK16,'CABLE LENGTH'!$AJ16*'CABLE LENGTH'!$AL16*-1,\"\"),IF(AE$9='CABLE LENGTH'!$AK16,'CABLE LENGTH'!$AJ16*'CABLE LENGTH'!$AL16,\"\")))","v":""},{"$f":"IF($S22=\"SOURCE\",IF(AF$9='CABLE LENGTH'!$AK16,'CABLE LENGTH'!$AJ16*'CABLE LENGTH'!$AL16*-1,\"\"),IF(AF$9=\"VIDEO\",IF(AF$9='CABLE LENGTH'!$AK16,'CABLE LENGTH'!$AJ16*'CABLE LENGTH'!$AL16*-1,\"\"),IF(AF$9='CABLE LENGTH'!$AK16,'CABLE LENGTH'!$AJ16*'CABLE LENGTH'!$AL16,\"\")))","v":""}]
[0.3,{"$f":"IF('CONDUIT LENGTH'!A16>0,'CONDUIT LENGTH'!A16,\" \")","v":" "},{"$f":"IF('CONDUIT LENGTH'!B16>0,'CONDUIT LENGTH'!B16,\" \")","v":" "},{"$f":"IF('CONDUIT LENGTH'!C16>0,'CONDUIT LENGTH'!C16,\" \")","v":" "},{"$f":"IF($B23=\"SOURCE\",IF(LEFT(E$5,1)='CONDUIT LENGTH'!$M16,IF(E$9='CONDUIT LENGTH'!$L16,'CONDUIT LENGTH'!$K16*-1,IF(AND(E$9=RIGHT('CONDUIT LENGTH'!$L16,2),LEFT('CONDUIT LENGTH'!$L16,3)=\"2x3\")=TRUE,IF(LEFT('CONDUIT LENGTH'!$L16,2)=\"2x\",'CONDUIT LENGTH'!$K16*-1*2,\"\"),\"\")),\"\"),IF(LEFT(E$5,1)='CONDUIT LENGTH'!$M16,IF(E$9='CONDUIT LENGTH'!$L16,'CONDUIT LENGTH'!$K16,IF(AND(E$9=RIGHT('CONDUIT LENGTH'!$L16,2),LEFT('CONDUIT LENGTH'!$L16,3)=\"2x3\")=TRUE,IF(LEFT('CONDUIT LENGTH'!$L16,2)=\"2x\",'CONDUIT LENGTH'!$K16*2,\"\"),\"\")),\"\"))","v":""},{"$f":"IF($B23=\"SOURCE\",IF(LEFT(G$6,1)='CONDUIT LENGTH'!$M16,IF(F$9='CONDUIT LENGTH'!$L16,'CONDUIT LENGTH'!$K16*-1,IF(AND(F$9=RIGHT('CONDUIT LENGTH'!$L16,2),LEFT('CONDUIT LENGTH'!$L16,3)=\"2x3\")=TRUE,IF(LEFT('CONDUIT LENGTH'!$L16,2)=\"2x\",'CONDUIT LENGTH'!$K16*-1*2,\"\"),\"\")),\"\"),IF(LEFT(G$6,1)='CONDUIT LENGTH'!$M16,IF(F$9='CONDUIT LENGTH'!$L16,'CONDUIT LENGTH'!$K16,IF(AND(F$9=RIGHT('CONDUIT LENGTH'!$L16,2),LEFT('CONDUIT LENGTH'!$L16,3)=\"2x3\")=TRUE,IF(LEFT('CONDUIT LENGTH'!$L16,2)=\"2x\",'CONDUIT LENGTH'!$K16*2,\"\"),\"\")),\"\"))","v":""},{"$f":"IF($B23=\"SOURCE\",IF(LEFT(G$6,1)='CONDUIT LENGTH'!$M16,IF(G$9='CONDUIT LENGTH'!$L16,'CONDUIT LENGTH'!$K16*-1,IF(AND(G$9=RIGHT('CONDUIT LENGTH'!$L16,2),LEFT('CONDUIT LENGTH'!$L16,3)=\"2x3\")=TRUE,IF(LEFT('CONDUIT LENGTH'!$L16,2)=\"2x\",'CONDUIT LENGTH'!$K16*-1*2,\"\"),\"\")),\"\"),IF(LEFT(G$6,1)='CONDUIT LENGTH'!$M16,IF(G$9='CONDUIT LENGTH'!$L16,'CONDUIT LENGTH'!$K16,IF(AND(G$9=RIGHT('CONDUIT LENGTH'!$L16,2),LEFT('CONDUIT LENGTH'!$L16,3)=\"2x3\")=TRUE,IF(LEFT('CONDUIT LENGTH'!$L16,2)=\"2x\",'CONDUIT LENGTH'!$K16*2,\"\"),\"\")),\"\"))","v":""},{"$f":"IF($B23=\"SOURCE\",IF(LEFT(G$6,1)='CONDUIT LENGTH'!$M16,IF(H$9='CONDUIT LENGTH'!$L16,'CONDUIT LENGTH'!$K16*-1,IF(AND(H$9=RIGHT('CONDUIT LENGTH'!$L16,2),LEFT('CONDUIT LENGTH'!$L16,3)=\"2x3\")=TRUE,IF(LEFT('CONDUIT LENGTH'!$L16,2)=\"2x\",'CONDUIT LENGTH'!$K16*-1*2,\"\"),\"\")),\"\"),IF(LEFT(G$6,1)='CONDUIT LENGTH'!$M16,IF(H$9='CONDUIT LENGTH'!$L16,'CONDUIT LENGTH'!$K16,IF(AND(H$9=RIGHT('CONDUIT LENGTH'!$L16,2),LEFT('CONDUIT LENGTH'!$L16,3)=\"2x3\")=TRUE,IF(LEFT('CONDUIT LENGTH'!$L16,2)=\"2x\",'CONDUIT LENGTH'!$K16*2,\"\"),\"\")),\"\"))","v":""},{"$f":"IF($B23=\"SOURCE\",IF(LEFT(J$6,1)='CONDUIT LENGTH'!$M16,IF(I$9='CONDUIT LENGTH'!$L16,'CONDUIT LENGTH'!$K16*-1,IF(AND(I$9=RIGHT('CONDUIT LENGTH'!$L16,2),LEFT('CONDUIT LENGTH'!$L16,3)=\"2x3\")=TRUE,IF(LEFT('CONDUIT LENGTH'!$L16,2)=\"2x\",'CONDUIT LENGTH'!$K16*-1*2,\"\"),\"\")),\"\"),IF(LEFT(J$6,1)='CONDUIT LENGTH'!$M16,IF(I$9='CONDUIT LENGTH'!$L16,'CONDUIT LENGTH'!$K16,IF(AND(I$9=RIGHT('CONDUIT LENGTH'!$L16,2),LEFT('CONDUIT LENGTH'!$L16,3)=\"2x3\")=TRUE,IF(LEFT('CONDUIT LENGTH'!$L16,2)=\"2x\",'CONDUIT LENGTH'!$K16*2,\"\"),\"\")),\"\"))","v":""},{"$f":"IF($B23=\"SOURCE\",IF(LEFT(J$6,1)='CONDUIT LENGTH'!$M16,IF(J$9='CONDUIT LENGTH'!$L16,'CONDUIT LENGTH'!$K16*-1,IF(AND(J$9=RIGHT('CONDUIT LENGTH'!$L16,2),LEFT('CONDUIT LENGTH'!$L16,3)=\"2x3\")=TRUE,IF(LEFT('CONDUIT LENGTH'!$L16,2)=\"2x\",'CONDUIT LENGTH'!$K16*-1*2,\"\"),\"\")),\"\"),IF(LEFT(J$6,1)='CONDUIT LENGTH'!$M16,IF(J$9='CONDUIT LENGTH'!$L16,'CONDUIT LENGTH'!$K16,IF(AND(J$9=RIGHT('CONDUIT LENGTH'!$L16,2),LEFT('CONDUIT LENGTH'!$L16,3)=\"2x3\")=TRUE,IF(LEFT('CONDUIT LENGTH'!$L16,2)=\"2x\",'CONDUIT LENGTH'!$K16*2,\"\"),\"\")),\"\"))","v":""},{"$f":"IF($B23=\"SOURCE\",IF(LEFT(J$6,1)='CONDUIT LENGTH'!$M16,IF(K$9='CONDUIT LENGTH'!$L16,'CONDUIT LENGTH'!$K16*-1,IF(AND(K$9=RIGHT('CONDUIT LENGTH'!$L16,2),LEFT('CONDUIT LENGTH'!$L16,3)=\"2x3\")=TRUE,IF(LEFT('CONDUIT LENGTH'!$L16,2)=\"2x\",'CONDUIT LENGTH'!$K16*-1*2,\"\"),\"\")),\"\"),IF(LEFT(J$6,1)='CONDUIT LENGTH'!$M16,IF(K$9='CONDUIT LENGTH'!$L16,'CONDUIT LENGTH'!$K16,IF(AND(K$9=RIGHT('CONDUIT LENGTH'!$L16,2),LEFT('CONDUIT LENGTH'!$L16,3)=\"2x3\")=TRUE,IF(LEFT('CONDUIT LENGTH'!$L16,2)=\"2x\",'CONDUIT LENGTH'!$K16*2,\"\"),\"\")),\"\"))","v":""},{"$f":"IF($B23=\"SOURCE\",IF(LEFT(M$6,1)='CONDUIT LENGTH'!$M16,IF(L$9='CONDUIT LENGTH'!$L16,'CONDUIT LENGTH'!$K16*-1,IF(AND(L$9=RIGHT('CONDUIT LENGTH'!$L16,2),LEFT('CONDUIT LENGTH'!$L16,3)=\"2x3\")=TRUE,IF(LEFT('CONDUIT LENGTH'!$L16,2)=\"2x\",'CONDUIT LENGTH'!$K16*-1*2,\"\"),\"\")),\"\"),IF(LEFT(M$6,1)='CONDUIT LENGTH'!$M16,IF(L$9='CONDUIT LENGTH'!$L16,'CONDUIT LENGTH'!$K16,IF(AND(L$9=RIGHT('CONDUIT LENGTH'!$L16,2),LEFT('CONDUIT LENGTH'!$L16,3)=\"2x3\")=TRUE,IF(LEFT('CONDUIT LENGTH'!$L16,2)=\"2x\",'CONDUIT LENGTH'!$K16*2,\"\"),\"\")),\"\"))","v":""},{"$f":"IF($B23=\"SOURCE\",IF(LEFT(M$6,1)='CONDUIT LENGTH'!$M16,IF(M$9='CONDUIT LENGTH'!$L16,'CONDUIT LENGTH'!$K16*-1,IF(AND(M$9=RIGHT('CONDUIT LENGTH'!$L16,2),LEFT('CONDUIT LENGTH'!$L16,3)=\"2x3\")=TRUE,IF(LEFT('CONDUIT LENGTH'!$L16,2)=\"2x\",'CONDUIT LENGTH'!$K16*-1*2,\"\"),\"\")),\"\"),IF(LEFT(M$6,1)='CONDUIT LENGTH'!$M16,IF(M$9='CONDUIT LENGTH'!$L16,'CONDUIT LENGTH'!$K16,IF(AND(M$9=RIGHT('CONDUIT LENGTH'!$L16,2),LEFT('CONDUIT LENGTH'!$L16,3)=\"2x3\")=TRUE,IF(LEFT('CONDUIT LENGTH'!$L16,2)=\"2x\",'CONDUIT LENGTH'!$K16*2,\"\"),\"\")),\"\"))","v":""},{"$f":"IF($B23=\"SOURCE\",IF(LEFT(M$6,1)='CONDUIT LENGTH'!$M16,IF(N$9='CONDUIT LENGTH'!$L16,'CONDUIT LENGTH'!$K16*-1,IF(AND(N$9=RIGHT('CONDUIT LENGTH'!$L16,2),LEFT('CONDUIT LENGTH'!$L16,3)=\"2x3\")=TRUE,IF(LEFT('CONDUIT LENGTH'!$L16,2)=\"2x\",'CONDUIT LENGTH'!$K16*-1*2,\"\"),\"\")),\"\"),IF(LEFT(M$6,1)='CONDUIT LENGTH'!$M16,IF(N$9='CONDUIT LENGTH'!$L16,'CONDUIT LENGTH'!$K16,IF(AND(N$9=RIGHT('CONDUIT LENGTH'!$L16,2),LEFT('CONDUIT LENGTH'!$L16,3)=\"2x3\")=TRUE,IF(LEFT('CONDUIT LENGTH'!$L16,2)=\"2x\",'CONDUIT LENGTH'!$K16*2,\"\"),\"\")),\"\"))","v":""},{"$f":"IF($B23=\"SOURCE\",IF(LEFT(P$5,1)='CONDUIT LENGTH'!$M16,IF(O$9='CONDUIT LENGTH'!$L16,'CONDUIT LENGTH'!$K16*-1,IF(AND(O$9=RIGHT('CONDUIT LENGTH'!$L16,2),LEFT('CONDUIT LENGTH'!$L16,3)=\"2x3\")=TRUE,IF(LEFT('CONDUIT LENGTH'!$L16,2)=\"2x\",'CONDUIT LENGTH'!$K16*-1*2,\"\"),\"\")),\"\"),IF(LEFT(P$6,1)='CONDUIT LENGTH'!$M16,IF(O$9='CONDUIT LENGTH'!$L16,'CONDUIT LENGTH'!$K16,IF(AND(O$9=RIGHT('CONDUIT LENGTH'!$L16,2),LEFT('CONDUIT LENGTH'!$L16,3)=\"2x3\")=TRUE,IF(LEFT('CONDUIT LENGTH'!$L16,2)=\"2x\",'CONDUIT LENGTH'!$K16*2,\"\"),\"\")),\"\"))","v":""},{"$f":"IF($B23=\"SOURCE\",IF(LEFT(P$5,1)='CONDUIT LENGTH'!$M16,IF(P$9='CONDUIT LENGTH'!$L16,'CONDUIT LENGTH'!$K16*-1,IF(AND(P$9=RIGHT('CONDUIT LENGTH'!$L16,2),LEFT('CONDUIT LENGTH'!$L16,3)=\"2x3\")=TRUE,IF(LEFT('CONDUIT LENGTH'!$L16,2)=\"2x\",'CONDUIT LENGTH'!$K16*-1*2,\"\"),\"\")),\"\"),IF(LEFT(P$6,1)='CONDUIT LENGTH'!$M16,IF(P$9='CONDUIT LENGTH'!$L16,'CONDUIT LENGTH'!$K16,IF(AND(P$9=RIGHT('CONDUIT LENGTH'!$L16,2),LEFT('CONDUIT LENGTH'!$L16,3)=\"2x3\")=TRUE,IF(LEFT('CONDUIT LENGTH'!$L16,2)=\"2x\",'CONDUIT LENGTH'!$K16*2,\"\"),\"\")),\"\"))","v":""},{"$f":"IF($B23=\"SOURCE\",IF(LEFT(P$5,1)='CONDUIT LENGTH'!$M16,IF(Q$9='CONDUIT LENGTH'!$L16,'CONDUIT LENGTH'!$K16*-1,IF(AND(Q$9=RIGHT('CONDUIT LENGTH'!$L16,2),LEFT('CONDUIT LENGTH'!$L16,3)=\"2x3\")=TRUE,IF(LEFT('CONDUIT LENGTH'!$L16,2)=\"2x\",'CONDUIT LENGTH'!$K16*-1*2,\"\"),\"\")),\"\"),IF(LEFT(Q$6,1)='CONDUIT LENGTH'!$M16,IF(Q$9='CONDUIT LENGTH'!$L16,'CONDUIT LENGTH'!$K16,IF(AND(Q$9=RIGHT('CONDUIT LENGTH'!$L16,2),LEFT('CONDUIT LENGTH'!$L16,3)=\"2x3\")=TRUE,IF(LEFT('CONDUIT LENGTH'!$L16,2)=\"2x\",'CONDUIT LENGTH'!$K16*2,\"\"),\"\")),\"\"))","v":""},{"$f":"IF('CONDUIT LENGTH'!M16=\"UIP\",\"UIP EXISTING\",\"\")","v":""},{"$f":"IF('CABLE LENGTH'!A17>0,'CABLE LENGTH'!A17,\"\")","v":""},{"$f":"IF('CABLE LENGTH'!B17>0,'CABLE LENGTH'!B17,\"\")","v":""},{"$f":"IF('CABLE LENGTH'!Q17>0,'CABLE LENGTH'!Q17,\"\")","v":""},{"$f":"IF($S23=\"SOURCE\",IF(V$9='CABLE LENGTH'!$AK17,'CABLE LENGTH'!$AJ17*'CABLE LENGTH'!$AL17*-1,\"\"),IF(V$9=\"VIDEO\",IF(V$9='CABLE LENGTH'!$AK17,'CABLE LENGTH'!$AJ17*'CABLE LENGTH'!$AL17*-1,\"\"),IF(V$9='CABLE LENGTH'!$AK17,'CABLE LENGTH'!$AJ17*'CABLE LENGTH'!$AL17,\"\")))","v":""},{"$f":"IF($S23=\"SOURCE\",IF(W$9='CABLE LENGTH'!$AK17,'CABLE LENGTH'!$AJ17*'CABLE LENGTH'!$AL17*-1,\"\"),IF(W$9=\"VIDEO\",IF(W$9='CABLE LENGTH'!$AK17,'CABLE LENGTH'!$AJ17*'CABLE LENGTH'!$AL17*-1,\"\"),IF(W$9='CABLE LENGTH'!$AK17,'CABLE LENGTH'!$AJ17*'CABLE LENGTH'!$AL17,\"\")))","v":""},{"$f":"IF($S23=\"SOURCE\",IF(X$10='CABLE LENGTH'!$AK17,'CABLE LENGTH'!$AJ17*'CABLE LENGTH'!$AL17*-1,\"\"),IF(X$10=\"VIDEO\",IF(X$10='CABLE LENGTH'!$AK17,'CABLE LENGTH'!$AJ17*'CABLE LENGTH'!$AL17*-1,\"\"),IF(X$10='CABLE LENGTH'!$AK17,'CABLE LENGTH'!$AJ17*'CABLE LENGTH'!$AL17,\"\")))","v":""},{"$f":"IF($S23=\"SOURCE\",IF(Y$10='CABLE LENGTH'!$AK17,'CABLE LENGTH'!$AJ17*'CABLE LENGTH'!$AL17*-1,\"\"),IF(Y$10=\"VIDEO\",IF(Y$10='CABLE LENGTH'!$AK17,'CABLE LENGTH'!$AJ17*'CABLE LENGTH'!$AL17*-1,\"\"),IF(Y$10='CABLE LENGTH'!$AK17,'CABLE LENGTH'!$AJ17*'CABLE LENGTH'!$AL17,\"\")))","v":""},{"$f":"IF($S23=\"SOURCE\",IF(Z$10='CABLE LENGTH'!$AK17,'CABLE LENGTH'!$AJ17*'CABLE LENGTH'!$AL17*-1,\"\"),IF(Z$10=\"VIDEO\",IF(Z$10='CABLE LENGTH'!$AK17,'CABLE LENGTH'!$AJ17*'CABLE LENGTH'!$AL17*-1,\"\"),IF(Z$10='CABLE LENGTH'!$AK17,'CABLE LENGTH'!$AJ17*'CABLE LENGTH'!$AL17,\"\")))","v":""},{"$f":"IF($S23=\"SOURCE\",IF(AA$10='CABLE LENGTH'!$AK17,'CABLE LENGTH'!$AJ17*'CABLE LENGTH'!$AL17*-1,\"\"),IF(AA$10=\"VIDEO\",IF(AA$10='CABLE LENGTH'!$AK17,'CABLE LENGTH'!$AJ17*'CABLE LENGTH'!$AL17*-1,\"\"),IF(AA$10='CABLE LENGTH'!$AK17,'CABLE LENGTH'!$AJ17*'CABLE LENGTH'!$AL17,\"\")))","v":""},{"$f":"IF($S23=\"SOURCE\",IF(AB$10='CABLE LENGTH'!$AK17,'CABLE LENGTH'!$AJ17*'CABLE LENGTH'!$AL17*-1,\"\"),IF(AB$10=\"VIDEO\",IF(AB$10='CABLE LENGTH'!$AK17,'CABLE LENGTH'!$AJ17*'CABLE LENGTH'!$AL17*-1,\"\"),IF(AB$10='CABLE LENGTH'!$AK17,'CABLE LENGTH'!$AJ17*'CABLE LENGTH'!$AL17,\"\")))","v":""},{"$f":"IF($S23=\"SOURCE\",IF(AC$10='CABLE LENGTH'!$AK17,'CABLE LENGTH'!$AJ17*'CABLE LENGTH'!$AL17*-1,\"\"),IF(AC$10=\"VIDEO\",IF(AC$10='CABLE LENGTH'!$AK17,'CABLE LENGTH'!$AJ17*'CABLE LENGTH'!$AL17*-1,\"\"),IF(AC$10='CABLE LENGTH'!$AK17,'CABLE LENGTH'!$AJ17*'CABLE LENGTH'!$AL17,\"\")))","v":""},{"$f":"IF($S23=\"SOURCE\",IF(AD$9='CABLE LENGTH'!$AK17,'CABLE LENGTH'!$AJ17*'CABLE LENGTH'!$AL17*-1,\"\"),IF(AD$9=\"VIDEO\",IF(AD$9='CABLE LENGTH'!$AK17,'CABLE LENGTH'!$AJ17*'CABLE LENGTH'!$AL17*-1,\"\"),IF(AD$9='CABLE LENGTH'!$AK17,'CABLE LENGTH'!$AJ17*'CABLE LENGTH'!$AL17,\"\")))","v":""},{"$f":"IF($S23=\"SOURCE\",IF(AE$9='CABLE LENGTH'!$AK17,'CABLE LENGTH'!$AJ17*'CABLE LENGTH'!$AL17*-1,\"\"),IF(AE$9=\"VIDEO\",IF(AE$9='CABLE LENGTH'!$AK17,'CABLE LENGTH'!$AJ17*'CABLE LENGTH'!$AL17*-1,\"\"),IF(AE$9='CABLE LENGTH'!$AK17,'CABLE LENGTH'!$AJ17*'CABLE LENGTH'!$AL17,\"\")))","v":""},{"$f":"IF($S23=\"SOURCE\",IF(AF$9='CABLE LENGTH'!$AK17,'CABLE LENGTH'!$AJ17*'CABLE LENGTH'!$AL17*-1,\"\"),IF(AF$9=\"VIDEO\",IF(AF$9='CABLE LENGTH'!$AK17,'CABLE LENGTH'!$AJ17*'CABLE LENGTH'!$AL17*-1,\"\"),IF(AF$9='CABLE LENGTH'!$AK17,'CABLE LENGTH'!$AJ17*'CABLE LENGTH'!$AL17,\"\")))","v":""}]
[0.3,{"$f":"IF('CONDUIT LENGTH'!A17>0,'CONDUIT LENGTH'!A17,\" \")","v":" "},{"$f":"IF('CONDUIT LENGTH'!B17>0,'CONDUIT LENGTH'!B17,\" \")","v":" "},{"$f":"IF('CONDUIT LENGTH'!C17>0,'CONDUIT LENGTH'!C17,\" \")","v":" "},{"$f":"IF($B24=\"SOURCE\",IF(LEFT(E$5,1)='CONDUIT LENGTH'!$M17,IF(E$9='CONDUIT LENGTH'!$L17,'CONDUIT LENGTH'!$K17*-1,IF(AND(E$9=RIGHT('CONDUIT LENGTH'!$L17,2),LEFT('CONDUIT LENGTH'!$L17,3)=\"2x3\")=TRUE,IF(LEFT('CONDUIT LENGTH'!$L17,2)=\"2x\",'CONDUIT LENGTH'!$K17*-1*2,\"\"),\"\")),\"\"),IF(LEFT(E$5,1)='CONDUIT LENGTH'!$M17,IF(E$9='CONDUIT LENGTH'!$L17,'CONDUIT LENGTH'!$K17,IF(AND(E$9=RIGHT('CONDUIT LENGTH'!$L17,2),LEFT('CONDUIT LENGTH'!$L17,3)=\"2x3\")=TRUE,IF(LEFT('CONDUIT LENGTH'!$L17,2)=\"2x\",'CONDUIT LENGTH'!$K17*2,\"\"),\"\")),\"\"))","v":""},{"$f":"IF($B24=\"SOURCE\",IF(LEFT(G$6,1)='CONDUIT LENGTH'!$M17,IF(F$9='CONDUIT LENGTH'!$L17,'CONDUIT LENGTH'!$K17*-1,IF(AND(F$9=RIGHT('CONDUIT LENGTH'!$L17,2),LEFT('CONDUIT LENGTH'!$L17,3)=\"2x3\")=TRUE,IF(LEFT('CONDUIT LENGTH'!$L17,2)=\"2x\",'CONDUIT LENGTH'!$K17*-1*2,\"\"),\"\")),\"\"),IF(LEFT(G$6,1)='CONDUIT LENGTH'!$M17,IF(F$9='CONDUIT LENGTH'!$L17,'CONDUIT LENGTH'!$K17,IF(AND(F$9=RIGHT('CONDUIT LENGTH'!$L17,2),LEFT('CONDUIT LENGTH'!$L17,3)=\"2x3\")=TRUE,IF(LEFT('CONDUIT LENGTH'!$L17,2)=\"2x\",'CONDUIT LENGTH'!$K17*2,\"\"),\"\")),\"\"))","v":""},{"$f":"IF($B24=\"SOURCE\",IF(LEFT(G$6,1)='CONDUIT LENGTH'!$M17,IF(G$9='CONDUIT LENGTH'!$L17,'CONDUIT LENGTH'!$K17*-1,IF(AND(G$9=RIGHT('CONDUIT LENGTH'!$L17,2),LEFT('CONDUIT LENGTH'!$L17,3)=\"2x3\")=TRUE,IF(LEFT('CONDUIT LENGTH'!$L17,2)=\"2x\",'CONDUIT LENGTH'!$K17*-1*2,\"\"),\"\")),\"\"),IF(LEFT(G$6,1)='CONDUIT LENGTH'!$M17,IF(G$9='CONDUIT LENGTH'!$L17,'CONDUIT LENGTH'!$K17,IF(AND(G$9=RIGHT('CONDUIT LENGTH'!$L17,2),LEFT('CONDUIT LENGTH'!$L17,3)=\"2x3\")=TRUE,IF(LEFT('CONDUIT LENGTH'!$L17,2)=\"2x\",'CONDUIT LENGTH'!$K17*2,\"\"),\"\")),\"\"))","v":""},{"$f":"IF($B24=\"SOURCE\",IF(LEFT(G$6,1)='CONDUIT LENGTH'!$M17,IF(H$9='CONDUIT LENGTH'!$L17,'CONDUIT LENGTH'!$K17*-1,IF(AND(H$9=RIGHT('CONDUIT LENGTH'!$L17,2),LEFT('CONDUIT LENGTH'!$L17,3)=\"2x3\")=TRUE,IF(LEFT('CONDUIT LENGTH'!$L17,2)=\"2x\",'CONDUIT LENGTH'!$K17*-1*2,\"\"),\"\")),\"\"),IF(LEFT(G$6,1)='CONDUIT LENGTH'!$M17,IF(H$9='CONDUIT LENGTH'!$L17,'CONDUIT LENGTH'!$K17,IF(AND(H$9=RIGHT('CONDUIT LENGTH'!$L17,2),LEFT('CONDUIT LENGTH'!$L17,3)=\"2x3\")=TRUE,IF(LEFT('CONDUIT LENGTH'!$L17,2)=\"2x\",'CONDUIT LENGTH'!$K17*2,\"\"),\"\")),\"\"))","v":""},{"$f":"IF($B24=\"SOURCE\",IF(LEFT(J$6,1)='CONDUIT LENGTH'!$M17,IF(I$9='CONDUIT LENGTH'!$L17,'CONDUIT LENGTH'!$K17*-1,IF(AND(I$9=RIGHT('CONDUIT LENGTH'!$L17,2),LEFT('CONDUIT LENGTH'!$L17,3)=\"2x3\")=TRUE,IF(LEFT('CONDUIT LENGTH'!$L17,2)=\"2x\",'CONDUIT LENGTH'!$K17*-1*2,\"\"),\"\")),\"\"),IF(LEFT(J$6,1)='CONDUIT LENGTH'!$M17,IF(I$9='CONDUIT LENGTH'!$L17,'CONDUIT LENGTH'!$K17,IF(AND(I$9=RIGHT('CONDUIT LENGTH'!$L17,2),LEFT('CONDUIT LENGTH'!$L17,3)=\"2x3\")=TRUE,IF(LEFT('CONDUIT LENGTH'!$L17,2)=\"2x\",'CONDUIT LENGTH'!$K17*2,\"\"),\"\")),\"\"))","v":""},{"$f":"IF($B24=\"SOURCE\",IF(LEFT(J$6,1)='CONDUIT LENGTH'!$M17,IF(J$9='CONDUIT LENGTH'!$L17,'CONDUIT LENGTH'!$K17*-1,IF(AND(J$9=RIGHT('CONDUIT LENGTH'!$L17,2),LEFT('CONDUIT LENGTH'!$L17,3)=\"2x3\")=TRUE,IF(LEFT('CONDUIT LENGTH'!$L17,2)=\"2x\",'CONDUIT LENGTH'!$K17*-1*2,\"\"),\"\")),\"\"),IF(LEFT(J$6,1)='CONDUIT LENGTH'!$M17,IF(J$9='CONDUIT LENGTH'!$L17,'CONDUIT LENGTH'!$K17,IF(AND(J$9=RIGHT('CONDUIT LENGTH'!$L17,2),LEFT('CONDUIT LENGTH'!$L17,3)=\"2x3\")=TRUE,IF(LEFT('CONDUIT LENGTH'!$L17,2)=\"2x\",'CONDUIT LENGTH'!$K17*2,\"\"),\"\")),\"\"))","v":""},{"$f":"IF($B24=\"SOURCE\",IF(LEFT(J$6,1)='CONDUIT LENGTH'!$M17,IF(K$9='CONDUIT LENGTH'!$L17,'CONDUIT LENGTH'!$K17*-1,IF(AND(K$9=RIGHT('CONDUIT LENGTH'!$L17,2),LEFT('CONDUIT LENGTH'!$L17,3)=\"2x3\")=TRUE,IF(LEFT('CONDUIT LENGTH'!$L17,2)=\"2x\",'CONDUIT LENGTH'!$K17*-1*2,\"\"),\"\")),\"\"),IF(LEFT(J$6,1)='CONDUIT LENGTH'!$M17,IF(K$9='CONDUIT LENGTH'!$L17,'CONDUIT LENGTH'!$K17,IF(AND(K$9=RIGHT('CONDUIT LENGTH'!$L17,2),LEFT('CONDUIT LENGTH'!$L17,3)=\"2x3\")=TRUE,IF(LEFT('CONDUIT LENGTH'!$L17,2)=\"2x\",'CONDUIT LENGTH'!$K17*2,\"\"),\"\")),\"\"))","v":""},{"$f":"IF($B24=\"SOURCE\",IF(LEFT(M$6,1)='CONDUIT LENGTH'!$M17,IF(L$9='CONDUIT LENGTH'!$L17,'CONDUIT LENGTH'!$K17*-1,IF(AND(L$9=RIGHT('CONDUIT LENGTH'!$L17,2),LEFT('CONDUIT LENGTH'!$L17,3)=\"2x3\")=TRUE,IF(LEFT('CONDUIT LENGTH'!$L17,2)=\"2x\",'CONDUIT LENGTH'!$K17*-1*2,\"\"),\"\")),\"\"),IF(LEFT(M$6,1)='CONDUIT LENGTH'!$M17,IF(L$9='CONDUIT LENGTH'!$L17,'CONDUIT LENGTH'!$K17,IF(AND(L$9=RIGHT('CONDUIT LENGTH'!$L17,2),LEFT('CONDUIT LENGTH'!$L17,3)=\"2x3\")=TRUE,IF(LEFT('CONDUIT LENGTH'!$L17,2)=\"2x\",'CONDUIT LENGTH'!$K17*2,\"\"),\"\")),\"\"))","v":""},{"$f":"IF($B24=\"SOURCE\",IF(LEFT(M$6,1)='CONDUIT LENGTH'!$M17,IF(M$9='CONDUIT LENGTH'!$L17,'CONDUIT LENGTH'!$K17*-1,IF(AND(M$9=RIGHT('CONDUIT LENGTH'!$L17,2),LEFT('CONDUIT LENGTH'!$L17,3)=\"2x3\")=TRUE,IF(LEFT('CONDUIT LENGTH'!$L17,2)=\"2x\",'CONDUIT LENGTH'!$K17*-1*2,\"\"),\"\")),\"\"),IF(LEFT(M$6,1)='CONDUIT LENGTH'!$M17,IF(M$9='CONDUIT LENGTH'!$L17,'CONDUIT LENGTH'!$K17,IF(AND(M$9=RIGHT('CONDUIT LENGTH'!$L17,2),LEFT('CONDUIT LENGTH'!$L17,3)=\"2x3\")=TRUE,IF(LEFT('CONDUIT LENGTH'!$L17,2)=\"2x\",'CONDUIT LENGTH'!$K17*2,\"\"),\"\")),\"\"))","v":""},{"$f":"IF($B24=\"SOURCE\",IF(LEFT(M$6,1)='CONDUIT LENGTH'!$M17,IF(N$9='CONDUIT LENGTH'!$L17,'CONDUIT LENGTH'!$K17*-1,IF(AND(N$9=RIGHT('CONDUIT LENGTH'!$L17,2),LEFT('CONDUIT LENGTH'!$L17,3)=\"2x3\")=TRUE,IF(LEFT('CONDUIT LENGTH'!$L17,2)=\"2x\",'CONDUIT LENGTH'!$K17*-1*2,\"\"),\"\")),\"\"),IF(LEFT(M$6,1)='CONDUIT LENGTH'!$M17,IF(N$9='CONDUIT LENGTH'!$L17,'CONDUIT LENGTH'!$K17,IF(AND(N$9=RIGHT('CONDUIT LENGTH'!$L17,2),LEFT('CONDUIT LENGTH'!$L17,3)=\"2x3\")=TRUE,IF(LEFT('CONDUIT LENGTH'!$L17,2)=\"2x\",'CONDUIT LENGTH'!$K17*2,\"\"),\"\")),\"\"))","v":""},{"$f":"IF($B24=\"SOURCE\",IF(LEFT(P$5,1)='CONDUIT LENGTH'!$M17,IF(O$9='CONDUIT LENGTH'!$L17,'CONDUIT LENGTH'!$K17*-1,IF(AND(O$9=RIGHT('CONDUIT LENGTH'!$L17,2),LEFT('CONDUIT LENGTH'!$L17,3)=\"2x3\")=TRUE,IF(LEFT('CONDUIT LENGTH'!$L17,2)=\"2x\",'CONDUIT LENGTH'!$K17*-1*2,\"\"),\"\")),\"\"),IF(LEFT(P$6,1)='CONDUIT LENGTH'!$M17,IF(O$9='CONDUIT LENGTH'!$L17,'CONDUIT LENGTH'!$K17,IF(AND(O$9=RIGHT('CONDUIT LENGTH'!$L17,2),LEFT('CONDUIT LENGTH'!$L17,3)=\"2x3\")=TRUE,IF(LEFT('CONDUIT LENGTH'!$L17,2)=\"2x\",'CONDUIT LENGTH'!$K17*2,\"\"),\"\")),\"\"))","v":""},{"$f":"IF($B24=\"SOURCE\",IF(LEFT(P$5,1)='CONDUIT LENGTH'!$M17,IF(P$9='CONDUIT LENGTH'!$L17,'CONDUIT LENGTH'!$K17*-1,IF(AND(P$9=RIGHT('CONDUIT LENGTH'!$L17,2),LEFT('CONDUIT LENGTH'!$L17,3)=\"2x3\")=TRUE,IF(LEFT('CONDUIT LENGTH'!$L17,2)=\"2x\",'CONDUIT LENGTH'!$K17*-1*2,\"\"),\"\")),\"\"),IF(LEFT(P$6,1)='CONDUIT LENGTH'!$M17,IF(P$9='CONDUIT LENGTH'!$L17,'CONDUIT LENGTH'!$K17,IF(AND(P$9=RIGHT('CONDUIT LENGTH'!$L17,2),LEFT('CONDUIT LENGTH'!$L17,3)=\"2x3\")=TRUE,IF(LEFT('CONDUIT LENGTH'!$L17,2)=\"2x\",'CONDUIT LENGTH'!$K17*2,\"\"),\"\")),\"\"))","v":""},{"$f":"IF($B24=\"SOURCE\",IF(LEFT(P$5,1)='CONDUIT LENGTH'!$M17,IF(Q$9='CONDUIT LENGTH'!$L17,'CONDUIT LENGTH'!$K17*-1,IF(AND(Q$9=RIGHT('CONDUIT LENGTH'!$L17,2),LEFT('CONDUIT LENGTH'!$L17,3)=\"2x3\")=TRUE,IF(LEFT('CONDUIT LENGTH'!$L17,2)=\"2x\",'CONDUIT LENGTH'!$K17*-1*2,\"\"),\"\")),\"\"),IF(LEFT(Q$6,1)='CONDUIT LENGTH'!$M17,IF(Q$9='CONDUIT LENGTH'!$L17,'CONDUIT LENGTH'!$K17,IF(AND(Q$9=RIGHT('CONDUIT LENGTH'!$L17,2),LEFT('CONDUIT LENGTH'!$L17,3)=\"2x3\")=TRUE,IF(LEFT('CONDUIT LENGTH'!$L17,2)=\"2x\",'CONDUIT LENGTH'!$K17*2,\"\"),\"\")),\"\"))","v":""},{"$f":"IF('CONDUIT LENGTH'!M17=\"UIP\",\"UIP EXISTING\",\"\")","v":""},{"$f":"IF('CABLE LENGTH'!A18>0,'CABLE LENGTH'!A18,\"\")","v":""},{"$f":"IF('CABLE LENGTH'!B18>0,'CABLE LENGTH'!B18,\"\")","v":""},{"$f":"IF('CABLE LENGTH'!Q18>0,'CABLE LENGTH'!Q18,\"\")","v":""},{"$f":"IF($S24=\"SOURCE\",IF(V$9='CABLE LENGTH'!$AK18,'CABLE LENGTH'!$AJ18*'CABLE LENGTH'!$AL18*-1,\"\"),IF(V$9=\"VIDEO\",IF(V$9='CABLE LENGTH'!$AK18,'CABLE LENGTH'!$AJ18*'CABLE LENGTH'!$AL18*-1,\"\"),IF(V$9='CABLE LENGTH'!$AK18,'CABLE LENGTH'!$AJ18*'CABLE LENGTH'!$AL18,\"\")))","v":""},{"$f":"IF($S24=\"SOURCE\",IF(W$9='CABLE LENGTH'!$AK18,'CABLE LENGTH'!$AJ18*'CABLE LENGTH'!$AL18*-1,\"\"),IF(W$9=\"VIDEO\",IF(W$9='CABLE LENGTH'!$AK18,'CABLE LENGTH'!$AJ18*'CABLE LENGTH'!$AL18*-1,\"\"),IF(W$9='CABLE LENGTH'!$AK18,'CABLE LENGTH'!$AJ18*'CABLE LENGTH'!$AL18,\"\")))","v":""},{"$f":"IF($S24=\"SOURCE\",IF(X$10='CABLE LENGTH'!$AK18,'CABLE LENGTH'!$AJ18*'CABLE LENGTH'!$AL18*-1,\"\"),IF(X$10=\"VIDEO\",IF(X$10='CABLE LENGTH'!$AK18,'CABLE LENGTH'!$AJ18*'CABLE LENGTH'!$AL18*-1,\"\"),IF(X$10='CABLE LENGTH'!$AK18,'CABLE LENGTH'!$AJ18*'CABLE LENGTH'!$AL18,\"\")))","v":""},{"$f":"IF($S24=\"SOURCE\",IF(Y$10='CABLE LENGTH'!$AK18,'CABLE LENGTH'!$AJ18*'CABLE LENGTH'!$AL18*-1,\"\"),IF(Y$10=\"VIDEO\",IF(Y$10='CABLE LENGTH'!$AK18,'CABLE LENGTH'!$AJ18*'CABLE LENGTH'!$AL18*-1,\"\"),IF(Y$10='CABLE LENGTH'!$AK18,'CABLE LENGTH'!$AJ18*'CABLE LENGTH'!$AL18,\"\")))","v":""},{"$f":"IF($S24=\"SOURCE\",IF(Z$10='CABLE LENGTH'!$AK18,'CABLE LENGTH'!$AJ18*'CABLE LENGTH'!$AL18*-1,\"\"),IF(Z$10=\"VIDEO\",IF(Z$10='CABLE LENGTH'!$AK18,'CABLE LENGTH'!$AJ18*'CABLE LENGTH'!$AL18*-1,\"\"),IF(Z$10='CABLE LENGTH'!$AK18,'CABLE LENGTH'!$AJ18*'CABLE LENGTH'!$AL18,\"\")))","v":""},{"$f":"IF($S24=\"SOURCE\",IF(AA$10='CABLE LENGTH'!$AK18,'CABLE LENGTH'!$AJ18*'CABLE LENGTH'!$AL18*-1,\"\"),IF(AA$10=\"VIDEO\",IF(AA$10='CABLE LENGTH'!$AK18,'CABLE LENGTH'!$AJ18*'CABLE LENGTH'!$AL18*-1,\"\"),IF(AA$10='CABLE LENGTH'!$AK18,'CABLE LENGTH'!$AJ18*'CABLE LENGTH'!$AL18,\"\")))","v":""},{"$f":"IF($S24=\"SOURCE\",IF(AB$10='CABLE LENGTH'!$AK18,'CABLE LENGTH'!$AJ18*'CABLE LENGTH'!$AL18*-1,\"\"),IF(AB$10=\"VIDEO\",IF(AB$10='CABLE LENGTH'!$AK18,'CABLE LENGTH'!$AJ18*'CABLE LENGTH'!$AL18*-1,\"\"),IF(AB$10='CABLE LENGTH'!$AK18,'CABLE LENGTH'!$AJ18*'CABLE LENGTH'!$AL18,\"\")))","v":""},{"$f":"IF($S24=\"SOURCE\",IF(AC$10='CABLE LENGTH'!$AK18,'CABLE LENGTH'!$AJ18*'CABLE LENGTH'!$AL18*-1,\"\"),IF(AC$10=\"VIDEO\",IF(AC$10='CABLE LENGTH'!$AK18,'CABLE LENGTH'!$AJ18*'CABLE LENGTH'!$AL18*-1,\"\"),IF(AC$10='CABLE LENGTH'!$AK18,'CABLE LENGTH'!$AJ18*'CABLE LENGTH'!$AL18,\"\")))","v":""},{"$f":"IF($S24=\"SOURCE\",IF(AD$9='CABLE LENGTH'!$AK18,'CABLE LENGTH'!$AJ18*'CABLE LENGTH'!$AL18*-1,\"\"),IF(AD$9=\"VIDEO\",IF(AD$9='CABLE LENGTH'!$AK18,'CABLE LENGTH'!$AJ18*'CABLE LENGTH'!$AL18*-1,\"\"),IF(AD$9='CABLE LENGTH'!$AK18,'CABLE LENGTH'!$AJ18*'CABLE LENGTH'!$AL18,\"\")))","v":""},{"$f":"IF($S24=\"SOURCE\",IF(AE$9='CABLE LENGTH'!$AK18,'CABLE LENGTH'!$AJ18*'CABLE LENGTH'!$AL18*-1,\"\"),IF(AE$9=\"VIDEO\",IF(AE$9='CABLE LENGTH'!$AK18,'CABLE LENGTH'!$AJ18*'CABLE LENGTH'!$AL18*-1,\"\"),IF(AE$9='CABLE LENGTH'!$AK18,'CABLE LENGTH'!$AJ18*'CABLE LENGTH'!$AL18,\"\")))","v":""},{"$f":"IF($S24=\"SOURCE\",IF(AF$9='CABLE LENGTH'!$AK18,'CABLE LENGTH'!$AJ18*'CABLE LENGTH'!$AL18*-1,\"\"),IF(AF$9=\"VIDEO\",IF(AF$9='CABLE LENGTH'!$AK18,'CABLE LENGTH'!$AJ18*'CABLE LENGTH'!$AL18*-1,\"\"),IF(AF$9='CABLE LENGTH'!$AK18,'CABLE LENGTH'!$AJ18*'CABLE LENGTH'!$AL18,\"\")))","v":""}]
[0.3,{"$f":"IF('CONDUIT LENGTH'!A18>0,'CONDUIT LENGTH'!A18,\" \")","v":" "},{"$f":"IF('CONDUIT LENGTH'!B18>0,'CONDUIT LENGTH'!B18,\" \")","v":" "},{"$f":"IF('CONDUIT LENGTH'!C18>0,'CONDUIT LENGTH'!C18,\" \")","v":" "},{"$f":"IF($B25=\"SOURCE\",IF(LEFT(E$5,1)='CONDUIT LENGTH'!$M18,IF(E$9='CONDUIT LENGTH'!$L18,'CONDUIT LENGTH'!$K18*-1,IF(AND(E$9=RIGHT('CONDUIT LENGTH'!$L18,2),LEFT('CONDUIT LENGTH'!$L18,3)=\"2x3\")=TRUE,IF(LEFT('CONDUIT LENGTH'!$L18,2)=\"2x\",'CONDUIT LENGTH'!$K18*-1*2,\"\"),\"\")),\"\"),IF(LEFT(E$5,1)='CONDUIT LENGTH'!$M18,IF(E$9='CONDUIT LENGTH'!$L18,'CONDUIT LENGTH'!$K18,IF(AND(E$9=RIGHT('CONDUIT LENGTH'!$L18,2),LEFT('CONDUIT LENGTH'!$L18,3)=\"2x3\")=TRUE,IF(LEFT('CONDUIT LENGTH'!$L18,2)=\"2x\",'CONDUIT LENGTH'!$K18*2,\"\"),\"\")),\"\"))","v":""},{"$f":"IF($B25=\"SOURCE\",IF(LEFT(G$6,1)='CONDUIT LENGTH'!$M18,IF(F$9='CONDUIT LENGTH'!$L18,'CONDUIT LENGTH'!$K18*-1,IF(AND(F$9=RIGHT('CONDUIT LENGTH'!$L18,2),LEFT('CONDUIT LENGTH'!$L18,3)=\"2x3\")=TRUE,IF(LEFT('CONDUIT LENGTH'!$L18,2)=\"2x\",'CONDUIT LENGTH'!$K18*-1*2,\"\"),\"\")),\"\"),IF(LEFT(G$6,1)='CONDUIT LENGTH'!$M18,IF(F$9='CONDUIT LENGTH'!$L18,'CONDUIT LENGTH'!$K18,IF(AND(F$9=RIGHT('CONDUIT LENGTH'!$L18,2),LEFT('CONDUIT LENGTH'!$L18,3)=\"2x3\")=TRUE,IF(LEFT('CONDUIT LENGTH'!$L18,2)=\"2x\",'CONDUIT LENGTH'!$K18*2,\"\"),\"\")),\"\"))","v":""},{"$f":"IF($B25=\"SOURCE\",IF(LEFT(G$6,1)='CONDUIT LENGTH'!$M18,IF(G$9='CONDUIT LENGTH'!$L18,'CONDUIT LENGTH'!$K18*-1,IF(AND(G$9=RIGHT('CONDUIT LENGTH'!$L18,2),LEFT('CONDUIT LENGTH'!$L18,3)=\"2x3\")=TRUE,IF(LEFT('CONDUIT LENGTH'!$L18,2)=\"2x\",'CONDUIT LENGTH'!$K18*-1*2,\"\"),\"\")),\"\"),IF(LEFT(G$6,1)='CONDUIT LENGTH'!$M18,IF(G$9='CONDUIT LENGTH'!$L18,'CONDUIT LENGTH'!$K18,IF(AND(G$9=RIGHT('CONDUIT LENGTH'!$L18,2),LEFT('CONDUIT LENGTH'!$L18,3)=\"2x3\")=TRUE,IF(LEFT('CONDUIT LENGTH'!$L18,2)=\"2x\",'CONDUIT LENGTH'!$K18*2,\"\"),\"\")),\"\"))","v":""},{"$f":"IF($B25=\"SOURCE\",IF(LEFT(G$6,1)='CONDUIT LENGTH'!$M18,IF(H$9='CONDUIT LENGTH'!$L18,'CONDUIT LENGTH'!$K18*-1,IF(AND(H$9=RIGHT('CONDUIT LENGTH'!$L18,2),LEFT('CONDUIT LENGTH'!$L18,3)=\"2x3\")=TRUE,IF(LEFT('CONDUIT LENGTH'!$L18,2)=\"2x\",'CONDUIT LENGTH'!$K18*-1*2,\"\"),\"\")),\"\"),IF(LEFT(G$6,1)='CONDUIT LENGTH'!$M18,IF(H$9='CONDUIT LENGTH'!$L18,'CONDUIT LENGTH'!$K18,IF(AND(H$9=RIGHT('CONDUIT LENGTH'!$L18,2),LEFT('CONDUIT LENGTH'!$L18,3)=\"2x3\")=TRUE,IF(LEFT('CONDUIT LENGTH'!$L18,2)=\"2x\",'CONDUIT LENGTH'!$K18*2,\"\"),\"\")),\"\"))","v":""},{"$f":"IF($B25=\"SOURCE\",IF(LEFT(J$6,1)='CONDUIT LENGTH'!$M18,IF(I$9='CONDUIT LENGTH'!$L18,'CONDUIT LENGTH'!$K18*-1,IF(AND(I$9=RIGHT('CONDUIT LENGTH'!$L18,2),LEFT('CONDUIT LENGTH'!$L18,3)=\"2x3\")=TRUE,IF(LEFT('CONDUIT LENGTH'!$L18,2)=\"2x\",'CONDUIT LENGTH'!$K18*-1*2,\"\"),\"\")),\"\"),IF(LEFT(J$6,1)='CONDUIT LENGTH'!$M18,IF(I$9='CONDUIT LENGTH'!$L18,'CONDUIT LENGTH'!$K18,IF(AND(I$9=RIGHT('CONDUIT LENGTH'!$L18,2),LEFT('CONDUIT LENGTH'!$L18,3)=\"2x3\")=TRUE,IF(LEFT('CONDUIT LENGTH'!$L18,2)=\"2x\",'CONDUIT LENGTH'!$K18*2,\"\"),\"\")),\"\"))","v":""},{"$f":"IF($B25=\"SOURCE\",IF(LEFT(J$6,1)='CONDUIT LENGTH'!$M18,IF(J$9='CONDUIT LENGTH'!$L18,'CONDUIT LENGTH'!$K18*-1,IF(AND(J$9=RIGHT('CONDUIT LENGTH'!$L18,2),LEFT('CONDUIT LENGTH'!$L18,3)=\"2x3\")=TRUE,IF(LEFT('CONDUIT LENGTH'!$L18,2)=\"2x\",'CONDUIT LENGTH'!$K18*-1*2,\"\"),\"\")),\"\"),IF(LEFT(J$6,1)='CONDUIT LENGTH'!$M18,IF(J$9='CONDUIT LENGTH'!$L18,'CONDUIT LENGTH'!$K18,IF(AND(J$9=RIGHT('CONDUIT LENGTH'!$L18,2),LEFT('CONDUIT LENGTH'!$L18,3)=\"2x3\")=TRUE,IF(LEFT('CONDUIT LENGTH'!$L18,2)=\"2x\",'CONDUIT LENGTH'!$K18*2,\"\"),\"\")),\"\"))","v":""},{"$f":"IF($B25=\"SOURCE\",IF(LEFT(J$6,1)='CONDUIT LENGTH'!$M18,IF(K$9='CONDUIT LENGTH'!$L18,'CONDUIT LENGTH'!$K18*-1,IF(AND(K$9=RIGHT('CONDUIT LENGTH'!$L18,2),LEFT('CONDUIT LENGTH'!$L18,3)=\"2x3\")=TRUE,IF(LEFT('CONDUIT LENGTH'!$L18,2)=\"2x\",'CONDUIT LENGTH'!$K18*-1*2,\"\"),\"\")),\"\"),IF(LEFT(J$6,1)='CONDUIT LENGTH'!$M18,IF(K$9='CONDUIT LENGTH'!$L18,'CONDUIT LENGTH'!$K18,IF(AND(K$9=RIGHT('CONDUIT LENGTH'!$L18,2),LEFT('CONDUIT LENGTH'!$L18,3)=\"2x3\")=TRUE,IF(LEFT('CONDUIT LENGTH'!$L18,2)=\"2x\",'CONDUIT LENGTH'!$K18*2,\"\"),\"\")),\"\"))","v":""},{"$f":"IF($B25=\"SOURCE\",IF(LEFT(M$6,1)='CONDUIT LENGTH'!$M18,IF(L$9='CONDUIT LENGTH'!$L18,'CONDUIT LENGTH'!$K18*-1,IF(AND(L$9=RIGHT('CONDUIT LENGTH'!$L18,2),LEFT('CONDUIT LENGTH'!$L18,3)=\"2x3\")=TRUE,IF(LEFT('CONDUIT LENGTH'!$L18,2)=\"2x\",'CONDUIT LENGTH'!$K18*-1*2,\"\"),\"\")),\"\"),IF(LEFT(M$6,1)='CONDUIT LENGTH'!$M18,IF(L$9='CONDUIT LENGTH'!$L18,'CONDUIT LENGTH'!$K18,IF(AND(L$9=RIGHT('CONDUIT LENGTH'!$L18,2),LEFT('CONDUIT LENGTH'!$L18,3)=\"2x3\")=TRUE,IF(LEFT('CONDUIT LENGTH'!$L18,2)=\"2x\",'CONDUIT LENGTH'!$K18*2,\"\"),\"\")),\"\"))","v":""},{"$f":"IF($B25=\"SOURCE\",IF(LEFT(M$6,1)='CONDUIT LENGTH'!$M18,IF(M$9='CONDUIT LENGTH'!$L18,'CONDUIT LENGTH'!$K18*-1,IF(AND(M$9=RIGHT('CONDUIT LENGTH'!$L18,2),LEFT('CONDUIT LENGTH'!$L18,3)=\"2x3\")=TRUE,IF(LEFT('CONDUIT LENGTH'!$L18,2)=\"2x\",'CONDUIT LENGTH'!$K18*-1*2,\"\"),\"\")),\"\"),IF(LEFT(M$6,1)='CONDUIT LENGTH'!$M18,IF(M$9='CONDUIT LENGTH'!$L18,'CONDUIT LENGTH'!$K18,IF(AND(M$9=RIGHT('CONDUIT LENGTH'!$L18,2),LEFT('CONDUIT LENGTH'!$L18,3)=\"2x3\")=TRUE,IF(LEFT('CONDUIT LENGTH'!$L18,2)=\"2x\",'CONDUIT LENGTH'!$K18*2,\"\"),\"\")),\"\"))","v":""},{"$f":"IF($B25=\"SOURCE\",IF(LEFT(M$6,1)='CONDUIT LENGTH'!$M18,IF(N$9='CONDUIT LENGTH'!$L18,'CONDUIT LENGTH'!$K18*-1,IF(AND(N$9=RIGHT('CONDUIT LENGTH'!$L18,2),LEFT('CONDUIT LENGTH'!$L18,3)=\"2x3\")=TRUE,IF(LEFT('CONDUIT LENGTH'!$L18,2)=\"2x\",'CONDUIT LENGTH'!$K18*-1*2,\"\"),\"\")),\"\"),IF(LEFT(M$6,1)='CONDUIT LENGTH'!$M18,IF(N$9='CONDUIT LENGTH'!$L18,'CONDUIT LENGTH'!$K18,IF(AND(N$9=RIGHT('CONDUIT LENGTH'!$L18,2),LEFT('CONDUIT LENGTH'!$L18,3)=\"2x3\")=TRUE,IF(LEFT('CONDUIT LENGTH'!$L18,2)=\"2x\",'CONDUIT LENGTH'!$K18*2,\"\"),\"\")),\"\"))","v":""},{"$f":"IF($B25=\"SOURCE\",IF(LEFT(P$5,1)='CONDUIT LENGTH'!$M18,IF(O$9='CONDUIT LENGTH'!$L18,'CONDUIT LENGTH'!$K18*-1,IF(AND(O$9=RIGHT('CONDUIT LENGTH'!$L18,2),LEFT('CONDUIT LENGTH'!$L18,3)=\"2x3\")=TRUE,IF(LEFT('CONDUIT LENGTH'!$L18,2)=\"2x\",'CONDUIT LENGTH'!$K18*-1*2,\"\"),\"\")),\"\"),IF(LEFT(P$6,1)='CONDUIT LENGTH'!$M18,IF(O$9='CONDUIT LENGTH'!$L18,'CONDUIT LENGTH'!$K18,IF(AND(O$9=RIGHT('CONDUIT LENGTH'!$L18,2),LEFT('CONDUIT LENGTH'!$L18,3)=\"2x3\")=TRUE,IF(LEFT('CONDUIT LENGTH'!$L18,2)=\"2x\",'CONDUIT LENGTH'!$K18*2,\"\"),\"\")),\"\"))","v":""},{"$f":"IF($B25=\"SOURCE\",IF(LEFT(P$5,1)='CONDUIT LENGTH'!$M18,IF(P$9='CONDUIT LENGTH'!$L18,'CONDUIT LENGTH'!$K18*-1,IF(AND(P$9=RIGHT('CONDUIT LENGTH'!$L18,2),LEFT('CONDUIT LENGTH'!$L18,3)=\"2x3\")=TRUE,IF(LEFT('CONDUIT LENGTH'!$L18,2)=\"2x\",'CONDUIT LENGTH'!$K18*-1*2,\"\"),\"\")),\"\"),IF(LEFT(P$6,1)='CONDUIT LENGTH'!$M18,IF(P$9='CONDUIT LENGTH'!$L18,'CONDUIT LENGTH'!$K18,IF(AND(P$9=RIGHT('CONDUIT LENGTH'!$L18,2),LEFT('CONDUIT LENGTH'!$L18,3)=\"2x3\")=TRUE,IF(LEFT('CONDUIT LENGTH'!$L18,2)=\"2x\",'CONDUIT LENGTH'!$K18*2,\"\"),\"\")),\"\"))","v":""},{"$f":"IF($B25=\"SOURCE\",IF(LEFT(P$5,1)='CONDUIT LENGTH'!$M18,IF(Q$9='CONDUIT LENGTH'!$L18,'CONDUIT LENGTH'!$K18*-1,IF(AND(Q$9=RIGHT('CONDUIT LENGTH'!$L18,2),LEFT('CONDUIT LENGTH'!$L18,3)=\"2x3\")=TRUE,IF(LEFT('CONDUIT LENGTH'!$L18,2)=\"2x\",'CONDUIT LENGTH'!$K18*-1*2,\"\"),\"\")),\"\"),IF(LEFT(Q$6,1)='CONDUIT LENGTH'!$M18,IF(Q$9='CONDUIT LENGTH'!$L18,'CONDUIT LENGTH'!$K18,IF(AND(Q$9=RIGHT('CONDUIT LENGTH'!$L18,2),LEFT('CONDUIT LENGTH'!$L18,3)=\"2x3\")=TRUE,IF(LEFT('CONDUIT LENGTH'!$L18,2)=\"2x\",'CONDUIT LENGTH'!$K18*2,\"\"),\"\")),\"\"))","v":""},{"$f":"IF('CONDUIT LENGTH'!M18=\"UIP\",\"UIP EXISTING\",\"\")","v":""},{"$f":"IF('CABLE LENGTH'!A19>0,'CABLE LENGTH'!A19,\"\")","v":""},{"$f":"IF('CABLE LENGTH'!B19>0,'CABLE LENGTH'!B19,\"\")","v":""},{"$f":"IF('CABLE LENGTH'!Q19>0,'CABLE LENGTH'!Q19,\"\")","v":""},{"$f":"IF($S25=\"SOURCE\",IF(V$9='CABLE LENGTH'!$AK19,'CABLE LENGTH'!$AJ19*'CABLE LENGTH'!$AL19*-1,\"\"),IF(V$9=\"VIDEO\",IF(V$9='CABLE LENGTH'!$AK19,'CABLE LENGTH'!$AJ19*'CABLE LENGTH'!$AL19*-1,\"\"),IF(V$9='CABLE LENGTH'!$AK19,'CABLE LENGTH'!$AJ19*'CABLE LENGTH'!$AL19,\"\")))","v":""},{"$f":"IF($S25=\"SOURCE\",IF(W$9='CABLE LENGTH'!$AK19,'CABLE LENGTH'!$AJ19*'CABLE LENGTH'!$AL19*-1,\"\"),IF(W$9=\"VIDEO\",IF(W$9='CABLE LENGTH'!$AK19,'CABLE LENGTH'!$AJ19*'CABLE LENGTH'!$AL19*-1,\"\"),IF(W$9='CABLE LENGTH'!$AK19,'CABLE LENGTH'!$AJ19*'CABLE LENGTH'!$AL19,\"\")))","v":""},{"$f":"IF($S25=\"SOURCE\",IF(X$10='CABLE LENGTH'!$AK19,'CABLE LENGTH'!$AJ19*'CABLE LENGTH'!$AL19*-1,\"\"),IF(X$10=\"VIDEO\",IF(X$10='CABLE LENGTH'!$AK19,'CABLE LENGTH'!$AJ19*'CABLE LENGTH'!$AL19*-1,\"\"),IF(X$10='CABLE LENGTH'!$AK19,'CABLE LENGTH'!$AJ19*'CABLE LENGTH'!$AL19,\"\")))","v":""},{"$f":"IF($S25=\"SOURCE\",IF(Y$10='CABLE LENGTH'!$AK19,'CABLE LENGTH'!$AJ19*'CABLE LENGTH'!$AL19*-1,\"\"),IF(Y$10=\"VIDEO\",IF(Y$10='CABLE LENGTH'!$AK19,'CABLE LENGTH'!$AJ19*'CABLE LENGTH'!$AL19*-1,\"\"),IF(Y$10='CABLE LENGTH'!$AK19,'CABLE LENGTH'!$AJ19*'CABLE LENGTH'!$AL19,\"\")))","v":""},{"$f":"IF($S25=\"SOURCE\",IF(Z$10='CABLE LENGTH'!$AK19,'CABLE LENGTH'!$AJ19*'CABLE LENGTH'!$AL19*-1,\"\"),IF(Z$10=\"VIDEO\",IF(Z$10='CABLE LENGTH'!$AK19,'CABLE LENGTH'!$AJ19*'CABLE LENGTH'!$AL19*-1,\"\"),IF(Z$10='CABLE LENGTH'!$AK19,'CABLE LENGTH'!$AJ19*'CABLE LENGTH'!$AL19,\"\")))","v":""},{"$f":"IF($S25=\"SOURCE\",IF(AA$10='CABLE LENGTH'!$AK19,'CABLE LENGTH'!$AJ19*'CABLE LENGTH'!$AL19*-1,\"\"),IF(AA$10=\"VIDEO\",IF(AA$10='CABLE LENGTH'!$AK19,'CABLE LENGTH'!$AJ19*'CABLE LENGTH'!$AL19*-1,\"\"),IF(AA$10='CABLE LENGTH'!$AK19,'CABLE LENGTH'!$AJ19*'CABLE LENGTH'!$AL19,\"\")))","v":""},{"$f":"IF($S25=\"SOURCE\",IF(AB$10='CABLE LENGTH'!$AK19,'CABLE LENGTH'!$AJ19*'CABLE LENGTH'!$AL19*-1,\"\"),IF(AB$10=\"VIDEO\",IF(AB$10='CABLE LENGTH'!$AK19,'CABLE LENGTH'!$AJ19*'CABLE LENGTH'!$AL19*-1,\"\"),IF(AB$10='CABLE LENGTH'!$AK19,'CABLE LENGTH'!$AJ19*'CABLE LENGTH'!$AL19,\"\")))","v":""},{"$f":"IF($S25=\"SOURCE\",IF(AC$10='CABLE LENGTH'!$AK19,'CABLE LENGTH'!$AJ19*'CABLE LENGTH'!$AL19*-1,\"\"),IF(AC$10=\"VIDEO\",IF(AC$10='CABLE LENGTH'!$AK19,'CABLE LENGTH'!$AJ19*'CABLE LENGTH'!$AL19*-1,\"\"),IF(AC$10='CABLE LENGTH'!$AK19,'CABLE LENGTH'!$AJ19*'CABLE LENGTH'!$AL19,\"\")))","v":""},{"$f":"IF($S25=\"SOURCE\",IF(AD$9='CABLE LENGTH'!$AK19,'CABLE LENGTH'!$AJ19*'CABLE LENGTH'!$AL19*-1,\"\"),IF(AD$9=\"VIDEO\",IF(AD$9='CABLE LENGTH'!$AK19,'CABLE LENGTH'!$AJ19*'CABLE LENGTH'!$AL19*-1,\"\"),IF(AD$9='CABLE LENGTH'!$AK19,'CABLE LENGTH'!$AJ19*'CABLE LENGTH'!$AL19,\"\")))","v":""},{"$f":"IF($S25=\"SOURCE\",IF(AE$9='CABLE LENGTH'!$AK19,'CABLE LENGTH'!$AJ19*'CABLE LENGTH'!$AL19*-1,\"\"),IF(AE$9=\"VIDEO\",IF(AE$9='CABLE LENGTH'!$AK19,'CABLE LENGTH'!$AJ19*'CABLE LENGTH'!$AL19*-1,\"\"),IF(AE$9='CABLE LENGTH'!$AK19,'CABLE LENGTH'!$AJ19*'CABLE LENGTH'!$AL19,\"\")))","v":""},{"$f":"IF($S25=\"SOURCE\",IF(AF$9='CABLE LENGTH'!$AK19,'CABLE LENGTH'!$AJ19*'CABLE LENGTH'!$AL19*-1,\"\"),IF(AF$9=\"VIDEO\",IF(AF$9='CABLE LENGTH'!$AK19,'CABLE LENGTH'!$AJ19*'CABLE LENGTH'!$AL19*-1,\"\"),IF(AF$9='CABLE LENGTH'!$AK19,'CABLE LENGTH'!$AJ19*'CABLE LENGTH'!$AL19,\"\")))","v":""}]
[0.3,{"$f":"IF('CONDUIT LENGTH'!A19>0,'CONDUIT LENGTH'!A19,\" \")","v":" "},{"$f":"IF('CONDUIT LENGTH'!B19>0,'CONDUIT LENGTH'!B19,\" \")","v":" "},{"$f":"IF('CONDUIT LENGTH'!C19>0,'CONDUIT LENGTH'!C19,\" \")","v":" "},{"$f":"IF($B26=\"SOURCE\",IF(LEFT(E$5,1)='CONDUIT LENGTH'!$M19,IF(E$9='CONDUIT LENGTH'!$L19,'CONDUIT LENGTH'!$K19*-1,IF(AND(E$9=RIGHT('CONDUIT LENGTH'!$L19,2),LEFT('CONDUIT LENGTH'!$L19,3)=\"2x3\")=TRUE,IF(LEFT('CONDUIT LENGTH'!$L19,2)=\"2x\",'CONDUIT LENGTH'!$K19*-1*2,\"\"),\"\")),\"\"),IF(LEFT(E$5,1)='CONDUIT LENGTH'!$M19,IF(E$9='CONDUIT LENGTH'!$L19,'CONDUIT LENGTH'!$K19,IF(AND(E$9=RIGHT('CONDUIT LENGTH'!$L19,2),LEFT('CONDUIT LENGTH'!$L19,3)=\"2x3\")=TRUE,IF(LEFT('CONDUIT LENGTH'!$L19,2)=\"2x\",'CONDUIT LENGTH'!$K19*2,\"\"),\"\")),\"\"))","v":""},{"$f":"IF($B26=\"SOURCE\",IF(LEFT(G$6,1)='CONDUIT LENGTH'!$M19,IF(F$9='CONDUIT LENGTH'!$L19,'CONDUIT LENGTH'!$K19*-1,IF(AND(F$9=RIGHT('CONDUIT LENGTH'!$L19,2),LEFT('CONDUIT LENGTH'!$L19,3)=\"2x3\")=TRUE,IF(LEFT('CONDUIT LENGTH'!$L19,2)=\"2x\",'CONDUIT LENGTH'!$K19*-1*2,\"\"),\"\")),\"\"),IF(LEFT(G$6,1)='CONDUIT LENGTH'!$M19,IF(F$9='CONDUIT LENGTH'!$L19,'CONDUIT LENGTH'!$K19,IF(AND(F$9=RIGHT('CONDUIT LENGTH'!$L19,2),LEFT('CONDUIT LENGTH'!$L19,3)=\"2x3\")=TRUE,IF(LEFT('CONDUIT LENGTH'!$L19,2)=\"2x\",'CONDUIT LENGTH'!$K19*2,\"\"),\"\")),\"\"))","v":""},{"$f":"IF($B26=\"SOURCE\",IF(LEFT(G$6,1)='CONDUIT LENGTH'!$M19,IF(G$9='CONDUIT LENGTH'!$L19,'CONDUIT LENGTH'!$K19*-1,IF(AND(G$9=RIGHT('CONDUIT LENGTH'!$L19,2),LEFT('CONDUIT LENGTH'!$L19,3)=\"2x3\")=TRUE,IF(LEFT('CONDUIT LENGTH'!$L19,2)=\"2x\",'CONDUIT LENGTH'!$K19*-1*2,\"\"),\"\")),\"\"),IF(LEFT(G$6,1)='CONDUIT LENGTH'!$M19,IF(G$9='CONDUIT LENGTH'!$L19,'CONDUIT LENGTH'!$K19,IF(AND(G$9=RIGHT('CONDUIT LENGTH'!$L19,2),LEFT('CONDUIT LENGTH'!$L19,3)=\"2x3\")=TRUE,IF(LEFT('CONDUIT LENGTH'!$L19,2)=\"2x\",'CONDUIT LENGTH'!$K19*2,\"\"),\"\")),\"\"))","v":""},{"$f":"IF($B26=\"SOURCE\",IF(LEFT(G$6,1)='CONDUIT LENGTH'!$M19,IF(H$9='CONDUIT LENGTH'!$L19,'CONDUIT LENGTH'!$K19*-1,IF(AND(H$9=RIGHT('CONDUIT LENGTH'!$L19,2),LEFT('CONDUIT LENGTH'!$L19,3)=\"2x3\")=TRUE,IF(LEFT('CONDUIT LENGTH'!$L19,2)=\"2x\",'CONDUIT LENGTH'!$K19*-1*2,\"\"),\"\")),\"\"),IF(LEFT(G$6,1)='CONDUIT LENGTH'!$M19,IF(H$9='CONDUIT LENGTH'!$L19,'CONDUIT LENGTH'!$K19,IF(AND(H$9=RIGHT('CONDUIT LENGTH'!$L19,2),LEFT('CONDUIT LENGTH'!$L19,3)=\"2x3\")=TRUE,IF(LEFT('CONDUIT LENGTH'!$L19,2)=\"2x\",'CONDUIT LENGTH'!$K19*2,\"\"),\"\")),\"\"))","v":""},{"$f":"IF($B26=\"SOURCE\",IF(LEFT(J$6,1)='CONDUIT LENGTH'!$M19,IF(I$9='CONDUIT LENGTH'!$L19,'CONDUIT LENGTH'!$K19*-1,IF(AND(I$9=RIGHT('CONDUIT LENGTH'!$L19,2),LEFT('CONDUIT LENGTH'!$L19,3)=\"2x3\")=TRUE,IF(LEFT('CONDUIT LENGTH'!$L19,2)=\"2x\",'CONDUIT LENGTH'!$K19*-1*2,\"\"),\"\")),\"\"),IF(LEFT(J$6,1)='CONDUIT LENGTH'!$M19,IF(I$9='CONDUIT LENGTH'!$L19,'CONDUIT LENGTH'!$K19,IF(AND(I$9=RIGHT('CONDUIT LENGTH'!$L19,2),LEFT('CONDUIT LENGTH'!$L19,3)=\"2x3\")=TRUE,IF(LEFT('CONDUIT LENGTH'!$L19,2)=\"2x\",'CONDUIT LENGTH'!$K19*2,\"\"),\"\")),\"\"))","v":""},{"$f":"IF($B26=\"SOURCE\",IF(LEFT(J$6,1)='CONDUIT LENGTH'!$M19,IF(J$9='CONDUIT LENGTH'!$L19,'CONDUIT LENGTH'!$K19*-1,IF(AND(J$9=RIGHT('CONDUIT LENGTH'!$L19,2),LEFT('CONDUIT LENGTH'!$L19,3)=\"2x3\")=TRUE,IF(LEFT('CONDUIT LENGTH'!$L19,2)=\"2x\",'CONDUIT LENGTH'!$K19*-1*2,\"\"),\"\")),\"\"),IF(LEFT(J$6,1)='CONDUIT LENGTH'!$M19,IF(J$9='CONDUIT LENGTH'!$L19,'CONDUIT LENGTH'!$K19,IF(AND(J$9=RIGHT('CONDUIT LENGTH'!$L19,2),LEFT('CONDUIT LENGTH'!$L19,3)=\"2x3\")=TRUE,IF(LEFT('CONDUIT LENGTH'!$L19,2)=\"2x\",'CONDUIT LENGTH'!$K19*2,\"\"),\"\")),\"\"))","v":""},{"$f":"IF($B26=\"SOURCE\",IF(LEFT(J$6,1)='CONDUIT LENGTH'!$M19,IF(K$9='CONDUIT LENGTH'!$L19,'CONDUIT LENGTH'!$K19*-1,IF(AND(K$9=RIGHT('CONDUIT LENGTH'!$L19,2),LEFT('CONDUIT LENGTH'!$L19,3)=\"2x3\")=TRUE,IF(LEFT('CONDUIT LENGTH'!$L19,2)=\"2x\",'CONDUIT LENGTH'!$K19*-1*2,\"\"),\"\")),\"\"),IF(LEFT(J$6,1)='CONDUIT LENGTH'!$M19,IF(K$9='CONDUIT LENGTH'!$L19,'CONDUIT LENGTH'!$K19,IF(AND(K$9=RIGHT('CONDUIT LENGTH'!$L19,2),LEFT('CONDUIT LENGTH'!$L19,3)=\"2x3\")=TRUE,IF(LEFT('CONDUIT LENGTH'!$L19,2)=\"2x\",'CONDUIT LENGTH'!$K19*2,\"\"),\"\")),\"\"))","v":""},{"$f":"IF($B26=\"SOURCE\",IF(LEFT(M$6,1)='CONDUIT LENGTH'!$M19,IF(L$9='CONDUIT LENGTH'!$L19,'CONDUIT LENGTH'!$K19*-1,IF(AND(L$9=RIGHT('CONDUIT LENGTH'!$L19,2),LEFT('CONDUIT LENGTH'!$L19,3)=\"2x3\")=TRUE,IF(LEFT('CONDUIT LENGTH'!$L19,2)=\"2x\",'CONDUIT LENGTH'!$K19*-1*2,\"\"),\"\")),\"\"),IF(LEFT(M$6,1)='CONDUIT LENGTH'!$M19,IF(L$9='CONDUIT LENGTH'!$L19,'CONDUIT LENGTH'!$K19,IF(AND(L$9=RIGHT('CONDUIT LENGTH'!$L19,2),LEFT('CONDUIT LENGTH'!$L19,3)=\"2x3\")=TRUE,IF(LEFT('CONDUIT LENGTH'!$L19,2)=\"2x\",'CONDUIT LENGTH'!$K19*2,\"\"),\"\")),\"\"))","v":""},{"$f":"IF($B26=\"SOURCE\",IF(LEFT(M$6,1)='CONDUIT LENGTH'!$M19,IF(M$9='CONDUIT LENGTH'!$L19,'CONDUIT LENGTH'!$K19*-1,IF(AND(M$9=RIGHT('CONDUIT LENGTH'!$L19,2),LEFT('CONDUIT LENGTH'!$L19,3)=\"2x3\")=TRUE,IF(LEFT('CONDUIT LENGTH'!$L19,2)=\"2x\",'CONDUIT LENGTH'!$K19*-1*2,\"\"),\"\")),\"\"),IF(LEFT(M$6,1)='CONDUIT LENGTH'!$M19,IF(M$9='CONDUIT LENGTH'!$L19,'CONDUIT LENGTH'!$K19,IF(AND(M$9=RIGHT('CONDUIT LENGTH'!$L19,2),LEFT('CONDUIT LENGTH'!$L19,3)=\"2x3\")=TRUE,IF(LEFT('CONDUIT LENGTH'!$L19,2)=\"2x\",'CONDUIT LENGTH'!$K19*2,\"\"),\"\")),\"\"))","v":""},{"$f":"IF($B26=\"SOURCE\",IF(LEFT(M$6,1)='CONDUIT LENGTH'!$M19,IF(N$9='CONDUIT LENGTH'!$L19,'CONDUIT LENGTH'!$K19*-1,IF(AND(N$9=RIGHT('CONDUIT LENGTH'!$L19,2),LEFT('CONDUIT LENGTH'!$L19,3)=\"2x3\")=TRUE,IF(LEFT('CONDUIT LENGTH'!$L19,2)=\"2x\",'CONDUIT LENGTH'!$K19*-1*2,\"\"),\"\")),\"\"),IF(LEFT(M$6,1)='CONDUIT LENGTH'!$M19,IF(N$9='CONDUIT LENGTH'!$L19,'CONDUIT LENGTH'!$K19,IF(AND(N$9=RIGHT('CONDUIT LENGTH'!$L19,2),LEFT('CONDUIT LENGTH'!$L19,3)=\"2x3\")=TRUE,IF(LEFT('CONDUIT LENGTH'!$L19,2)=\"2x\",'CONDUIT LENGTH'!$K19*2,\"\"),\"\")),\"\"))","v":""},{"$f":"IF($B26=\"SOURCE\",IF(LEFT(P$5,1)='CONDUIT LENGTH'!$M19,IF(O$9='CONDUIT LENGTH'!$L19,'CONDUIT LENGTH'!$K19*-1,IF(AND(O$9=RIGHT('CONDUIT LENGTH'!$L19,2),LEFT('CONDUIT LENGTH'!$L19,3)=\"2x3\")=TRUE,IF(LEFT('CONDUIT LENGTH'!$L19,2)=\"2x\",'CONDUIT LENGTH'!$K19*-1*2,\"\"),\"\")),\"\"),IF(LEFT(P$6,1)='CONDUIT LENGTH'!$M19,IF(O$9='CONDUIT LENGTH'!$L19,'CONDUIT LENGTH'!$K19,IF(AND(O$9=RIGHT('CONDUIT LENGTH'!$L19,2),LEFT('CONDUIT LENGTH'!$L19,3)=\"2x3\")=TRUE,IF(LEFT('CONDUIT LENGTH'!$L19,2)=\"2x\",'CONDUIT LENGTH'!$K19*2,\"\"),\"\")),\"\"))","v":""},{"$f":"IF($B26=\"SOURCE\",IF(LEFT(P$5,1)='CONDUIT LENGTH'!$M19,IF(P$9='CONDUIT LENGTH'!$L19,'CONDUIT LENGTH'!$K19*-1,IF(AND(P$9=RIGHT('CONDUIT LENGTH'!$L19,2),LEFT('CONDUIT LENGTH'!$L19,3)=\"2x3\")=TRUE,IF(LEFT('CONDUIT LENGTH'!$L19,2)=\"2x\",'CONDUIT LENGTH'!$K19*-1*2,\"\"),\"\")),\"\"),IF(LEFT(P$6,1)='CONDUIT LENGTH'!$M19,IF(P$9='CONDUIT LENGTH'!$L19,'CONDUIT LENGTH'!$K19,IF(AND(P$9=RIGHT('CONDUIT LENGTH'!$L19,2),LEFT('CONDUIT LENGTH'!$L19,3)=\"2x3\")=TRUE,IF(LEFT('CONDUIT LENGTH'!$L19,2)=\"2x\",'CONDUIT LENGTH'!$K19*2,\"\"),\"\")),\"\"))","v":""},{"$f":"IF($B26=\"SOURCE\",IF(LEFT(P$5,1)='CONDUIT LENGTH'!$M19,IF(Q$9='CONDUIT LENGTH'!$L19,'CONDUIT LENGTH'!$K19*-1,IF(AND(Q$9=RIGHT('CONDUIT LENGTH'!$L19,2),LEFT('CONDUIT LENGTH'!$L19,3)=\"2x3\")=TRUE,IF(LEFT('CONDUIT LENGTH'!$L19,2)=\"2x\",'CONDUIT LENGTH'!$K19*-1*2,\"\"),\"\")),\"\"),IF(LEFT(Q$6,1)='CONDUIT LENGTH'!$M19,IF(Q$9='CONDUIT LENGTH'!$L19,'CONDUIT LENGTH'!$K19,IF(AND(Q$9=RIGHT('CONDUIT LENGTH'!$L19,2),LEFT('CONDUIT LENGTH'!$L19,3)=\"2x3\")=TRUE,IF(LEFT('CONDUIT LENGTH'!$L19,2)=\"2x\",'CONDUIT LENGTH'!$K19*2,\"\"),\"\")),\"\"))","v":""},{"$f":"IF('CONDUIT LENGTH'!M19=\"UIP\",\"UIP EXISTING\",\"\")","v":""},{"$f":"IF('CABLE LENGTH'!A20>0,'CABLE LENGTH'!A20,\"\")","v":""},{"$f":"IF('CABLE LENGTH'!B20>0,'CABLE LENGTH'!B20,\"\")","v":""},{"$f":"IF('CABLE LENGTH'!Q20>0,'CABLE LENGTH'!Q20,\"\")","v":""},{"$f":"IF($S26=\"SOURCE\",IF(V$9='CABLE LENGTH'!$AK20,'CABLE LENGTH'!$AJ20*'CABLE LENGTH'!$AL20*-1,\"\"),IF(V$9=\"VIDEO\",IF(V$9='CABLE LENGTH'!$AK20,'CABLE LENGTH'!$AJ20*'CABLE LENGTH'!$AL20*-1,\"\"),IF(V$9='CABLE LENGTH'!$AK20,'CABLE LENGTH'!$AJ20*'CABLE LENGTH'!$AL20,\"\")))","v":""},{"$f":"IF($S26=\"SOURCE\",IF(W$9='CABLE LENGTH'!$AK20,'CABLE LENGTH'!$AJ20*'CABLE LENGTH'!$AL20*-1,\"\"),IF(W$9=\"VIDEO\",IF(W$9='CABLE LENGTH'!$AK20,'CABLE LENGTH'!$AJ20*'CABLE LENGTH'!$AL20*-1,\"\"),IF(W$9='CABLE LENGTH'!$AK20,'CABLE LENGTH'!$AJ20*'CABLE LENGTH'!$AL20,\"\")))","v":""},{"$f":"IF($S26=\"SOURCE\",IF(X$10='CABLE LENGTH'!$AK20,'CABLE LENGTH'!$AJ20*'CABLE LENGTH'!$AL20*-1,\"\"),IF(X$10=\"VIDEO\",IF(X$10='CABLE LENGTH'!$AK20,'CABLE LENGTH'!$AJ20*'CABLE LENGTH'!$AL20*-1,\"\"),IF(X$10='CABLE LENGTH'!$AK20,'CABLE LENGTH'!$AJ20*'CABLE LENGTH'!$AL20,\"\")))","v":""},{"$f":"IF($S26=\"SOURCE\",IF(Y$10='CABLE LENGTH'!$AK20,'CABLE LENGTH'!$AJ20*'CABLE LENGTH'!$AL20*-1,\"\"),IF(Y$10=\"VIDEO\",IF(Y$10='CABLE LENGTH'!$AK20,'CABLE LENGTH'!$AJ20*'CABLE LENGTH'!$AL20*-1,\"\"),IF(Y$10='CABLE LENGTH'!$AK20,'CABLE LENGTH'!$AJ20*'CABLE LENGTH'!$AL20,\"\")))","v":""},{"$f":"IF($S26=\"SOURCE\",IF(Z$10='CABLE LENGTH'!$AK20,'CABLE LENGTH'!$AJ20*'CABLE LENGTH'!$AL20*-1,\"\"),IF(Z$10=\"VIDEO\",IF(Z$10='CABLE LENGTH'!$AK20,'CABLE LENGTH'!$AJ20*'CABLE LENGTH'!$AL20*-1,\"\"),IF(Z$10='CABLE LENGTH'!$AK20,'CABLE LENGTH'!$AJ20*'CABLE LENGTH'!$AL20,\"\")))","v":""},{"$f":"IF($S26=\"SOURCE\",IF(AA$10='CABLE LENGTH'!$AK20,'CABLE LENGTH'!$AJ20*'CABLE LENGTH'!$AL20*-1,\"\"),IF(AA$10=\"VIDEO\",IF(AA$10='CABLE LENGTH'!$AK20,'CABLE LENGTH'!$AJ20*'CABLE LENGTH'!$AL20*-1,\"\"),IF(AA$10='CABLE LENGTH'!$AK20,'CABLE LENGTH'!$AJ20*'CABLE LENGTH'!$AL20,\"\")))","v":""},{"$f":"IF($S26=\"SOURCE\",IF(AB$10='CABLE LENGTH'!$AK20,'CABLE LENGTH'!$AJ20*'CABLE LENGTH'!$AL20*-1,\"\"),IF(AB$10=\"VIDEO\",IF(AB$10='CABLE LENGTH'!$AK20,'CABLE LENGTH'!$AJ20*'CABLE LENGTH'!$AL20*-1,\"\"),IF(AB$10='CABLE LENGTH'!$AK20,'CABLE LENGTH'!$AJ20*'CABLE LENGTH'!$AL20,\"\")))","v":""},{"$f":"IF($S26=\"SOURCE\",IF(AC$10='CABLE LENGTH'!$AK20,'CABLE LENGTH'!$AJ20*'CABLE LENGTH'!$AL20*-1,\"\"),IF(AC$10=\"VIDEO\",IF(AC$10='CABLE LENGTH'!$AK20,'CABLE LENGTH'!$AJ20*'CABLE LENGTH'!$AL20*-1,\"\"),IF(AC$10='CABLE LENGTH'!$AK20,'CABLE LENGTH'!$AJ20*'CABLE LENGTH'!$AL20,\"\")))","v":""},{"$f":"IF($S26=\"SOURCE\",IF(AD$9='CABLE LENGTH'!$AK20,'CABLE LENGTH'!$AJ20*'CABLE LENGTH'!$AL20*-1,\"\"),IF(AD$9=\"VIDEO\",IF(AD$9='CABLE LENGTH'!$AK20,'CABLE LENGTH'!$AJ20*'CABLE LENGTH'!$AL20*-1,\"\"),IF(AD$9='CABLE LENGTH'!$AK20,'CABLE LENGTH'!$AJ20*'CABLE LENGTH'!$AL20,\"\")))","v":""},{"$f":"IF($S26=\"SOURCE\",IF(AE$9='CABLE LENGTH'!$AK20,'CABLE LENGTH'!$AJ20*'CABLE LENGTH'!$AL20*-1,\"\"),IF(AE$9=\"VIDEO\",IF(AE$9='CABLE LENGTH'!$AK20,'CABLE LENGTH'!$AJ20*'CABLE LENGTH'!$AL20*-1,\"\"),IF(AE$9='CABLE LENGTH'!$AK20,'CABLE LENGTH'!$AJ20*'CABLE LENGTH'!$AL20,\"\")))","v":""},{"$f":"IF($S26=\"SOURCE\",IF(AF$9='CABLE LENGTH'!$AK20,'CABLE LENGTH'!$AJ20*'CABLE LENGTH'!$AL20*-1,\"\"),IF(AF$9=\"VIDEO\",IF(AF$9='CABLE LENGTH'!$AK20,'CABLE LENGTH'!$AJ20*'CABLE LENGTH'!$AL20*-1,\"\"),IF(AF$9='CABLE LENGTH'!$AK20,'CABLE LENGTH'!$AJ20*'CABLE LENGTH'!$AL20,\"\")))","v":""}]
[0.3,{"$f":"IF('CONDUIT LENGTH'!A20>0,'CONDUIT LENGTH'!A20,\" \")","v":" "},{"$f":"IF('CONDUIT LENGTH'!B20>0,'CONDUIT LENGTH'!B20,\" \")","v":" "},{"$f":"IF('CONDUIT LENGTH'!C20>0,'CONDUIT LENGTH'!C20,\" \")","v":" "},{"$f":"IF($B27=\"SOURCE\",IF(LEFT(E$5,1)='CONDUIT LENGTH'!$M20,IF(E$9='CONDUIT LENGTH'!$L20,'CONDUIT LENGTH'!$K20*-1,IF(AND(E$9=RIGHT('CONDUIT LENGTH'!$L20,2),LEFT('CONDUIT LENGTH'!$L20,3)=\"2x3\")=TRUE,IF(LEFT('CONDUIT LENGTH'!$L20,2)=\"2x\",'CONDUIT LENGTH'!$K20*-1*2,\"\"),\"\")),\"\"),IF(LEFT(E$5,1)='CONDUIT LENGTH'!$M20,IF(E$9='CONDUIT LENGTH'!$L20,'CONDUIT LENGTH'!$K20,IF(AND(E$9=RIGHT('CONDUIT LENGTH'!$L20,2),LEFT('CONDUIT LENGTH'!$L20,3)=\"2x3\")=TRUE,IF(LEFT('CONDUIT LENGTH'!$L20,2)=\"2x\",'CONDUIT LENGTH'!$K20*2,\"\"),\"\")),\"\"))","v":""},{"$f":"IF($B27=\"SOURCE\",IF(LEFT(G$6,1)='CONDUIT LENGTH'!$M20,IF(F$9='CONDUIT LENGTH'!$L20,'CONDUIT LENGTH'!$K20*-1,IF(AND(F$9=RIGHT('CONDUIT LENGTH'!$L20,2),LEFT('CONDUIT LENGTH'!$L20,3)=\"2x3\")=TRUE,IF(LEFT('CONDUIT LENGTH'!$L20,2)=\"2x\",'CONDUIT LENGTH'!$K20*-1*2,\"\"),\"\")),\"\"),IF(LEFT(G$6,1)='CONDUIT LENGTH'!$M20,IF(F$9='CONDUIT LENGTH'!$L20,'CONDUIT LENGTH'!$K20,IF(AND(F$9=RIGHT('CONDUIT LENGTH'!$L20,2),LEFT('CONDUIT LENGTH'!$L20,3)=\"2x3\")=TRUE,IF(LEFT('CONDUIT LENGTH'!$L20,2)=\"2x\",'CONDUIT LENGTH'!$K20*2,\"\"),\"\")),\"\"))","v":""},{"$f":"IF($B27=\"SOURCE\",IF(LEFT(G$6,1)='CONDUIT LENGTH'!$M20,IF(G$9='CONDUIT LENGTH'!$L20,'CONDUIT LENGTH'!$K20*-1,IF(AND(G$9=RIGHT('CONDUIT LENGTH'!$L20,2),LEFT('CONDUIT LENGTH'!$L20,3)=\"2x3\")=TRUE,IF(LEFT('CONDUIT LENGTH'!$L20,2)=\"2x\",'CONDUIT LENGTH'!$K20*-1*2,\"\"),\"\")),\"\"),IF(LEFT(G$6,1)='CONDUIT LENGTH'!$M20,IF(G$9='CONDUIT LENGTH'!$L20,'CONDUIT LENGTH'!$K20,IF(AND(G$9=RIGHT('CONDUIT LENGTH'!$L20,2),LEFT('CONDUIT LENGTH'!$L20,3)=\"2x3\")=TRUE,IF(LEFT('CONDUIT LENGTH'!$L20,2)=\"2x\",'CONDUIT LENGTH'!$K20*2,\"\"),\"\")),\"\"))","v":""},{"$f":"IF($B27=\"SOURCE\",IF(LEFT(G$6,1)='CONDUIT LENGTH'!$M20,IF(H$9='CONDUIT LENGTH'!$L20,'CONDUIT LENGTH'!$K20*-1,IF(AND(H$9=RIGHT('CONDUIT LENGTH'!$L20,2),LEFT('CONDUIT LENGTH'!$L20,3)=\"2x3\")=TRUE,IF(LEFT('CONDUIT LENGTH'!$L20,2)=\"2x\",'CONDUIT LENGTH'!$K20*-1*2,\"\"),\"\")),\"\"),IF(LEFT(G$6,1)='CONDUIT LENGTH'!$M20,IF(H$9='CONDUIT LENGTH'!$L20,'CONDUIT LENGTH'!$K20,IF(AND(H$9=RIGHT('CONDUIT LENGTH'!$L20,2),LEFT('CONDUIT LENGTH'!$L20,3)=\"2x3\")=TRUE,IF(LEFT('CONDUIT LENGTH'!$L20,2)=\"2x\",'CONDUIT LENGTH'!$K20*2,\"\"),\"\")),\"\"))","v":""},{"$f":"IF($B27=\"SOURCE\",IF(LEFT(J$6,1)='CONDUIT LENGTH'!$M20,IF(I$9='CONDUIT LENGTH'!$L20,'CONDUIT LENGTH'!$K20*-1,IF(AND(I$9=RIGHT('CONDUIT LENGTH'!$L20,2),LEFT('CONDUIT LENGTH'!$L20,3)=\"2x3\")=TRUE,IF(LEFT('CONDUIT LENGTH'!$L20,2)=\"2x\",'CONDUIT LENGTH'!$K20*-1*2,\"\"),\"\")),\"\"),IF(LEFT(J$6,1)='CONDUIT LENGTH'!$M20,IF(I$9='CONDUIT LENGTH'!$L20,'CONDUIT LENGTH'!$K20,IF(AND(I$9=RIGHT('CONDUIT LENGTH'!$L20,2),LEFT('CONDUIT LENGTH'!$L20,3)=\"2x3\")=TRUE,IF(LEFT('CONDUIT LENGTH'!$L20,2)=\"2x\",'CONDUIT LENGTH'!$K20*2,\"\"),\"\")),\"\"))","v":""},{"$f":"IF($B27=\"SOURCE\",IF(LEFT(J$6,1)='CONDUIT LENGTH'!$M20,IF(J$9='CONDUIT LENGTH'!$L20,'CONDUIT LENGTH'!$K20*-1,IF(AND(J$9=RIGHT('CONDUIT LENGTH'!$L20,2),LEFT('CONDUIT LENGTH'!$L20,3)=\"2x3\")=TRUE,IF(LEFT('CONDUIT LENGTH'!$L20,2)=\"2x\",'CONDUIT LENGTH'!$K20*-1*2,\"\"),\"\")),\"\"),IF(LEFT(J$6,1)='CONDUIT LENGTH'!$M20,IF(J$9='CONDUIT LENGTH'!$L20,'CONDUIT LENGTH'!$K20,IF(AND(J$9=RIGHT('CONDUIT LENGTH'!$L20,2),LEFT('CONDUIT LENGTH'!$L20,3)=\"2x3\")=TRUE,IF(LEFT('CONDUIT LENGTH'!$L20,2)=\"2x\",'CONDUIT LENGTH'!$K20*2,\"\"),\"\")),\"\"))","v":""},{"$f":"IF($B27=\"SOURCE\",IF(LEFT(J$6,1)='CONDUIT LENGTH'!$M20,IF(K$9='CONDUIT LENGTH'!$L20,'CONDUIT LENGTH'!$K20*-1,IF(AND(K$9=RIGHT('CONDUIT LENGTH'!$L20,2),LEFT('CONDUIT LENGTH'!$L20,3)=\"2x3\")=TRUE,IF(LEFT('CONDUIT LENGTH'!$L20,2)=\"2x\",'CONDUIT LENGTH'!$K20*-1*2,\"\"),\"\")),\"\"),IF(LEFT(J$6,1)='CONDUIT LENGTH'!$M20,IF(K$9='CONDUIT LENGTH'!$L20,'CONDUIT LENGTH'!$K20,IF(AND(K$9=RIGHT('CONDUIT LENGTH'!$L20,2),LEFT('CONDUIT LENGTH'!$L20,3)=\"2x3\")=TRUE,IF(LEFT('CONDUIT LENGTH'!$L20,2)=\"2x\",'CONDUIT LENGTH'!$K20*2,\"\"),\"\")),\"\"))","v":""},{"$f":"IF($B27=\"SOURCE\",IF(LEFT(M$6,1)='CONDUIT LENGTH'!$M20,IF(L$9='CONDUIT LENGTH'!$L20,'CONDUIT LENGTH'!$K20*-1,IF(AND(L$9=RIGHT('CONDUIT LENGTH'!$L20,2),LEFT('CONDUIT LENGTH'!$L20,3)=\"2x3\")=TRUE,IF(LEFT('CONDUIT LENGTH'!$L20,2)=\"2x\",'CONDUIT LENGTH'!$K20*-1*2,\"\"),\"\")),\"\"),IF(LEFT(M$6,1)='CONDUIT LENGTH'!$M20,IF(L$9='CONDUIT LENGTH'!$L20,'CONDUIT LENGTH'!$K20,IF(AND(L$9=RIGHT('CONDUIT LENGTH'!$L20,2),LEFT('CONDUIT LENGTH'!$L20,3)=\"2x3\")=TRUE,IF(LEFT('CONDUIT LENGTH'!$L20,2)=\"2x\",'CONDUIT LENGTH'!$K20*2,\"\"),\"\")),\"\"))","v":""},{"$f":"IF($B27=\"SOURCE\",IF(LEFT(M$6,1)='CONDUIT LENGTH'!$M20,IF(M$9='CONDUIT LENGTH'!$L20,'CONDUIT LENGTH'!$K20*-1,IF(AND(M$9=RIGHT('CONDUIT LENGTH'!$L20,2),LEFT('CONDUIT LENGTH'!$L20,3)=\"2x3\")=TRUE,IF(LEFT('CONDUIT LENGTH'!$L20,2)=\"2x\",'CONDUIT LENGTH'!$K20*-1*2,\"\"),\"\")),\"\"),IF(LEFT(M$6,1)='CONDUIT LENGTH'!$M20,IF(M$9='CONDUIT LENGTH'!$L20,'CONDUIT LENGTH'!$K20,IF(AND(M$9=RIGHT('CONDUIT LENGTH'!$L20,2),LEFT('CONDUIT LENGTH'!$L20,3)=\"2x3\")=TRUE,IF(LEFT('CONDUIT LENGTH'!$L20,2)=\"2x\",'CONDUIT LENGTH'!$K20*2,\"\"),\"\")),\"\"))","v":""},{"$f":"IF($B27=\"SOURCE\",IF(LEFT(M$6,1)='CONDUIT LENGTH'!$M20,IF(N$9='CONDUIT LENGTH'!$L20,'CONDUIT LENGTH'!$K20*-1,IF(AND(N$9=RIGHT('CONDUIT LENGTH'!$L20,2),LEFT('CONDUIT LENGTH'!$L20,3)=\"2x3\")=TRUE,IF(LEFT('CONDUIT LENGTH'!$L20,2)=\"2x\",'CONDUIT LENGTH'!$K20*-1*2,\"\"),\"\")),\"\"),IF(LEFT(M$6,1)='CONDUIT LENGTH'!$M20,IF(N$9='CONDUIT LENGTH'!$L20,'CONDUIT LENGTH'!$K20,IF(AND(N$9=RIGHT('CONDUIT LENGTH'!$L20,2),LEFT('CONDUIT LENGTH'!$L20,3)=\"2x3\")=TRUE,IF(LEFT('CONDUIT LENGTH'!$L20,2)=\"2x\",'CONDUIT LENGTH'!$K20*2,\"\"),\"\")),\"\"))","v":""},{"$f":"IF($B27=\"SOURCE\",IF(LEFT(P$5,1)='CONDUIT LENGTH'!$M20,IF(O$9='CONDUIT LENGTH'!$L20,'CONDUIT LENGTH'!$K20*-1,IF(AND(O$9=RIGHT('CONDUIT LENGTH'!$L20,2),LEFT('CONDUIT LENGTH'!$L20,3)=\"2x3\")=TRUE,IF(LEFT('CONDUIT LENGTH'!$L20,2)=\"2x\",'CONDUIT LENGTH'!$K20*-1*2,\"\"),\"\")),\"\"),IF(LEFT(P$6,1)='CONDUIT LENGTH'!$M20,IF(O$9='CONDUIT LENGTH'!$L20,'CONDUIT LENGTH'!$K20,IF(AND(O$9=RIGHT('CONDUIT LENGTH'!$L20,2),LEFT('CONDUIT LENGTH'!$L20,3)=\"2x3\")=TRUE,IF(LEFT('CONDUIT LENGTH'!$L20,2)=\"2x\",'CONDUIT LENGTH'!$K20*2,\"\"),\"\")),\"\"))","v":""},{"$f":"IF($B27=\"SOURCE\",IF(LEFT(P$5,1)='CONDUIT LENGTH'!$M20,IF(P$9='CONDUIT LENGTH'!$L20,'CONDUIT LENGTH'!$K20*-1,IF(AND(P$9=RIGHT('CONDUIT LENGTH'!$L20,2),LEFT('CONDUIT LENGTH'!$L20,3)=\"2x3\")=TRUE,IF(LEFT('CONDUIT LENGTH'!$L20,2)=\"2x\",'CONDUIT LENGTH'!$K20*-1*2,\"\"),\"\")),\"\"),IF(LEFT(P$6,1)='CONDUIT LENGTH'!$M20,IF(P$9='CONDUIT LENGTH'!$L20,'CONDUIT LENGTH'!$K20,IF(AND(P$9=RIGHT('CONDUIT LENGTH'!$L20,2),LEFT('CONDUIT LENGTH'!$L20,3)=\"2x3\")=TRUE,IF(LEFT('CONDUIT LENGTH'!$L20,2)=\"2x\",'CONDUIT LENGTH'!$K20*2,\"\"),\"\")),\"\"))","v":""},{"$f":"IF($B27=\"SOURCE\",IF(LEFT(P$5,1)='CONDUIT LENGTH'!$M20,IF(Q$9='CONDUIT LENGTH'!$L20,'CONDUIT LENGTH'!$K20*-1,IF(AND(Q$9=RIGHT('CONDUIT LENGTH'!$L20,2),LEFT('CONDUIT LENGTH'!$L20,3)=\"2x3\")=TRUE,IF(LEFT('CONDUIT LENGTH'!$L20,2)=\"2x\",'CONDUIT LENGTH'!$K20*-1*2,\"\"),\"\")),\"\"),IF(LEFT(Q$6,1)='CONDUIT LENGTH'!$M20,IF(Q$9='CONDUIT LENGTH'!$L20,'CONDUIT LENGTH'!$K20,IF(AND(Q$9=RIGHT('CONDUIT LENGTH'!$L20,2),LEFT('CONDUIT LENGTH'!$L20,3)=\"2x3\")=TRUE,IF(LEFT('CONDUIT LENGTH'!$L20,2)=\"2x\",'CONDUIT LENGTH'!$K20*2,\"\"),\"\")),\"\"))","v":""},{"$f":"IF('CONDUIT LENGTH'!M20=\"UIP\",\"UIP EXISTING\",\"\")","v":""},{"$f":"IF('CABLE LENGTH'!A21>0,'CABLE LENGTH'!A21,\"\")","v":""},{"$f":"IF('CABLE LENGTH'!B21>0,'CABLE LENGTH'!B21,\"\")","v":""},{"$f":"IF('CABLE LENGTH'!Q21>0,'CABLE LENGTH'!Q21,\"\")","v":""},{"$f":"IF($S27=\"SOURCE\",IF(V$9='CABLE LENGTH'!$AK21,'CABLE LENGTH'!$AJ21*'CABLE LENGTH'!$AL21*-1,\"\"),IF(V$9=\"VIDEO\",IF(V$9='CABLE LENGTH'!$AK21,'CABLE LENGTH'!$AJ21*'CABLE LENGTH'!$AL21*-1,\"\"),IF(V$9='CABLE LENGTH'!$AK21,'CABLE LENGTH'!$AJ21*'CABLE LENGTH'!$AL21,\"\")))","v":""},{"$f":"IF($S27=\"SOURCE\",IF(W$9='CABLE LENGTH'!$AK21,'CABLE LENGTH'!$AJ21*'CABLE LENGTH'!$AL21*-1,\"\"),IF(W$9=\"VIDEO\",IF(W$9='CABLE LENGTH'!$AK21,'CABLE LENGTH'!$AJ21*'CABLE LENGTH'!$AL21*-1,\"\"),IF(W$9='CABLE LENGTH'!$AK21,'CABLE LENGTH'!$AJ21*'CABLE LENGTH'!$AL21,\"\")))","v":""},{"$f":"IF($S27=\"SOURCE\",IF(X$10='CABLE LENGTH'!$AK21,'CABLE LENGTH'!$AJ21*'CABLE LENGTH'!$AL21*-1,\"\"),IF(X$10=\"VIDEO\",IF(X$10='CABLE LENGTH'!$AK21,'CABLE LENGTH'!$AJ21*'CABLE LENGTH'!$AL21*-1,\"\"),IF(X$10='CABLE LENGTH'!$AK21,'CABLE LENGTH'!$AJ21*'CABLE LENGTH'!$AL21,\"\")))","v":""},{"$f":"IF($S27=\"SOURCE\",IF(Y$10='CABLE LENGTH'!$AK21,'CABLE LENGTH'!$AJ21*'CABLE LENGTH'!$AL21*-1,\"\"),IF(Y$10=\"VIDEO\",IF(Y$10='CABLE LENGTH'!$AK21,'CABLE LENGTH'!$AJ21*'CABLE LENGTH'!$AL21*-1,\"\"),IF(Y$10='CABLE LENGTH'!$AK21,'CABLE LENGTH'!$AJ21*'CABLE LENGTH'!$AL21,\"\")))","v":""},{"$f":"IF($S27=\"SOURCE\",IF(Z$10='CABLE LENGTH'!$AK21,'CABLE LENGTH'!$AJ21*'CABLE LENGTH'!$AL21*-1,\"\"),IF(Z$10=\"VIDEO\",IF(Z$10='CABLE LENGTH'!$AK21,'CABLE LENGTH'!$AJ21*'CABLE LENGTH'!$AL21*-1,\"\"),IF(Z$10='CABLE LENGTH'!$AK21,'CABLE LENGTH'!$AJ21*'CABLE LENGTH'!$AL21,\"\")))","v":""},{"$f":"IF($S27=\"SOURCE\",IF(AA$10='CABLE LENGTH'!$AK21,'CABLE LENGTH'!$AJ21*'CABLE LENGTH'!$AL21*-1,\"\"),IF(AA$10=\"VIDEO\",IF(AA$10='CABLE LENGTH'!$AK21,'CABLE LENGTH'!$AJ21*'CABLE LENGTH'!$AL21*-1,\"\"),IF(AA$10='CABLE LENGTH'!$AK21,'CABLE LENGTH'!$AJ21*'CABLE LENGTH'!$AL21,\"\")))","v":""},{"$f":"IF($S27=\"SOURCE\",IF(AB$10='CABLE LENGTH'!$AK21,'CABLE LENGTH'!$AJ21*'CABLE LENGTH'!$AL21*-1,\"\"),IF(AB$10=\"VIDEO\",IF(AB$10='CABLE LENGTH'!$AK21,'CABLE LENGTH'!$AJ21*'CABLE LENGTH'!$AL21*-1,\"\"),IF(AB$10='CABLE LENGTH'!$AK21,'CABLE LENGTH'!$AJ21*'CABLE LENGTH'!$AL21,\"\")))","v":""},{"$f":"IF($S27=\"SOURCE\",IF(AC$10='CABLE LENGTH'!$AK21,'CABLE LENGTH'!$AJ21*'CABLE LENGTH'!$AL21*-1,\"\"),IF(AC$10=\"VIDEO\",IF(AC$10='CABLE LENGTH'!$AK21,'CABLE LENGTH'!$AJ21*'CABLE LENGTH'!$AL21*-1,\"\"),IF(AC$10='CABLE LENGTH'!$AK21,'CABLE LENGTH'!$AJ21*'CABLE LENGTH'!$AL21,\"\")))","v":""},{"$f":"IF($S27=\"SOURCE\",IF(AD$9='CABLE LENGTH'!$AK21,'CABLE LENGTH'!$AJ21*'CABLE LENGTH'!$AL21*-1,\"\"),IF(AD$9=\"VIDEO\",IF(AD$9='CABLE LENGTH'!$AK21,'CABLE LENGTH'!$AJ21*'CABLE LENGTH'!$AL21*-1,\"\"),IF(AD$9='CABLE LENGTH'!$AK21,'CABLE LENGTH'!$AJ21*'CABLE LENGTH'!$AL21,\"\")))","v":""},{"$f":"IF($S27=\"SOURCE\",IF(AE$9='CABLE LENGTH'!$AK21,'CABLE LENGTH'!$AJ21*'CABLE LENGTH'!$AL21*-1,\"\"),IF(AE$9=\"VIDEO\",IF(AE$9='CABLE LENGTH'!$AK21,'CABLE LENGTH'!$AJ21*'CABLE LENGTH'!$AL21*-1,\"\"),IF(AE$9='CABLE LENGTH'!$AK21,'CABLE LENGTH'!$AJ21*'CABLE LENGTH'!$AL21,\"\")))","v":""},{"$f":"IF($S27=\"SOURCE\",IF(AF$9='CABLE LENGTH'!$AK21,'CABLE LENGTH'!$AJ21*'CABLE LENGTH'!$AL21*-1,\"\"),IF(AF$9=\"VIDEO\",IF(AF$9='CABLE LENGTH'!$AK21,'CABLE LENGTH'!$AJ21*'CABLE LENGTH'!$AL21*-1,\"\"),IF(AF$9='CABLE LENGTH'!$AK21,'CABLE LENGTH'!$AJ21*'CABLE LENGTH'!$AL21,\"\")))","v":""}]
[0.3,{"$f":"IF('CONDUIT LENGTH'!A21>0,'CONDUIT LENGTH'!A21,\" \")","v":" "},{"$f":"IF('CONDUIT LENGTH'!B21>0,'CONDUIT LENGTH'!B21,\" \")","v":" "},{"$f":"IF('CONDUIT LENGTH'!C21>0,'CONDUIT LENGTH'!C21,\" \")","v":" "},{"$f":"IF($B28=\"SOURCE\",IF(LEFT(E$5,1)='CONDUIT LENGTH'!$M21,IF(E$9='CONDUIT LENGTH'!$L21,'CONDUIT LENGTH'!$K21*-1,IF(AND(E$9=RIGHT('CONDUIT LENGTH'!$L21,2),LEFT('CONDUIT LENGTH'!$L21,3)=\"2x3\")=TRUE,IF(LEFT('CONDUIT LENGTH'!$L21,2)=\"2x\",'CONDUIT LENGTH'!$K21*-1*2,\"\"),\"\")),\"\"),IF(LEFT(E$5,1)='CONDUIT LENGTH'!$M21,IF(E$9='CONDUIT LENGTH'!$L21,'CONDUIT LENGTH'!$K21,IF(AND(E$9=RIGHT('CONDUIT LENGTH'!$L21,2),LEFT('CONDUIT LENGTH'!$L21,3)=\"2x3\")=TRUE,IF(LEFT('CONDUIT LENGTH'!$L21,2)=\"2x\",'CONDUIT LENGTH'!$K21*2,\"\"),\"\")),\"\"))","v":""},{"$f":"IF($B28=\"SOURCE\",IF(LEFT(G$6,1)='CONDUIT LENGTH'!$M21,IF(F$9='CONDUIT LENGTH'!$L21,'CONDUIT LENGTH'!$K21*-1,IF(AND(F$9=RIGHT('CONDUIT LENGTH'!$L21,2),LEFT('CONDUIT LENGTH'!$L21,3)=\"2x3\")=TRUE,IF(LEFT('CONDUIT LENGTH'!$L21,2)=\"2x\",'CONDUIT LENGTH'!$K21*-1*2,\"\"),\"\")),\"\"),IF(LEFT(G$6,1)='CONDUIT LENGTH'!$M21,IF(F$9='CONDUIT LENGTH'!$L21,'CONDUIT LENGTH'!$K21,IF(AND(F$9=RIGHT('CONDUIT LENGTH'!$L21,2),LEFT('CONDUIT LENGTH'!$L21,3)=\"2x3\")=TRUE,IF(LEFT('CONDUIT LENGTH'!$L21,2)=\"2x\",'CONDUIT LENGTH'!$K21*2,\"\"),\"\")),\"\"))","v":""},{"$f":"IF($B28=\"SOURCE\",IF(LEFT(G$6,1)='CONDUIT LENGTH'!$M21,IF(G$9='CONDUIT LENGTH'!$L21,'CONDUIT LENGTH'!$K21*-1,IF(AND(G$9=RIGHT('CONDUIT LENGTH'!$L21,2),LEFT('CONDUIT LENGTH'!$L21,3)=\"2x3\")=TRUE,IF(LEFT('CONDUIT LENGTH'!$L21,2)=\"2x\",'CONDUIT LENGTH'!$K21*-1*2,\"\"),\"\")),\"\"),IF(LEFT(G$6,1)='CONDUIT LENGTH'!$M21,IF(G$9='CONDUIT LENGTH'!$L21,'CONDUIT LENGTH'!$K21,IF(AND(G$9=RIGHT('CONDUIT LENGTH'!$L21,2),LEFT('CONDUIT LENGTH'!$L21,3)=\"2x3\")=TRUE,IF(LEFT('CONDUIT LENGTH'!$L21,2)=\"2x\",'CONDUIT LENGTH'!$K21*2,\"\"),\"\")),\"\"))","v":""},{"$f":"IF($B28=\"SOURCE\",IF(LEFT(G$6,1)='CONDUIT LENGTH'!$M21,IF(H$9='CONDUIT LENGTH'!$L21,'CONDUIT LENGTH'!$K21*-1,IF(AND(H$9=RIGHT('CONDUIT LENGTH'!$L21,2),LEFT('CONDUIT LENGTH'!$L21,3)=\"2x3\")=TRUE,IF(LEFT('CONDUIT LENGTH'!$L21,2)=\"2x\",'CONDUIT LENGTH'!$K21*-1*2,\"\"),\"\")),\"\"),IF(LEFT(G$6,1)='CONDUIT LENGTH'!$M21,IF(H$9='CONDUIT LENGTH'!$L21,'CONDUIT LENGTH'!$K21,IF(AND(H$9=RIGHT('CONDUIT LENGTH'!$L21,2),LEFT('CONDUIT LENGTH'!$L21,3)=\"2x3\")=TRUE,IF(LEFT('CONDUIT LENGTH'!$L21,2)=\"2x\",'CONDUIT LENGTH'!$K21*2,\"\"),\"\")),\"\"))","v":""},{"$f":"IF($B28=\"SOURCE\",IF(LEFT(J$6,1)='CONDUIT LENGTH'!$M21,IF(I$9='CONDUIT LENGTH'!$L21,'CONDUIT LENGTH'!$K21*-1,IF(AND(I$9=RIGHT('CONDUIT LENGTH'!$L21,2),LEFT('CONDUIT LENGTH'!$L21,3)=\"2x3\")=TRUE,IF(LEFT('CONDUIT LENGTH'!$L21,2)=\"2x\",'CONDUIT LENGTH'!$K21*-1*2,\"\"),\"\")),\"\"),IF(LEFT(J$6,1)='CONDUIT LENGTH'!$M21,IF(I$9='CONDUIT LENGTH'!$L21,'CONDUIT LENGTH'!$K21,IF(AND(I$9=RIGHT('CONDUIT LENGTH'!$L21,2),LEFT('CONDUIT LENGTH'!$L21,3)=\"2x3\")=TRUE,IF(LEFT('CONDUIT LENGTH'!$L21,2)=\"2x\",'CONDUIT LENGTH'!$K21*2,\"\"),\"\")),\"\"))","v":""},{"$f":"IF($B28=\"SOURCE\",IF(LEFT(J$6,1)='CONDUIT LENGTH'!$M21,IF(J$9='CONDUIT LENGTH'!$L21,'CONDUIT LENGTH'!$K21*-1,IF(AND(J$9=RIGHT('CONDUIT LENGTH'!$L21,2),LEFT('CONDUIT LENGTH'!$L21,3)=\"2x3\")=TRUE,IF(LEFT('CONDUIT LENGTH'!$L21,2)=\"2x\",'CONDUIT LENGTH'!$K21*-1*2,\"\"),\"\")),\"\"),IF(LEFT(J$6,1)='CONDUIT LENGTH'!$M21,IF(J$9='CONDUIT LENGTH'!$L21,'CONDUIT LENGTH'!$K21,IF(AND(J$9=RIGHT('CONDUIT LENGTH'!$L21,2),LEFT('CONDUIT LENGTH'!$L21,3)=\"2x3\")=TRUE,IF(LEFT('CONDUIT LENGTH'!$L21,2)=\"2x\",'CONDUIT LENGTH'!$K21*2,\"\"),\"\")),\"\"))","v":""},{"$f":"IF($B28=\"SOURCE\",IF(LEFT(J$6,1)='CONDUIT LENGTH'!$M21,IF(K$9='CONDUIT LENGTH'!$L21,'CONDUIT LENGTH'!$K21*-1,IF(AND(K$9=RIGHT('CONDUIT LENGTH'!$L21,2),LEFT('CONDUIT LENGTH'!$L21,3)=\"2x3\")=TRUE,IF(LEFT('CONDUIT LENGTH'!$L21,2)=\"2x\",'CONDUIT LENGTH'!$K21*-1*2,\"\"),\"\")),\"\"),IF(LEFT(J$6,1)='CONDUIT LENGTH'!$M21,IF(K$9='CONDUIT LENGTH'!$L21,'CONDUIT LENGTH'!$K21,IF(AND(K$9=RIGHT('CONDUIT LENGTH'!$L21,2),LEFT('CONDUIT LENGTH'!$L21,3)=\"2x3\")=TRUE,IF(LEFT('CONDUIT LENGTH'!$L21,2)=\"2x\",'CONDUIT LENGTH'!$K21*2,\"\"),\"\")),\"\"))","v":""},{"$f":"IF($B28=\"SOURCE\",IF(LEFT(M$6,1)='CONDUIT LENGTH'!$M21,IF(L$9='CONDUIT LENGTH'!$L21,'CONDUIT LENGTH'!$K21*-1,IF(AND(L$9=RIGHT('CONDUIT LENGTH'!$L21,2),LEFT('CONDUIT LENGTH'!$L21,3)=\"2x3\")=TRUE,IF(LEFT('CONDUIT LENGTH'!$L21,2)=\"2x\",'CONDUIT LENGTH'!$K21*-1*2,\"\"),\"\")),\"\"),IF(LEFT(M$6,1)='CONDUIT LENGTH'!$M21,IF(L$9='CONDUIT LENGTH'!$L21,'CONDUIT LENGTH'!$K21,IF(AND(L$9=RIGHT('CONDUIT LENGTH'!$L21,2),LEFT('CONDUIT LENGTH'!$L21,3)=\"2x3\")=TRUE,IF(LEFT('CONDUIT LENGTH'!$L21,2)=\"2x\",'CONDUIT LENGTH'!$K21*2,\"\"),\"\")),\"\"))","v":""},{"$f":"IF($B28=\"SOURCE\",IF(LEFT(M$6,1)='CONDUIT LENGTH'!$M21,IF(M$9='CONDUIT LENGTH'!$L21,'CONDUIT LENGTH'!$K21*-1,IF(AND(M$9=RIGHT('CONDUIT LENGTH'!$L21,2),LEFT('CONDUIT LENGTH'!$L21,3)=\"2x3\")=TRUE,IF(LEFT('CONDUIT LENGTH'!$L21,2)=\"2x\",'CONDUIT LENGTH'!$K21*-1*2,\"\"),\"\")),\"\"),IF(LEFT(M$6,1)='CONDUIT LENGTH'!$M21,IF(M$9='CONDUIT LENGTH'!$L21,'CONDUIT LENGTH'!$K21,IF(AND(M$9=RIGHT('CONDUIT LENGTH'!$L21,2),LEFT('CONDUIT LENGTH'!$L21,3)=\"2x3\")=TRUE,IF(LEFT('CONDUIT LENGTH'!$L21,2)=\"2x\",'CONDUIT LENGTH'!$K21*2,\"\"),\"\")),\"\"))","v":""},{"$f":"IF($B28=\"SOURCE\",IF(LEFT(M$6,1)='CONDUIT LENGTH'!$M21,IF(N$9='CONDUIT LENGTH'!$L21,'CONDUIT LENGTH'!$K21*-1,IF(AND(N$9=RIGHT('CONDUIT LENGTH'!$L21,2),LEFT('CONDUIT LENGTH'!$L21,3)=\"2x3\")=TRUE,IF(LEFT('CONDUIT LENGTH'!$L21,2)=\"2x\",'CONDUIT LENGTH'!$K21*-1*2,\"\"),\"\")),\"\"),IF(LEFT(M$6,1)='CONDUIT LENGTH'!$M21,IF(N$9='CONDUIT LENGTH'!$L21,'CONDUIT LENGTH'!$K21,IF(AND(N$9=RIGHT('CONDUIT LENGTH'!$L21,2),LEFT('CONDUIT LENGTH'!$L21,3)=\"2x3\")=TRUE,IF(LEFT('CONDUIT LENGTH'!$L21,2)=\"2x\",'CONDUIT LENGTH'!$K21*2,\"\"),\"\")),\"\"))","v":""},{"$f":"IF($B28=\"SOURCE\",IF(LEFT(P$5,1)='CONDUIT LENGTH'!$M21,IF(O$9='CONDUIT LENGTH'!$L21,'CONDUIT LENGTH'!$K21*-1,IF(AND(O$9=RIGHT('CONDUIT LENGTH'!$L21,2),LEFT('CONDUIT LENGTH'!$L21,3)=\"2x3\")=TRUE,IF(LEFT('CONDUIT LENGTH'!$L21,2)=\"2x\",'CONDUIT LENGTH'!$K21*-1*2,\"\"),\"\")),\"\"),IF(LEFT(P$6,1)='CONDUIT LENGTH'!$M21,IF(O$9='CONDUIT LENGTH'!$L21,'CONDUIT LENGTH'!$K21,IF(AND(O$9=RIGHT('CONDUIT LENGTH'!$L21,2),LEFT('CONDUIT LENGTH'!$L21,3)=\"2x3\")=TRUE,IF(LEFT('CONDUIT LENGTH'!$L21,2)=\"2x\",'CONDUIT LENGTH'!$K21*2,\"\"),\"\")),\"\"))","v":""},{"$f":"IF($B28=\"SOURCE\",IF(LEFT(P$5,1)='CONDUIT LENGTH'!$M21,IF(P$9='CONDUIT LENGTH'!$L21,'CONDUIT LENGTH'!$K21*-1,IF(AND(P$9=RIGHT('CONDUIT LENGTH'!$L21,2),LEFT('CONDUIT LENGTH'!$L21,3)=\"2x3\")=TRUE,IF(LEFT('CONDUIT LENGTH'!$L21,2)=\"2x\",'CONDUIT LENGTH'!$K21*-1*2,\"\"),\"\")),\"\"),IF(LEFT(P$6,1)='CONDUIT LENGTH'!$M21,IF(P$9='CONDUIT LENGTH'!$L21,'CONDUIT LENGTH'!$K21,IF(AND(P$9=RIGHT('CONDUIT LENGTH'!$L21,2),LEFT('CONDUIT LENGTH'!$L21,3)=\"2x3\")=TRUE,IF(LEFT('CONDUIT LENGTH'!$L21,2)=\"2x\",'CONDUIT LENGTH'!$K21*2,\"\"),\"\")),\"\"))","v":""},{"$f":"IF($B28=\"SOURCE\",IF(LEFT(P$5,1)='CONDUIT LENGTH'!$M21,IF(Q$9='CONDUIT LENGTH'!$L21,'CONDUIT LENGTH'!$K21*-1,IF(AND(Q$9=RIGHT('CONDUIT LENGTH'!$L21,2),LEFT('CONDUIT LENGTH'!$L21,3)=\"2x3\")=TRUE,IF(LEFT('CONDUIT LENGTH'!$L21,2)=\"2x\",'CONDUIT LENGTH'!$K21*-1*2,\"\"),\"\")),\"\"),IF(LEFT(Q$6,1)='CONDUIT LENGTH'!$M21,IF(Q$9='CONDUIT LENGTH'!$L21,'CONDUIT LENGTH'!$K21,IF(AND(Q$9=RIGHT('CONDUIT LENGTH'!$L21,2),LEFT('CONDUIT LENGTH'!$L21,3)=\"2x3\")=TRUE,IF(LEFT('CONDUIT LENGTH'!$L21,2)=\"2x\",'CONDUIT LENGTH'!$K21*2,\"\"),\"\")),\"\"))","v":""},{"$f":"IF('CONDUIT LENGTH'!M21=\"UIP\",\"UIP EXISTING\",\"\")","v":""},{"$f":"IF('CABLE LENGTH'!A22>0,'CABLE LENGTH'!A22,\"\")","v":""},{"$f":"IF('CABLE LENGTH'!B22>0,'CABLE LENGTH'!B22,\"\")","v":""},{"$f":"IF('CABLE LENGTH'!Q22>0,'CABLE LENGTH'!Q22,\"\")","v":""},{"$f":"IF($S28=\"SOURCE\",IF(V$9='CABLE LENGTH'!$AK22,'CABLE LENGTH'!$AJ22*'CABLE LENGTH'!$AL22*-1,\"\"),IF(V$9=\"VIDEO\",IF(V$9='CABLE LENGTH'!$AK22,'CABLE LENGTH'!$AJ22*'CABLE LENGTH'!$AL22*-1,\"\"),IF(V$9='CABLE LENGTH'!$AK22,'CABLE LENGTH'!$AJ22*'CABLE LENGTH'!$AL22,\"\")))","v":""},{"$f":"IF($S28=\"SOURCE\",IF(W$9='CABLE LENGTH'!$AK22,'CABLE LENGTH'!$AJ22*'CABLE LENGTH'!$AL22*-1,\"\"),IF(W$9=\"VIDEO\",IF(W$9='CABLE LENGTH'!$AK22,'CABLE LENGTH'!$AJ22*'CABLE LENGTH'!$AL22*-1,\"\"),IF(W$9='CABLE LENGTH'!$AK22,'CABLE LENGTH'!$AJ22*'CABLE LENGTH'!$AL22,\"\")))","v":""},{"$f":"IF($S28=\"SOURCE\",IF(X$10='CABLE LENGTH'!$AK22,'CABLE LENGTH'!$AJ22*'CABLE LENGTH'!$AL22*-1,\"\"),IF(X$10=\"VIDEO\",IF(X$10='CABLE LENGTH'!$AK22,'CABLE LENGTH'!$AJ22*'CABLE LENGTH'!$AL22*-1,\"\"),IF(X$10='CABLE LENGTH'!$AK22,'CABLE LENGTH'!$AJ22*'CABLE LENGTH'!$AL22,\"\")))","v":""},{"$f":"IF($S28=\"SOURCE\",IF(Y$10='CABLE LENGTH'!$AK22,'CABLE LENGTH'!$AJ22*'CABLE LENGTH'!$AL22*-1,\"\"),IF(Y$10=\"VIDEO\",IF(Y$10='CABLE LENGTH'!$AK22,'CABLE LENGTH'!$AJ22*'CABLE LENGTH'!$AL22*-1,\"\"),IF(Y$10='CABLE LENGTH'!$AK22,'CABLE LENGTH'!$AJ22*'CABLE LENGTH'!$AL22,\"\")))","v":""},{"$f":"IF($S28=\"SOURCE\",IF(Z$10='CABLE LENGTH'!$AK22,'CABLE LENGTH'!$AJ22*'CABLE LENGTH'!$AL22*-1,\"\"),IF(Z$10=\"VIDEO\",IF(Z$10='CABLE LENGTH'!$AK22,'CABLE LENGTH'!$AJ22*'CABLE LENGTH'!$AL22*-1,\"\"),IF(Z$10='CABLE LENGTH'!$AK22,'CABLE LENGTH'!$AJ22*'CABLE LENGTH'!$AL22,\"\")))","v":""},{"$f":"IF($S28=\"SOURCE\",IF(AA$10='CABLE LENGTH'!$AK22,'CABLE LENGTH'!$AJ22*'CABLE LENGTH'!$AL22*-1,\"\"),IF(AA$10=\"VIDEO\",IF(AA$10='CABLE LENGTH'!$AK22,'CABLE LENGTH'!$AJ22*'CABLE LENGTH'!$AL22*-1,\"\"),IF(AA$10='CABLE LENGTH'!$AK22,'CABLE LENGTH'!$AJ22*'CABLE LENGTH'!$AL22,\"\")))","v":""},{"$f":"IF($S28=\"SOURCE\",IF(AB$10='CABLE LENGTH'!$AK22,'CABLE LENGTH'!$AJ22*'CABLE LENGTH'!$AL22*-1,\"\"),IF(AB$10=\"VIDEO\",IF(AB$10='CABLE LENGTH'!$AK22,'CABLE LENGTH'!$AJ22*'CABLE LENGTH'!$AL22*-1,\"\"),IF(AB$10='CABLE LENGTH'!$AK22,'CABLE LENGTH'!$AJ22*'CABLE LENGTH'!$AL22,\"\")))","v":""},{"$f":"IF($S28=\"SOURCE\",IF(AC$10='CABLE LENGTH'!$AK22,'CABLE LENGTH'!$AJ22*'CABLE LENGTH'!$AL22*-1,\"\"),IF(AC$10=\"VIDEO\",IF(AC$10='CABLE LENGTH'!$AK22,'CABLE LENGTH'!$AJ22*'CABLE LENGTH'!$AL22*-1,\"\"),IF(AC$10='CABLE LENGTH'!$AK22,'CABLE LENGTH'!$AJ22*'CABLE LENGTH'!$AL22,\"\")))","v":""},{"$f":"IF($S28=\"SOURCE\",IF(AD$9='CABLE LENGTH'!$AK22,'CABLE LENGTH'!$AJ22*'CABLE LENGTH'!$AL22*-1,\"\"),IF(AD$9=\"VIDEO\",IF(AD$9='CABLE LENGTH'!$AK22,'CABLE LENGTH'!$AJ22*'CABLE LENGTH'!$AL22*-1,\"\"),IF(AD$9='CABLE LENGTH'!$AK22,'CABLE LENGTH'!$AJ22*'CABLE LENGTH'!$AL22,\"\")))","v":""},{"$f":"IF($S28=\"SOURCE\",IF(AE$9='CABLE LENGTH'!$AK22,'CABLE LENGTH'!$AJ22*'CABLE LENGTH'!$AL22*-1,\"\"),IF(AE$9=\"VIDEO\",IF(AE$9='CABLE LENGTH'!$AK22,'CABLE LENGTH'!$AJ22*'CABLE LENGTH'!$AL22*-1,\"\"),IF(AE$9='CABLE LENGTH'!$AK22,'CABLE LENGTH'!$AJ22*'CABLE LENGTH'!$AL22,\"\")))","v":""},{"$f":"IF($S28=\"SOURCE\",IF(AF$9='CABLE LENGTH'!$AK22,'CABLE LENGTH'!$AJ22*'CABLE LENGTH'!$AL22*-1,\"\"),IF(AF$9=\"VIDEO\",IF(AF$9='CABLE LENGTH'!$AK22,'CABLE LENGTH'!$AJ22*'CABLE LENGTH'!$AL22*-1,\"\"),IF(AF$9='CABLE LENGTH'!$AK22,'CABLE LENGTH'!$AJ22*'CABLE LENGTH'!$AL22,\"\")))","v":""}]
[0.3,{"$f":"IF('CONDUIT LENGTH'!A22>0,'CONDUIT LENGTH'!A22,\" \")","v":" "},{"$f":"IF('CONDUIT LENGTH'!B22>0,'CONDUIT LENGTH'!B22,\" \")","v":" "},{"$f":"IF('CONDUIT LENGTH'!C22>0,'CONDUIT LENGTH'!C22,\" \")","v":" "},{"$f":"IF($B29=\"SOURCE\",IF(LEFT(E$5,1)='CONDUIT LENGTH'!$M22,IF(E$9='CONDUIT LENGTH'!$L22,'CONDUIT LENGTH'!$K22*-1,IF(AND(E$9=RIGHT('CONDUIT LENGTH'!$L22,2),LEFT('CONDUIT LENGTH'!$L22,3)=\"2x3\")=TRUE,IF(LEFT('CONDUIT LENGTH'!$L22,2)=\"2x\",'CONDUIT LENGTH'!$K22*-1*2,\"\"),\"\")),\"\"),IF(LEFT(E$5,1)='CONDUIT LENGTH'!$M22,IF(E$9='CONDUIT LENGTH'!$L22,'CONDUIT LENGTH'!$K22,IF(AND(E$9=RIGHT('CONDUIT LENGTH'!$L22,2),LEFT('CONDUIT LENGTH'!$L22,3)=\"2x3\")=TRUE,IF(LEFT('CONDUIT LENGTH'!$L22,2)=\"2x\",'CONDUIT LENGTH'!$K22*2,\"\"),\"\")),\"\"))","v":""},{"$f":"IF($B29=\"SOURCE\",IF(LEFT(G$6,1)='CONDUIT LENGTH'!$M22,IF(F$9='CONDUIT LENGTH'!$L22,'CONDUIT LENGTH'!$K22*-1,IF(AND(F$9=RIGHT('CONDUIT LENGTH'!$L22,2),LEFT('CONDUIT LENGTH'!$L22,3)=\"2x3\")=TRUE,IF(LEFT('CONDUIT LENGTH'!$L22,2)=\"2x\",'CONDUIT LENGTH'!$K22*-1*2,\"\"),\"\")),\"\"),IF(LEFT(G$6,1)='CONDUIT LENGTH'!$M22,IF(F$9='CONDUIT LENGTH'!$L22,'CONDUIT LENGTH'!$K22,IF(AND(F$9=RIGHT('CONDUIT LENGTH'!$L22,2),LEFT('CONDUIT LENGTH'!$L22,3)=\"2x3\")=TRUE,IF(LEFT('CONDUIT LENGTH'!$L22,2)=\"2x\",'CONDUIT LENGTH'!$K22*2,\"\"),\"\")),\"\"))","v":""},{"$f":"IF($B29=\"SOURCE\",IF(LEFT(G$6,1)='CONDUIT LENGTH'!$M22,IF(G$9='CONDUIT LENGTH'!$L22,'CONDUIT LENGTH'!$K22*-1,IF(AND(G$9=RIGHT('CONDUIT LENGTH'!$L22,2),LEFT('CONDUIT LENGTH'!$L22,3)=\"2x3\")=TRUE,IF(LEFT('CONDUIT LENGTH'!$L22,2)=\"2x\",'CONDUIT LENGTH'!$K22*-1*2,\"\"),\"\")),\"\"),IF(LEFT(G$6,1)='CONDUIT LENGTH'!$M22,IF(G$9='CONDUIT LENGTH'!$L22,'CONDUIT LENGTH'!$K22,IF(AND(G$9=RIGHT('CONDUIT LENGTH'!$L22,2),LEFT('CONDUIT LENGTH'!$L22,3)=\"2x3\")=TRUE,IF(LEFT('CONDUIT LENGTH'!$L22,2)=\"2x\",'CONDUIT LENGTH'!$K22*2,\"\"),\"\")),\"\"))","v":""},{"$f":"IF($B29=\"SOURCE\",IF(LEFT(G$6,1)='CONDUIT LENGTH'!$M22,IF(H$9='CONDUIT LENGTH'!$L22,'CONDUIT LENGTH'!$K22*-1,IF(AND(H$9=RIGHT('CONDUIT LENGTH'!$L22,2),LEFT('CONDUIT LENGTH'!$L22,3)=\"2x3\")=TRUE,IF(LEFT('CONDUIT LENGTH'!$L22,2)=\"2x\",'CONDUIT LENGTH'!$K22*-1*2,\"\"),\"\")),\"\"),IF(LEFT(G$6,1)='CONDUIT LENGTH'!$M22,IF(H$9='CONDUIT LENGTH'!$L22,'CONDUIT LENGTH'!$K22,IF(AND(H$9=RIGHT('CONDUIT LENGTH'!$L22,2),LEFT('CONDUIT LENGTH'!$L22,3)=\"2x3\")=TRUE,IF(LEFT('CONDUIT LENGTH'!$L22,2)=\"2x\",'CONDUIT LENGTH'!$K22*2,\"\"),\"\")),\"\"))","v":""},{"$f":"IF($B29=\"SOURCE\",IF(LEFT(J$6,1)='CONDUIT LENGTH'!$M22,IF(I$9='CONDUIT LENGTH'!$L22,'CONDUIT LENGTH'!$K22*-1,IF(AND(I$9=RIGHT('CONDUIT LENGTH'!$L22,2),LEFT('CONDUIT LENGTH'!$L22,3)=\"2x3\")=TRUE,IF(LEFT('CONDUIT LENGTH'!$L22,2)=\"2x\",'CONDUIT LENGTH'!$K22*-1*2,\"\"),\"\")),\"\"),IF(LEFT(J$6,1)='CONDUIT LENGTH'!$M22,IF(I$9='CONDUIT LENGTH'!$L22,'CONDUIT LENGTH'!$K22,IF(AND(I$9=RIGHT('CONDUIT LENGTH'!$L22,2),LEFT('CONDUIT LENGTH'!$L22,3)=\"2x3\")=TRUE,IF(LEFT('CONDUIT LENGTH'!$L22,2)=\"2x\",'CONDUIT LENGTH'!$K22*2,\"\"),\"\")),\"\"))","v":""},{"$f":"IF($B29=\"SOURCE\",IF(LEFT(J$6,1)='CONDUIT LENGTH'!$M22,IF(J$9='CONDUIT LENGTH'!$L22,'CONDUIT LENGTH'!$K22*-1,IF(AND(J$9=RIGHT('CONDUIT LENGTH'!$L22,2),LEFT('CONDUIT LENGTH'!$L22,3)=\"2x3\")=TRUE,IF(LEFT('CONDUIT LENGTH'!$L22,2)=\"2x\",'CONDUIT LENGTH'!$K22*-1*2,\"\"),\"\")),\"\"),IF(LEFT(J$6,1)='CONDUIT LENGTH'!$M22,IF(J$9='CONDUIT LENGTH'!$L22,'CONDUIT LENGTH'!$K22,IF(AND(J$9=RIGHT('CONDUIT LENGTH'!$L22,2),LEFT('CONDUIT LENGTH'!$L22,3)=\"2x3\")=TRUE,IF(LEFT('CONDUIT LENGTH'!$L22,2)=\"2x\",'CONDUIT LENGTH'!$K22*2,\"\"),\"\")),\"\"))","v":""},{"$f":"IF($B29=\"SOURCE\",IF(LEFT(J$6,1)='CONDUIT LENGTH'!$M22,IF(K$9='CONDUIT LENGTH'!$L22,'CONDUIT LENGTH'!$K22*-1,IF(AND(K$9=RIGHT('CONDUIT LENGTH'!$L22,2),LEFT('CONDUIT LENGTH'!$L22,3)=\"2x3\")=TRUE,IF(LEFT('CONDUIT LENGTH'!$L22,2)=\"2x\",'CONDUIT LENGTH'!$K22*-1*2,\"\"),\"\")),\"\"),IF(LEFT(J$6,1)='CONDUIT LENGTH'!$M22,IF(K$9='CONDUIT LENGTH'!$L22,'CONDUIT LENGTH'!$K22,IF(AND(K$9=RIGHT('CONDUIT LENGTH'!$L22,2),LEFT('CONDUIT LENGTH'!$L22,3)=\"2x3\")=TRUE,IF(LEFT('CONDUIT LENGTH'!$L22,2)=\"2x\",'CONDUIT LENGTH'!$K22*2,\"\"),\"\")),\"\"))","v":""},{"$f":"IF($B29=\"SOURCE\",IF(LEFT(M$6,1)='CONDUIT LENGTH'!$M22,IF(L$9='CONDUIT LENGTH'!$L22,'CONDUIT LENGTH'!$K22*-1,IF(AND(L$9=RIGHT('CONDUIT LENGTH'!$L22,2),LEFT('CONDUIT LENGTH'!$L22,3)=\"2x3\")=TRUE,IF(LEFT('CONDUIT LENGTH'!$L22,2)=\"2x\",'CONDUIT LENGTH'!$K22*-1*2,\"\"),\"\")),\"\"),IF(LEFT(M$6,1)='CONDUIT LENGTH'!$M22,IF(L$9='CONDUIT LENGTH'!$L22,'CONDUIT LENGTH'!$K22,IF(AND(L$9=RIGHT('CONDUIT LENGTH'!$L22,2),LEFT('CONDUIT LENGTH'!$L22,3)=\"2x3\")=TRUE,IF(LEFT('CONDUIT LENGTH'!$L22,2)=\"2x\",'CONDUIT LENGTH'!$K22*2,\"\"),\"\")),\"\"))","v":""},{"$f":"IF($B29=\"SOURCE\",IF(LEFT(M$6,1)='CONDUIT LENGTH'!$M22,IF(M$9='CONDUIT LENGTH'!$L22,'CONDUIT LENGTH'!$K22*-1,IF(AND(M$9=RIGHT('CONDUIT LENGTH'!$L22,2),LEFT('CONDUIT LENGTH'!$L22,3)=\"2x3\")=TRUE,IF(LEFT('CONDUIT LENGTH'!$L22,2)=\"2x\",'CONDUIT LENGTH'!$K22*-1*2,\"\"),\"\")),\"\"),IF(LEFT(M$6,1)='CONDUIT LENGTH'!$M22,IF(M$9='CONDUIT LENGTH'!$L22,'CONDUIT LENGTH'!$K22,IF(AND(M$9=RIGHT('CONDUIT LENGTH'!$L22,2),LEFT('CONDUIT LENGTH'!$L22,3)=\"2x3\")=TRUE,IF(LEFT('CONDUIT LENGTH'!$L22,2)=\"2x\",'CONDUIT LENGTH'!$K22*2,\"\"),\"\")),\"\"))","v":""},{"$f":"IF($B29=\"SOURCE\",IF(LEFT(M$6,1)='CONDUIT LENGTH'!$M22,IF(N$9='CONDUIT LENGTH'!$L22,'CONDUIT LENGTH'!$K22*-1,IF(AND(N$9=RIGHT('CONDUIT LENGTH'!$L22,2),LEFT('CONDUIT LENGTH'!$L22,3)=\"2x3\")=TRUE,IF(LEFT('CONDUIT LENGTH'!$L22,2)=\"2x\",'CONDUIT LENGTH'!$K22*-1*2,\"\"),\"\")),\"\"),IF(LEFT(M$6,1)='CONDUIT LENGTH'!$M22,IF(N$9='CONDUIT LENGTH'!$L22,'CONDUIT LENGTH'!$K22,IF(AND(N$9=RIGHT('CONDUIT LENGTH'!$L22,2),LEFT('CONDUIT LENGTH'!$L22,3)=\"2x3\")=TRUE,IF(LEFT('CONDUIT LENGTH'!$L22,2)=\"2x\",'CONDUIT LENGTH'!$K22*2,\"\"),\"\")),\"\"))","v":""},{"$f":"IF($B29=\"SOURCE\",IF(LEFT(P$5,1)='CONDUIT LENGTH'!$M22,IF(O$9='CONDUIT LENGTH'!$L22,'CONDUIT LENGTH'!$K22*-1,IF(AND(O$9=RIGHT('CONDUIT LENGTH'!$L22,2),LEFT('CONDUIT LENGTH'!$L22,3)=\"2x3\")=TRUE,IF(LEFT('CONDUIT LENGTH'!$L22,2)=\"2x\",'CONDUIT LENGTH'!$K22*-1*2,\"\"),\"\")),\"\"),IF(LEFT(P$6,1)='CONDUIT LENGTH'!$M22,IF(O$9='CONDUIT LENGTH'!$L22,'CONDUIT LENGTH'!$K22,IF(AND(O$9=RIGHT('CONDUIT LENGTH'!$L22,2),LEFT('CONDUIT LENGTH'!$L22,3)=\"2x3\")=TRUE,IF(LEFT('CONDUIT LENGTH'!$L22,2)=\"2x\",'CONDUIT LENGTH'!$K22*2,\"\"),\"\")),\"\"))","v":""},{"$f":"IF($B29=\"SOURCE\",IF(LEFT(P$5,1)='CONDUIT LENGTH'!$M22,IF(P$9='CONDUIT LENGTH'!$L22,'CONDUIT LENGTH'!$K22*-1,IF(AND(P$9=RIGHT('CONDUIT LENGTH'!$L22,2),LEFT('CONDUIT LENGTH'!$L22,3)=\"2x3\")=TRUE,IF(LEFT('CONDUIT LENGTH'!$L22,2)=\"2x\",'CONDUIT LENGTH'!$K22*-1*2,\"\"),\"\")),\"\"),IF(LEFT(P$6,1)='CONDUIT LENGTH'!$M22,IF(P$9='CONDUIT LENGTH'!$L22,'CONDUIT LENGTH'!$K22,IF(AND(P$9=RIGHT('CONDUIT LENGTH'!$L22,2),LEFT('CONDUIT LENGTH'!$L22,3)=\"2x3\")=TRUE,IF(LEFT('CONDUIT LENGTH'!$L22,2)=\"2x\",'CONDUIT LENGTH'!$K22*2,\"\"),\"\")),\"\"))","v":""},{"$f":"IF($B29=\"SOURCE\",IF(LEFT(P$5,1)='CONDUIT LENGTH'!$M22,IF(Q$9='CONDUIT LENGTH'!$L22,'CONDUIT LENGTH'!$K22*-1,IF(AND(Q$9=RIGHT('CONDUIT LENGTH'!$L22,2),LEFT('CONDUIT LENGTH'!$L22,3)=\"2x3\")=TRUE,IF(LEFT('CONDUIT LENGTH'!$L22,2)=\"2x\",'CONDUIT LENGTH'!$K22*-1*2,\"\"),\"\")),\"\"),IF(LEFT(Q$6,1)='CONDUIT LENGTH'!$M22,IF(Q$9='CONDUIT LENGTH'!$L22,'CONDUIT LENGTH'!$K22,IF(AND(Q$9=RIGHT('CONDUIT LENGTH'!$L22,2),LEFT('CONDUIT LENGTH'!$L22,3)=\"2x3\")=TRUE,IF(LEFT('CONDUIT LENGTH'!$L22,2)=\"2x\",'CONDUIT LENGTH'!$K22*2,\"\"),\"\")),\"\"))","v":""},{"$f":"IF('CONDUIT LENGTH'!M22=\"UIP\",\"UIP EXISTING\",\"\")","v":""},{"$f":"IF('CABLE LENGTH'!A23>0,'CABLE LENGTH'!A23,\"\")","v":""},{"$f":"IF('CABLE LENGTH'!B23>0,'CABLE LENGTH'!B23,\"\")","v":""},{"$f":"IF('CABLE LENGTH'!Q23>0,'CABLE LENGTH'!Q23,\"\")","v":""},{"$f":"IF($S29=\"SOURCE\",IF(V$9='CABLE LENGTH'!$AK23,'CABLE LENGTH'!$AJ23*'CABLE LENGTH'!$AL23*-1,\"\"),IF(V$9=\"VIDEO\",IF(V$9='CABLE LENGTH'!$AK23,'CABLE LENGTH'!$AJ23*'CABLE LENGTH'!$AL23*-1,\"\"),IF(V$9='CABLE LENGTH'!$AK23,'CABLE LENGTH'!$AJ23*'CABLE LENGTH'!$AL23,\"\")))","v":""},{"$f":"IF($S29=\"SOURCE\",IF(W$9='CABLE LENGTH'!$AK23,'CABLE LENGTH'!$AJ23*'CABLE LENGTH'!$AL23*-1,\"\"),IF(W$9=\"VIDEO\",IF(W$9='CABLE LENGTH'!$AK23,'CABLE LENGTH'!$AJ23*'CABLE LENGTH'!$AL23*-1,\"\"),IF(W$9='CABLE LENGTH'!$AK23,'CABLE LENGTH'!$AJ23*'CABLE LENGTH'!$AL23,\"\")))","v":""},{"$f":"IF($S29=\"SOURCE\",IF(X$10='CABLE LENGTH'!$AK23,'CABLE LENGTH'!$AJ23*'CABLE LENGTH'!$AL23*-1,\"\"),IF(X$10=\"VIDEO\",IF(X$10='CABLE LENGTH'!$AK23,'CABLE LENGTH'!$AJ23*'CABLE LENGTH'!$AL23*-1,\"\"),IF(X$10='CABLE LENGTH'!$AK23,'CABLE LENGTH'!$AJ23*'CABLE LENGTH'!$AL23,\"\")))","v":""},{"$f":"IF($S29=\"SOURCE\",IF(Y$10='CABLE LENGTH'!$AK23,'CABLE LENGTH'!$AJ23*'CABLE LENGTH'!$AL23*-1,\"\"),IF(Y$10=\"VIDEO\",IF(Y$10='CABLE LENGTH'!$AK23,'CABLE LENGTH'!$AJ23*'CABLE LENGTH'!$AL23*-1,\"\"),IF(Y$10='CABLE LENGTH'!$AK23,'CABLE LENGTH'!$AJ23*'CABLE LENGTH'!$AL23,\"\")))","v":""},{"$f":"IF($S29=\"SOURCE\",IF(Z$10='CABLE LENGTH'!$AK23,'CABLE LENGTH'!$AJ23*'CABLE LENGTH'!$AL23*-1,\"\"),IF(Z$10=\"VIDEO\",IF(Z$10='CABLE LENGTH'!$AK23,'CABLE LENGTH'!$AJ23*'CABLE LENGTH'!$AL23*-1,\"\"),IF(Z$10='CABLE LENGTH'!$AK23,'CABLE LENGTH'!$AJ23*'CABLE LENGTH'!$AL23,\"\")))","v":""},{"$f":"IF($S29=\"SOURCE\",IF(AA$10='CABLE LENGTH'!$AK23,'CABLE LENGTH'!$AJ23*'CABLE LENGTH'!$AL23*-1,\"\"),IF(AA$10=\"VIDEO\",IF(AA$10='CABLE LENGTH'!$AK23,'CABLE LENGTH'!$AJ23*'CABLE LENGTH'!$AL23*-1,\"\"),IF(AA$10='CABLE LENGTH'!$AK23,'CABLE LENGTH'!$AJ23*'CABLE LENGTH'!$AL23,\"\")))","v":""},{"$f":"IF($S29=\"SOURCE\",IF(AB$10='CABLE LENGTH'!$AK23,'CABLE LENGTH'!$AJ23*'CABLE LENGTH'!$AL23*-1,\"\"),IF(AB$10=\"VIDEO\",IF(AB$10='CABLE LENGTH'!$AK23,'CABLE LENGTH'!$AJ23*'CABLE LENGTH'!$AL23*-1,\"\"),IF(AB$10='CABLE LENGTH'!$AK23,'CABLE LENGTH'!$AJ23*'CABLE LENGTH'!$AL23,\"\")))","v":""},{"$f":"IF($S29=\"SOURCE\",IF(AC$10='CABLE LENGTH'!$AK23,'CABLE LENGTH'!$AJ23*'CABLE LENGTH'!$AL23*-1,\"\"),IF(AC$10=\"VIDEO\",IF(AC$10='CABLE LENGTH'!$AK23,'CABLE LENGTH'!$AJ23*'CABLE LENGTH'!$AL23*-1,\"\"),IF(AC$10='CABLE LENGTH'!$AK23,'CABLE LENGTH'!$AJ23*'CABLE LENGTH'!$AL23,\"\")))","v":""},{"$f":"IF($S29=\"SOURCE\",IF(AD$9='CABLE LENGTH'!$AK23,'CABLE LENGTH'!$AJ23*'CABLE LENGTH'!$AL23*-1,\"\"),IF(AD$9=\"VIDEO\",IF(AD$9='CABLE LENGTH'!$AK23,'CABLE LENGTH'!$AJ23*'CABLE LENGTH'!$AL23*-1,\"\"),IF(AD$9='CABLE LENGTH'!$AK23,'CABLE LENGTH'!$AJ23*'CABLE LENGTH'!$AL23,\"\")))","v":""},{"$f":"IF($S29=\"SOURCE\",IF(AE$9='CABLE LENGTH'!$AK23,'CABLE LENGTH'!$AJ23*'CABLE LENGTH'!$AL23*-1,\"\"),IF(AE$9=\"VIDEO\",IF(AE$9='CABLE LENGTH'!$AK23,'CABLE LENGTH'!$AJ23*'CABLE LENGTH'!$AL23*-1,\"\"),IF(AE$9='CABLE LENGTH'!$AK23,'CABLE LENGTH'!$AJ23*'CABLE LENGTH'!$AL23,\"\")))","v":""},{"$f":"IF($S29=\"SOURCE\",IF(AF$9='CABLE LENGTH'!$AK23,'CABLE LENGTH'!$AJ23*'CABLE LENGTH'!$AL23*-1,\"\"),IF(AF$9=\"VIDEO\",IF(AF$9='CABLE LENGTH'!$AK23,'CABLE LENGTH'!$AJ23*'CABLE LENGTH'!$AL23*-1,\"\"),IF(AF$9='CABLE LENGTH'!$AK23,'CABLE LENGTH'!$AJ23*'CABLE LENGTH'!$AL23,\"\")))","v":""}]
[0.3,{"$f":"IF('CONDUIT LENGTH'!A23>0,'CONDUIT LENGTH'!A23,\" \")","v":" "},{"$f":"IF('CONDUIT LENGTH'!B23>0,'CONDUIT LENGTH'!B23,\" \")","v":" "},{"$f":"IF('CONDUIT LENGTH'!C23>0,'CONDUIT LENGTH'!C23,\" \")","v":" "},{"$f":"IF($B30=\"SOURCE\",IF(LEFT(E$5,1)='CONDUIT LENGTH'!$M23,IF(E$9='CONDUIT LENGTH'!$L23,'CONDUIT LENGTH'!$K23*-1,IF(AND(E$9=RIGHT('CONDUIT LENGTH'!$L23,2),LEFT('CONDUIT LENGTH'!$L23,3)=\"2x3\")=TRUE,IF(LEFT('CONDUIT LENGTH'!$L23,2)=\"2x\",'CONDUIT LENGTH'!$K23*-1*2,\"\"),\"\")),\"\"),IF(LEFT(E$5,1)='CONDUIT LENGTH'!$M23,IF(E$9='CONDUIT LENGTH'!$L23,'CONDUIT LENGTH'!$K23,IF(AND(E$9=RIGHT('CONDUIT LENGTH'!$L23,2),LEFT('CONDUIT LENGTH'!$L23,3)=\"2x3\")=TRUE,IF(LEFT('CONDUIT LENGTH'!$L23,2)=\"2x\",'CONDUIT LENGTH'!$K23*2,\"\"),\"\")),\"\"))","v":""},{"$f":"IF($B30=\"SOURCE\",IF(LEFT(G$6,1)='CONDUIT LENGTH'!$M23,IF(F$9='CONDUIT LENGTH'!$L23,'CONDUIT LENGTH'!$K23*-1,IF(AND(F$9=RIGHT('CONDUIT LENGTH'!$L23,2),LEFT('CONDUIT LENGTH'!$L23,3)=\"2x3\")=TRUE,IF(LEFT('CONDUIT LENGTH'!$L23,2)=\"2x\",'CONDUIT LENGTH'!$K23*-1*2,\"\"),\"\")),\"\"),IF(LEFT(G$6,1)='CONDUIT LENGTH'!$M23,IF(F$9='CONDUIT LENGTH'!$L23,'CONDUIT LENGTH'!$K23,IF(AND(F$9=RIGHT('CONDUIT LENGTH'!$L23,2),LEFT('CONDUIT LENGTH'!$L23,3)=\"2x3\")=TRUE,IF(LEFT('CONDUIT LENGTH'!$L23,2)=\"2x\",'CONDUIT LENGTH'!$K23*2,\"\"),\"\")),\"\"))","v":""},{"$f":"IF($B30=\"SOURCE\",IF(LEFT(G$6,1)='CONDUIT LENGTH'!$M23,IF(G$9='CONDUIT LENGTH'!$L23,'CONDUIT LENGTH'!$K23*-1,IF(AND(G$9=RIGHT('CONDUIT LENGTH'!$L23,2),LEFT('CONDUIT LENGTH'!$L23,3)=\"2x3\")=TRUE,IF(LEFT('CONDUIT LENGTH'!$L23,2)=\"2x\",'CONDUIT LENGTH'!$K23*-1*2,\"\"),\"\")),\"\"),IF(LEFT(G$6,1)='CONDUIT LENGTH'!$M23,IF(G$9='CONDUIT LENGTH'!$L23,'CONDUIT LENGTH'!$K23,IF(AND(G$9=RIGHT('CONDUIT LENGTH'!$L23,2),LEFT('CONDUIT LENGTH'!$L23,3)=\"2x3\")=TRUE,IF(LEFT('CONDUIT LENGTH'!$L23,2)=\"2x\",'CONDUIT LENGTH'!$K23*2,\"\"),\"\")),\"\"))","v":""},{"$f":"IF($B30=\"SOURCE\",IF(LEFT(G$6,1)='CONDUIT LENGTH'!$M23,IF(H$9='CONDUIT LENGTH'!$L23,'CONDUIT LENGTH'!$K23*-1,IF(AND(H$9=RIGHT('CONDUIT LENGTH'!$L23,2),LEFT('CONDUIT LENGTH'!$L23,3)=\"2x3\")=TRUE,IF(LEFT('CONDUIT LENGTH'!$L23,2)=\"2x\",'CONDUIT LENGTH'!$K23*-1*2,\"\"),\"\")),\"\"),IF(LEFT(G$6,1)='CONDUIT LENGTH'!$M23,IF(H$9='CONDUIT LENGTH'!$L23,'CONDUIT LENGTH'!$K23,IF(AND(H$9=RIGHT('CONDUIT LENGTH'!$L23,2),LEFT('CONDUIT LENGTH'!$L23,3)=\"2x3\")=TRUE,IF(LEFT('CONDUIT LENGTH'!$L23,2)=\"2x\",'CONDUIT LENGTH'!$K23*2,\"\"),\"\")),\"\"))","v":""},{"$f":"IF($B30=\"SOURCE\",IF(LEFT(J$6,1)='CONDUIT LENGTH'!$M23,IF(I$9='CONDUIT LENGTH'!$L23,'CONDUIT LENGTH'!$K23*-1,IF(AND(I$9=RIGHT('CONDUIT LENGTH'!$L23,2),LEFT('CONDUIT LENGTH'!$L23,3)=\"2x3\")=TRUE,IF(LEFT('CONDUIT LENGTH'!$L23,2)=\"2x\",'CONDUIT LENGTH'!$K23*-1*2,\"\"),\"\")),\"\"),IF(LEFT(J$6,1)='CONDUIT LENGTH'!$M23,IF(I$9='CONDUIT LENGTH'!$L23,'CONDUIT LENGTH'!$K23,IF(AND(I$9=RIGHT('CONDUIT LENGTH'!$L23,2),LEFT('CONDUIT LENGTH'!$L23,3)=\"2x3\")=TRUE,IF(LEFT('CONDUIT LENGTH'!$L23,2)=\"2x\",'CONDUIT LENGTH'!$K23*2,\"\"),\"\")),\"\"))","v":""},{"$f":"IF($B30=\"SOURCE\",IF(LEFT(J$6,1)='CONDUIT LENGTH'!$M23,IF(J$9='CONDUIT LENGTH'!$L23,'CONDUIT LENGTH'!$K23*-1,IF(AND(J$9=RIGHT('CONDUIT LENGTH'!$L23,2),LEFT('CONDUIT LENGTH'!$L23,3)=\"2x3\")=TRUE,IF(LEFT('CONDUIT LENGTH'!$L23,2)=\"2x\",'CONDUIT LENGTH'!$K23*-1*2,\"\"),\"\")),\"\"),IF(LEFT(J$6,1)='CONDUIT LENGTH'!$M23,IF(J$9='CONDUIT LENGTH'!$L23,'CONDUIT LENGTH'!$K23,IF(AND(J$9=RIGHT('CONDUIT LENGTH'!$L23,2),LEFT('CONDUIT LENGTH'!$L23,3)=\"2x3\")=TRUE,IF(LEFT('CONDUIT LENGTH'!$L23,2)=\"2x\",'CONDUIT LENGTH'!$K23*2,\"\"),\"\")),\"\"))","v":""},{"$f":"IF($B30=\"SOURCE\",IF(LEFT(J$6,1)='CONDUIT LENGTH'!$M23,IF(K$9='CONDUIT LENGTH'!$L23,'CONDUIT LENGTH'!$K23*-1,IF(AND(K$9=RIGHT('CONDUIT LENGTH'!$L23,2),LEFT('CONDUIT LENGTH'!$L23,3)=\"2x3\")=TRUE,IF(LEFT('CONDUIT LENGTH'!$L23,2)=\"2x\",'CONDUIT LENGTH'!$K23*-1*2,\"\"),\"\")),\"\"),IF(LEFT(J$6,1)='CONDUIT LENGTH'!$M23,IF(K$9='CONDUIT LENGTH'!$L23,'CONDUIT LENGTH'!$K23,IF(AND(K$9=RIGHT('CONDUIT LENGTH'!$L23,2),LEFT('CONDUIT LENGTH'!$L23,3)=\"2x3\")=TRUE,IF(LEFT('CONDUIT LENGTH'!$L23,2)=\"2x\",'CONDUIT LENGTH'!$K23*2,\"\"),\"\")),\"\"))","v":""},{"$f":"IF($B30=\"SOURCE\",IF(LEFT(M$6,1)='CONDUIT LENGTH'!$M23,IF(L$9='CONDUIT LENGTH'!$L23,'CONDUIT LENGTH'!$K23*-1,IF(AND(L$9=RIGHT('CONDUIT LENGTH'!$L23,2),LEFT('CONDUIT LENGTH'!$L23,3)=\"2x3\")=TRUE,IF(LEFT('CONDUIT LENGTH'!$L23,2)=\"2x\",'CONDUIT LENGTH'!$K23*-1*2,\"\"),\"\")),\"\"),IF(LEFT(M$6,1)='CONDUIT LENGTH'!$M23,IF(L$9='CONDUIT LENGTH'!$L23,'CONDUIT LENGTH'!$K23,IF(AND(L$9=RIGHT('CONDUIT LENGTH'!$L23,2),LEFT('CONDUIT LENGTH'!$L23,3)=\"2x3\")=TRUE,IF(LEFT('CONDUIT LENGTH'!$L23,2)=\"2x\",'CONDUIT LENGTH'!$K23*2,\"\"),\"\")),\"\"))","v":""},{"$f":"IF($B30=\"SOURCE\",IF(LEFT(M$6,1)='CONDUIT LENGTH'!$M23,IF(M$9='CONDUIT LENGTH'!$L23,'CONDUIT LENGTH'!$K23*-1,IF(AND(M$9=RIGHT('CONDUIT LENGTH'!$L23,2),LEFT('CONDUIT LENGTH'!$L23,3)=\"2x3\")=TRUE,IF(LEFT('CONDUIT LENGTH'!$L23,2)=\"2x\",'CONDUIT LENGTH'!$K23*-1*2,\"\"),\"\")),\"\"),IF(LEFT(M$6,1)='CONDUIT LENGTH'!$M23,IF(M$9='CONDUIT LENGTH'!$L23,'CONDUIT LENGTH'!$K23,IF(AND(M$9=RIGHT('CONDUIT LENGTH'!$L23,2),LEFT('CONDUIT LENGTH'!$L23,3)=\"2x3\")=TRUE,IF(LEFT('CONDUIT LENGTH'!$L23,2)=\"2x\",'CONDUIT LENGTH'!$K23*2,\"\"),\"\")),\"\"))","v":""},{"$f":"IF($B30=\"SOURCE\",IF(LEFT(M$6,1)='CONDUIT LENGTH'!$M23,IF(N$9='CONDUIT LENGTH'!$L23,'CONDUIT LENGTH'!$K23*-1,IF(AND(N$9=RIGHT('CONDUIT LENGTH'!$L23,2),LEFT('CONDUIT LENGTH'!$L23,3)=\"2x3\")=TRUE,IF(LEFT('CONDUIT LENGTH'!$L23,2)=\"2x\",'CONDUIT LENGTH'!$K23*-1*2,\"\"),\"\")),\"\"),IF(LEFT(M$6,1)='CONDUIT LENGTH'!$M23,IF(N$9='CONDUIT LENGTH'!$L23,'CONDUIT LENGTH'!$K23,IF(AND(N$9=RIGHT('CONDUIT LENGTH'!$L23,2),LEFT('CONDUIT LENGTH'!$L23,3)=\"2x3\")=TRUE,IF(LEFT('CONDUIT LENGTH'!$L23,2)=\"2x\",'CONDUIT LENGTH'!$K23*2,\"\"),\"\")),\"\"))","v":""},{"$f":"IF($B30=\"SOURCE\",IF(LEFT(P$5,1)='CONDUIT LENGTH'!$M23,IF(O$9='CONDUIT LENGTH'!$L23,'CONDUIT LENGTH'!$K23*-1,IF(AND(O$9=RIGHT('CONDUIT LENGTH'!$L23,2),LEFT('CONDUIT LENGTH'!$L23,3)=\"2x3\")=TRUE,IF(LEFT('CONDUIT LENGTH'!$L23,2)=\"2x\",'CONDUIT LENGTH'!$K23*-1*2,\"\"),\"\")),\"\"),IF(LEFT(P$6,1)='CONDUIT LENGTH'!$M23,IF(O$9='CONDUIT LENGTH'!$L23,'CONDUIT LENGTH'!$K23,IF(AND(O$9=RIGHT('CONDUIT LENGTH'!$L23,2),LEFT('CONDUIT LENGTH'!$L23,3)=\"2x3\")=TRUE,IF(LEFT('CONDUIT LENGTH'!$L23,2)=\"2x\",'CONDUIT LENGTH'!$K23*2,\"\"),\"\")),\"\"))","v":""},{"$f":"IF($B30=\"SOURCE\",IF(LEFT(P$5,1)='CONDUIT LENGTH'!$M23,IF(P$9='CONDUIT LENGTH'!$L23,'CONDUIT LENGTH'!$K23*-1,IF(AND(P$9=RIGHT('CONDUIT LENGTH'!$L23,2),LEFT('CONDUIT LENGTH'!$L23,3)=\"2x3\")=TRUE,IF(LEFT('CONDUIT LENGTH'!$L23,2)=\"2x\",'CONDUIT LENGTH'!$K23*-1*2,\"\"),\"\")),\"\"),IF(LEFT(P$6,1)='CONDUIT LENGTH'!$M23,IF(P$9='CONDUIT LENGTH'!$L23,'CONDUIT LENGTH'!$K23,IF(AND(P$9=RIGHT('CONDUIT LENGTH'!$L23,2),LEFT('CONDUIT LENGTH'!$L23,3)=\"2x3\")=TRUE,IF(LEFT('CONDUIT LENGTH'!$L23,2)=\"2x\",'CONDUIT LENGTH'!$K23*2,\"\"),\"\")),\"\"))","v":""},{"$f":"IF($B30=\"SOURCE\",IF(LEFT(P$5,1)='CONDUIT LENGTH'!$M23,IF(Q$9='CONDUIT LENGTH'!$L23,'CONDUIT LENGTH'!$K23*-1,IF(AND(Q$9=RIGHT('CONDUIT LENGTH'!$L23,2),LEFT('CONDUIT LENGTH'!$L23,3)=\"2x3\")=TRUE,IF(LEFT('CONDUIT LENGTH'!$L23,2)=\"2x\",'CONDUIT LENGTH'!$K23*-1*2,\"\"),\"\")),\"\"),IF(LEFT(Q$6,1)='CONDUIT LENGTH'!$M23,IF(Q$9='CONDUIT LENGTH'!$L23,'CONDUIT LENGTH'!$K23,IF(AND(Q$9=RIGHT('CONDUIT LENGTH'!$L23,2),LEFT('CONDUIT LENGTH'!$L23,3)=\"2x3\")=TRUE,IF(LEFT('CONDUIT LENGTH'!$L23,2)=\"2x\",'CONDUIT LENGTH'!$K23*2,\"\"),\"\")),\"\"))","v":""},{"$f":"IF('CONDUIT LENGTH'!M23=\"UIP\",\"UIP EXISTING\",\"\")","v":""},{"$f":"IF('CABLE LENGTH'!A24>0,'CABLE LENGTH'!A24,\"\")","v":""},{"$f":"IF('CABLE LENGTH'!B24>0,'CABLE LENGTH'!B24,\"\")","v":""},{"$f":"IF('CABLE LENGTH'!Q24>0,'CABLE LENGTH'!Q24,\"\")","v":""},{"$f":"IF($S30=\"SOURCE\",IF(V$9='CABLE LENGTH'!$AK24,'CABLE LENGTH'!$AJ24*'CABLE LENGTH'!$AL24*-1,\"\"),IF(V$9=\"VIDEO\",IF(V$9='CABLE LENGTH'!$AK24,'CABLE LENGTH'!$AJ24*'CABLE LENGTH'!$AL24*-1,\"\"),IF(V$9='CABLE LENGTH'!$AK24,'CABLE LENGTH'!$AJ24*'CABLE LENGTH'!$AL24,\"\")))","v":""},{"$f":"IF($S30=\"SOURCE\",IF(W$9='CABLE LENGTH'!$AK24,'CABLE LENGTH'!$AJ24*'CABLE LENGTH'!$AL24*-1,\"\"),IF(W$9=\"VIDEO\",IF(W$9='CABLE LENGTH'!$AK24,'CABLE LENGTH'!$AJ24*'CABLE LENGTH'!$AL24*-1,\"\"),IF(W$9='CABLE LENGTH'!$AK24,'CABLE LENGTH'!$AJ24*'CABLE LENGTH'!$AL24,\"\")))","v":""},{"$f":"IF($S30=\"SOURCE\",IF(X$10='CABLE LENGTH'!$AK24,'CABLE LENGTH'!$AJ24*'CABLE LENGTH'!$AL24*-1,\"\"),IF(X$10=\"VIDEO\",IF(X$10='CABLE LENGTH'!$AK24,'CABLE LENGTH'!$AJ24*'CABLE LENGTH'!$AL24*-1,\"\"),IF(X$10='CABLE LENGTH'!$AK24,'CABLE LENGTH'!$AJ24*'CABLE LENGTH'!$AL24,\"\")))","v":""},{"$f":"IF($S30=\"SOURCE\",IF(Y$10='CABLE LENGTH'!$AK24,'CABLE LENGTH'!$AJ24*'CABLE LENGTH'!$AL24*-1,\"\"),IF(Y$10=\"VIDEO\",IF(Y$10='CABLE LENGTH'!$AK24,'CABLE LENGTH'!$AJ24*'CABLE LENGTH'!$AL24*-1,\"\"),IF(Y$10='CABLE LENGTH'!$AK24,'CABLE LENGTH'!$AJ24*'CABLE LENGTH'!$AL24,\"\")))","v":""},{"$f":"IF($S30=\"SOURCE\",IF(Z$10='CABLE LENGTH'!$AK24,'CABLE LENGTH'!$AJ24*'CABLE LENGTH'!$AL24*-1,\"\"),IF(Z$10=\"VIDEO\",IF(Z$10='CABLE LENGTH'!$AK24,'CABLE LENGTH'!$AJ24*'CABLE LENGTH'!$AL24*-1,\"\"),IF(Z$10='CABLE LENGTH'!$AK24,'CABLE LENGTH'!$AJ24*'CABLE LENGTH'!$AL24,\"\")))","v":""},{"$f":"IF($S30=\"SOURCE\",IF(AA$10='CABLE LENGTH'!$AK24,'CABLE LENGTH'!$AJ24*'CABLE LENGTH'!$AL24*-1,\"\"),IF(AA$10=\"VIDEO\",IF(AA$10='CABLE LENGTH'!$AK24,'CABLE LENGTH'!$AJ24*'CABLE LENGTH'!$AL24*-1,\"\"),IF(AA$10='CABLE LENGTH'!$AK24,'CABLE LENGTH'!$AJ24*'CABLE LENGTH'!$AL24,\"\")))","v":""},{"$f":"IF($S30=\"SOURCE\",IF(AB$10='CABLE LENGTH'!$AK24,'CABLE LENGTH'!$AJ24*'CABLE LENGTH'!$AL24*-1,\"\"),IF(AB$10=\"VIDEO\",IF(AB$10='CABLE LENGTH'!$AK24,'CABLE LENGTH'!$AJ24*'CABLE LENGTH'!$AL24*-1,\"\"),IF(AB$10='CABLE LENGTH'!$AK24,'CABLE LENGTH'!$AJ24*'CABLE LENGTH'!$AL24,\"\")))","v":""},{"$f":"IF($S30=\"SOURCE\",IF(AC$10='CABLE LENGTH'!$AK24,'CABLE LENGTH'!$AJ24*'CABLE LENGTH'!$AL24*-1,\"\"),IF(AC$10=\"VIDEO\",IF(AC$10='CABLE LENGTH'!$AK24,'CABLE LENGTH'!$AJ24*'CABLE LENGTH'!$AL24*-1,\"\"),IF(AC$10='CABLE LENGTH'!$AK24,'CABLE LENGTH'!$AJ24*'CABLE LENGTH'!$AL24,\"\")))","v":""},{"$f":"IF($S30=\"SOURCE\",IF(AD$9='CABLE LENGTH'!$AK24,'CABLE LENGTH'!$AJ24*'CABLE LENGTH'!$AL24*-1,\"\"),IF(AD$9=\"VIDEO\",IF(AD$9='CABLE LENGTH'!$AK24,'CABLE LENGTH'!$AJ24*'CABLE LENGTH'!$AL24*-1,\"\"),IF(AD$9='CABLE LENGTH'!$AK24,'CABLE LENGTH'!$AJ24*'CABLE LENGTH'!$AL24,\"\")))","v":""},{"$f":"IF($S30=\"SOURCE\",IF(AE$9='CABLE LENGTH'!$AK24,'CABLE LENGTH'!$AJ24*'CABLE LENGTH'!$AL24*-1,\"\"),IF(AE$9=\"VIDEO\",IF(AE$9='CABLE LENGTH'!$AK24,'CABLE LENGTH'!$AJ24*'CABLE LENGTH'!$AL24*-1,\"\"),IF(AE$9='CABLE LENGTH'!$AK24,'CABLE LENGTH'!$AJ24*'CABLE LENGTH'!$AL24,\"\")))","v":""},{"$f":"IF($S30=\"SOURCE\",IF(AF$9='CABLE LENGTH'!$AK24,'CABLE LENGTH'!$AJ24*'CABLE LENGTH'!$AL24*-1,\"\"),IF(AF$9=\"VIDEO\",IF(AF$9='CABLE LENGTH'!$AK24,'CABLE LENGTH'!$AJ24*'CABLE LENGTH'!$AL24*-1,\"\"),IF(AF$9='CABLE LENGTH'!$AK24,'CABLE LENGTH'!$AJ24*'CABLE LENGTH'!$AL24,\"\")))","v":""}]
[0.3,{"$f":"IF('CONDUIT LENGTH'!A24>0,'CONDUIT LENGTH'!A24,\" \")","v":" "},{"$f":"IF('CONDUIT LENGTH'!B24>0,'CONDUIT LENGTH'!B24,\" \")","v":" "},{"$f":"IF('CONDUIT LENGTH'!C24>0,'CONDUIT LENGTH'!C24,\" \")","v":" "},{"$f":"IF($B31=\"SOURCE\",IF(LEFT(E$5,1)='CONDUIT LENGTH'!$M24,IF(E$9='CONDUIT LENGTH'!$L24,'CONDUIT LENGTH'!$K24*-1,IF(AND(E$9=RIGHT('CONDUIT LENGTH'!$L24,2),LEFT('CONDUIT LENGTH'!$L24,3)=\"2x3\")=TRUE,IF(LEFT('CONDUIT LENGTH'!$L24,2)=\"2x\",'CONDUIT LENGTH'!$K24*-1*2,\"\"),\"\")),\"\"),IF(LEFT(E$5,1)='CONDUIT LENGTH'!$M24,IF(E$9='CONDUIT LENGTH'!$L24,'CONDUIT LENGTH'!$K24,IF(AND(E$9=RIGHT('CONDUIT LENGTH'!$L24,2),LEFT('CONDUIT LENGTH'!$L24,3)=\"2x3\")=TRUE,IF(LEFT('CONDUIT LENGTH'!$L24,2)=\"2x\",'CONDUIT LENGTH'!$K24*2,\"\"),\"\")),\"\"))","v":""},{"$f":"IF($B31=\"SOURCE\",IF(LEFT(G$6,1)='CONDUIT LENGTH'!$M24,IF(F$9='CONDUIT LENGTH'!$L24,'CONDUIT LENGTH'!$K24*-1,IF(AND(F$9=RIGHT('CONDUIT LENGTH'!$L24,2),LEFT('CONDUIT LENGTH'!$L24,3)=\"2x3\")=TRUE,IF(LEFT('CONDUIT LENGTH'!$L24,2)=\"2x\",'CONDUIT LENGTH'!$K24*-1*2,\"\"),\"\")),\"\"),IF(LEFT(G$6,1)='CONDUIT LENGTH'!$M24,IF(F$9='CONDUIT LENGTH'!$L24,'CONDUIT LENGTH'!$K24,IF(AND(F$9=RIGHT('CONDUIT LENGTH'!$L24,2),LEFT('CONDUIT LENGTH'!$L24,3)=\"2x3\")=TRUE,IF(LEFT('CONDUIT LENGTH'!$L24,2)=\"2x\",'CONDUIT LENGTH'!$K24*2,\"\"),\"\")),\"\"))","v":""},{"$f":"IF($B31=\"SOURCE\",IF(LEFT(G$6,1)='CONDUIT LENGTH'!$M24,IF(G$9='CONDUIT LENGTH'!$L24,'CONDUIT LENGTH'!$K24*-1,IF(AND(G$9=RIGHT('CONDUIT LENGTH'!$L24,2),LEFT('CONDUIT LENGTH'!$L24,3)=\"2x3\")=TRUE,IF(LEFT('CONDUIT LENGTH'!$L24,2)=\"2x\",'CONDUIT LENGTH'!$K24*-1*2,\"\"),\"\")),\"\"),IF(LEFT(G$6,1)='CONDUIT LENGTH'!$M24,IF(G$9='CONDUIT LENGTH'!$L24,'CONDUIT LENGTH'!$K24,IF(AND(G$9=RIGHT('CONDUIT LENGTH'!$L24,2),LEFT('CONDUIT LENGTH'!$L24,3)=\"2x3\")=TRUE,IF(LEFT('CONDUIT LENGTH'!$L24,2)=\"2x\",'CONDUIT LENGTH'!$K24*2,\"\"),\"\")),\"\"))","v":""},{"$f":"IF($B31=\"SOURCE\",IF(LEFT(G$6,1)='CONDUIT LENGTH'!$M24,IF(H$9='CONDUIT LENGTH'!$L24,'CONDUIT LENGTH'!$K24*-1,IF(AND(H$9=RIGHT('CONDUIT LENGTH'!$L24,2),LEFT('CONDUIT LENGTH'!$L24,3)=\"2x3\")=TRUE,IF(LEFT('CONDUIT LENGTH'!$L24,2)=\"2x\",'CONDUIT LENGTH'!$K24*-1*2,\"\"),\"\")),\"\"),IF(LEFT(G$6,1)='CONDUIT LENGTH'!$M24,IF(H$9='CONDUIT LENGTH'!$L24,'CONDUIT LENGTH'!$K24,IF(AND(H$9=RIGHT('CONDUIT LENGTH'!$L24,2),LEFT('CONDUIT LENGTH'!$L24,3)=\"2x3\")=TRUE,IF(LEFT('CONDUIT LENGTH'!$L24,2)=\"2x\",'CONDUIT LENGTH'!$K24*2,\"\"),\"\")),\"\"))","v":""},{"$f":"IF($B31=\"SOURCE\",IF(LEFT(J$6,1)='CONDUIT LENGTH'!$M24,IF(I$9='CONDUIT LENGTH'!$L24,'CONDUIT LENGTH'!$K24*-1,IF(AND(I$9=RIGHT('CONDUIT LENGTH'!$L24,2),LEFT('CONDUIT LENGTH'!$L24,3)=\"2x3\")=TRUE,IF(LEFT('CONDUIT LENGTH'!$L24,2)=\"2x\",'CONDUIT LENGTH'!$K24*-1*2,\"\"),\"\")),\"\"),IF(LEFT(J$6,1)='CONDUIT LENGTH'!$M24,IF(I$9='CONDUIT LENGTH'!$L24,'CONDUIT LENGTH'!$K24,IF(AND(I$9=RIGHT('CONDUIT LENGTH'!$L24,2),LEFT('CONDUIT LENGTH'!$L24,3)=\"2x3\")=TRUE,IF(LEFT('CONDUIT LENGTH'!$L24,2)=\"2x\",'CONDUIT LENGTH'!$K24*2,\"\"),\"\")),\"\"))","v":""},{"$f":"IF($B31=\"SOURCE\",IF(LEFT(J$6,1)='CONDUIT LENGTH'!$M24,IF(J$9='CONDUIT LENGTH'!$L24,'CONDUIT LENGTH'!$K24*-1,IF(AND(J$9=RIGHT('CONDUIT LENGTH'!$L24,2),LEFT('CONDUIT LENGTH'!$L24,3)=\"2x3\")=TRUE,IF(LEFT('CONDUIT LENGTH'!$L24,2)=\"2x\",'CONDUIT LENGTH'!$K24*-1*2,\"\"),\"\")),\"\"),IF(LEFT(J$6,1)='CONDUIT LENGTH'!$M24,IF(J$9='CONDUIT LENGTH'!$L24,'CONDUIT LENGTH'!$K24,IF(AND(J$9=RIGHT('CONDUIT LENGTH'!$L24,2),LEFT('CONDUIT LENGTH'!$L24,3)=\"2x3\")=TRUE,IF(LEFT('CONDUIT LENGTH'!$L24,2)=\"2x\",'CONDUIT LENGTH'!$K24*2,\"\"),\"\")),\"\"))","v":""},{"$f":"IF($B31=\"SOURCE\",IF(LEFT(J$6,1)='CONDUIT LENGTH'!$M24,IF(K$9='CONDUIT LENGTH'!$L24,'CONDUIT LENGTH'!$K24*-1,IF(AND(K$9=RIGHT('CONDUIT LENGTH'!$L24,2),LEFT('CONDUIT LENGTH'!$L24,3)=\"2x3\")=TRUE,IF(LEFT('CONDUIT LENGTH'!$L24,2)=\"2x\",'CONDUIT LENGTH'!$K24*-1*2,\"\"),\"\")),\"\"),IF(LEFT(J$6,1)='CONDUIT LENGTH'!$M24,IF(K$9='CONDUIT LENGTH'!$L24,'CONDUIT LENGTH'!$K24,IF(AND(K$9=RIGHT('CONDUIT LENGTH'!$L24,2),LEFT('CONDUIT LENGTH'!$L24,3)=\"2x3\")=TRUE,IF(LEFT('CONDUIT LENGTH'!$L24,2)=\"2x\",'CONDUIT LENGTH'!$K24*2,\"\"),\"\")),\"\"))","v":""},{"$f":"IF($B31=\"SOURCE\",IF(LEFT(M$6,1)='CONDUIT LENGTH'!$M24,IF(L$9='CONDUIT LENGTH'!$L24,'CONDUIT LENGTH'!$K24*-1,IF(AND(L$9=RIGHT('CONDUIT LENGTH'!$L24,2),LEFT('CONDUIT LENGTH'!$L24,3)=\"2x3\")=TRUE,IF(LEFT('CONDUIT LENGTH'!$L24,2)=\"2x\",'CONDUIT LENGTH'!$K24*-1*2,\"\"),\"\")),\"\"),IF(LEFT(M$6,1)='CONDUIT LENGTH'!$M24,IF(L$9='CONDUIT LENGTH'!$L24,'CONDUIT LENGTH'!$K24,IF(AND(L$9=RIGHT('CONDUIT LENGTH'!$L24,2),LEFT('CONDUIT LENGTH'!$L24,3)=\"2x3\")=TRUE,IF(LEFT('CONDUIT LENGTH'!$L24,2)=\"2x\",'CONDUIT LENGTH'!$K24*2,\"\"),\"\")),\"\"))","v":""},{"$f":"IF($B31=\"SOURCE\",IF(LEFT(M$6,1)='CONDUIT LENGTH'!$M24,IF(M$9='CONDUIT LENGTH'!$L24,'CONDUIT LENGTH'!$K24*-1,IF(AND(M$9=RIGHT('CONDUIT LENGTH'!$L24,2),LEFT('CONDUIT LENGTH'!$L24,3)=\"2x3\")=TRUE,IF(LEFT('CONDUIT LENGTH'!$L24,2)=\"2x\",'CONDUIT LENGTH'!$K24*-1*2,\"\"),\"\")),\"\"),IF(LEFT(M$6,1)='CONDUIT LENGTH'!$M24,IF(M$9='CONDUIT LENGTH'!$L24,'CONDUIT LENGTH'!$K24,IF(AND(M$9=RIGHT('CONDUIT LENGTH'!$L24,2),LEFT('CONDUIT LENGTH'!$L24,3)=\"2x3\")=TRUE,IF(LEFT('CONDUIT LENGTH'!$L24,2)=\"2x\",'CONDUIT LENGTH'!$K24*2,\"\"),\"\")),\"\"))","v":""},{"$f":"IF($B31=\"SOURCE\",IF(LEFT(M$6,1)='CONDUIT LENGTH'!$M24,IF(N$9='CONDUIT LENGTH'!$L24,'CONDUIT LENGTH'!$K24*-1,IF(AND(N$9=RIGHT('CONDUIT LENGTH'!$L24,2),LEFT('CONDUIT LENGTH'!$L24,3)=\"2x3\")=TRUE,IF(LEFT('CONDUIT LENGTH'!$L24,2)=\"2x\",'CONDUIT LENGTH'!$K24*-1*2,\"\"),\"\")),\"\"),IF(LEFT(M$6,1)='CONDUIT LENGTH'!$M24,IF(N$9='CONDUIT LENGTH'!$L24,'CONDUIT LENGTH'!$K24,IF(AND(N$9=RIGHT('CONDUIT LENGTH'!$L24,2),LEFT('CONDUIT LENGTH'!$L24,3)=\"2x3\")=TRUE,IF(LEFT('CONDUIT LENGTH'!$L24,2)=\"2x\",'CONDUIT LENGTH'!$K24*2,\"\"),\"\")),\"\"))","v":""},{"$f":"IF($B31=\"SOURCE\",IF(LEFT(P$5,1)='CONDUIT LENGTH'!$M24,IF(O$9='CONDUIT LENGTH'!$L24,'CONDUIT LENGTH'!$K24*-1,IF(AND(O$9=RIGHT('CONDUIT LENGTH'!$L24,2),LEFT('CONDUIT LENGTH'!$L24,3)=\"2x3\")=TRUE,IF(LEFT('CONDUIT LENGTH'!$L24,2)=\"2x\",'CONDUIT LENGTH'!$K24*-1*2,\"\"),\"\")),\"\"),IF(LEFT(P$6,1)='CONDUIT LENGTH'!$M24,IF(O$9='CONDUIT LENGTH'!$L24,'CONDUIT LENGTH'!$K24,IF(AND(O$9=RIGHT('CONDUIT LENGTH'!$L24,2),LEFT('CONDUIT LENGTH'!$L24,3)=\"2x3\")=TRUE,IF(LEFT('CONDUIT LENGTH'!$L24,2)=\"2x\",'CONDUIT LENGTH'!$K24*2,\"\"),\"\")),\"\"))","v":""},{"$f":"IF($B31=\"SOURCE\",IF(LEFT(P$5,1)='CONDUIT LENGTH'!$M24,IF(P$9='CONDUIT LENGTH'!$L24,'CONDUIT LENGTH'!$K24*-1,IF(AND(P$9=RIGHT('CONDUIT LENGTH'!$L24,2),LEFT('CONDUIT LENGTH'!$L24,3)=\"2x3\")=TRUE,IF(LEFT('CONDUIT LENGTH'!$L24,2)=\"2x\",'CONDUIT LENGTH'!$K24*-1*2,\"\"),\"\")),\"\"),IF(LEFT(P$6,1)='CONDUIT LENGTH'!$M24,IF(P$9='CONDUIT LENGTH'!$L24,'CONDUIT LENGTH'!$K24,IF(AND(P$9=RIGHT('CONDUIT LENGTH'!$L24,2),LEFT('CONDUIT LENGTH'!$L24,3)=\"2x3\")=TRUE,IF(LEFT('CONDUIT LENGTH'!$L24,2)=\"2x\",'CONDUIT LENGTH'!$K24*2,\"\"),\"\")),\"\"))","v":""},{"$f":"IF($B31=\"SOURCE\",IF(LEFT(P$5,1)='CONDUIT LENGTH'!$M24,IF(Q$9='CONDUIT LENGTH'!$L24,'CONDUIT LENGTH'!$K24*-1,IF(AND(Q$9=RIGHT('CONDUIT LENGTH'!$L24,2),LEFT('CONDUIT LENGTH'!$L24,3)=\"2x3\")=TRUE,IF(LEFT('CONDUIT LENGTH'!$L24,2)=\"2x\",'CONDUIT LENGTH'!$K24*-1*2,\"\"),\"\")),\"\"),IF(LEFT(Q$6,1)='CONDUIT LENGTH'!$M24,IF(Q$9='CONDUIT LENGTH'!$L24,'CONDUIT LENGTH'!$K24,IF(AND(Q$9=RIGHT('CONDUIT LENGTH'!$L24,2),LEFT('CONDUIT LENGTH'!$L24,3)=\"2x3\")=TRUE,IF(LEFT('CONDUIT LENGTH'!$L24,2)=\"2x\",'CONDUIT LENGTH'!$K24*2,\"\"),\"\")),\"\"))","v":""},{"$f":"IF('CONDUIT LENGTH'!M24=\"UIP\",\"UIP EXISTING\",\"\")","v":""},{"$f":"IF('CABLE LENGTH'!A25>0,'CABLE LENGTH'!A25,\"\")","v":""},{"$f":"IF('CABLE LENGTH'!B25>0,'CABLE LENGTH'!B25,\"\")","v":""},{"$f":"IF('CABLE LENGTH'!Q25>0,'CABLE LENGTH'!Q25,\"\")","v":""},{"$f":"IF($S31=\"SOURCE\",IF(V$9='CABLE LENGTH'!$AK25,'CABLE LENGTH'!$AJ25*'CABLE LENGTH'!$AL25*-1,\"\"),IF(V$9=\"VIDEO\",IF(V$9='CABLE LENGTH'!$AK25,'CABLE LENGTH'!$AJ25*'CABLE LENGTH'!$AL25*-1,\"\"),IF(V$9='CABLE LENGTH'!$AK25,'CABLE LENGTH'!$AJ25*'CABLE LENGTH'!$AL25,\"\")))","v":""},{"$f":"IF($S31=\"SOURCE\",IF(W$9='CABLE LENGTH'!$AK25,'CABLE LENGTH'!$AJ25*'CABLE LENGTH'!$AL25*-1,\"\"),IF(W$9=\"VIDEO\",IF(W$9='CABLE LENGTH'!$AK25,'CABLE LENGTH'!$AJ25*'CABLE LENGTH'!$AL25*-1,\"\"),IF(W$9='CABLE LENGTH'!$AK25,'CABLE LENGTH'!$AJ25*'CABLE LENGTH'!$AL25,\"\")))","v":""},{"$f":"IF($S31=\"SOURCE\",IF(X$10='CABLE LENGTH'!$AK25,'CABLE LENGTH'!$AJ25*'CABLE LENGTH'!$AL25*-1,\"\"),IF(X$10=\"VIDEO\",IF(X$10='CABLE LENGTH'!$AK25,'CABLE LENGTH'!$AJ25*'CABLE LENGTH'!$AL25*-1,\"\"),IF(X$10='CABLE LENGTH'!$AK25,'CABLE LENGTH'!$AJ25*'CABLE LENGTH'!$AL25,\"\")))","v":""},{"$f":"IF($S31=\"SOURCE\",IF(Y$10='CABLE LENGTH'!$AK25,'CABLE LENGTH'!$AJ25*'CABLE LENGTH'!$AL25*-1,\"\"),IF(Y$10=\"VIDEO\",IF(Y$10='CABLE LENGTH'!$AK25,'CABLE LENGTH'!$AJ25*'CABLE LENGTH'!$AL25*-1,\"\"),IF(Y$10='CABLE LENGTH'!$AK25,'CABLE LENGTH'!$AJ25*'CABLE LENGTH'!$AL25,\"\")))","v":""},{"$f":"IF($S31=\"SOURCE\",IF(Z$10='CABLE LENGTH'!$AK25,'CABLE LENGTH'!$AJ25*'CABLE LENGTH'!$AL25*-1,\"\"),IF(Z$10=\"VIDEO\",IF(Z$10='CABLE LENGTH'!$AK25,'CABLE LENGTH'!$AJ25*'CABLE LENGTH'!$AL25*-1,\"\"),IF(Z$10='CABLE LENGTH'!$AK25,'CABLE LENGTH'!$AJ25*'CABLE LENGTH'!$AL25,\"\")))","v":""},{"$f":"IF($S31=\"SOURCE\",IF(AA$10='CABLE LENGTH'!$AK25,'CABLE LENGTH'!$AJ25*'CABLE LENGTH'!$AL25*-1,\"\"),IF(AA$10=\"VIDEO\",IF(AA$10='CABLE LENGTH'!$AK25,'CABLE LENGTH'!$AJ25*'CABLE LENGTH'!$AL25*-1,\"\"),IF(AA$10='CABLE LENGTH'!$AK25,'CABLE LENGTH'!$AJ25*'CABLE LENGTH'!$AL25,\"\")))","v":""},{"$f":"IF($S31=\"SOURCE\",IF(AB$10='CABLE LENGTH'!$AK25,'CABLE LENGTH'!$AJ25*'CABLE LENGTH'!$AL25*-1,\"\"),IF(AB$10=\"VIDEO\",IF(AB$10='CABLE LENGTH'!$AK25,'CABLE LENGTH'!$AJ25*'CABLE LENGTH'!$AL25*-1,\"\"),IF(AB$10='CABLE LENGTH'!$AK25,'CABLE LENGTH'!$AJ25*'CABLE LENGTH'!$AL25,\"\")))","v":""},{"$f":"IF($S31=\"SOURCE\",IF(AC$10='CABLE LENGTH'!$AK25,'CABLE LENGTH'!$AJ25*'CABLE LENGTH'!$AL25*-1,\"\"),IF(AC$10=\"VIDEO\",IF(AC$10='CABLE LENGTH'!$AK25,'CABLE LENGTH'!$AJ25*'CABLE LENGTH'!$AL25*-1,\"\"),IF(AC$10='CABLE LENGTH'!$AK25,'CABLE LENGTH'!$AJ25*'CABLE LENGTH'!$AL25,\"\")))","v":""},{"$f":"IF($S31=\"SOURCE\",IF(AD$9='CABLE LENGTH'!$AK25,'CABLE LENGTH'!$AJ25*'CABLE LENGTH'!$AL25*-1,\"\"),IF(AD$9=\"VIDEO\",IF(AD$9='CABLE LENGTH'!$AK25,'CABLE LENGTH'!$AJ25*'CABLE LENGTH'!$AL25*-1,\"\"),IF(AD$9='CABLE LENGTH'!$AK25,'CABLE LENGTH'!$AJ25*'CABLE LENGTH'!$AL25,\"\")))","v":""},{"$f":"IF($S31=\"SOURCE\",IF(AE$9='CABLE LENGTH'!$AK25,'CABLE LENGTH'!$AJ25*'CABLE LENGTH'!$AL25*-1,\"\"),IF(AE$9=\"VIDEO\",IF(AE$9='CABLE LENGTH'!$AK25,'CABLE LENGTH'!$AJ25*'CABLE LENGTH'!$AL25*-1,\"\"),IF(AE$9='CABLE LENGTH'!$AK25,'CABLE LENGTH'!$AJ25*'CABLE LENGTH'!$AL25,\"\")))","v":""},{"$f":"IF($S31=\"SOURCE\",IF(AF$9='CABLE LENGTH'!$AK25,'CABLE LENGTH'!$AJ25*'CABLE LENGTH'!$AL25*-1,\"\"),IF(AF$9=\"VIDEO\",IF(AF$9='CABLE LENGTH'!$AK25,'CABLE LENGTH'!$AJ25*'CABLE LENGTH'!$AL25*-1,\"\"),IF(AF$9='CABLE LENGTH'!$AK25,'CABLE LENGTH'!$AJ25*'CABLE LENGTH'!$AL25,\"\")))","v":""}]
[0.3,{"$f":"IF('CONDUIT LENGTH'!A25>0,'CONDUIT LENGTH'!A25,\" \")","v":" "},{"$f":"IF('CONDUIT LENGTH'!B25>0,'CONDUIT LENGTH'!B25,\" \")","v":" "},{"$f":"IF('CONDUIT LENGTH'!C25>0,'CONDUIT LENGTH'!C25,\" \")","v":" "},{"$f":"IF($B32=\"SOURCE\",IF(LEFT(E$5,1)='CONDUIT LENGTH'!$M25,IF(E$9='CONDUIT LENGTH'!$L25,'CONDUIT LENGTH'!$K25*-1,IF(AND(E$9=RIGHT('CONDUIT LENGTH'!$L25,2),LEFT('CONDUIT LENGTH'!$L25,3)=\"2x3\")=TRUE,IF(LEFT('CONDUIT LENGTH'!$L25,2)=\"2x\",'CONDUIT LENGTH'!$K25*-1*2,\"\"),\"\")),\"\"),IF(LEFT(E$5,1)='CONDUIT LENGTH'!$M25,IF(E$9='CONDUIT LENGTH'!$L25,'CONDUIT LENGTH'!$K25,IF(AND(E$9=RIGHT('CONDUIT LENGTH'!$L25,2),LEFT('CONDUIT LENGTH'!$L25,3)=\"2x3\")=TRUE,IF(LEFT('CONDUIT LENGTH'!$L25,2)=\"2x\",'CONDUIT LENGTH'!$K25*2,\"\"),\"\")),\"\"))","v":""},{"$f":"IF($B32=\"SOURCE\",IF(LEFT(G$6,1)='CONDUIT LENGTH'!$M25,IF(F$9='CONDUIT LENGTH'!$L25,'CONDUIT LENGTH'!$K25*-1,IF(AND(F$9=RIGHT('CONDUIT LENGTH'!$L25,2),LEFT('CONDUIT LENGTH'!$L25,3)=\"2x3\")=TRUE,IF(LEFT('CONDUIT LENGTH'!$L25,2)=\"2x\",'CONDUIT LENGTH'!$K25*-1*2,\"\"),\"\")),\"\"),IF(LEFT(G$6,1)='CONDUIT LENGTH'!$M25,IF(F$9='CONDUIT LENGTH'!$L25,'CONDUIT LENGTH'!$K25,IF(AND(F$9=RIGHT('CONDUIT LENGTH'!$L25,2),LEFT('CONDUIT LENGTH'!$L25,3)=\"2x3\")=TRUE,IF(LEFT('CONDUIT LENGTH'!$L25,2)=\"2x\",'CONDUIT LENGTH'!$K25*2,\"\"),\"\")),\"\"))","v":""},{"$f":"IF($B32=\"SOURCE\",IF(LEFT(G$6,1)='CONDUIT LENGTH'!$M25,IF(G$9='CONDUIT LENGTH'!$L25,'CONDUIT LENGTH'!$K25*-1,IF(AND(G$9=RIGHT('CONDUIT LENGTH'!$L25,2),LEFT('CONDUIT LENGTH'!$L25,3)=\"2x3\")=TRUE,IF(LEFT('CONDUIT LENGTH'!$L25,2)=\"2x\",'CONDUIT LENGTH'!$K25*-1*2,\"\"),\"\")),\"\"),IF(LEFT(G$6,1)='CONDUIT LENGTH'!$M25,IF(G$9='CONDUIT LENGTH'!$L25,'CONDUIT LENGTH'!$K25,IF(AND(G$9=RIGHT('CONDUIT LENGTH'!$L25,2),LEFT('CONDUIT LENGTH'!$L25,3)=\"2x3\")=TRUE,IF(LEFT('CONDUIT LENGTH'!$L25,2)=\"2x\",'CONDUIT LENGTH'!$K25*2,\"\"),\"\")),\"\"))","v":""},{"$f":"IF($B32=\"SOURCE\",IF(LEFT(G$6,1)='CONDUIT LENGTH'!$M25,IF(H$9='CONDUIT LENGTH'!$L25,'CONDUIT LENGTH'!$K25*-1,IF(AND(H$9=RIGHT('CONDUIT LENGTH'!$L25,2),LEFT('CONDUIT LENGTH'!$L25,3)=\"2x3\")=TRUE,IF(LEFT('CONDUIT LENGTH'!$L25,2)=\"2x\",'CONDUIT LENGTH'!$K25*-1*2,\"\"),\"\")),\"\"),IF(LEFT(G$6,1)='CONDUIT LENGTH'!$M25,IF(H$9='CONDUIT LENGTH'!$L25,'CONDUIT LENGTH'!$K25,IF(AND(H$9=RIGHT('CONDUIT LENGTH'!$L25,2),LEFT('CONDUIT LENGTH'!$L25,3)=\"2x3\")=TRUE,IF(LEFT('CONDUIT LENGTH'!$L25,2)=\"2x\",'CONDUIT LENGTH'!$K25*2,\"\"),\"\")),\"\"))","v":""},{"$f":"IF($B32=\"SOURCE\",IF(LEFT(J$6,1)='CONDUIT LENGTH'!$M25,IF(I$9='CONDUIT LENGTH'!$L25,'CONDUIT LENGTH'!$K25*-1,IF(AND(I$9=RIGHT('CONDUIT LENGTH'!$L25,2),LEFT('CONDUIT LENGTH'!$L25,3)=\"2x3\")=TRUE,IF(LEFT('CONDUIT LENGTH'!$L25,2)=\"2x\",'CONDUIT LENGTH'!$K25*-1*2,\"\"),\"\")),\"\"),IF(LEFT(J$6,1)='CONDUIT LENGTH'!$M25,IF(I$9='CONDUIT LENGTH'!$L25,'CONDUIT LENGTH'!$K25,IF(AND(I$9=RIGHT('CONDUIT LENGTH'!$L25,2),LEFT('CONDUIT LENGTH'!$L25,3)=\"2x3\")=TRUE,IF(LEFT('CONDUIT LENGTH'!$L25,2)=\"2x\",'CONDUIT LENGTH'!$K25*2,\"\"),\"\")),\"\"))","v":""},{"$f":"IF($B32=\"SOURCE\",IF(LEFT(J$6,1)='CONDUIT LENGTH'!$M25,IF(J$9='CONDUIT LENGTH'!$L25,'CONDUIT LENGTH'!$K25*-1,IF(AND(J$9=RIGHT('CONDUIT LENGTH'!$L25,2),LEFT('CONDUIT LENGTH'!$L25,3)=\"2x3\")=TRUE,IF(LEFT('CONDUIT LENGTH'!$L25,2)=\"2x\",'CONDUIT LENGTH'!$K25*-1*2,\"\"),\"\")),\"\"),IF(LEFT(J$6,1)='CONDUIT LENGTH'!$M25,IF(J$9='CONDUIT LENGTH'!$L25,'CONDUIT LENGTH'!$K25,IF(AND(J$9=RIGHT('CONDUIT LENGTH'!$L25,2),LEFT('CONDUIT LENGTH'!$L25,3)=\"2x3\")=TRUE,IF(LEFT('CONDUIT LENGTH'!$L25,2)=\"2x\",'CONDUIT LENGTH'!$K25*2,\"\"),\"\")),\"\"))","v":""},{"$f":"IF($B32=\"SOURCE\",IF(LEFT(J$6,1)='CONDUIT LENGTH'!$M25,IF(K$9='CONDUIT LENGTH'!$L25,'CONDUIT LENGTH'!$K25*-1,IF(AND(K$9=RIGHT('CONDUIT LENGTH'!$L25,2),LEFT('CONDUIT LENGTH'!$L25,3)=\"2x3\")=TRUE,IF(LEFT('CONDUIT LENGTH'!$L25,2)=\"2x\",'CONDUIT LENGTH'!$K25*-1*2,\"\"),\"\")),\"\"),IF(LEFT(J$6,1)='CONDUIT LENGTH'!$M25,IF(K$9='CONDUIT LENGTH'!$L25,'CONDUIT LENGTH'!$K25,IF(AND(K$9=RIGHT('CONDUIT LENGTH'!$L25,2),LEFT('CONDUIT LENGTH'!$L25,3)=\"2x3\")=TRUE,IF(LEFT('CONDUIT LENGTH'!$L25,2)=\"2x\",'CONDUIT LENGTH'!$K25*2,\"\"),\"\")),\"\"))","v":""},{"$f":"IF($B32=\"SOURCE\",IF(LEFT(M$6,1)='CONDUIT LENGTH'!$M25,IF(L$9='CONDUIT LENGTH'!$L25,'CONDUIT LENGTH'!$K25*-1,IF(AND(L$9=RIGHT('CONDUIT LENGTH'!$L25,2),LEFT('CONDUIT LENGTH'!$L25,3)=\"2x3\")=TRUE,IF(LEFT('CONDUIT LENGTH'!$L25,2)=\"2x\",'CONDUIT LENGTH'!$K25*-1*2,\"\"),\"\")),\"\"),IF(LEFT(M$6,1)='CONDUIT LENGTH'!$M25,IF(L$9='CONDUIT LENGTH'!$L25,'CONDUIT LENGTH'!$K25,IF(AND(L$9=RIGHT('CONDUIT LENGTH'!$L25,2),LEFT('CONDUIT LENGTH'!$L25,3)=\"2x3\")=TRUE,IF(LEFT('CONDUIT LENGTH'!$L25,2)=\"2x\",'CONDUIT LENGTH'!$K25*2,\"\"),\"\")),\"\"))","v":""},{"$f":"IF($B32=\"SOURCE\",IF(LEFT(M$6,1)='CONDUIT LENGTH'!$M25,IF(M$9='CONDUIT LENGTH'!$L25,'CONDUIT LENGTH'!$K25*-1,IF(AND(M$9=RIGHT('CONDUIT LENGTH'!$L25,2),LEFT('CONDUIT LENGTH'!$L25,3)=\"2x3\")=TRUE,IF(LEFT('CONDUIT LENGTH'!$L25,2)=\"2x\",'CONDUIT LENGTH'!$K25*-1*2,\"\"),\"\")),\"\"),IF(LEFT(M$6,1)='CONDUIT LENGTH'!$M25,IF(M$9='CONDUIT LENGTH'!$L25,'CONDUIT LENGTH'!$K25,IF(AND(M$9=RIGHT('CONDUIT LENGTH'!$L25,2),LEFT('CONDUIT LENGTH'!$L25,3)=\"2x3\")=TRUE,IF(LEFT('CONDUIT LENGTH'!$L25,2)=\"2x\",'CONDUIT LENGTH'!$K25*2,\"\"),\"\")),\"\"))","v":""},{"$f":"IF($B32=\"SOURCE\",IF(LEFT(M$6,1)='CONDUIT LENGTH'!$M25,IF(N$9='CONDUIT LENGTH'!$L25,'CONDUIT LENGTH'!$K25*-1,IF(AND(N$9=RIGHT('CONDUIT LENGTH'!$L25,2),LEFT('CONDUIT LENGTH'!$L25,3)=\"2x3\")=TRUE,IF(LEFT('CONDUIT LENGTH'!$L25,2)=\"2x\",'CONDUIT LENGTH'!$K25*-1*2,\"\"),\"\")),\"\"),IF(LEFT(M$6,1)='CONDUIT LENGTH'!$M25,IF(N$9='CONDUIT LENGTH'!$L25,'CONDUIT LENGTH'!$K25,IF(AND(N$9=RIGHT('CONDUIT LENGTH'!$L25,2),LEFT('CONDUIT LENGTH'!$L25,3)=\"2x3\")=TRUE,IF(LEFT('CONDUIT LENGTH'!$L25,2)=\"2x\",'CONDUIT LENGTH'!$K25*2,\"\"),\"\")),\"\"))","v":""},{"$f":"IF($B32=\"SOURCE\",IF(LEFT(P$5,1)='CONDUIT LENGTH'!$M25,IF(O$9='CONDUIT LENGTH'!$L25,'CONDUIT LENGTH'!$K25*-1,IF(AND(O$9=RIGHT('CONDUIT LENGTH'!$L25,2),LEFT('CONDUIT LENGTH'!$L25,3)=\"2x3\")=TRUE,IF(LEFT('CONDUIT LENGTH'!$L25,2)=\"2x\",'CONDUIT LENGTH'!$K25*-1*2,\"\"),\"\")),\"\"),IF(LEFT(P$6,1)='CONDUIT LENGTH'!$M25,IF(O$9='CONDUIT LENGTH'!$L25,'CONDUIT LENGTH'!$K25,IF(AND(O$9=RIGHT('CONDUIT LENGTH'!$L25,2),LEFT('CONDUIT LENGTH'!$L25,3)=\"2x3\")=TRUE,IF(LEFT('CONDUIT LENGTH'!$L25,2)=\"2x\",'CONDUIT LENGTH'!$K25*2,\"\"),\"\")),\"\"))","v":""},{"$f":"IF($B32=\"SOURCE\",IF(LEFT(P$5,1)='CONDUIT LENGTH'!$M25,IF(P$9='CONDUIT LENGTH'!$L25,'CONDUIT LENGTH'!$K25*-1,IF(AND(P$9=RIGHT('CONDUIT LENGTH'!$L25,2),LEFT('CONDUIT LENGTH'!$L25,3)=\"2x3\")=TRUE,IF(LEFT('CONDUIT LENGTH'!$L25,2)=\"2x\",'CONDUIT LENGTH'!$K25*-1*2,\"\"),\"\")),\"\"),IF(LEFT(P$6,1)='CONDUIT LENGTH'!$M25,IF(P$9='CONDUIT LENGTH'!$L25,'CONDUIT LENGTH'!$K25,IF(AND(P$9=RIGHT('CONDUIT LENGTH'!$L25,2),LEFT('CONDUIT LENGTH'!$L25,3)=\"2x3\")=TRUE,IF(LEFT('CONDUIT LENGTH'!$L25,2)=\"2x\",'CONDUIT LENGTH'!$K25*2,\"\"),\"\")),\"\"))","v":""},{"$f":"IF($B32=\"SOURCE\",IF(LEFT(P$5,1)='CONDUIT LENGTH'!$M25,IF(Q$9='CONDUIT LENGTH'!$L25,'CONDUIT LENGTH'!$K25*-1,IF(AND(Q$9=RIGHT('CONDUIT LENGTH'!$L25,2),LEFT('CONDUIT LENGTH'!$L25,3)=\"2x3\")=TRUE,IF(LEFT('CONDUIT LENGTH'!$L25,2)=\"2x\",'CONDUIT LENGTH'!$K25*-1*2,\"\"),\"\")),\"\"),IF(LEFT(Q$6,1)='CONDUIT LENGTH'!$M25,IF(Q$9='CONDUIT LENGTH'!$L25,'CONDUIT LENGTH'!$K25,IF(AND(Q$9=RIGHT('CONDUIT LENGTH'!$L25,2),LEFT('CONDUIT LENGTH'!$L25,3)=\"2x3\")=TRUE,IF(LEFT('CONDUIT LENGTH'!$L25,2)=\"2x\",'CONDUIT LENGTH'!$K25*2,\"\"),\"\")),\"\"))","v":""},{"$f":"IF('CONDUIT LENGTH'!M25=\"UIP\",\"UIP EXISTING\",\"\")","v":""},{"$f":"IF('CABLE LENGTH'!A26>0,'CABLE LENGTH'!A26,\"\")","v":""},{"$f":"IF('CABLE LENGTH'!B26>0,'CABLE LENGTH'!B26,\"\")","v":""},{"$f":"IF('CABLE LENGTH'!Q26>0,'CABLE LENGTH'!Q26,\"\")","v":""},{"$f":"IF($S32=\"SOURCE\",IF(V$9='CABLE LENGTH'!$AK26,'CABLE LENGTH'!$AJ26*'CABLE LENGTH'!$AL26*-1,\"\"),IF(V$9=\"VIDEO\",IF(V$9='CABLE LENGTH'!$AK26,'CABLE LENGTH'!$AJ26*'CABLE LENGTH'!$AL26*-1,\"\"),IF(V$9='CABLE LENGTH'!$AK26,'CABLE LENGTH'!$AJ26*'CABLE LENGTH'!$AL26,\"\")))","v":""},{"$f":"IF($S32=\"SOURCE\",IF(W$9='CABLE LENGTH'!$AK26,'CABLE LENGTH'!$AJ26*'CABLE LENGTH'!$AL26*-1,\"\"),IF(W$9=\"VIDEO\",IF(W$9='CABLE LENGTH'!$AK26,'CABLE LENGTH'!$AJ26*'CABLE LENGTH'!$AL26*-1,\"\"),IF(W$9='CABLE LENGTH'!$AK26,'CABLE LENGTH'!$AJ26*'CABLE LENGTH'!$AL26,\"\")))","v":""},{"$f":"IF($S32=\"SOURCE\",IF(X$10='CABLE LENGTH'!$AK26,'CABLE LENGTH'!$AJ26*'CABLE LENGTH'!$AL26*-1,\"\"),IF(X$10=\"VIDEO\",IF(X$10='CABLE LENGTH'!$AK26,'CABLE LENGTH'!$AJ26*'CABLE LENGTH'!$AL26*-1,\"\"),IF(X$10='CABLE LENGTH'!$AK26,'CABLE LENGTH'!$AJ26*'CABLE LENGTH'!$AL26,\"\")))","v":""},{"$f":"IF($S32=\"SOURCE\",IF(Y$10='CABLE LENGTH'!$AK26,'CABLE LENGTH'!$AJ26*'CABLE LENGTH'!$AL26*-1,\"\"),IF(Y$10=\"VIDEO\",IF(Y$10='CABLE LENGTH'!$AK26,'CABLE LENGTH'!$AJ26*'CABLE LENGTH'!$AL26*-1,\"\"),IF(Y$10='CABLE LENGTH'!$AK26,'CABLE LENGTH'!$AJ26*'CABLE LENGTH'!$AL26,\"\")))","v":""},{"$f":"IF($S32=\"SOURCE\",IF(Z$10='CABLE LENGTH'!$AK26,'CABLE LENGTH'!$AJ26*'CABLE LENGTH'!$AL26*-1,\"\"),IF(Z$10=\"VIDEO\",IF(Z$10='CABLE LENGTH'!$AK26,'CABLE LENGTH'!$AJ26*'CABLE LENGTH'!$AL26*-1,\"\"),IF(Z$10='CABLE LENGTH'!$AK26,'CABLE LENGTH'!$AJ26*'CABLE LENGTH'!$AL26,\"\")))","v":""},{"$f":"IF($S32=\"SOURCE\",IF(AA$10='CABLE LENGTH'!$AK26,'CABLE LENGTH'!$AJ26*'CABLE LENGTH'!$AL26*-1,\"\"),IF(AA$10=\"VIDEO\",IF(AA$10='CABLE LENGTH'!$AK26,'CABLE LENGTH'!$AJ26*'CABLE LENGTH'!$AL26*-1,\"\"),IF(AA$10='CABLE LENGTH'!$AK26,'CABLE LENGTH'!$AJ26*'CABLE LENGTH'!$AL26,\"\")))","v":""},{"$f":"IF($S32=\"SOURCE\",IF(AB$10='CABLE LENGTH'!$AK26,'CABLE LENGTH'!$AJ26*'CABLE LENGTH'!$AL26*-1,\"\"),IF(AB$10=\"VIDEO\",IF(AB$10='CABLE LENGTH'!$AK26,'CABLE LENGTH'!$AJ26*'CABLE LENGTH'!$AL26*-1,\"\"),IF(AB$10='CABLE LENGTH'!$AK26,'CABLE LENGTH'!$AJ26*'CABLE LENGTH'!$AL26,\"\")))","v":""},{"$f":"IF($S32=\"SOURCE\",IF(AC$10='CABLE LENGTH'!$AK26,'CABLE LENGTH'!$AJ26*'CABLE LENGTH'!$AL26*-1,\"\"),IF(AC$10=\"VIDEO\",IF(AC$10='CABLE LENGTH'!$AK26,'CABLE LENGTH'!$AJ26*'CABLE LENGTH'!$AL26*-1,\"\"),IF(AC$10='CABLE LENGTH'!$AK26,'CABLE LENGTH'!$AJ26*'CABLE LENGTH'!$AL26,\"\")))","v":""},{"$f":"IF($S32=\"SOURCE\",IF(AD$9='CABLE LENGTH'!$AK26,'CABLE LENGTH'!$AJ26*'CABLE LENGTH'!$AL26*-1,\"\"),IF(AD$9=\"VIDEO\",IF(AD$9='CABLE LENGTH'!$AK26,'CABLE LENGTH'!$AJ26*'CABLE LENGTH'!$AL26*-1,\"\"),IF(AD$9='CABLE LENGTH'!$AK26,'CABLE LENGTH'!$AJ26*'CABLE LENGTH'!$AL26,\"\")))","v":""},{"$f":"IF($S32=\"SOURCE\",IF(AE$9='CABLE LENGTH'!$AK26,'CABLE LENGTH'!$AJ26*'CABLE LENGTH'!$AL26*-1,\"\"),IF(AE$9=\"VIDEO\",IF(AE$9='CABLE LENGTH'!$AK26,'CABLE LENGTH'!$AJ26*'CABLE LENGTH'!$AL26*-1,\"\"),IF(AE$9='CABLE LENGTH'!$AK26,'CABLE LENGTH'!$AJ26*'CABLE LENGTH'!$AL26,\"\")))","v":""},{"$f":"IF($S32=\"SOURCE\",IF(AF$9='CABLE LENGTH'!$AK26,'CABLE LENGTH'!$AJ26*'CABLE LENGTH'!$AL26*-1,\"\"),IF(AF$9=\"VIDEO\",IF(AF$9='CABLE LENGTH'!$AK26,'CABLE LENGTH'!$AJ26*'CABLE LENGTH'!$AL26*-1,\"\"),IF(AF$9='CABLE LENGTH'!$AK26,'CABLE LENGTH'!$AJ26*'CABLE LENGTH'!$AL26,\"\")))","v":""}]
[0.3,{"$f":"IF('CONDUIT LENGTH'!A26>0,'CONDUIT LENGTH'!A26,\" \")","v":" "},{"$f":"IF('CONDUIT LENGTH'!B26>0,'CONDUIT LENGTH'!B26,\" \")","v":" "},{"$f":"IF('CONDUIT LENGTH'!C26>0,'CONDUIT LENGTH'!C26,\" \")","v":" "},{"$f":"IF($B33=\"SOURCE\",IF(LEFT(E$5,1)='CONDUIT LENGTH'!$M26,IF(E$9='CONDUIT LENGTH'!$L26,'CONDUIT LENGTH'!$K26*-1,IF(AND(E$9=RIGHT('CONDUIT LENGTH'!$L26,2),LEFT('CONDUIT LENGTH'!$L26,3)=\"2x3\")=TRUE,IF(LEFT('CONDUIT LENGTH'!$L26,2)=\"2x\",'CONDUIT LENGTH'!$K26*-1*2,\"\"),\"\")),\"\"),IF(LEFT(E$5,1)='CONDUIT LENGTH'!$M26,IF(E$9='CONDUIT LENGTH'!$L26,'CONDUIT LENGTH'!$K26,IF(AND(E$9=RIGHT('CONDUIT LENGTH'!$L26,2),LEFT('CONDUIT LENGTH'!$L26,3)=\"2x3\")=TRUE,IF(LEFT('CONDUIT LENGTH'!$L26,2)=\"2x\",'CONDUIT LENGTH'!$K26*2,\"\"),\"\")),\"\"))","v":""},{"$f":"IF($B33=\"SOURCE\",IF(LEFT(G$6,1)='CONDUIT LENGTH'!$M26,IF(F$9='CONDUIT LENGTH'!$L26,'CONDUIT LENGTH'!$K26*-1,IF(AND(F$9=RIGHT('CONDUIT LENGTH'!$L26,2),LEFT('CONDUIT LENGTH'!$L26,3)=\"2x3\")=TRUE,IF(LEFT('CONDUIT LENGTH'!$L26,2)=\"2x\",'CONDUIT LENGTH'!$K26*-1*2,\"\"),\"\")),\"\"),IF(LEFT(G$6,1)='CONDUIT LENGTH'!$M26,IF(F$9='CONDUIT LENGTH'!$L26,'CONDUIT LENGTH'!$K26,IF(AND(F$9=RIGHT('CONDUIT LENGTH'!$L26,2),LEFT('CONDUIT LENGTH'!$L26,3)=\"2x3\")=TRUE,IF(LEFT('CONDUIT LENGTH'!$L26,2)=\"2x\",'CONDUIT LENGTH'!$K26*2,\"\"),\"\")),\"\"))","v":""},{"$f":"IF($B33=\"SOURCE\",IF(LEFT(G$6,1)='CONDUIT LENGTH'!$M26,IF(G$9='CONDUIT LENGTH'!$L26,'CONDUIT LENGTH'!$K26*-1,IF(AND(G$9=RIGHT('CONDUIT LENGTH'!$L26,2),LEFT('CONDUIT LENGTH'!$L26,3)=\"2x3\")=TRUE,IF(LEFT('CONDUIT LENGTH'!$L26,2)=\"2x\",'CONDUIT LENGTH'!$K26*-1*2,\"\"),\"\")),\"\"),IF(LEFT(G$6,1)='CONDUIT LENGTH'!$M26,IF(G$9='CONDUIT LENGTH'!$L26,'CONDUIT LENGTH'!$K26,IF(AND(G$9=RIGHT('CONDUIT LENGTH'!$L26,2),LEFT('CONDUIT LENGTH'!$L26,3)=\"2x3\")=TRUE,IF(LEFT('CONDUIT LENGTH'!$L26,2)=\"2x\",'CONDUIT LENGTH'!$K26*2,\"\"),\"\")),\"\"))","v":""},{"$f":"IF($B33=\"SOURCE\",IF(LEFT(G$6,1)='CONDUIT LENGTH'!$M26,IF(H$9='CONDUIT LENGTH'!$L26,'CONDUIT LENGTH'!$K26*-1,IF(AND(H$9=RIGHT('CONDUIT LENGTH'!$L26,2),LEFT('CONDUIT LENGTH'!$L26,3)=\"2x3\")=TRUE,IF(LEFT('CONDUIT LENGTH'!$L26,2)=\"2x\",'CONDUIT LENGTH'!$K26*-1*2,\"\"),\"\")),\"\"),IF(LEFT(G$6,1)='CONDUIT LENGTH'!$M26,IF(H$9='CONDUIT LENGTH'!$L26,'CONDUIT LENGTH'!$K26,IF(AND(H$9=RIGHT('CONDUIT LENGTH'!$L26,2),LEFT('CONDUIT LENGTH'!$L26,3)=\"2x3\")=TRUE,IF(LEFT('CONDUIT LENGTH'!$L26,2)=\"2x\",'CONDUIT LENGTH'!$K26*2,\"\"),\"\")),\"\"))","v":""},{"$f":"IF($B33=\"SOURCE\",IF(LEFT(J$6,1)='CONDUIT LENGTH'!$M26,IF(I$9='CONDUIT LENGTH'!$L26,'CONDUIT LENGTH'!$K26*-1,IF(AND(I$9=RIGHT('CONDUIT LENGTH'!$L26,2),LEFT('CONDUIT LENGTH'!$L26,3)=\"2x3\")=TRUE,IF(LEFT('CONDUIT LENGTH'!$L26,2)=\"2x\",'CONDUIT LENGTH'!$K26*-1*2,\"\"),\"\")),\"\"),IF(LEFT(J$6,1)='CONDUIT LENGTH'!$M26,IF(I$9='CONDUIT LENGTH'!$L26,'CONDUIT LENGTH'!$K26,IF(AND(I$9=RIGHT('CONDUIT LENGTH'!$L26,2),LEFT('CONDUIT LENGTH'!$L26,3)=\"2x3\")=TRUE,IF(LEFT('CONDUIT LENGTH'!$L26,2)=\"2x\",'CONDUIT LENGTH'!$K26*2,\"\"),\"\")),\"\"))","v":""},{"$f":"IF($B33=\"SOURCE\",IF(LEFT(J$6,1)='CONDUIT LENGTH'!$M26,IF(J$9='CONDUIT LENGTH'!$L26,'CONDUIT LENGTH'!$K26*-1,IF(AND(J$9=RIGHT('CONDUIT LENGTH'!$L26,2),LEFT('CONDUIT LENGTH'!$L26,3)=\"2x3\")=TRUE,IF(LEFT('CONDUIT LENGTH'!$L26,2)=\"2x\",'CONDUIT LENGTH'!$K26*-1*2,\"\"),\"\")),\"\"),IF(LEFT(J$6,1)='CONDUIT LENGTH'!$M26,IF(J$9='CONDUIT LENGTH'!$L26,'CONDUIT LENGTH'!$K26,IF(AND(J$9=RIGHT('CONDUIT LENGTH'!$L26,2),LEFT('CONDUIT LENGTH'!$L26,3)=\"2x3\")=TRUE,IF(LEFT('CONDUIT LENGTH'!$L26,2)=\"2x\",'CONDUIT LENGTH'!$K26*2,\"\"),\"\")),\"\"))","v":""},{"$f":"IF($B33=\"SOURCE\",IF(LEFT(J$6,1)='CONDUIT LENGTH'!$M26,IF(K$9='CONDUIT LENGTH'!$L26,'CONDUIT LENGTH'!$K26*-1,IF(AND(K$9=RIGHT('CONDUIT LENGTH'!$L26,2),LEFT('CONDUIT LENGTH'!$L26,3)=\"2x3\")=TRUE,IF(LEFT('CONDUIT LENGTH'!$L26,2)=\"2x\",'CONDUIT LENGTH'!$K26*-1*2,\"\"),\"\")),\"\"),IF(LEFT(J$6,1)='CONDUIT LENGTH'!$M26,IF(K$9='CONDUIT LENGTH'!$L26,'CONDUIT LENGTH'!$K26,IF(AND(K$9=RIGHT('CONDUIT LENGTH'!$L26,2),LEFT('CONDUIT LENGTH'!$L26,3)=\"2x3\")=TRUE,IF(LEFT('CONDUIT LENGTH'!$L26,2)=\"2x\",'CONDUIT LENGTH'!$K26*2,\"\"),\"\")),\"\"))","v":""},{"$f":"IF($B33=\"SOURCE\",IF(LEFT(M$6,1)='CONDUIT LENGTH'!$M26,IF(L$9='CONDUIT LENGTH'!$L26,'CONDUIT LENGTH'!$K26*-1,IF(AND(L$9=RIGHT('CONDUIT LENGTH'!$L26,2),LEFT('CONDUIT LENGTH'!$L26,3)=\"2x3\")=TRUE,IF(LEFT('CONDUIT LENGTH'!$L26,2)=\"2x\",'CONDUIT LENGTH'!$K26*-1*2,\"\"),\"\")),\"\"),IF(LEFT(M$6,1)='CONDUIT LENGTH'!$M26,IF(L$9='CONDUIT LENGTH'!$L26,'CONDUIT LENGTH'!$K26,IF(AND(L$9=RIGHT('CONDUIT LENGTH'!$L26,2),LEFT('CONDUIT LENGTH'!$L26,3)=\"2x3\")=TRUE,IF(LEFT('CONDUIT LENGTH'!$L26,2)=\"2x\",'CONDUIT LENGTH'!$K26*2,\"\"),\"\")),\"\"))","v":""},{"$f":"IF($B33=\"SOURCE\",IF(LEFT(M$6,1)='CONDUIT LENGTH'!$M26,IF(M$9='CONDUIT LENGTH'!$L26,'CONDUIT LENGTH'!$K26*-1,IF(AND(M$9=RIGHT('CONDUIT LENGTH'!$L26,2),LEFT('CONDUIT LENGTH'!$L26,3)=\"2x3\")=TRUE,IF(LEFT('CONDUIT LENGTH'!$L26,2)=\"2x\",'CONDUIT LENGTH'!$K26*-1*2,\"\"),\"\")),\"\"),IF(LEFT(M$6,1)='CONDUIT LENGTH'!$M26,IF(M$9='CONDUIT LENGTH'!$L26,'CONDUIT LENGTH'!$K26,IF(AND(M$9=RIGHT('CONDUIT LENGTH'!$L26,2),LEFT('CONDUIT LENGTH'!$L26,3)=\"2x3\")=TRUE,IF(LEFT('CONDUIT LENGTH'!$L26,2)=\"2x\",'CONDUIT LENGTH'!$K26*2,\"\"),\"\")),\"\"))","v":""},{"$f":"IF($B33=\"SOURCE\",IF(LEFT(M$6,1)='CONDUIT LENGTH'!$M26,IF(N$9='CONDUIT LENGTH'!$L26,'CONDUIT LENGTH'!$K26*-1,IF(AND(N$9=RIGHT('CONDUIT LENGTH'!$L26,2),LEFT('CONDUIT LENGTH'!$L26,3)=\"2x3\")=TRUE,IF(LEFT('CONDUIT LENGTH'!$L26,2)=\"2x\",'CONDUIT LENGTH'!$K26*-1*2,\"\"),\"\")),\"\"),IF(LEFT(M$6,1)='CONDUIT LENGTH'!$M26,IF(N$9='CONDUIT LENGTH'!$L26,'CONDUIT LENGTH'!$K26,IF(AND(N$9=RIGHT('CONDUIT LENGTH'!$L26,2),LEFT('CONDUIT LENGTH'!$L26,3)=\"2x3\")=TRUE,IF(LEFT('CONDUIT LENGTH'!$L26,2)=\"2x\",'CONDUIT LENGTH'!$K26*2,\"\"),\"\")),\"\"))","v":""},{"$f":"IF($B33=\"SOURCE\",IF(LEFT(P$5,1)='CONDUIT LENGTH'!$M26,IF(O$9='CONDUIT LENGTH'!$L26,'CONDUIT LENGTH'!$K26*-1,IF(AND(O$9=RIGHT('CONDUIT LENGTH'!$L26,2),LEFT('CONDUIT LENGTH'!$L26,3)=\"2x3\")=TRUE,IF(LEFT('CONDUIT LENGTH'!$L26,2)=\"2x\",'CONDUIT LENGTH'!$K26*-1*2,\"\"),\"\")),\"\"),IF(LEFT(P$6,1)='CONDUIT LENGTH'!$M26,IF(O$9='CONDUIT LENGTH'!$L26,'CONDUIT LENGTH'!$K26,IF(AND(O$9=RIGHT('CONDUIT LENGTH'!$L26,2),LEFT('CONDUIT LENGTH'!$L26,3)=\"2x3\")=TRUE,IF(LEFT('CONDUIT LENGTH'!$L26,2)=\"2x\",'CONDUIT LENGTH'!$K26*2,\"\"),\"\")),\"\"))","v":""},{"$f":"IF($B33=\"SOURCE\",IF(LEFT(P$5,1)='CONDUIT LENGTH'!$M26,IF(P$9='CONDUIT LENGTH'!$L26,'CONDUIT LENGTH'!$K26*-1,IF(AND(P$9=RIGHT('CONDUIT LENGTH'!$L26,2),LEFT('CONDUIT LENGTH'!$L26,3)=\"2x3\")=TRUE,IF(LEFT('CONDUIT LENGTH'!$L26,2)=\"2x\",'CONDUIT LENGTH'!$K26*-1*2,\"\"),\"\")),\"\"),IF(LEFT(P$6,1)='CONDUIT LENGTH'!$M26,IF(P$9='CONDUIT LENGTH'!$L26,'CONDUIT LENGTH'!$K26,IF(AND(P$9=RIGHT('CONDUIT LENGTH'!$L26,2),LEFT('CONDUIT LENGTH'!$L26,3)=\"2x3\")=TRUE,IF(LEFT('CONDUIT LENGTH'!$L26,2)=\"2x\",'CONDUIT LENGTH'!$K26*2,\"\"),\"\")),\"\"))","v":""},{"$f":"IF($B33=\"SOURCE\",IF(LEFT(P$5,1)='CONDUIT LENGTH'!$M26,IF(Q$9='CONDUIT LENGTH'!$L26,'CONDUIT LENGTH'!$K26*-1,IF(AND(Q$9=RIGHT('CONDUIT LENGTH'!$L26,2),LEFT('CONDUIT LENGTH'!$L26,3)=\"2x3\")=TRUE,IF(LEFT('CONDUIT LENGTH'!$L26,2)=\"2x\",'CONDUIT LENGTH'!$K26*-1*2,\"\"),\"\")),\"\"),IF(LEFT(Q$6,1)='CONDUIT LENGTH'!$M26,IF(Q$9='CONDUIT LENGTH'!$L26,'CONDUIT LENGTH'!$K26,IF(AND(Q$9=RIGHT('CONDUIT LENGTH'!$L26,2),LEFT('CONDUIT LENGTH'!$L26,3)=\"2x3\")=TRUE,IF(LEFT('CONDUIT LENGTH'!$L26,2)=\"2x\",'CONDUIT LENGTH'!$K26*2,\"\"),\"\")),\"\"))","v":""},{"$f":"IF('CONDUIT LENGTH'!M26=\"UIP\",\"UIP EXISTING\",\"\")","v":""},{"$f":"IF('CABLE LENGTH'!A27>0,'CABLE LENGTH'!A27,\"\")","v":""},{"$f":"IF('CABLE LENGTH'!B27>0,'CABLE LENGTH'!B27,\"\")","v":""},{"$f":"IF('CABLE LENGTH'!Q27>0,'CABLE LENGTH'!Q27,\"\")","v":""},{"$f":"IF($S33=\"SOURCE\",IF(V$9='CABLE LENGTH'!$AK27,'CABLE LENGTH'!$AJ27*'CABLE LENGTH'!$AL27*-1,\"\"),IF(V$9=\"VIDEO\",IF(V$9='CABLE LENGTH'!$AK27,'CABLE LENGTH'!$AJ27*'CABLE LENGTH'!$AL27*-1,\"\"),IF(V$9='CABLE LENGTH'!$AK27,'CABLE LENGTH'!$AJ27*'CABLE LENGTH'!$AL27,\"\")))","v":""},{"$f":"IF($S33=\"SOURCE\",IF(W$9='CABLE LENGTH'!$AK27,'CABLE LENGTH'!$AJ27*'CABLE LENGTH'!$AL27*-1,\"\"),IF(W$9=\"VIDEO\",IF(W$9='CABLE LENGTH'!$AK27,'CABLE LENGTH'!$AJ27*'CABLE LENGTH'!$AL27*-1,\"\"),IF(W$9='CABLE LENGTH'!$AK27,'CABLE LENGTH'!$AJ27*'CABLE LENGTH'!$AL27,\"\")))","v":""},{"$f":"IF($S33=\"SOURCE\",IF(X$10='CABLE LENGTH'!$AK27,'CABLE LENGTH'!$AJ27*'CABLE LENGTH'!$AL27*-1,\"\"),IF(X$10=\"VIDEO\",IF(X$10='CABLE LENGTH'!$AK27,'CABLE LENGTH'!$AJ27*'CABLE LENGTH'!$AL27*-1,\"\"),IF(X$10='CABLE LENGTH'!$AK27,'CABLE LENGTH'!$AJ27*'CABLE LENGTH'!$AL27,\"\")))","v":""},{"$f":"IF($S33=\"SOURCE\",IF(Y$10='CABLE LENGTH'!$AK27,'CABLE LENGTH'!$AJ27*'CABLE LENGTH'!$AL27*-1,\"\"),IF(Y$10=\"VIDEO\",IF(Y$10='CABLE LENGTH'!$AK27,'CABLE LENGTH'!$AJ27*'CABLE LENGTH'!$AL27*-1,\"\"),IF(Y$10='CABLE LENGTH'!$AK27,'CABLE LENGTH'!$AJ27*'CABLE LENGTH'!$AL27,\"\")))","v":""},{"$f":"IF($S33=\"SOURCE\",IF(Z$10='CABLE LENGTH'!$AK27,'CABLE LENGTH'!$AJ27*'CABLE LENGTH'!$AL27*-1,\"\"),IF(Z$10=\"VIDEO\",IF(Z$10='CABLE LENGTH'!$AK27,'CABLE LENGTH'!$AJ27*'CABLE LENGTH'!$AL27*-1,\"\"),IF(Z$10='CABLE LENGTH'!$AK27,'CABLE LENGTH'!$AJ27*'CABLE LENGTH'!$AL27,\"\")))","v":""},{"$f":"IF($S33=\"SOURCE\",IF(AA$10='CABLE LENGTH'!$AK27,'CABLE LENGTH'!$AJ27*'CABLE LENGTH'!$AL27*-1,\"\"),IF(AA$10=\"VIDEO\",IF(AA$10='CABLE LENGTH'!$AK27,'CABLE LENGTH'!$AJ27*'CABLE LENGTH'!$AL27*-1,\"\"),IF(AA$10='CABLE LENGTH'!$AK27,'CABLE LENGTH'!$AJ27*'CABLE LENGTH'!$AL27,\"\")))","v":""},{"$f":"IF($S33=\"SOURCE\",IF(AB$10='CABLE LENGTH'!$AK27,'CABLE LENGTH'!$AJ27*'CABLE LENGTH'!$AL27*-1,\"\"),IF(AB$10=\"VIDEO\",IF(AB$10='CABLE LENGTH'!$AK27,'CABLE LENGTH'!$AJ27*'CABLE LENGTH'!$AL27*-1,\"\"),IF(AB$10='CABLE LENGTH'!$AK27,'CABLE LENGTH'!$AJ27*'CABLE LENGTH'!$AL27,\"\")))","v":""},{"$f":"IF($S33=\"SOURCE\",IF(AC$10='CABLE LENGTH'!$AK27,'CABLE LENGTH'!$AJ27*'CABLE LENGTH'!$AL27*-1,\"\"),IF(AC$10=\"VIDEO\",IF(AC$10='CABLE LENGTH'!$AK27,'CABLE LENGTH'!$AJ27*'CABLE LENGTH'!$AL27*-1,\"\"),IF(AC$10='CABLE LENGTH'!$AK27,'CABLE LENGTH'!$AJ27*'CABLE LENGTH'!$AL27,\"\")))","v":""},{"$f":"IF($S33=\"SOURCE\",IF(AD$9='CABLE LENGTH'!$AK27,'CABLE LENGTH'!$AJ27*'CABLE LENGTH'!$AL27*-1,\"\"),IF(AD$9=\"VIDEO\",IF(AD$9='CABLE LENGTH'!$AK27,'CABLE LENGTH'!$AJ27*'CABLE LENGTH'!$AL27*-1,\"\"),IF(AD$9='CABLE LENGTH'!$AK27,'CABLE LENGTH'!$AJ27*'CABLE LENGTH'!$AL27,\"\")))","v":""},{"$f":"IF($S33=\"SOURCE\",IF(AE$9='CABLE LENGTH'!$AK27,'CABLE LENGTH'!$AJ27*'CABLE LENGTH'!$AL27*-1,\"\"),IF(AE$9=\"VIDEO\",IF(AE$9='CABLE LENGTH'!$AK27,'CABLE LENGTH'!$AJ27*'CABLE LENGTH'!$AL27*-1,\"\"),IF(AE$9='CABLE LENGTH'!$AK27,'CABLE LENGTH'!$AJ27*'CABLE LENGTH'!$AL27,\"\")))","v":""},{"$f":"IF($S33=\"SOURCE\",IF(AF$9='CABLE LENGTH'!$AK27,'CABLE LENGTH'!$AJ27*'CABLE LENGTH'!$AL27*-1,\"\"),IF(AF$9=\"VIDEO\",IF(AF$9='CABLE LENGTH'!$AK27,'CABLE LENGTH'!$AJ27*'CABLE LENGTH'!$AL27*-1,\"\"),IF(AF$9='CABLE LENGTH'!$AK27,'CABLE LENGTH'!$AJ27*'CABLE LENGTH'!$AL27,\"\")))","v":""}]
[0.3,{"$f":"IF('CONDUIT LENGTH'!A27>0,'CONDUIT LENGTH'!A27,\" \")","v":" "},{"$f":"IF('CONDUIT LENGTH'!B27>0,'CONDUIT LENGTH'!B27,\" \")","v":" "},{"$f":"IF('CONDUIT LENGTH'!C27>0,'CONDUIT LENGTH'!C27,\" \")","v":" "},{"$f":"IF($B34=\"SOURCE\",IF(LEFT(E$5,1)='CONDUIT LENGTH'!$M27,IF(E$9='CONDUIT LENGTH'!$L27,'CONDUIT LENGTH'!$K27*-1,IF(AND(E$9=RIGHT('CONDUIT LENGTH'!$L27,2),LEFT('CONDUIT LENGTH'!$L27,3)=\"2x3\")=TRUE,IF(LEFT('CONDUIT LENGTH'!$L27,2)=\"2x\",'CONDUIT LENGTH'!$K27*-1*2,\"\"),\"\")),\"\"),IF(LEFT(E$5,1)='CONDUIT LENGTH'!$M27,IF(E$9='CONDUIT LENGTH'!$L27,'CONDUIT LENGTH'!$K27,IF(AND(E$9=RIGHT('CONDUIT LENGTH'!$L27,2),LEFT('CONDUIT LENGTH'!$L27,3)=\"2x3\")=TRUE,IF(LEFT('CONDUIT LENGTH'!$L27,2)=\"2x\",'CONDUIT LENGTH'!$K27*2,\"\"),\"\")),\"\"))","v":""},{"$f":"IF($B34=\"SOURCE\",IF(LEFT(G$6,1)='CONDUIT LENGTH'!$M27,IF(F$9='CONDUIT LENGTH'!$L27,'CONDUIT LENGTH'!$K27*-1,IF(AND(F$9=RIGHT('CONDUIT LENGTH'!$L27,2),LEFT('CONDUIT LENGTH'!$L27,3)=\"2x3\")=TRUE,IF(LEFT('CONDUIT LENGTH'!$L27,2)=\"2x\",'CONDUIT LENGTH'!$K27*-1*2,\"\"),\"\")),\"\"),IF(LEFT(G$6,1)='CONDUIT LENGTH'!$M27,IF(F$9='CONDUIT LENGTH'!$L27,'CONDUIT LENGTH'!$K27,IF(AND(F$9=RIGHT('CONDUIT LENGTH'!$L27,2),LEFT('CONDUIT LENGTH'!$L27,3)=\"2x3\")=TRUE,IF(LEFT('CONDUIT LENGTH'!$L27,2)=\"2x\",'CONDUIT LENGTH'!$K27*2,\"\"),\"\")),\"\"))","v":""},{"$f":"IF($B34=\"SOURCE\",IF(LEFT(G$6,1)='CONDUIT LENGTH'!$M27,IF(G$9='CONDUIT LENGTH'!$L27,'CONDUIT LENGTH'!$K27*-1,IF(AND(G$9=RIGHT('CONDUIT LENGTH'!$L27,2),LEFT('CONDUIT LENGTH'!$L27,3)=\"2x3\")=TRUE,IF(LEFT('CONDUIT LENGTH'!$L27,2)=\"2x\",'CONDUIT LENGTH'!$K27*-1*2,\"\"),\"\")),\"\"),IF(LEFT(G$6,1)='CONDUIT LENGTH'!$M27,IF(G$9='CONDUIT LENGTH'!$L27,'CONDUIT LENGTH'!$K27,IF(AND(G$9=RIGHT('CONDUIT LENGTH'!$L27,2),LEFT('CONDUIT LENGTH'!$L27,3)=\"2x3\")=TRUE,IF(LEFT('CONDUIT LENGTH'!$L27,2)=\"2x\",'CONDUIT LENGTH'!$K27*2,\"\"),\"\")),\"\"))","v":""},{"$f":"IF($B34=\"SOURCE\",IF(LEFT(G$6,1)='CONDUIT LENGTH'!$M27,IF(H$9='CONDUIT LENGTH'!$L27,'CONDUIT LENGTH'!$K27*-1,IF(AND(H$9=RIGHT('CONDUIT LENGTH'!$L27,2),LEFT('CONDUIT LENGTH'!$L27,3)=\"2x3\")=TRUE,IF(LEFT('CONDUIT LENGTH'!$L27,2)=\"2x\",'CONDUIT LENGTH'!$K27*-1*2,\"\"),\"\")),\"\"),IF(LEFT(G$6,1)='CONDUIT LENGTH'!$M27,IF(H$9='CONDUIT LENGTH'!$L27,'CONDUIT LENGTH'!$K27,IF(AND(H$9=RIGHT('CONDUIT LENGTH'!$L27,2),LEFT('CONDUIT LENGTH'!$L27,3)=\"2x3\")=TRUE,IF(LEFT('CONDUIT LENGTH'!$L27,2)=\"2x\",'CONDUIT LENGTH'!$K27*2,\"\"),\"\")),\"\"))","v":""},{"$f":"IF($B34=\"SOURCE\",IF(LEFT(J$6,1)='CONDUIT LENGTH'!$M27,IF(I$9='CONDUIT LENGTH'!$L27,'CONDUIT LENGTH'!$K27*-1,IF(AND(I$9=RIGHT('CONDUIT LENGTH'!$L27,2),LEFT('CONDUIT LENGTH'!$L27,3)=\"2x3\")=TRUE,IF(LEFT('CONDUIT LENGTH'!$L27,2)=\"2x\",'CONDUIT LENGTH'!$K27*-1*2,\"\"),\"\")),\"\"),IF(LEFT(J$6,1)='CONDUIT LENGTH'!$M27,IF(I$9='CONDUIT LENGTH'!$L27,'CONDUIT LENGTH'!$K27,IF(AND(I$9=RIGHT('CONDUIT LENGTH'!$L27,2),LEFT('CONDUIT LENGTH'!$L27,3)=\"2x3\")=TRUE,IF(LEFT('CONDUIT LENGTH'!$L27,2)=\"2x\",'CONDUIT LENGTH'!$K27*2,\"\"),\"\")),\"\"))","v":""},{"$f":"IF($B34=\"SOURCE\",IF(LEFT(J$6,1)='CONDUIT LENGTH'!$M27,IF(J$9='CONDUIT LENGTH'!$L27,'CONDUIT LENGTH'!$K27*-1,IF(AND(J$9=RIGHT('CONDUIT LENGTH'!$L27,2),LEFT('CONDUIT LENGTH'!$L27,3)=\"2x3\")=TRUE,IF(LEFT('CONDUIT LENGTH'!$L27,2)=\"2x\",'CONDUIT LENGTH'!$K27*-1*2,\"\"),\"\")),\"\"),IF(LEFT(J$6,1)='CONDUIT LENGTH'!$M27,IF(J$9='CONDUIT LENGTH'!$L27,'CONDUIT LENGTH'!$K27,IF(AND(J$9=RIGHT('CONDUIT LENGTH'!$L27,2),LEFT('CONDUIT LENGTH'!$L27,3)=\"2x3\")=TRUE,IF(LEFT('CONDUIT LENGTH'!$L27,2)=\"2x\",'CONDUIT LENGTH'!$K27*2,\"\"),\"\")),\"\"))","v":""},{"$f":"IF($B34=\"SOURCE\",IF(LEFT(J$6,1)='CONDUIT LENGTH'!$M27,IF(K$9='CONDUIT LENGTH'!$L27,'CONDUIT LENGTH'!$K27*-1,IF(AND(K$9=RIGHT('CONDUIT LENGTH'!$L27,2),LEFT('CONDUIT LENGTH'!$L27,3)=\"2x3\")=TRUE,IF(LEFT('CONDUIT LENGTH'!$L27,2)=\"2x\",'CONDUIT LENGTH'!$K27*-1*2,\"\"),\"\")),\"\"),IF(LEFT(J$6,1)='CONDUIT LENGTH'!$M27,IF(K$9='CONDUIT LENGTH'!$L27,'CONDUIT LENGTH'!$K27,IF(AND(K$9=RIGHT('CONDUIT LENGTH'!$L27,2),LEFT('CONDUIT LENGTH'!$L27,3)=\"2x3\")=TRUE,IF(LEFT('CONDUIT LENGTH'!$L27,2)=\"2x\",'CONDUIT LENGTH'!$K27*2,\"\"),\"\")),\"\"))","v":""},{"$f":"IF($B34=\"SOURCE\",IF(LEFT(M$6,1)='CONDUIT LENGTH'!$M27,IF(L$9='CONDUIT LENGTH'!$L27,'CONDUIT LENGTH'!$K27*-1,IF(AND(L$9=RIGHT('CONDUIT LENGTH'!$L27,2),LEFT('CONDUIT LENGTH'!$L27,3)=\"2x3\")=TRUE,IF(LEFT('CONDUIT LENGTH'!$L27,2)=\"2x\",'CONDUIT LENGTH'!$K27*-1*2,\"\"),\"\")),\"\"),IF(LEFT(M$6,1)='CONDUIT LENGTH'!$M27,IF(L$9='CONDUIT LENGTH'!$L27,'CONDUIT LENGTH'!$K27,IF(AND(L$9=RIGHT('CONDUIT LENGTH'!$L27,2),LEFT('CONDUIT LENGTH'!$L27,3)=\"2x3\")=TRUE,IF(LEFT('CONDUIT LENGTH'!$L27,2)=\"2x\",'CONDUIT LENGTH'!$K27*2,\"\"),\"\")),\"\"))","v":""},{"$f":"IF($B34=\"SOURCE\",IF(LEFT(M$6,1)='CONDUIT LENGTH'!$M27,IF(M$9='CONDUIT LENGTH'!$L27,'CONDUIT LENGTH'!$K27*-1,IF(AND(M$9=RIGHT('CONDUIT LENGTH'!$L27,2),LEFT('CONDUIT LENGTH'!$L27,3)=\"2x3\")=TRUE,IF(LEFT('CONDUIT LENGTH'!$L27,2)=\"2x\",'CONDUIT LENGTH'!$K27*-1*2,\"\"),\"\")),\"\"),IF(LEFT(M$6,1)='CONDUIT LENGTH'!$M27,IF(M$9='CONDUIT LENGTH'!$L27,'CONDUIT LENGTH'!$K27,IF(AND(M$9=RIGHT('CONDUIT LENGTH'!$L27,2),LEFT('CONDUIT LENGTH'!$L27,3)=\"2x3\")=TRUE,IF(LEFT('CONDUIT LENGTH'!$L27,2)=\"2x\",'CONDUIT LENGTH'!$K27*2,\"\"),\"\")),\"\"))","v":""},{"$f":"IF($B34=\"SOURCE\",IF(LEFT(M$6,1)='CONDUIT LENGTH'!$M27,IF(N$9='CONDUIT LENGTH'!$L27,'CONDUIT LENGTH'!$K27*-1,IF(AND(N$9=RIGHT('CONDUIT LENGTH'!$L27,2),LEFT('CONDUIT LENGTH'!$L27,3)=\"2x3\")=TRUE,IF(LEFT('CONDUIT LENGTH'!$L27,2)=\"2x\",'CONDUIT LENGTH'!$K27*-1*2,\"\"),\"\")),\"\"),IF(LEFT(M$6,1)='CONDUIT LENGTH'!$M27,IF(N$9='CONDUIT LENGTH'!$L27,'CONDUIT LENGTH'!$K27,IF(AND(N$9=RIGHT('CONDUIT LENGTH'!$L27,2),LEFT('CONDUIT LENGTH'!$L27,3)=\"2x3\")=TRUE,IF(LEFT('CONDUIT LENGTH'!$L27,2)=\"2x\",'CONDUIT LENGTH'!$K27*2,\"\"),\"\")),\"\"))","v":""},{"$f":"IF($B34=\"SOURCE\",IF(LEFT(P$5,1)='CONDUIT LENGTH'!$M27,IF(O$9='CONDUIT LENGTH'!$L27,'CONDUIT LENGTH'!$K27*-1,IF(AND(O$9=RIGHT('CONDUIT LENGTH'!$L27,2),LEFT('CONDUIT LENGTH'!$L27,3)=\"2x3\")=TRUE,IF(LEFT('CONDUIT LENGTH'!$L27,2)=\"2x\",'CONDUIT LENGTH'!$K27*-1*2,\"\"),\"\")),\"\"),IF(LEFT(P$6,1)='CONDUIT LENGTH'!$M27,IF(O$9='CONDUIT LENGTH'!$L27,'CONDUIT LENGTH'!$K27,IF(AND(O$9=RIGHT('CONDUIT LENGTH'!$L27,2),LEFT('CONDUIT LENGTH'!$L27,3)=\"2x3\")=TRUE,IF(LEFT('CONDUIT LENGTH'!$L27,2)=\"2x\",'CONDUIT LENGTH'!$K27*2,\"\"),\"\")),\"\"))","v":""},{"$f":"IF($B34=\"SOURCE\",IF(LEFT(P$5,1)='CONDUIT LENGTH'!$M27,IF(P$9='CONDUIT LENGTH'!$L27,'CONDUIT LENGTH'!$K27*-1,IF(AND(P$9=RIGHT('CONDUIT LENGTH'!$L27,2),LEFT('CONDUIT LENGTH'!$L27,3)=\"2x3\")=TRUE,IF(LEFT('CONDUIT LENGTH'!$L27,2)=\"2x\",'CONDUIT LENGTH'!$K27*-1*2,\"\"),\"\")),\"\"),IF(LEFT(P$6,1)='CONDUIT LENGTH'!$M27,IF(P$9='CONDUIT LENGTH'!$L27,'CONDUIT LENGTH'!$K27,IF(AND(P$9=RIGHT('CONDUIT LENGTH'!$L27,2),LEFT('CONDUIT LENGTH'!$L27,3)=\"2x3\")=TRUE,IF(LEFT('CONDUIT LENGTH'!$L27,2)=\"2x\",'CONDUIT LENGTH'!$K27*2,\"\"),\"\")),\"\"))","v":""},{"$f":"IF($B34=\"SOURCE\",IF(LEFT(P$5,1)='CONDUIT LENGTH'!$M27,IF(Q$9='CONDUIT LENGTH'!$L27,'CONDUIT LENGTH'!$K27*-1,IF(AND(Q$9=RIGHT('CONDUIT LENGTH'!$L27,2),LEFT('CONDUIT LENGTH'!$L27,3)=\"2x3\")=TRUE,IF(LEFT('CONDUIT LENGTH'!$L27,2)=\"2x\",'CONDUIT LENGTH'!$K27*-1*2,\"\"),\"\")),\"\"),IF(LEFT(Q$6,1)='CONDUIT LENGTH'!$M27,IF(Q$9='CONDUIT LENGTH'!$L27,'CONDUIT LENGTH'!$K27,IF(AND(Q$9=RIGHT('CONDUIT LENGTH'!$L27,2),LEFT('CONDUIT LENGTH'!$L27,3)=\"2x3\")=TRUE,IF(LEFT('CONDUIT LENGTH'!$L27,2)=\"2x\",'CONDUIT LENGTH'!$K27*2,\"\"),\"\")),\"\"))","v":""},{"$f":"IF('CONDUIT LENGTH'!M27=\"UIP\",\"UIP EXISTING\",\"\")","v":""},{"$f":"IF('CABLE LENGTH'!A28>0,'CABLE LENGTH'!A28,\"\")","v":""},{"$f":"IF('CABLE LENGTH'!B28>0,'CABLE LENGTH'!B28,\"\")","v":""},{"$f":"IF('CABLE LENGTH'!Q28>0,'CABLE LENGTH'!Q28,\"\")","v":""},{"$f":"IF($S34=\"SOURCE\",IF(V$9='CABLE LENGTH'!$AK28,'CABLE LENGTH'!$AJ28*'CABLE LENGTH'!$AL28*-1,\"\"),IF(V$9=\"VIDEO\",IF(V$9='CABLE LENGTH'!$AK28,'CABLE LENGTH'!$AJ28*'CABLE LENGTH'!$AL28*-1,\"\"),IF(V$9='CABLE LENGTH'!$AK28,'CABLE LENGTH'!$AJ28*'CABLE LENGTH'!$AL28,\"\")))","v":""},{"$f":"IF($S34=\"SOURCE\",IF(W$9='CABLE LENGTH'!$AK28,'CABLE LENGTH'!$AJ28*'CABLE LENGTH'!$AL28*-1,\"\"),IF(W$9=\"VIDEO\",IF(W$9='CABLE LENGTH'!$AK28,'CABLE LENGTH'!$AJ28*'CABLE LENGTH'!$AL28*-1,\"\"),IF(W$9='CABLE LENGTH'!$AK28,'CABLE LENGTH'!$AJ28*'CABLE LENGTH'!$AL28,\"\")))","v":""},{"$f":"IF($S34=\"SOURCE\",IF(X$10='CABLE LENGTH'!$AK28,'CABLE LENGTH'!$AJ28*'CABLE LENGTH'!$AL28*-1,\"\"),IF(X$10=\"VIDEO\",IF(X$10='CABLE LENGTH'!$AK28,'CABLE LENGTH'!$AJ28*'CABLE LENGTH'!$AL28*-1,\"\"),IF(X$10='CABLE LENGTH'!$AK28,'CABLE LENGTH'!$AJ28*'CABLE LENGTH'!$AL28,\"\")))","v":""},{"$f":"IF($S34=\"SOURCE\",IF(Y$10='CABLE LENGTH'!$AK28,'CABLE LENGTH'!$AJ28*'CABLE LENGTH'!$AL28*-1,\"\"),IF(Y$10=\"VIDEO\",IF(Y$10='CABLE LENGTH'!$AK28,'CABLE LENGTH'!$AJ28*'CABLE LENGTH'!$AL28*-1,\"\"),IF(Y$10='CABLE LENGTH'!$AK28,'CABLE LENGTH'!$AJ28*'CABLE LENGTH'!$AL28,\"\")))","v":""},{"$f":"IF($S34=\"SOURCE\",IF(Z$10='CABLE LENGTH'!$AK28,'CABLE LENGTH'!$AJ28*'CABLE LENGTH'!$AL28*-1,\"\"),IF(Z$10=\"VIDEO\",IF(Z$10='CABLE LENGTH'!$AK28,'CABLE LENGTH'!$AJ28*'CABLE LENGTH'!$AL28*-1,\"\"),IF(Z$10='CABLE LENGTH'!$AK28,'CABLE LENGTH'!$AJ28*'CABLE LENGTH'!$AL28,\"\")))","v":""},{"$f":"IF($S34=\"SOURCE\",IF(AA$10='CABLE LENGTH'!$AK28,'CABLE LENGTH'!$AJ28*'CABLE LENGTH'!$AL28*-1,\"\"),IF(AA$10=\"VIDEO\",IF(AA$10='CABLE LENGTH'!$AK28,'CABLE LENGTH'!$AJ28*'CABLE LENGTH'!$AL28*-1,\"\"),IF(AA$10='CABLE LENGTH'!$AK28,'CABLE LENGTH'!$AJ28*'CABLE LENGTH'!$AL28,\"\")))","v":""},{"$f":"IF($S34=\"SOURCE\",IF(AB$10='CABLE LENGTH'!$AK28,'CABLE LENGTH'!$AJ28*'CABLE LENGTH'!$AL28*-1,\"\"),IF(AB$10=\"VIDEO\",IF(AB$10='CABLE LENGTH'!$AK28,'CABLE LENGTH'!$AJ28*'CABLE LENGTH'!$AL28*-1,\"\"),IF(AB$10='CABLE LENGTH'!$AK28,'CABLE LENGTH'!$AJ28*'CABLE LENGTH'!$AL28,\"\")))","v":""},{"$f":"IF($S34=\"SOURCE\",IF(AC$10='CABLE LENGTH'!$AK28,'CABLE LENGTH'!$AJ28*'CABLE LENGTH'!$AL28*-1,\"\"),IF(AC$10=\"VIDEO\",IF(AC$10='CABLE LENGTH'!$AK28,'CABLE LENGTH'!$AJ28*'CABLE LENGTH'!$AL28*-1,\"\"),IF(AC$10='CABLE LENGTH'!$AK28,'CABLE LENGTH'!$AJ28*'CABLE LENGTH'!$AL28,\"\")))","v":""},{"$f":"IF($S34=\"SOURCE\",IF(AD$9='CABLE LENGTH'!$AK28,'CABLE LENGTH'!$AJ28*'CABLE LENGTH'!$AL28*-1,\"\"),IF(AD$9=\"VIDEO\",IF(AD$9='CABLE LENGTH'!$AK28,'CABLE LENGTH'!$AJ28*'CABLE LENGTH'!$AL28*-1,\"\"),IF(AD$9='CABLE LENGTH'!$AK28,'CABLE LENGTH'!$AJ28*'CABLE LENGTH'!$AL28,\"\")))","v":""},{"$f":"IF($S34=\"SOURCE\",IF(AE$9='CABLE LENGTH'!$AK28,'CABLE LENGTH'!$AJ28*'CABLE LENGTH'!$AL28*-1,\"\"),IF(AE$9=\"VIDEO\",IF(AE$9='CABLE LENGTH'!$AK28,'CABLE LENGTH'!$AJ28*'CABLE LENGTH'!$AL28*-1,\"\"),IF(AE$9='CABLE LENGTH'!$AK28,'CABLE LENGTH'!$AJ28*'CABLE LENGTH'!$AL28,\"\")))","v":""},{"$f":"IF($S34=\"SOURCE\",IF(AF$9='CABLE LENGTH'!$AK28,'CABLE LENGTH'!$AJ28*'CABLE LENGTH'!$AL28*-1,\"\"),IF(AF$9=\"VIDEO\",IF(AF$9='CABLE LENGTH'!$AK28,'CABLE LENGTH'!$AJ28*'CABLE LENGTH'!$AL28*-1,\"\"),IF(AF$9='CABLE LENGTH'!$AK28,'CABLE LENGTH'!$AJ28*'CABLE LENGTH'!$AL28,\"\")))","v":""},"INCLUDES JUMPER"]
[0.3,{"$f":"IF('CONDUIT LENGTH'!A28>0,'CONDUIT LENGTH'!A28,\" \")","v":" "},{"$f":"IF('CONDUIT LENGTH'!B28>0,'CONDUIT LENGTH'!B28,\" \")","v":" "},{"$f":"IF('CONDUIT LENGTH'!C28>0,'CONDUIT LENGTH'!C28,\" \")","v":" "},{"$f":"IF($B35=\"SOURCE\",IF(LEFT(E$5,1)='CONDUIT LENGTH'!$M28,IF(E$9='CONDUIT LENGTH'!$L28,'CONDUIT LENGTH'!$K28*-1,IF(AND(E$9=RIGHT('CONDUIT LENGTH'!$L28,2),LEFT('CONDUIT LENGTH'!$L28,3)=\"2x3\")=TRUE,IF(LEFT('CONDUIT LENGTH'!$L28,2)=\"2x\",'CONDUIT LENGTH'!$K28*-1*2,\"\"),\"\")),\"\"),IF(LEFT(E$5,1)='CONDUIT LENGTH'!$M28,IF(E$9='CONDUIT LENGTH'!$L28,'CONDUIT LENGTH'!$K28,IF(AND(E$9=RIGHT('CONDUIT LENGTH'!$L28,2),LEFT('CONDUIT LENGTH'!$L28,3)=\"2x3\")=TRUE,IF(LEFT('CONDUIT LENGTH'!$L28,2)=\"2x\",'CONDUIT LENGTH'!$K28*2,\"\"),\"\")),\"\"))","v":""},{"$f":"IF($B35=\"SOURCE\",IF(LEFT(G$6,1)='CONDUIT LENGTH'!$M28,IF(F$9='CONDUIT LENGTH'!$L28,'CONDUIT LENGTH'!$K28*-1,IF(AND(F$9=RIGHT('CONDUIT LENGTH'!$L28,2),LEFT('CONDUIT LENGTH'!$L28,3)=\"2x3\")=TRUE,IF(LEFT('CONDUIT LENGTH'!$L28,2)=\"2x\",'CONDUIT LENGTH'!$K28*-1*2,\"\"),\"\")),\"\"),IF(LEFT(G$6,1)='CONDUIT LENGTH'!$M28,IF(F$9='CONDUIT LENGTH'!$L28,'CONDUIT LENGTH'!$K28,IF(AND(F$9=RIGHT('CONDUIT LENGTH'!$L28,2),LEFT('CONDUIT LENGTH'!$L28,3)=\"2x3\")=TRUE,IF(LEFT('CONDUIT LENGTH'!$L28,2)=\"2x\",'CONDUIT LENGTH'!$K28*2,\"\"),\"\")),\"\"))","v":""},{"$f":"IF($B35=\"SOURCE\",IF(LEFT(G$6,1)='CONDUIT LENGTH'!$M28,IF(G$9='CONDUIT LENGTH'!$L28,'CONDUIT LENGTH'!$K28*-1,IF(AND(G$9=RIGHT('CONDUIT LENGTH'!$L28,2),LEFT('CONDUIT LENGTH'!$L28,3)=\"2x3\")=TRUE,IF(LEFT('CONDUIT LENGTH'!$L28,2)=\"2x\",'CONDUIT LENGTH'!$K28*-1*2,\"\"),\"\")),\"\"),IF(LEFT(G$6,1)='CONDUIT LENGTH'!$M28,IF(G$9='CONDUIT LENGTH'!$L28,'CONDUIT LENGTH'!$K28,IF(AND(G$9=RIGHT('CONDUIT LENGTH'!$L28,2),LEFT('CONDUIT LENGTH'!$L28,3)=\"2x3\")=TRUE,IF(LEFT('CONDUIT LENGTH'!$L28,2)=\"2x\",'CONDUIT LENGTH'!$K28*2,\"\"),\"\")),\"\"))","v":""},{"$f":"IF($B35=\"SOURCE\",IF(LEFT(G$6,1)='CONDUIT LENGTH'!$M28,IF(H$9='CONDUIT LENGTH'!$L28,'CONDUIT LENGTH'!$K28*-1,IF(AND(H$9=RIGHT('CONDUIT LENGTH'!$L28,2),LEFT('CONDUIT LENGTH'!$L28,3)=\"2x3\")=TRUE,IF(LEFT('CONDUIT LENGTH'!$L28,2)=\"2x\",'CONDUIT LENGTH'!$K28*-1*2,\"\"),\"\")),\"\"),IF(LEFT(G$6,1)='CONDUIT LENGTH'!$M28,IF(H$9='CONDUIT LENGTH'!$L28,'CONDUIT LENGTH'!$K28,IF(AND(H$9=RIGHT('CONDUIT LENGTH'!$L28,2),LEFT('CONDUIT LENGTH'!$L28,3)=\"2x3\")=TRUE,IF(LEFT('CONDUIT LENGTH'!$L28,2)=\"2x\",'CONDUIT LENGTH'!$K28*2,\"\"),\"\")),\"\"))","v":""},{"$f":"IF($B35=\"SOURCE\",IF(LEFT(J$6,1)='CONDUIT LENGTH'!$M28,IF(I$9='CONDUIT LENGTH'!$L28,'CONDUIT LENGTH'!$K28*-1,IF(AND(I$9=RIGHT('CONDUIT LENGTH'!$L28,2),LEFT('CONDUIT LENGTH'!$L28,3)=\"2x3\")=TRUE,IF(LEFT('CONDUIT LENGTH'!$L28,2)=\"2x\",'CONDUIT LENGTH'!$K28*-1*2,\"\"),\"\")),\"\"),IF(LEFT(J$6,1)='CONDUIT LENGTH'!$M28,IF(I$9='CONDUIT LENGTH'!$L28,'CONDUIT LENGTH'!$K28,IF(AND(I$9=RIGHT('CONDUIT LENGTH'!$L28,2),LEFT('CONDUIT LENGTH'!$L28,3)=\"2x3\")=TRUE,IF(LEFT('CONDUIT LENGTH'!$L28,2)=\"2x\",'CONDUIT LENGTH'!$K28*2,\"\"),\"\")),\"\"))","v":""},{"$f":"IF($B35=\"SOURCE\",IF(LEFT(J$6,1)='CONDUIT LENGTH'!$M28,IF(J$9='CONDUIT LENGTH'!$L28,'CONDUIT LENGTH'!$K28*-1,IF(AND(J$9=RIGHT('CONDUIT LENGTH'!$L28,2),LEFT('CONDUIT LENGTH'!$L28,3)=\"2x3\")=TRUE,IF(LEFT('CONDUIT LENGTH'!$L28,2)=\"2x\",'CONDUIT LENGTH'!$K28*-1*2,\"\"),\"\")),\"\"),IF(LEFT(J$6,1)='CONDUIT LENGTH'!$M28,IF(J$9='CONDUIT LENGTH'!$L28,'CONDUIT LENGTH'!$K28,IF(AND(J$9=RIGHT('CONDUIT LENGTH'!$L28,2),LEFT('CONDUIT LENGTH'!$L28,3)=\"2x3\")=TRUE,IF(LEFT('CONDUIT LENGTH'!$L28,2)=\"2x\",'CONDUIT LENGTH'!$K28*2,\"\"),\"\")),\"\"))","v":""},{"$f":"IF($B35=\"SOURCE\",IF(LEFT(J$6,1)='CONDUIT LENGTH'!$M28,IF(K$9='CONDUIT LENGTH'!$L28,'CONDUIT LENGTH'!$K28*-1,IF(AND(K$9=RIGHT('CONDUIT LENGTH'!$L28,2),LEFT('CONDUIT LENGTH'!$L28,3)=\"2x3\")=TRUE,IF(LEFT('CONDUIT LENGTH'!$L28,2)=\"2x\",'CONDUIT LENGTH'!$K28*-1*2,\"\"),\"\")),\"\"),IF(LEFT(J$6,1)='CONDUIT LENGTH'!$M28,IF(K$9='CONDUIT LENGTH'!$L28,'CONDUIT LENGTH'!$K28,IF(AND(K$9=RIGHT('CONDUIT LENGTH'!$L28,2),LEFT('CONDUIT LENGTH'!$L28,3)=\"2x3\")=TRUE,IF(LEFT('CONDUIT LENGTH'!$L28,2)=\"2x\",'CONDUIT LENGTH'!$K28*2,\"\"),\"\")),\"\"))","v":""},{"$f":"IF($B35=\"SOURCE\",IF(LEFT(M$6,1)='CONDUIT LENGTH'!$M28,IF(L$9='CONDUIT LENGTH'!$L28,'CONDUIT LENGTH'!$K28*-1,IF(AND(L$9=RIGHT('CONDUIT LENGTH'!$L28,2),LEFT('CONDUIT LENGTH'!$L28,3)=\"2x3\")=TRUE,IF(LEFT('CONDUIT LENGTH'!$L28,2)=\"2x\",'CONDUIT LENGTH'!$K28*-1*2,\"\"),\"\")),\"\"),IF(LEFT(M$6,1)='CONDUIT LENGTH'!$M28,IF(L$9='CONDUIT LENGTH'!$L28,'CONDUIT LENGTH'!$K28,IF(AND(L$9=RIGHT('CONDUIT LENGTH'!$L28,2),LEFT('CONDUIT LENGTH'!$L28,3)=\"2x3\")=TRUE,IF(LEFT('CONDUIT LENGTH'!$L28,2)=\"2x\",'CONDUIT LENGTH'!$K28*2,\"\"),\"\")),\"\"))","v":""},{"$f":"IF($B35=\"SOURCE\",IF(LEFT(M$6,1)='CONDUIT LENGTH'!$M28,IF(M$9='CONDUIT LENGTH'!$L28,'CONDUIT LENGTH'!$K28*-1,IF(AND(M$9=RIGHT('CONDUIT LENGTH'!$L28,2),LEFT('CONDUIT LENGTH'!$L28,3)=\"2x3\")=TRUE,IF(LEFT('CONDUIT LENGTH'!$L28,2)=\"2x\",'CONDUIT LENGTH'!$K28*-1*2,\"\"),\"\")),\"\"),IF(LEFT(M$6,1)='CONDUIT LENGTH'!$M28,IF(M$9='CONDUIT LENGTH'!$L28,'CONDUIT LENGTH'!$K28,IF(AND(M$9=RIGHT('CONDUIT LENGTH'!$L28,2),LEFT('CONDUIT LENGTH'!$L28,3)=\"2x3\")=TRUE,IF(LEFT('CONDUIT LENGTH'!$L28,2)=\"2x\",'CONDUIT LENGTH'!$K28*2,\"\"),\"\")),\"\"))","v":""},{"$f":"IF($B35=\"SOURCE\",IF(LEFT(M$6,1)='CONDUIT LENGTH'!$M28,IF(N$9='CONDUIT LENGTH'!$L28,'CONDUIT LENGTH'!$K28*-1,IF(AND(N$9=RIGHT('CONDUIT LENGTH'!$L28,2),LEFT('CONDUIT LENGTH'!$L28,3)=\"2x3\")=TRUE,IF(LEFT('CONDUIT LENGTH'!$L28,2)=\"2x\",'CONDUIT LENGTH'!$K28*-1*2,\"\"),\"\")),\"\"),IF(LEFT(M$6,1)='CONDUIT LENGTH'!$M28,IF(N$9='CONDUIT LENGTH'!$L28,'CONDUIT LENGTH'!$K28,IF(AND(N$9=RIGHT('CONDUIT LENGTH'!$L28,2),LEFT('CONDUIT LENGTH'!$L28,3)=\"2x3\")=TRUE,IF(LEFT('CONDUIT LENGTH'!$L28,2)=\"2x\",'CONDUIT LENGTH'!$K28*2,\"\"),\"\")),\"\"))","v":""},{"$f":"IF($B35=\"SOURCE\",IF(LEFT(P$5,1)='CONDUIT LENGTH'!$M28,IF(O$9='CONDUIT LENGTH'!$L28,'CONDUIT LENGTH'!$K28*-1,IF(AND(O$9=RIGHT('CONDUIT LENGTH'!$L28,2),LEFT('CONDUIT LENGTH'!$L28,3)=\"2x3\")=TRUE,IF(LEFT('CONDUIT LENGTH'!$L28,2)=\"2x\",'CONDUIT LENGTH'!$K28*-1*2,\"\"),\"\")),\"\"),IF(LEFT(P$6,1)='CONDUIT LENGTH'!$M28,IF(O$9='CONDUIT LENGTH'!$L28,'CONDUIT LENGTH'!$K28,IF(AND(O$9=RIGHT('CONDUIT LENGTH'!$L28,2),LEFT('CONDUIT LENGTH'!$L28,3)=\"2x3\")=TRUE,IF(LEFT('CONDUIT LENGTH'!$L28,2)=\"2x\",'CONDUIT LENGTH'!$K28*2,\"\"),\"\")),\"\"))","v":""},{"$f":"IF($B35=\"SOURCE\",IF(LEFT(P$5,1)='CONDUIT LENGTH'!$M28,IF(P$9='CONDUIT LENGTH'!$L28,'CONDUIT LENGTH'!$K28*-1,IF(AND(P$9=RIGHT('CONDUIT LENGTH'!$L28,2),LEFT('CONDUIT LENGTH'!$L28,3)=\"2x3\")=TRUE,IF(LEFT('CONDUIT LENGTH'!$L28,2)=\"2x\",'CONDUIT LENGTH'!$K28*-1*2,\"\"),\"\")),\"\"),IF(LEFT(P$6,1)='CONDUIT LENGTH'!$M28,IF(P$9='CONDUIT LENGTH'!$L28,'CONDUIT LENGTH'!$K28,IF(AND(P$9=RIGHT('CONDUIT LENGTH'!$L28,2),LEFT('CONDUIT LENGTH'!$L28,3)=\"2x3\")=TRUE,IF(LEFT('CONDUIT LENGTH'!$L28,2)=\"2x\",'CONDUIT LENGTH'!$K28*2,\"\"),\"\")),\"\"))","v":""},{"$f":"IF($B35=\"SOURCE\",IF(LEFT(P$5,1)='CONDUIT LENGTH'!$M28,IF(Q$9='CONDUIT LENGTH'!$L28,'CONDUIT LENGTH'!$K28*-1,IF(AND(Q$9=RIGHT('CONDUIT LENGTH'!$L28,2),LEFT('CONDUIT LENGTH'!$L28,3)=\"2x3\")=TRUE,IF(LEFT('CONDUIT LENGTH'!$L28,2)=\"2x\",'CONDUIT LENGTH'!$K28*-1*2,\"\"),\"\")),\"\"),IF(LEFT(Q$6,1)='CONDUIT LENGTH'!$M28,IF(Q$9='CONDUIT LENGTH'!$L28,'CONDUIT LENGTH'!$K28,IF(AND(Q$9=RIGHT('CONDUIT LENGTH'!$L28,2),LEFT('CONDUIT LENGTH'!$L28,3)=\"2x3\")=TRUE,IF(LEFT('CONDUIT LENGTH'!$L28,2)=\"2x\",'CONDUIT LENGTH'!$K28*2,\"\"),\"\")),\"\"))","v":""},{"$f":"IF('CONDUIT LENGTH'!M28=\"UIP\",\"UIP EXISTING\",\"\")","v":""},{"$f":"IF('CABLE LENGTH'!A29>0,'CABLE LENGTH'!A29,\"\")","v":""},{"$f":"IF('CABLE LENGTH'!B29>0,'CABLE LENGTH'!B29,\"\")","v":""},{"$f":"IF('CABLE LENGTH'!Q29>0,'CABLE LENGTH'!Q29,\"\")","v":""},{"$f":"IF($S35=\"SOURCE\",IF(V$9='CABLE LENGTH'!$AK29,'CABLE LENGTH'!$AJ29*'CABLE LENGTH'!$AL29*-1,\"\"),IF(V$9=\"VIDEO\",IF(V$9='CABLE LENGTH'!$AK29,'CABLE LENGTH'!$AJ29*'CABLE LENGTH'!$AL29*-1,\"\"),IF(V$9='CABLE LENGTH'!$AK29,'CABLE LENGTH'!$AJ29*'CABLE LENGTH'!$AL29,\"\")))","v":""},{"$f":"IF($S35=\"SOURCE\",IF(W$9='CABLE LENGTH'!$AK29,'CABLE LENGTH'!$AJ29*'CABLE LENGTH'!$AL29*-1,\"\"),IF(W$9=\"VIDEO\",IF(W$9='CABLE LENGTH'!$AK29,'CABLE LENGTH'!$AJ29*'CABLE LENGTH'!$AL29*-1,\"\"),IF(W$9='CABLE LENGTH'!$AK29,'CABLE LENGTH'!$AJ29*'CABLE LENGTH'!$AL29,\"\")))","v":""},{"$f":"IF($S35=\"SOURCE\",IF(X$10='CABLE LENGTH'!$AK29,'CABLE LENGTH'!$AJ29*'CABLE LENGTH'!$AL29*-1,\"\"),IF(X$10=\"VIDEO\",IF(X$10='CABLE LENGTH'!$AK29,'CABLE LENGTH'!$AJ29*'CABLE LENGTH'!$AL29*-1,\"\"),IF(X$10='CABLE LENGTH'!$AK29,'CABLE LENGTH'!$AJ29*'CABLE LENGTH'!$AL29,\"\")))","v":""},{"$f":"IF($S35=\"SOURCE\",IF(Y$10='CABLE LENGTH'!$AK29,'CABLE LENGTH'!$AJ29*'CABLE LENGTH'!$AL29*-1,\"\"),IF(Y$10=\"VIDEO\",IF(Y$10='CABLE LENGTH'!$AK29,'CABLE LENGTH'!$AJ29*'CABLE LENGTH'!$AL29*-1,\"\"),IF(Y$10='CABLE LENGTH'!$AK29,'CABLE LENGTH'!$AJ29*'CABLE LENGTH'!$AL29,\"\")))","v":""},{"$f":"IF($S35=\"SOURCE\",IF(Z$10='CABLE LENGTH'!$AK29,'CABLE LENGTH'!$AJ29*'CABLE LENGTH'!$AL29*-1,\"\"),IF(Z$10=\"VIDEO\",IF(Z$10='CABLE LENGTH'!$AK29,'CABLE LENGTH'!$AJ29*'CABLE LENGTH'!$AL29*-1,\"\"),IF(Z$10='CABLE LENGTH'!$AK29,'CABLE LENGTH'!$AJ29*'CABLE LENGTH'!$AL29,\"\")))","v":""},{"$f":"IF($S35=\"SOURCE\",IF(AA$10='CABLE LENGTH'!$AK29,'CABLE LENGTH'!$AJ29*'CABLE LENGTH'!$AL29*-1,\"\"),IF(AA$10=\"VIDEO\",IF(AA$10='CABLE LENGTH'!$AK29,'CABLE LENGTH'!$AJ29*'CABLE LENGTH'!$AL29*-1,\"\"),IF(AA$10='CABLE LENGTH'!$AK29,'CABLE LENGTH'!$AJ29*'CABLE LENGTH'!$AL29,\"\")))","v":""},{"$f":"IF($S35=\"SOURCE\",IF(AB$10='CABLE LENGTH'!$AK29,'CABLE LENGTH'!$AJ29*'CABLE LENGTH'!$AL29*-1,\"\"),IF(AB$10=\"VIDEO\",IF(AB$10='CABLE LENGTH'!$AK29,'CABLE LENGTH'!$AJ29*'CABLE LENGTH'!$AL29*-1,\"\"),IF(AB$10='CABLE LENGTH'!$AK29,'CABLE LENGTH'!$AJ29*'CABLE LENGTH'!$AL29,\"\")))","v":""},{"$f":"IF($S35=\"SOURCE\",IF(AC$10='CABLE LENGTH'!$AK29,'CABLE LENGTH'!$AJ29*'CABLE LENGTH'!$AL29*-1,\"\"),IF(AC$10=\"VIDEO\",IF(AC$10='CABLE LENGTH'!$AK29,'CABLE LENGTH'!$AJ29*'CABLE LENGTH'!$AL29*-1,\"\"),IF(AC$10='CABLE LENGTH'!$AK29,'CABLE LENGTH'!$AJ29*'CABLE LENGTH'!$AL29,\"\")))","v":""},{"$f":"IF($S35=\"SOURCE\",IF(AD$9='CABLE LENGTH'!$AK29,'CABLE LENGTH'!$AJ29*'CABLE LENGTH'!$AL29*-1,\"\"),IF(AD$9=\"VIDEO\",IF(AD$9='CABLE LENGTH'!$AK29,'CABLE LENGTH'!$AJ29*'CABLE LENGTH'!$AL29*-1,\"\"),IF(AD$9='CABLE LENGTH'!$AK29,'CABLE LENGTH'!$AJ29*'CABLE LENGTH'!$AL29,\"\")))","v":""},{"$f":"IF($S35=\"SOURCE\",IF(AE$9='CABLE LENGTH'!$AK29,'CABLE LENGTH'!$AJ29*'CABLE LENGTH'!$AL29*-1,\"\"),IF(AE$9=\"VIDEO\",IF(AE$9='CABLE LENGTH'!$AK29,'CABLE LENGTH'!$AJ29*'CABLE LENGTH'!$AL29*-1,\"\"),IF(AE$9='CABLE LENGTH'!$AK29,'CABLE LENGTH'!$AJ29*'CABLE LENGTH'!$AL29,\"\")))","v":""},{"$f":"IF($S35=\"SOURCE\",IF(AF$9='CABLE LENGTH'!$AK29,'CABLE LENGTH'!$AJ29*'CABLE LENGTH'!$AL29*-1,\"\"),IF(AF$9=\"VIDEO\",IF(AF$9='CABLE LENGTH'!$AK29,'CABLE LENGTH'!$AJ29*'CABLE LENGTH'!$AL29*-1,\"\"),IF(AF$9='CABLE LENGTH'!$AK29,'CABLE LENGTH'!$AJ29*'CABLE LENGTH'!$AL29,\"\")))","v":""}]
[0.3,{"$f":"IF('CONDUIT LENGTH'!A29>0,'CONDUIT LENGTH'!A29,\" \")","v":" "},{"$f":"IF('CONDUIT LENGTH'!B29>0,'CONDUIT LENGTH'!B29,\" \")","v":" "},{"$f":"IF('CONDUIT LENGTH'!C29>0,'CONDUIT LENGTH'!C29,\" \")","v":" "},{"$f":"IF($B36=\"SOURCE\",IF(LEFT(E$5,1)='CONDUIT LENGTH'!$M29,IF(E$9='CONDUIT LENGTH'!$L29,'CONDUIT LENGTH'!$K29*-1,IF(AND(E$9=RIGHT('CONDUIT LENGTH'!$L29,2),LEFT('CONDUIT LENGTH'!$L29,3)=\"2x3\")=TRUE,IF(LEFT('CONDUIT LENGTH'!$L29,2)=\"2x\",'CONDUIT LENGTH'!$K29*-1*2,\"\"),\"\")),\"\"),IF(LEFT(E$5,1)='CONDUIT LENGTH'!$M29,IF(E$9='CONDUIT LENGTH'!$L29,'CONDUIT LENGTH'!$K29,IF(AND(E$9=RIGHT('CONDUIT LENGTH'!$L29,2),LEFT('CONDUIT LENGTH'!$L29,3)=\"2x3\")=TRUE,IF(LEFT('CONDUIT LENGTH'!$L29,2)=\"2x\",'CONDUIT LENGTH'!$K29*2,\"\"),\"\")),\"\"))","v":""},{"$f":"IF($B36=\"SOURCE\",IF(LEFT(G$6,1)='CONDUIT LENGTH'!$M29,IF(F$9='CONDUIT LENGTH'!$L29,'CONDUIT LENGTH'!$K29*-1,IF(AND(F$9=RIGHT('CONDUIT LENGTH'!$L29,2),LEFT('CONDUIT LENGTH'!$L29,3)=\"2x3\")=TRUE,IF(LEFT('CONDUIT LENGTH'!$L29,2)=\"2x\",'CONDUIT LENGTH'!$K29*-1*2,\"\"),\"\")),\"\"),IF(LEFT(G$6,1)='CONDUIT LENGTH'!$M29,IF(F$9='CONDUIT LENGTH'!$L29,'CONDUIT LENGTH'!$K29,IF(AND(F$9=RIGHT('CONDUIT LENGTH'!$L29,2),LEFT('CONDUIT LENGTH'!$L29,3)=\"2x3\")=TRUE,IF(LEFT('CONDUIT LENGTH'!$L29,2)=\"2x\",'CONDUIT LENGTH'!$K29*2,\"\"),\"\")),\"\"))","v":""},{"$f":"IF($B36=\"SOURCE\",IF(LEFT(G$6,1)='CONDUIT LENGTH'!$M29,IF(G$9='CONDUIT LENGTH'!$L29,'CONDUIT LENGTH'!$K29*-1,IF(AND(G$9=RIGHT('CONDUIT LENGTH'!$L29,2),LEFT('CONDUIT LENGTH'!$L29,3)=\"2x3\")=TRUE,IF(LEFT('CONDUIT LENGTH'!$L29,2)=\"2x\",'CONDUIT LENGTH'!$K29*-1*2,\"\"),\"\")),\"\"),IF(LEFT(G$6,1)='CONDUIT LENGTH'!$M29,IF(G$9='CONDUIT LENGTH'!$L29,'CONDUIT LENGTH'!$K29,IF(AND(G$9=RIGHT('CONDUIT LENGTH'!$L29,2),LEFT('CONDUIT LENGTH'!$L29,3)=\"2x3\")=TRUE,IF(LEFT('CONDUIT LENGTH'!$L29,2)=\"2x\",'CONDUIT LENGTH'!$K29*2,\"\"),\"\")),\"\"))","v":""},{"$f":"IF($B36=\"SOURCE\",IF(LEFT(G$6,1)='CONDUIT LENGTH'!$M29,IF(H$9='CONDUIT LENGTH'!$L29,'CONDUIT LENGTH'!$K29*-1,IF(AND(H$9=RIGHT('CONDUIT LENGTH'!$L29,2),LEFT('CONDUIT LENGTH'!$L29,3)=\"2x3\")=TRUE,IF(LEFT('CONDUIT LENGTH'!$L29,2)=\"2x\",'CONDUIT LENGTH'!$K29*-1*2,\"\"),\"\")),\"\"),IF(LEFT(G$6,1)='CONDUIT LENGTH'!$M29,IF(H$9='CONDUIT LENGTH'!$L29,'CONDUIT LENGTH'!$K29,IF(AND(H$9=RIGHT('CONDUIT LENGTH'!$L29,2),LEFT('CONDUIT LENGTH'!$L29,3)=\"2x3\")=TRUE,IF(LEFT('CONDUIT LENGTH'!$L29,2)=\"2x\",'CONDUIT LENGTH'!$K29*2,\"\"),\"\")),\"\"))","v":""},{"$f":"IF($B36=\"SOURCE\",IF(LEFT(J$6,1)='CONDUIT LENGTH'!$M29,IF(I$9='CONDUIT LENGTH'!$L29,'CONDUIT LENGTH'!$K29*-1,IF(AND(I$9=RIGHT('CONDUIT LENGTH'!$L29,2),LEFT('CONDUIT LENGTH'!$L29,3)=\"2x3\")=TRUE,IF(LEFT('CONDUIT LENGTH'!$L29,2)=\"2x\",'CONDUIT LENGTH'!$K29*-1*2,\"\"),\"\")),\"\"),IF(LEFT(J$6,1)='CONDUIT LENGTH'!$M29,IF(I$9='CONDUIT LENGTH'!$L29,'CONDUIT LENGTH'!$K29,IF(AND(I$9=RIGHT('CONDUIT LENGTH'!$L29,2),LEFT('CONDUIT LENGTH'!$L29,3)=\"2x3\")=TRUE,IF(LEFT('CONDUIT LENGTH'!$L29,2)=\"2x\",'CONDUIT LENGTH'!$K29*2,\"\"),\"\")),\"\"))","v":""},{"$f":"IF($B36=\"SOURCE\",IF(LEFT(J$6,1)='CONDUIT LENGTH'!$M29,IF(J$9='CONDUIT LENGTH'!$L29,'CONDUIT LENGTH'!$K29*-1,IF(AND(J$9=RIGHT('CONDUIT LENGTH'!$L29,2),LEFT('CONDUIT LENGTH'!$L29,3)=\"2x3\")=TRUE,IF(LEFT('CONDUIT LENGTH'!$L29,2)=\"2x\",'CONDUIT LENGTH'!$K29*-1*2,\"\"),\"\")),\"\"),IF(LEFT(J$6,1)='CONDUIT LENGTH'!$M29,IF(J$9='CONDUIT LENGTH'!$L29,'CONDUIT LENGTH'!$K29,IF(AND(J$9=RIGHT('CONDUIT LENGTH'!$L29,2),LEFT('CONDUIT LENGTH'!$L29,3)=\"2x3\")=TRUE,IF(LEFT('CONDUIT LENGTH'!$L29,2)=\"2x\",'CONDUIT LENGTH'!$K29*2,\"\"),\"\")),\"\"))","v":""},{"$f":"IF($B36=\"SOURCE\",IF(LEFT(J$6,1)='CONDUIT LENGTH'!$M29,IF(K$9='CONDUIT LENGTH'!$L29,'CONDUIT LENGTH'!$K29*-1,IF(AND(K$9=RIGHT('CONDUIT LENGTH'!$L29,2),LEFT('CONDUIT LENGTH'!$L29,3)=\"2x3\")=TRUE,IF(LEFT('CONDUIT LENGTH'!$L29,2)=\"2x\",'CONDUIT LENGTH'!$K29*-1*2,\"\"),\"\")),\"\"),IF(LEFT(J$6,1)='CONDUIT LENGTH'!$M29,IF(K$9='CONDUIT LENGTH'!$L29,'CONDUIT LENGTH'!$K29,IF(AND(K$9=RIGHT('CONDUIT LENGTH'!$L29,2),LEFT('CONDUIT LENGTH'!$L29,3)=\"2x3\")=TRUE,IF(LEFT('CONDUIT LENGTH'!$L29,2)=\"2x\",'CONDUIT LENGTH'!$K29*2,\"\"),\"\")),\"\"))","v":""},{"$f":"IF($B36=\"SOURCE\",IF(LEFT(M$6,1)='CONDUIT LENGTH'!$M29,IF(L$9='CONDUIT LENGTH'!$L29,'CONDUIT LENGTH'!$K29*-1,IF(AND(L$9=RIGHT('CONDUIT LENGTH'!$L29,2),LEFT('CONDUIT LENGTH'!$L29,3)=\"2x3\")=TRUE,IF(LEFT('CONDUIT LENGTH'!$L29,2)=\"2x\",'CONDUIT LENGTH'!$K29*-1*2,\"\"),\"\")),\"\"),IF(LEFT(M$6,1)='CONDUIT LENGTH'!$M29,IF(L$9='CONDUIT LENGTH'!$L29,'CONDUIT LENGTH'!$K29,IF(AND(L$9=RIGHT('CONDUIT LENGTH'!$L29,2),LEFT('CONDUIT LENGTH'!$L29,3)=\"2x3\")=TRUE,IF(LEFT('CONDUIT LENGTH'!$L29,2)=\"2x\",'CONDUIT LENGTH'!$K29*2,\"\"),\"\")),\"\"))","v":""},{"$f":"IF($B36=\"SOURCE\",IF(LEFT(M$6,1)='CONDUIT LENGTH'!$M29,IF(M$9='CONDUIT LENGTH'!$L29,'CONDUIT LENGTH'!$K29*-1,IF(AND(M$9=RIGHT('CONDUIT LENGTH'!$L29,2),LEFT('CONDUIT LENGTH'!$L29,3)=\"2x3\")=TRUE,IF(LEFT('CONDUIT LENGTH'!$L29,2)=\"2x\",'CONDUIT LENGTH'!$K29*-1*2,\"\"),\"\")),\"\"),IF(LEFT(M$6,1)='CONDUIT LENGTH'!$M29,IF(M$9='CONDUIT LENGTH'!$L29,'CONDUIT LENGTH'!$K29,IF(AND(M$9=RIGHT('CONDUIT LENGTH'!$L29,2),LEFT('CONDUIT LENGTH'!$L29,3)=\"2x3\")=TRUE,IF(LEFT('CONDUIT LENGTH'!$L29,2)=\"2x\",'CONDUIT LENGTH'!$K29*2,\"\"),\"\")),\"\"))","v":""},{"$f":"IF($B36=\"SOURCE\",IF(LEFT(M$6,1)='CONDUIT LENGTH'!$M29,IF(N$9='CONDUIT LENGTH'!$L29,'CONDUIT LENGTH'!$K29*-1,IF(AND(N$9=RIGHT('CONDUIT LENGTH'!$L29,2),LEFT('CONDUIT LENGTH'!$L29,3)=\"2x3\")=TRUE,IF(LEFT('CONDUIT LENGTH'!$L29,2)=\"2x\",'CONDUIT LENGTH'!$K29*-1*2,\"\"),\"\")),\"\"),IF(LEFT(M$6,1)='CONDUIT LENGTH'!$M29,IF(N$9='CONDUIT LENGTH'!$L29,'CONDUIT LENGTH'!$K29,IF(AND(N$9=RIGHT('CONDUIT LENGTH'!$L29,2),LEFT('CONDUIT LENGTH'!$L29,3)=\"2x3\")=TRUE,IF(LEFT('CONDUIT LENGTH'!$L29,2)=\"2x\",'CONDUIT LENGTH'!$K29*2,\"\"),\"\")),\"\"))","v":""},{"$f":"IF($B36=\"SOURCE\",IF(LEFT(P$5,1)='CONDUIT LENGTH'!$M29,IF(O$9='CONDUIT LENGTH'!$L29,'CONDUIT LENGTH'!$K29*-1,IF(AND(O$9=RIGHT('CONDUIT LENGTH'!$L29,2),LEFT('CONDUIT LENGTH'!$L29,3)=\"2x3\")=TRUE,IF(LEFT('CONDUIT LENGTH'!$L29,2)=\"2x\",'CONDUIT LENGTH'!$K29*-1*2,\"\"),\"\")),\"\"),IF(LEFT(P$6,1)='CONDUIT LENGTH'!$M29,IF(O$9='CONDUIT LENGTH'!$L29,'CONDUIT LENGTH'!$K29,IF(AND(O$9=RIGHT('CONDUIT LENGTH'!$L29,2),LEFT('CONDUIT LENGTH'!$L29,3)=\"2x3\")=TRUE,IF(LEFT('CONDUIT LENGTH'!$L29,2)=\"2x\",'CONDUIT LENGTH'!$K29*2,\"\"),\"\")),\"\"))","v":""},{"$f":"IF($B36=\"SOURCE\",IF(LEFT(P$5,1)='CONDUIT LENGTH'!$M29,IF(P$9='CONDUIT LENGTH'!$L29,'CONDUIT LENGTH'!$K29*-1,IF(AND(P$9=RIGHT('CONDUIT LENGTH'!$L29,2),LEFT('CONDUIT LENGTH'!$L29,3)=\"2x3\")=TRUE,IF(LEFT('CONDUIT LENGTH'!$L29,2)=\"2x\",'CONDUIT LENGTH'!$K29*-1*2,\"\"),\"\")),\"\"),IF(LEFT(P$6,1)='CONDUIT LENGTH'!$M29,IF(P$9='CONDUIT LENGTH'!$L29,'CONDUIT LENGTH'!$K29,IF(AND(P$9=RIGHT('CONDUIT LENGTH'!$L29,2),LEFT('CONDUIT LENGTH'!$L29,3)=\"2x3\")=TRUE,IF(LEFT('CONDUIT LENGTH'!$L29,2)=\"2x\",'CONDUIT LENGTH'!$K29*2,\"\"),\"\")),\"\"))","v":""},{"$f":"IF($B36=\"SOURCE\",IF(LEFT(P$5,1)='CONDUIT LENGTH'!$M29,IF(Q$9='CONDUIT LENGTH'!$L29,'CONDUIT LENGTH'!$K29*-1,IF(AND(Q$9=RIGHT('CONDUIT LENGTH'!$L29,2),LEFT('CONDUIT LENGTH'!$L29,3)=\"2x3\")=TRUE,IF(LEFT('CONDUIT LENGTH'!$L29,2)=\"2x\",'CONDUIT LENGTH'!$K29*-1*2,\"\"),\"\")),\"\"),IF(LEFT(Q$6,1)='CONDUIT LENGTH'!$M29,IF(Q$9='CONDUIT LENGTH'!$L29,'CONDUIT LENGTH'!$K29,IF(AND(Q$9=RIGHT('CONDUIT LENGTH'!$L29,2),LEFT('CONDUIT LENGTH'!$L29,3)=\"2x3\")=TRUE,IF(LEFT('CONDUIT LENGTH'!$L29,2)=\"2x\",'CONDUIT LENGTH'!$K29*2,\"\"),\"\")),\"\"))","v":""},{"$f":"IF('CONDUIT LENGTH'!M29=\"UIP\",\"UIP EXISTING\",\"\")","v":""},{"$f":"IF('CABLE LENGTH'!A30>0,'CABLE LENGTH'!A30,\"\")","v":""},{"$f":"IF('CABLE LENGTH'!B30>0,'CABLE LENGTH'!B30,\"\")","v":""},{"$f":"IF('CABLE LENGTH'!Q30>0,'CABLE LENGTH'!Q30,\"\")","v":""},{"$f":"IF($S36=\"SOURCE\",IF(V$9='CABLE LENGTH'!$AK30,'CABLE LENGTH'!$AJ30*'CABLE LENGTH'!$AL30*-1,\"\"),IF(V$9=\"VIDEO\",IF(V$9='CABLE LENGTH'!$AK30,'CABLE LENGTH'!$AJ30*'CABLE LENGTH'!$AL30*-1,\"\"),IF(V$9='CABLE LENGTH'!$AK30,'CABLE LENGTH'!$AJ30*'CABLE LENGTH'!$AL30,\"\")))","v":""},{"$f":"IF($S36=\"SOURCE\",IF(W$9='CABLE LENGTH'!$AK30,'CABLE LENGTH'!$AJ30*'CABLE LENGTH'!$AL30*-1,\"\"),IF(W$9=\"VIDEO\",IF(W$9='CABLE LENGTH'!$AK30,'CABLE LENGTH'!$AJ30*'CABLE LENGTH'!$AL30*-1,\"\"),IF(W$9='CABLE LENGTH'!$AK30,'CABLE LENGTH'!$AJ30*'CABLE LENGTH'!$AL30,\"\")))","v":""},{"$f":"IF($S36=\"SOURCE\",IF(X$10='CABLE LENGTH'!$AK30,'CABLE LENGTH'!$AJ30*'CABLE LENGTH'!$AL30*-1,\"\"),IF(X$10=\"VIDEO\",IF(X$10='CABLE LENGTH'!$AK30,'CABLE LENGTH'!$AJ30*'CABLE LENGTH'!$AL30*-1,\"\"),IF(X$10='CABLE LENGTH'!$AK30,'CABLE LENGTH'!$AJ30*'CABLE LENGTH'!$AL30,\"\")))","v":""},{"$f":"IF($S36=\"SOURCE\",IF(Y$10='CABLE LENGTH'!$AK30,'CABLE LENGTH'!$AJ30*'CABLE LENGTH'!$AL30*-1,\"\"),IF(Y$10=\"VIDEO\",IF(Y$10='CABLE LENGTH'!$AK30,'CABLE LENGTH'!$AJ30*'CABLE LENGTH'!$AL30*-1,\"\"),IF(Y$10='CABLE LENGTH'!$AK30,'CABLE LENGTH'!$AJ30*'CABLE LENGTH'!$AL30,\"\")))","v":""},{"$f":"IF($S36=\"SOURCE\",IF(Z$10='CABLE LENGTH'!$AK30,'CABLE LENGTH'!$AJ30*'CABLE LENGTH'!$AL30*-1,\"\"),IF(Z$10=\"VIDEO\",IF(Z$10='CABLE LENGTH'!$AK30,'CABLE LENGTH'!$AJ30*'CABLE LENGTH'!$AL30*-1,\"\"),IF(Z$10='CABLE LENGTH'!$AK30,'CABLE LENGTH'!$AJ30*'CABLE LENGTH'!$AL30,\"\")))","v":""},{"$f":"IF($S36=\"SOURCE\",IF(AA$10='CABLE LENGTH'!$AK30,'CABLE LENGTH'!$AJ30*'CABLE LENGTH'!$AL30*-1,\"\"),IF(AA$10=\"VIDEO\",IF(AA$10='CABLE LENGTH'!$AK30,'CABLE LENGTH'!$AJ30*'CABLE LENGTH'!$AL30*-1,\"\"),IF(AA$10='CABLE LENGTH'!$AK30,'CABLE LENGTH'!$AJ30*'CABLE LENGTH'!$AL30,\"\")))","v":""},{"$f":"IF($S36=\"SOURCE\",IF(AB$10='CABLE LENGTH'!$AK30,'CABLE LENGTH'!$AJ30*'CABLE LENGTH'!$AL30*-1,\"\"),IF(AB$10=\"VIDEO\",IF(AB$10='CABLE LENGTH'!$AK30,'CABLE LENGTH'!$AJ30*'CABLE LENGTH'!$AL30*-1,\"\"),IF(AB$10='CABLE LENGTH'!$AK30,'CABLE LENGTH'!$AJ30*'CABLE LENGTH'!$AL30,\"\")))","v":""},{"$f":"IF($S36=\"SOURCE\",IF(AC$10='CABLE LENGTH'!$AK30,'CABLE LENGTH'!$AJ30*'CABLE LENGTH'!$AL30*-1,\"\"),IF(AC$10=\"VIDEO\",IF(AC$10='CABLE LENGTH'!$AK30,'CABLE LENGTH'!$AJ30*'CABLE LENGTH'!$AL30*-1,\"\"),IF(AC$10='CABLE LENGTH'!$AK30,'CABLE LENGTH'!$AJ30*'CABLE LENGTH'!$AL30,\"\")))","v":""},{"$f":"IF($S36=\"SOURCE\",IF(AD$9='CABLE LENGTH'!$AK30,'CABLE LENGTH'!$AJ30*'CABLE LENGTH'!$AL30*-1,\"\"),IF(AD$9=\"VIDEO\",IF(AD$9='CABLE LENGTH'!$AK30,'CABLE LENGTH'!$AJ30*'CABLE LENGTH'!$AL30*-1,\"\"),IF(AD$9='CABLE LENGTH'!$AK30,'CABLE LENGTH'!$AJ30*'CABLE LENGTH'!$AL30,\"\")))","v":""},{"$f":"IF($S36=\"SOURCE\",IF(AE$9='CABLE LENGTH'!$AK30,'CABLE LENGTH'!$AJ30*'CABLE LENGTH'!$AL30*-1,\"\"),IF(AE$9=\"VIDEO\",IF(AE$9='CABLE LENGTH'!$AK30,'CABLE LENGTH'!$AJ30*'CABLE LENGTH'!$AL30*-1,\"\"),IF(AE$9='CABLE LENGTH'!$AK30,'CABLE LENGTH'!$AJ30*'CABLE LENGTH'!$AL30,\"\")))","v":""},{"$f":"IF($S36=\"SOURCE\",IF(AF$9='CABLE LENGTH'!$AK30,'CABLE LENGTH'!$AJ30*'CABLE LENGTH'!$AL30*-1,\"\"),IF(AF$9=\"VIDEO\",IF(AF$9='CABLE LENGTH'!$AK30,'CABLE LENGTH'!$AJ30*'CABLE LENGTH'!$AL30*-1,\"\"),IF(AF$9='CABLE LENGTH'!$AK30,'CABLE LENGTH'!$AJ30*'CABLE LENGTH'!$AL30,\"\")))","v":""}]
[0.3,{"$f":"IF('CONDUIT LENGTH'!A30>0,'CONDUIT LENGTH'!A30,\" \")","v":" "},{"$f":"IF('CONDUIT LENGTH'!B30>0,'CONDUIT LENGTH'!B30,\" \")","v":" "},{"$f":"IF('CONDUIT LENGTH'!C30>0,'CONDUIT LENGTH'!C30,\" \")","v":" "},{"$f":"IF($B37=\"SOURCE\",IF(LEFT(E$5,1)='CONDUIT LENGTH'!$M30,IF(E$9='CONDUIT LENGTH'!$L30,'CONDUIT LENGTH'!$K30*-1,IF(AND(E$9=RIGHT('CONDUIT LENGTH'!$L30,2),LEFT('CONDUIT LENGTH'!$L30,3)=\"2x3\")=TRUE,IF(LEFT('CONDUIT LENGTH'!$L30,2)=\"2x\",'CONDUIT LENGTH'!$K30*-1*2,\"\"),\"\")),\"\"),IF(LEFT(E$5,1)='CONDUIT LENGTH'!$M30,IF(E$9='CONDUIT LENGTH'!$L30,'CONDUIT LENGTH'!$K30,IF(AND(E$9=RIGHT('CONDUIT LENGTH'!$L30,2),LEFT('CONDUIT LENGTH'!$L30,3)=\"2x3\")=TRUE,IF(LEFT('CONDUIT LENGTH'!$L30,2)=\"2x\",'CONDUIT LENGTH'!$K30*2,\"\"),\"\")),\"\"))","v":""},{"$f":"IF($B37=\"SOURCE\",IF(LEFT(G$6,1)='CONDUIT LENGTH'!$M30,IF(F$9='CONDUIT LENGTH'!$L30,'CONDUIT LENGTH'!$K30*-1,IF(AND(F$9=RIGHT('CONDUIT LENGTH'!$L30,2),LEFT('CONDUIT LENGTH'!$L30,3)=\"2x3\")=TRUE,IF(LEFT('CONDUIT LENGTH'!$L30,2)=\"2x\",'CONDUIT LENGTH'!$K30*-1*2,\"\"),\"\")),\"\"),IF(LEFT(G$6,1)='CONDUIT LENGTH'!$M30,IF(F$9='CONDUIT LENGTH'!$L30,'CONDUIT LENGTH'!$K30,IF(AND(F$9=RIGHT('CONDUIT LENGTH'!$L30,2),LEFT('CONDUIT LENGTH'!$L30,3)=\"2x3\")=TRUE,IF(LEFT('CONDUIT LENGTH'!$L30,2)=\"2x\",'CONDUIT LENGTH'!$K30*2,\"\"),\"\")),\"\"))","v":""},{"$f":"IF($B37=\"SOURCE\",IF(LEFT(G$6,1)='CONDUIT LENGTH'!$M30,IF(G$9='CONDUIT LENGTH'!$L30,'CONDUIT LENGTH'!$K30*-1,IF(AND(G$9=RIGHT('CONDUIT LENGTH'!$L30,2),LEFT('CONDUIT LENGTH'!$L30,3)=\"2x3\")=TRUE,IF(LEFT('CONDUIT LENGTH'!$L30,2)=\"2x\",'CONDUIT LENGTH'!$K30*-1*2,\"\"),\"\")),\"\"),IF(LEFT(G$6,1)='CONDUIT LENGTH'!$M30,IF(G$9='CONDUIT LENGTH'!$L30,'CONDUIT LENGTH'!$K30,IF(AND(G$9=RIGHT('CONDUIT LENGTH'!$L30,2),LEFT('CONDUIT LENGTH'!$L30,3)=\"2x3\")=TRUE,IF(LEFT('CONDUIT LENGTH'!$L30,2)=\"2x\",'CONDUIT LENGTH'!$K30*2,\"\"),\"\")),\"\"))","v":""},{"$f":"IF($B37=\"SOURCE\",IF(LEFT(G$6,1)='CONDUIT LENGTH'!$M30,IF(H$9='CONDUIT LENGTH'!$L30,'CONDUIT LENGTH'!$K30*-1,IF(AND(H$9=RIGHT('CONDUIT LENGTH'!$L30,2),LEFT('CONDUIT LENGTH'!$L30,3)=\"2x3\")=TRUE,IF(LEFT('CONDUIT LENGTH'!$L30,2)=\"2x\",'CONDUIT LENGTH'!$K30*-1*2,\"\"),\"\")),\"\"),IF(LEFT(G$6,1)='CONDUIT LENGTH'!$M30,IF(H$9='CONDUIT LENGTH'!$L30,'CONDUIT LENGTH'!$K30,IF(AND(H$9=RIGHT('CONDUIT LENGTH'!$L30,2),LEFT('CONDUIT LENGTH'!$L30,3)=\"2x3\")=TRUE,IF(LEFT('CONDUIT LENGTH'!$L30,2)=\"2x\",'CONDUIT LENGTH'!$K30*2,\"\"),\"\")),\"\"))","v":""},{"$f":"IF($B37=\"SOURCE\",IF(LEFT(J$6,1)='CONDUIT LENGTH'!$M30,IF(I$9='CONDUIT LENGTH'!$L30,'CONDUIT LENGTH'!$K30*-1,IF(AND(I$9=RIGHT('CONDUIT LENGTH'!$L30,2),LEFT('CONDUIT LENGTH'!$L30,3)=\"2x3\")=TRUE,IF(LEFT('CONDUIT LENGTH'!$L30,2)=\"2x\",'CONDUIT LENGTH'!$K30*-1*2,\"\"),\"\")),\"\"),IF(LEFT(J$6,1)='CONDUIT LENGTH'!$M30,IF(I$9='CONDUIT LENGTH'!$L30,'CONDUIT LENGTH'!$K30,IF(AND(I$9=RIGHT('CONDUIT LENGTH'!$L30,2),LEFT('CONDUIT LENGTH'!$L30,3)=\"2x3\")=TRUE,IF(LEFT('CONDUIT LENGTH'!$L30,2)=\"2x\",'CONDUIT LENGTH'!$K30*2,\"\"),\"\")),\"\"))","v":""},{"$f":"IF($B37=\"SOURCE\",IF(LEFT(J$6,1)='CONDUIT LENGTH'!$M30,IF(J$9='CONDUIT LENGTH'!$L30,'CONDUIT LENGTH'!$K30*-1,IF(AND(J$9=RIGHT('CONDUIT LENGTH'!$L30,2),LEFT('CONDUIT LENGTH'!$L30,3)=\"2x3\")=TRUE,IF(LEFT('CONDUIT LENGTH'!$L30,2)=\"2x\",'CONDUIT LENGTH'!$K30*-1*2,\"\"),\"\")),\"\"),IF(LEFT(J$6,1)='CONDUIT LENGTH'!$M30,IF(J$9='CONDUIT LENGTH'!$L30,'CONDUIT LENGTH'!$K30,IF(AND(J$9=RIGHT('CONDUIT LENGTH'!$L30,2),LEFT('CONDUIT LENGTH'!$L30,3)=\"2x3\")=TRUE,IF(LEFT('CONDUIT LENGTH'!$L30,2)=\"2x\",'CONDUIT LENGTH'!$K30*2,\"\"),\"\")),\"\"))","v":""},{"$f":"IF($B37=\"SOURCE\",IF(LEFT(J$6,1)='CONDUIT LENGTH'!$M30,IF(K$9='CONDUIT LENGTH'!$L30,'CONDUIT LENGTH'!$K30*-1,IF(AND(K$9=RIGHT('CONDUIT LENGTH'!$L30,2),LEFT('CONDUIT LENGTH'!$L30,3)=\"2x3\")=TRUE,IF(LEFT('CONDUIT LENGTH'!$L30,2)=\"2x\",'CONDUIT LENGTH'!$K30*-1*2,\"\"),\"\")),\"\"),IF(LEFT(J$6,1)='CONDUIT LENGTH'!$M30,IF(K$9='CONDUIT LENGTH'!$L30,'CONDUIT LENGTH'!$K30,IF(AND(K$9=RIGHT('CONDUIT LENGTH'!$L30,2),LEFT('CONDUIT LENGTH'!$L30,3)=\"2x3\")=TRUE,IF(LEFT('CONDUIT LENGTH'!$L30,2)=\"2x\",'CONDUIT LENGTH'!$K30*2,\"\"),\"\")),\"\"))","v":""},{"$f":"IF($B37=\"SOURCE\",IF(LEFT(M$6,1)='CONDUIT LENGTH'!$M30,IF(L$9='CONDUIT LENGTH'!$L30,'CONDUIT LENGTH'!$K30*-1,IF(AND(L$9=RIGHT('CONDUIT LENGTH'!$L30,2),LEFT('CONDUIT LENGTH'!$L30,3)=\"2x3\")=TRUE,IF(LEFT('CONDUIT LENGTH'!$L30,2)=\"2x\",'CONDUIT LENGTH'!$K30*-1*2,\"\"),\"\")),\"\"),IF(LEFT(M$6,1)='CONDUIT LENGTH'!$M30,IF(L$9='CONDUIT LENGTH'!$L30,'CONDUIT LENGTH'!$K30,IF(AND(L$9=RIGHT('CONDUIT LENGTH'!$L30,2),LEFT('CONDUIT LENGTH'!$L30,3)=\"2x3\")=TRUE,IF(LEFT('CONDUIT LENGTH'!$L30,2)=\"2x\",'CONDUIT LENGTH'!$K30*2,\"\"),\"\")),\"\"))","v":""},{"$f":"IF($B37=\"SOURCE\",IF(LEFT(M$6,1)='CONDUIT LENGTH'!$M30,IF(M$9='CONDUIT LENGTH'!$L30,'CONDUIT LENGTH'!$K30*-1,IF(AND(M$9=RIGHT('CONDUIT LENGTH'!$L30,2),LEFT('CONDUIT LENGTH'!$L30,3)=\"2x3\")=TRUE,IF(LEFT('CONDUIT LENGTH'!$L30,2)=\"2x\",'CONDUIT LENGTH'!$K30*-1*2,\"\"),\"\")),\"\"),IF(LEFT(M$6,1)='CONDUIT LENGTH'!$M30,IF(M$9='CONDUIT LENGTH'!$L30,'CONDUIT LENGTH'!$K30,IF(AND(M$9=RIGHT('CONDUIT LENGTH'!$L30,2),LEFT('CONDUIT LENGTH'!$L30,3)=\"2x3\")=TRUE,IF(LEFT('CONDUIT LENGTH'!$L30,2)=\"2x\",'CONDUIT LENGTH'!$K30*2,\"\"),\"\")),\"\"))","v":""},{"$f":"IF($B37=\"SOURCE\",IF(LEFT(M$6,1)='CONDUIT LENGTH'!$M30,IF(N$9='CONDUIT LENGTH'!$L30,'CONDUIT LENGTH'!$K30*-1,IF(AND(N$9=RIGHT('CONDUIT LENGTH'!$L30,2),LEFT('CONDUIT LENGTH'!$L30,3)=\"2x3\")=TRUE,IF(LEFT('CONDUIT LENGTH'!$L30,2)=\"2x\",'CONDUIT LENGTH'!$K30*-1*2,\"\"),\"\")),\"\"),IF(LEFT(M$6,1)='CONDUIT LENGTH'!$M30,IF(N$9='CONDUIT LENGTH'!$L30,'CONDUIT LENGTH'!$K30,IF(AND(N$9=RIGHT('CONDUIT LENGTH'!$L30,2),LEFT('CONDUIT LENGTH'!$L30,3)=\"2x3\")=TRUE,IF(LEFT('CONDUIT LENGTH'!$L30,2)=\"2x\",'CONDUIT LENGTH'!$K30*2,\"\"),\"\")),\"\"))","v":""},{"$f":"IF($B37=\"SOURCE\",IF(LEFT(P$5,1)='CONDUIT LENGTH'!$M30,IF(O$9='CONDUIT LENGTH'!$L30,'CONDUIT LENGTH'!$K30*-1,IF(AND(O$9=RIGHT('CONDUIT LENGTH'!$L30,2),LEFT('CONDUIT LENGTH'!$L30,3)=\"2x3\")=TRUE,IF(LEFT('CONDUIT LENGTH'!$L30,2)=\"2x\",'CONDUIT LENGTH'!$K30*-1*2,\"\"),\"\")),\"\"),IF(LEFT(P$6,1)='CONDUIT LENGTH'!$M30,IF(O$9='CONDUIT LENGTH'!$L30,'CONDUIT LENGTH'!$K30,IF(AND(O$9=RIGHT('CONDUIT LENGTH'!$L30,2),LEFT('CONDUIT LENGTH'!$L30,3)=\"2x3\")=TRUE,IF(LEFT('CONDUIT LENGTH'!$L30,2)=\"2x\",'CONDUIT LENGTH'!$K30*2,\"\"),\"\")),\"\"))","v":""},{"$f":"IF($B37=\"SOURCE\",IF(LEFT(P$5,1)='CONDUIT LENGTH'!$M30,IF(P$9='CONDUIT LENGTH'!$L30,'CONDUIT LENGTH'!$K30*-1,IF(AND(P$9=RIGHT('CONDUIT LENGTH'!$L30,2),LEFT('CONDUIT LENGTH'!$L30,3)=\"2x3\")=TRUE,IF(LEFT('CONDUIT LENGTH'!$L30,2)=\"2x\",'CONDUIT LENGTH'!$K30*-1*2,\"\"),\"\")),\"\"),IF(LEFT(P$6,1)='CONDUIT LENGTH'!$M30,IF(P$9='CONDUIT LENGTH'!$L30,'CONDUIT LENGTH'!$K30,IF(AND(P$9=RIGHT('CONDUIT LENGTH'!$L30,2),LEFT('CONDUIT LENGTH'!$L30,3)=\"2x3\")=TRUE,IF(LEFT('CONDUIT LENGTH'!$L30,2)=\"2x\",'CONDUIT LENGTH'!$K30*2,\"\"),\"\")),\"\"))","v":""},{"$f":"IF($B37=\"SOURCE\",IF(LEFT(P$5,1)='CONDUIT LENGTH'!$M30,IF(Q$9='CONDUIT LENGTH'!$L30,'CONDUIT LENGTH'!$K30*-1,IF(AND(Q$9=RIGHT('CONDUIT LENGTH'!$L30,2),LEFT('CONDUIT LENGTH'!$L30,3)=\"2x3\")=TRUE,IF(LEFT('CONDUIT LENGTH'!$L30,2)=\"2x\",'CONDUIT LENGTH'!$K30*-1*2,\"\"),\"\")),\"\"),IF(LEFT(Q$6,1)='CONDUIT LENGTH'!$M30,IF(Q$9='CONDUIT LENGTH'!$L30,'CONDUIT LENGTH'!$K30,IF(AND(Q$9=RIGHT('CONDUIT LENGTH'!$L30,2),LEFT('CONDUIT LENGTH'!$L30,3)=\"2x3\")=TRUE,IF(LEFT('CONDUIT LENGTH'!$L30,2)=\"2x\",'CONDUIT LENGTH'!$K30*2,\"\"),\"\")),\"\"))","v":""},{"$f":"IF('CONDUIT LENGTH'!M30=\"UIP\",\"UIP EXISTING\",\"\")","v":""},{"$f":"IF('CABLE LENGTH'!A31>0,'CABLE LENGTH'!A31,\"\")","v":""},{"$f":"IF('CABLE LENGTH'!B31>0,'CABLE LENGTH'!B31,\"\")","v":""},{"$f":"IF('CABLE LENGTH'!Q31>0,'CABLE LENGTH'!Q31,\"\")","v":""},{"$f":"IF($S37=\"SOURCE\",IF(V$9='CABLE LENGTH'!$AK31,'CABLE LENGTH'!$AJ31*'CABLE LENGTH'!$AL31*-1,\"\"),IF(V$9=\"VIDEO\",IF(V$9='CABLE LENGTH'!$AK31,'CABLE LENGTH'!$AJ31*'CABLE LENGTH'!$AL31*-1,\"\"),IF(V$9='CABLE LENGTH'!$AK31,'CABLE LENGTH'!$AJ31*'CABLE LENGTH'!$AL31,\"\")))","v":""},{"$f":"IF($S37=\"SOURCE\",IF(W$9='CABLE LENGTH'!$AK31,'CABLE LENGTH'!$AJ31*'CABLE LENGTH'!$AL31*-1,\"\"),IF(W$9=\"VIDEO\",IF(W$9='CABLE LENGTH'!$AK31,'CABLE LENGTH'!$AJ31*'CABLE LENGTH'!$AL31*-1,\"\"),IF(W$9='CABLE LENGTH'!$AK31,'CABLE LENGTH'!$AJ31*'CABLE LENGTH'!$AL31,\"\")))","v":""},{"$f":"IF($S37=\"SOURCE\",IF(X$10='CABLE LENGTH'!$AK31,'CABLE LENGTH'!$AJ31*'CABLE LENGTH'!$AL31*-1,\"\"),IF(X$10=\"VIDEO\",IF(X$10='CABLE LENGTH'!$AK31,'CABLE LENGTH'!$AJ31*'CABLE LENGTH'!$AL31*-1,\"\"),IF(X$10='CABLE LENGTH'!$AK31,'CABLE LENGTH'!$AJ31*'CABLE LENGTH'!$AL31,\"\")))","v":""},{"$f":"IF($S37=\"SOURCE\",IF(Y$10='CABLE LENGTH'!$AK31,'CABLE LENGTH'!$AJ31*'CABLE LENGTH'!$AL31*-1,\"\"),IF(Y$10=\"VIDEO\",IF(Y$10='CABLE LENGTH'!$AK31,'CABLE LENGTH'!$AJ31*'CABLE LENGTH'!$AL31*-1,\"\"),IF(Y$10='CABLE LENGTH'!$AK31,'CABLE LENGTH'!$AJ31*'CABLE LENGTH'!$AL31,\"\")))","v":""},{"$f":"IF($S37=\"SOURCE\",IF(Z$10='CABLE LENGTH'!$AK31,'CABLE LENGTH'!$AJ31*'CABLE LENGTH'!$AL31*-1,\"\"),IF(Z$10=\"VIDEO\",IF(Z$10='CABLE LENGTH'!$AK31,'CABLE LENGTH'!$AJ31*'CABLE LENGTH'!$AL31*-1,\"\"),IF(Z$10='CABLE LENGTH'!$AK31,'CABLE LENGTH'!$AJ31*'CABLE LENGTH'!$AL31,\"\")))","v":""},{"$f":"IF($S37=\"SOURCE\",IF(AA$10='CABLE LENGTH'!$AK31,'CABLE LENGTH'!$AJ31*'CABLE LENGTH'!$AL31*-1,\"\"),IF(AA$10=\"VIDEO\",IF(AA$10='CABLE LENGTH'!$AK31,'CABLE LENGTH'!$AJ31*'CABLE LENGTH'!$AL31*-1,\"\"),IF(AA$10='CABLE LENGTH'!$AK31,'CABLE LENGTH'!$AJ31*'CABLE LENGTH'!$AL31,\"\")))","v":""},{"$f":"IF($S37=\"SOURCE\",IF(AB$10='CABLE LENGTH'!$AK31,'CABLE LENGTH'!$AJ31*'CABLE LENGTH'!$AL31*-1,\"\"),IF(AB$10=\"VIDEO\",IF(AB$10='CABLE LENGTH'!$AK31,'CABLE LENGTH'!$AJ31*'CABLE LENGTH'!$AL31*-1,\"\"),IF(AB$10='CABLE LENGTH'!$AK31,'CABLE LENGTH'!$AJ31*'CABLE LENGTH'!$AL31,\"\")))","v":""},{"$f":"IF($S37=\"SOURCE\",IF(AC$10='CABLE LENGTH'!$AK31,'CABLE LENGTH'!$AJ31*'CABLE LENGTH'!$AL31*-1,\"\"),IF(AC$10=\"VIDEO\",IF(AC$10='CABLE LENGTH'!$AK31,'CABLE LENGTH'!$AJ31*'CABLE LENGTH'!$AL31*-1,\"\"),IF(AC$10='CABLE LENGTH'!$AK31,'CABLE LENGTH'!$AJ31*'CABLE LENGTH'!$AL31,\"\")))","v":""},{"$f":"IF($S37=\"SOURCE\",IF(AD$9='CABLE LENGTH'!$AK31,'CABLE LENGTH'!$AJ31*'CABLE LENGTH'!$AL31*-1,\"\"),IF(AD$9=\"VIDEO\",IF(AD$9='CABLE LENGTH'!$AK31,'CABLE LENGTH'!$AJ31*'CABLE LENGTH'!$AL31*-1,\"\"),IF(AD$9='CABLE LENGTH'!$AK31,'CABLE LENGTH'!$AJ31*'CABLE LENGTH'!$AL31,\"\")))","v":""},{"$f":"IF($S37=\"SOURCE\",IF(AE$9='CABLE LENGTH'!$AK31,'CABLE LENGTH'!$AJ31*'CABLE LENGTH'!$AL31*-1,\"\"),IF(AE$9=\"VIDEO\",IF(AE$9='CABLE LENGTH'!$AK31,'CABLE LENGTH'!$AJ31*'CABLE LENGTH'!$AL31*-1,\"\"),IF(AE$9='CABLE LENGTH'!$AK31,'CABLE LENGTH'!$AJ31*'CABLE LENGTH'!$AL31,\"\")))","v":""},{"$f":"IF($S37=\"SOURCE\",IF(AF$9='CABLE LENGTH'!$AK31,'CABLE LENGTH'!$AJ31*'CABLE LENGTH'!$AL31*-1,\"\"),IF(AF$9=\"VIDEO\",IF(AF$9='CABLE LENGTH'!$AK31,'CABLE LENGTH'!$AJ31*'CABLE LENGTH'!$AL31*-1,\"\"),IF(AF$9='CABLE LENGTH'!$AK31,'CABLE LENGTH'!$AJ31*'CABLE LENGTH'!$AL31,\"\")))","v":""}]
[0.3,{"$f":"IF('CONDUIT LENGTH'!A31>0,'CONDUIT LENGTH'!A31,\" \")","v":" "},{"$f":"IF('CONDUIT LENGTH'!B31>0,'CONDUIT LENGTH'!B31,\" \")","v":" "},{"$f":"IF('CONDUIT LENGTH'!C31>0,'CONDUIT LENGTH'!C31,\" \")","v":" "},{"$f":"IF($B38=\"SOURCE\",IF(LEFT(E$5,1)='CONDUIT LENGTH'!$M31,IF(E$9='CONDUIT LENGTH'!$L31,'CONDUIT LENGTH'!$K31*-1,IF(AND(E$9=RIGHT('CONDUIT LENGTH'!$L31,2),LEFT('CONDUIT LENGTH'!$L31,3)=\"2x3\")=TRUE,IF(LEFT('CONDUIT LENGTH'!$L31,2)=\"2x\",'CONDUIT LENGTH'!$K31*-1*2,\"\"),\"\")),\"\"),IF(LEFT(E$5,1)='CONDUIT LENGTH'!$M31,IF(E$9='CONDUIT LENGTH'!$L31,'CONDUIT LENGTH'!$K31,IF(AND(E$9=RIGHT('CONDUIT LENGTH'!$L31,2),LEFT('CONDUIT LENGTH'!$L31,3)=\"2x3\")=TRUE,IF(LEFT('CONDUIT LENGTH'!$L31,2)=\"2x\",'CONDUIT LENGTH'!$K31*2,\"\"),\"\")),\"\"))","v":""},{"$f":"IF($B38=\"SOURCE\",IF(LEFT(G$6,1)='CONDUIT LENGTH'!$M31,IF(F$9='CONDUIT LENGTH'!$L31,'CONDUIT LENGTH'!$K31*-1,IF(AND(F$9=RIGHT('CONDUIT LENGTH'!$L31,2),LEFT('CONDUIT LENGTH'!$L31,3)=\"2x3\")=TRUE,IF(LEFT('CONDUIT LENGTH'!$L31,2)=\"2x\",'CONDUIT LENGTH'!$K31*-1*2,\"\"),\"\")),\"\"),IF(LEFT(G$6,1)='CONDUIT LENGTH'!$M31,IF(F$9='CONDUIT LENGTH'!$L31,'CONDUIT LENGTH'!$K31,IF(AND(F$9=RIGHT('CONDUIT LENGTH'!$L31,2),LEFT('CONDUIT LENGTH'!$L31,3)=\"2x3\")=TRUE,IF(LEFT('CONDUIT LENGTH'!$L31,2)=\"2x\",'CONDUIT LENGTH'!$K31*2,\"\"),\"\")),\"\"))","v":""},{"$f":"IF($B38=\"SOURCE\",IF(LEFT(G$6,1)='CONDUIT LENGTH'!$M31,IF(G$9='CONDUIT LENGTH'!$L31,'CONDUIT LENGTH'!$K31*-1,IF(AND(G$9=RIGHT('CONDUIT LENGTH'!$L31,2),LEFT('CONDUIT LENGTH'!$L31,3)=\"2x3\")=TRUE,IF(LEFT('CONDUIT LENGTH'!$L31,2)=\"2x\",'CONDUIT LENGTH'!$K31*-1*2,\"\"),\"\")),\"\"),IF(LEFT(G$6,1)='CONDUIT LENGTH'!$M31,IF(G$9='CONDUIT LENGTH'!$L31,'CONDUIT LENGTH'!$K31,IF(AND(G$9=RIGHT('CONDUIT LENGTH'!$L31,2),LEFT('CONDUIT LENGTH'!$L31,3)=\"2x3\")=TRUE,IF(LEFT('CONDUIT LENGTH'!$L31,2)=\"2x\",'CONDUIT LENGTH'!$K31*2,\"\"),\"\")),\"\"))","v":""},{"$f":"IF($B38=\"SOURCE\",IF(LEFT(G$6,1)='CONDUIT LENGTH'!$M31,IF(H$9='CONDUIT LENGTH'!$L31,'CONDUIT LENGTH'!$K31*-1,IF(AND(H$9=RIGHT('CONDUIT LENGTH'!$L31,2),LEFT('CONDUIT LENGTH'!$L31,3)=\"2x3\")=TRUE,IF(LEFT('CONDUIT LENGTH'!$L31,2)=\"2x\",'CONDUIT LENGTH'!$K31*-1*2,\"\"),\"\")),\"\"),IF(LEFT(G$6,1)='CONDUIT LENGTH'!$M31,IF(H$9='CONDUIT LENGTH'!$L31,'CONDUIT LENGTH'!$K31,IF(AND(H$9=RIGHT('CONDUIT LENGTH'!$L31,2),LEFT('CONDUIT LENGTH'!$L31,3)=\"2x3\")=TRUE,IF(LEFT('CONDUIT LENGTH'!$L31,2)=\"2x\",'CONDUIT LENGTH'!$K31*2,\"\"),\"\")),\"\"))","v":""},{"$f":"IF($B38=\"SOURCE\",IF(LEFT(J$6,1)='CONDUIT LENGTH'!$M31,IF(I$9='CONDUIT LENGTH'!$L31,'CONDUIT LENGTH'!$K31*-1,IF(AND(I$9=RIGHT('CONDUIT LENGTH'!$L31,2),LEFT('CONDUIT LENGTH'!$L31,3)=\"2x3\")=TRUE,IF(LEFT('CONDUIT LENGTH'!$L31,2)=\"2x\",'CONDUIT LENGTH'!$K31*-1*2,\"\"),\"\")),\"\"),IF(LEFT(J$6,1)='CONDUIT LENGTH'!$M31,IF(I$9='CONDUIT LENGTH'!$L31,'CONDUIT LENGTH'!$K31,IF(AND(I$9=RIGHT('CONDUIT LENGTH'!$L31,2),LEFT('CONDUIT LENGTH'!$L31,3)=\"2x3\")=TRUE,IF(LEFT('CONDUIT LENGTH'!$L31,2)=\"2x\",'CONDUIT LENGTH'!$K31*2,\"\"),\"\")),\"\"))","v":""},{"$f":"IF($B38=\"SOURCE\",IF(LEFT(J$6,1)='CONDUIT LENGTH'!$M31,IF(J$9='CONDUIT LENGTH'!$L31,'CONDUIT LENGTH'!$K31*-1,IF(AND(J$9=RIGHT('CONDUIT LENGTH'!$L31,2),LEFT('CONDUIT LENGTH'!$L31,3)=\"2x3\")=TRUE,IF(LEFT('CONDUIT LENGTH'!$L31,2)=\"2x\",'CONDUIT LENGTH'!$K31*-1*2,\"\"),\"\")),\"\"),IF(LEFT(J$6,1)='CONDUIT LENGTH'!$M31,IF(J$9='CONDUIT LENGTH'!$L31,'CONDUIT LENGTH'!$K31,IF(AND(J$9=RIGHT('CONDUIT LENGTH'!$L31,2),LEFT('CONDUIT LENGTH'!$L31,3)=\"2x3\")=TRUE,IF(LEFT('CONDUIT LENGTH'!$L31,2)=\"2x\",'CONDUIT LENGTH'!$K31*2,\"\"),\"\")),\"\"))","v":""},{"$f":"IF($B38=\"SOURCE\",IF(LEFT(J$6,1)='CONDUIT LENGTH'!$M31,IF(K$9='CONDUIT LENGTH'!$L31,'CONDUIT LENGTH'!$K31*-1,IF(AND(K$9=RIGHT('CONDUIT LENGTH'!$L31,2),LEFT('CONDUIT LENGTH'!$L31,3)=\"2x3\")=TRUE,IF(LEFT('CONDUIT LENGTH'!$L31,2)=\"2x\",'CONDUIT LENGTH'!$K31*-1*2,\"\"),\"\")),\"\"),IF(LEFT(J$6,1)='CONDUIT LENGTH'!$M31,IF(K$9='CONDUIT LENGTH'!$L31,'CONDUIT LENGTH'!$K31,IF(AND(K$9=RIGHT('CONDUIT LENGTH'!$L31,2),LEFT('CONDUIT LENGTH'!$L31,3)=\"2x3\")=TRUE,IF(LEFT('CONDUIT LENGTH'!$L31,2)=\"2x\",'CONDUIT LENGTH'!$K31*2,\"\"),\"\")),\"\"))","v":""},{"$f":"IF($B38=\"SOURCE\",IF(LEFT(M$6,1)='CONDUIT LENGTH'!$M31,IF(L$9='CONDUIT LENGTH'!$L31,'CONDUIT LENGTH'!$K31*-1,IF(AND(L$9=RIGHT('CONDUIT LENGTH'!$L31,2),LEFT('CONDUIT LENGTH'!$L31,3)=\"2x3\")=TRUE,IF(LEFT('CONDUIT LENGTH'!$L31,2)=\"2x\",'CONDUIT LENGTH'!$K31*-1*2,\"\"),\"\")),\"\"),IF(LEFT(M$6,1)='CONDUIT LENGTH'!$M31,IF(L$9='CONDUIT LENGTH'!$L31,'CONDUIT LENGTH'!$K31,IF(AND(L$9=RIGHT('CONDUIT LENGTH'!$L31,2),LEFT('CONDUIT LENGTH'!$L31,3)=\"2x3\")=TRUE,IF(LEFT('CONDUIT LENGTH'!$L31,2)=\"2x\",'CONDUIT LENGTH'!$K31*2,\"\"),\"\")),\"\"))","v":""},{"$f":"IF($B38=\"SOURCE\",IF(LEFT(M$6,1)='CONDUIT LENGTH'!$M31,IF(M$9='CONDUIT LENGTH'!$L31,'CONDUIT LENGTH'!$K31*-1,IF(AND(M$9=RIGHT('CONDUIT LENGTH'!$L31,2),LEFT('CONDUIT LENGTH'!$L31,3)=\"2x3\")=TRUE,IF(LEFT('CONDUIT LENGTH'!$L31,2)=\"2x\",'CONDUIT LENGTH'!$K31*-1*2,\"\"),\"\")),\"\"),IF(LEFT(M$6,1)='CONDUIT LENGTH'!$M31,IF(M$9='CONDUIT LENGTH'!$L31,'CONDUIT LENGTH'!$K31,IF(AND(M$9=RIGHT('CONDUIT LENGTH'!$L31,2),LEFT('CONDUIT LENGTH'!$L31,3)=\"2x3\")=TRUE,IF(LEFT('CONDUIT LENGTH'!$L31,2)=\"2x\",'CONDUIT LENGTH'!$K31*2,\"\"),\"\")),\"\"))","v":""},{"$f":"IF($B38=\"SOURCE\",IF(LEFT(M$6,1)='CONDUIT LENGTH'!$M31,IF(N$9='CONDUIT LENGTH'!$L31,'CONDUIT LENGTH'!$K31*-1,IF(AND(N$9=RIGHT('CONDUIT LENGTH'!$L31,2),LEFT('CONDUIT LENGTH'!$L31,3)=\"2x3\")=TRUE,IF(LEFT('CONDUIT LENGTH'!$L31,2)=\"2x\",'CONDUIT LENGTH'!$K31*-1*2,\"\"),\"\")),\"\"),IF(LEFT(M$6,1)='CONDUIT LENGTH'!$M31,IF(N$9='CONDUIT LENGTH'!$L31,'CONDUIT LENGTH'!$K31,IF(AND(N$9=RIGHT('CONDUIT LENGTH'!$L31,2),LEFT('CONDUIT LENGTH'!$L31,3)=\"2x3\")=TRUE,IF(LEFT('CONDUIT LENGTH'!$L31,2)=\"2x\",'CONDUIT LENGTH'!$K31*2,\"\"),\"\")),\"\"))","v":""},{"$f":"IF($B38=\"SOURCE\",IF(LEFT(P$5,1)='CONDUIT LENGTH'!$M31,IF(O$9='CONDUIT LENGTH'!$L31,'CONDUIT LENGTH'!$K31*-1,IF(AND(O$9=RIGHT('CONDUIT LENGTH'!$L31,2),LEFT('CONDUIT LENGTH'!$L31,3)=\"2x3\")=TRUE,IF(LEFT('CONDUIT LENGTH'!$L31,2)=\"2x\",'CONDUIT LENGTH'!$K31*-1*2,\"\"),\"\")),\"\"),IF(LEFT(P$6,1)='CONDUIT LENGTH'!$M31,IF(O$9='CONDUIT LENGTH'!$L31,'CONDUIT LENGTH'!$K31,IF(AND(O$9=RIGHT('CONDUIT LENGTH'!$L31,2),LEFT('CONDUIT LENGTH'!$L31,3)=\"2x3\")=TRUE,IF(LEFT('CONDUIT LENGTH'!$L31,2)=\"2x\",'CONDUIT LENGTH'!$K31*2,\"\"),\"\")),\"\"))","v":""},{"$f":"IF($B38=\"SOURCE\",IF(LEFT(P$5,1)='CONDUIT LENGTH'!$M31,IF(P$9='CONDUIT LENGTH'!$L31,'CONDUIT LENGTH'!$K31*-1,IF(AND(P$9=RIGHT('CONDUIT LENGTH'!$L31,2),LEFT('CONDUIT LENGTH'!$L31,3)=\"2x3\")=TRUE,IF(LEFT('CONDUIT LENGTH'!$L31,2)=\"2x\",'CONDUIT LENGTH'!$K31*-1*2,\"\"),\"\")),\"\"),IF(LEFT(P$6,1)='CONDUIT LENGTH'!$M31,IF(P$9='CONDUIT LENGTH'!$L31,'CONDUIT LENGTH'!$K31,IF(AND(P$9=RIGHT('CONDUIT LENGTH'!$L31,2),LEFT('CONDUIT LENGTH'!$L31,3)=\"2x3\")=TRUE,IF(LEFT('CONDUIT LENGTH'!$L31,2)=\"2x\",'CONDUIT LENGTH'!$K31*2,\"\"),\"\")),\"\"))","v":""},{"$f":"IF($B38=\"SOURCE\",IF(LEFT(P$5,1)='CONDUIT LENGTH'!$M31,IF(Q$9='CONDUIT LENGTH'!$L31,'CONDUIT LENGTH'!$K31*-1,IF(AND(Q$9=RIGHT('CONDUIT LENGTH'!$L31,2),LEFT('CONDUIT LENGTH'!$L31,3)=\"2x3\")=TRUE,IF(LEFT('CONDUIT LENGTH'!$L31,2)=\"2x\",'CONDUIT LENGTH'!$K31*-1*2,\"\"),\"\")),\"\"),IF(LEFT(Q$6,1)='CONDUIT LENGTH'!$M31,IF(Q$9='CONDUIT LENGTH'!$L31,'CONDUIT LENGTH'!$K31,IF(AND(Q$9=RIGHT('CONDUIT LENGTH'!$L31,2),LEFT('CONDUIT LENGTH'!$L31,3)=\"2x3\")=TRUE,IF(LEFT('CONDUIT LENGTH'!$L31,2)=\"2x\",'CONDUIT LENGTH'!$K31*2,\"\"),\"\")),\"\"))","v":""},{"$f":"IF('CONDUIT LENGTH'!M31=\"UIP\",\"UIP EXISTING\",\"\")","v":""},{"$f":"IF('CABLE LENGTH'!A32>0,'CABLE LENGTH'!A32,\"\")","v":""},{"$f":"IF('CABLE LENGTH'!B32>0,'CABLE LENGTH'!B32,\"\")","v":""},{"$f":"IF('CABLE LENGTH'!Q32>0,'CABLE LENGTH'!Q32,\"\")","v":""},{"$f":"IF($S38=\"SOURCE\",IF(V$9='CABLE LENGTH'!$AK32,'CABLE LENGTH'!$AJ32*'CABLE LENGTH'!$AL32*-1,\"\"),IF(V$9=\"VIDEO\",IF(V$9='CABLE LENGTH'!$AK32,'CABLE LENGTH'!$AJ32*'CABLE LENGTH'!$AL32*-1,\"\"),IF(V$9='CABLE LENGTH'!$AK32,'CABLE LENGTH'!$AJ32*'CABLE LENGTH'!$AL32,\"\")))","v":""},{"$f":"IF($S38=\"SOURCE\",IF(W$9='CABLE LENGTH'!$AK32,'CABLE LENGTH'!$AJ32*'CABLE LENGTH'!$AL32*-1,\"\"),IF(W$9=\"VIDEO\",IF(W$9='CABLE LENGTH'!$AK32,'CABLE LENGTH'!$AJ32*'CABLE LENGTH'!$AL32*-1,\"\"),IF(W$9='CABLE LENGTH'!$AK32,'CABLE LENGTH'!$AJ32*'CABLE LENGTH'!$AL32,\"\")))","v":""},{"$f":"IF($S38=\"SOURCE\",IF(X$10='CABLE LENGTH'!$AK32,'CABLE LENGTH'!$AJ32*'CABLE LENGTH'!$AL32*-1,\"\"),IF(X$10=\"VIDEO\",IF(X$10='CABLE LENGTH'!$AK32,'CABLE LENGTH'!$AJ32*'CABLE LENGTH'!$AL32*-1,\"\"),IF(X$10='CABLE LENGTH'!$AK32,'CABLE LENGTH'!$AJ32*'CABLE LENGTH'!$AL32,\"\")))","v":""},{"$f":"IF($S38=\"SOURCE\",IF(Y$10='CABLE LENGTH'!$AK32,'CABLE LENGTH'!$AJ32*'CABLE LENGTH'!$AL32*-1,\"\"),IF(Y$10=\"VIDEO\",IF(Y$10='CABLE LENGTH'!$AK32,'CABLE LENGTH'!$AJ32*'CABLE LENGTH'!$AL32*-1,\"\"),IF(Y$10='CABLE LENGTH'!$AK32,'CABLE LENGTH'!$AJ32*'CABLE LENGTH'!$AL32,\"\")))","v":""},{"$f":"IF($S38=\"SOURCE\",IF(Z$10='CABLE LENGTH'!$AK32,'CABLE LENGTH'!$AJ32*'CABLE LENGTH'!$AL32*-1,\"\"),IF(Z$10=\"VIDEO\",IF(Z$10='CABLE LENGTH'!$AK32,'CABLE LENGTH'!$AJ32*'CABLE LENGTH'!$AL32*-1,\"\"),IF(Z$10='CABLE LENGTH'!$AK32,'CABLE LENGTH'!$AJ32*'CABLE LENGTH'!$AL32,\"\")))","v":""},{"$f":"IF($S38=\"SOURCE\",IF(AA$10='CABLE LENGTH'!$AK32,'CABLE LENGTH'!$AJ32*'CABLE LENGTH'!$AL32*-1,\"\"),IF(AA$10=\"VIDEO\",IF(AA$10='CABLE LENGTH'!$AK32,'CABLE LENGTH'!$AJ32*'CABLE LENGTH'!$AL32*-1,\"\"),IF(AA$10='CABLE LENGTH'!$AK32,'CABLE LENGTH'!$AJ32*'CABLE LENGTH'!$AL32,\"\")))","v":""},{"$f":"IF($S38=\"SOURCE\",IF(AB$10='CABLE LENGTH'!$AK32,'CABLE LENGTH'!$AJ32*'CABLE LENGTH'!$AL32*-1,\"\"),IF(AB$10=\"VIDEO\",IF(AB$10='CABLE LENGTH'!$AK32,'CABLE LENGTH'!$AJ32*'CABLE LENGTH'!$AL32*-1,\"\"),IF(AB$10='CABLE LENGTH'!$AK32,'CABLE LENGTH'!$AJ32*'CABLE LENGTH'!$AL32,\"\")))","v":""},{"$f":"IF($S38=\"SOURCE\",IF(AC$10='CABLE LENGTH'!$AK32,'CABLE LENGTH'!$AJ32*'CABLE LENGTH'!$AL32*-1,\"\"),IF(AC$10=\"VIDEO\",IF(AC$10='CABLE LENGTH'!$AK32,'CABLE LENGTH'!$AJ32*'CABLE LENGTH'!$AL32*-1,\"\"),IF(AC$10='CABLE LENGTH'!$AK32,'CABLE LENGTH'!$AJ32*'CABLE LENGTH'!$AL32,\"\")))","v":""},{"$f":"IF($S38=\"SOURCE\",IF(AD$9='CABLE LENGTH'!$AK32,'CABLE LENGTH'!$AJ32*'CABLE LENGTH'!$AL32*-1,\"\"),IF(AD$9=\"VIDEO\",IF(AD$9='CABLE LENGTH'!$AK32,'CABLE LENGTH'!$AJ32*'CABLE LENGTH'!$AL32*-1,\"\"),IF(AD$9='CABLE LENGTH'!$AK32,'CABLE LENGTH'!$AJ32*'CABLE LENGTH'!$AL32,\"\")))","v":""},{"$f":"IF($S38=\"SOURCE\",IF(AE$9='CABLE LENGTH'!$AK32,'CABLE LENGTH'!$AJ32*'CABLE LENGTH'!$AL32*-1,\"\"),IF(AE$9=\"VIDEO\",IF(AE$9='CABLE LENGTH'!$AK32,'CABLE LENGTH'!$AJ32*'CABLE LENGTH'!$AL32*-1,\"\"),IF(AE$9='CABLE LENGTH'!$AK32,'CABLE LENGTH'!$AJ32*'CABLE LENGTH'!$AL32,\"\")))","v":""},{"$f":"IF($S38=\"SOURCE\",IF(AF$9='CABLE LENGTH'!$AK32,'CABLE LENGTH'!$AJ32*'CABLE LENGTH'!$AL32*-1,\"\"),IF(AF$9=\"VIDEO\",IF(AF$9='CABLE LENGTH'!$AK32,'CABLE LENGTH'!$AJ32*'CABLE LENGTH'!$AL32*-1,\"\"),IF(AF$9='CABLE LENGTH'!$AK32,'CABLE LENGTH'!$AJ32*'CABLE LENGTH'!$AL32,\"\")))","v":""}]
[0.3,{"$f":"IF('CONDUIT LENGTH'!A32>0,'CONDUIT LENGTH'!A32,\" \")","v":" "},{"$f":"IF('CONDUIT LENGTH'!B32>0,'CONDUIT LENGTH'!B32,\" \")","v":" "},{"$f":"IF('CONDUIT LENGTH'!C32>0,'CONDUIT LENGTH'!C32,\" \")","v":" "},{"$f":"IF($B39=\"SOURCE\",IF(LEFT(E$5,1)='CONDUIT LENGTH'!$M32,IF(E$9='CONDUIT LENGTH'!$L32,'CONDUIT LENGTH'!$K32*-1,IF(AND(E$9=RIGHT('CONDUIT LENGTH'!$L32,2),LEFT('CONDUIT LENGTH'!$L32,3)=\"2x3\")=TRUE,IF(LEFT('CONDUIT LENGTH'!$L32,2)=\"2x\",'CONDUIT LENGTH'!$K32*-1*2,\"\"),\"\")),\"\"),IF(LEFT(E$5,1)='CONDUIT LENGTH'!$M32,IF(E$9='CONDUIT LENGTH'!$L32,'CONDUIT LENGTH'!$K32,IF(AND(E$9=RIGHT('CONDUIT LENGTH'!$L32,2),LEFT('CONDUIT LENGTH'!$L32,3)=\"2x3\")=TRUE,IF(LEFT('CONDUIT LENGTH'!$L32,2)=\"2x\",'CONDUIT LENGTH'!$K32*2,\"\"),\"\")),\"\"))","v":""},{"$f":"IF($B39=\"SOURCE\",IF(LEFT(G$6,1)='CONDUIT LENGTH'!$M32,IF(F$9='CONDUIT LENGTH'!$L32,'CONDUIT LENGTH'!$K32*-1,IF(AND(F$9=RIGHT('CONDUIT LENGTH'!$L32,2),LEFT('CONDUIT LENGTH'!$L32,3)=\"2x3\")=TRUE,IF(LEFT('CONDUIT LENGTH'!$L32,2)=\"2x\",'CONDUIT LENGTH'!$K32*-1*2,\"\"),\"\")),\"\"),IF(LEFT(G$6,1)='CONDUIT LENGTH'!$M32,IF(F$9='CONDUIT LENGTH'!$L32,'CONDUIT LENGTH'!$K32,IF(AND(F$9=RIGHT('CONDUIT LENGTH'!$L32,2),LEFT('CONDUIT LENGTH'!$L32,3)=\"2x3\")=TRUE,IF(LEFT('CONDUIT LENGTH'!$L32,2)=\"2x\",'CONDUIT LENGTH'!$K32*2,\"\"),\"\")),\"\"))","v":""},{"$f":"IF($B39=\"SOURCE\",IF(LEFT(G$6,1)='CONDUIT LENGTH'!$M32,IF(G$9='CONDUIT LENGTH'!$L32,'CONDUIT LENGTH'!$K32*-1,IF(AND(G$9=RIGHT('CONDUIT LENGTH'!$L32,2),LEFT('CONDUIT LENGTH'!$L32,3)=\"2x3\")=TRUE,IF(LEFT('CONDUIT LENGTH'!$L32,2)=\"2x\",'CONDUIT LENGTH'!$K32*-1*2,\"\"),\"\")),\"\"),IF(LEFT(G$6,1)='CONDUIT LENGTH'!$M32,IF(G$9='CONDUIT LENGTH'!$L32,'CONDUIT LENGTH'!$K32,IF(AND(G$9=RIGHT('CONDUIT LENGTH'!$L32,2),LEFT('CONDUIT LENGTH'!$L32,3)=\"2x3\")=TRUE,IF(LEFT('CONDUIT LENGTH'!$L32,2)=\"2x\",'CONDUIT LENGTH'!$K32*2,\"\"),\"\")),\"\"))","v":""},{"$f":"IF($B39=\"SOURCE\",IF(LEFT(G$6,1)='CONDUIT LENGTH'!$M32,IF(H$9='CONDUIT LENGTH'!$L32,'CONDUIT LENGTH'!$K32*-1,IF(AND(H$9=RIGHT('CONDUIT LENGTH'!$L32,2),LEFT('CONDUIT LENGTH'!$L32,3)=\"2x3\")=TRUE,IF(LEFT('CONDUIT LENGTH'!$L32,2)=\"2x\",'CONDUIT LENGTH'!$K32*-1*2,\"\"),\"\")),\"\"),IF(LEFT(G$6,1)='CONDUIT LENGTH'!$M32,IF(H$9='CONDUIT LENGTH'!$L32,'CONDUIT LENGTH'!$K32,IF(AND(H$9=RIGHT('CONDUIT LENGTH'!$L32,2),LEFT('CONDUIT LENGTH'!$L32,3)=\"2x3\")=TRUE,IF(LEFT('CONDUIT LENGTH'!$L32,2)=\"2x\",'CONDUIT LENGTH'!$K32*2,\"\"),\"\")),\"\"))","v":""},{"$f":"IF($B39=\"SOURCE\",IF(LEFT(J$6,1)='CONDUIT LENGTH'!$M32,IF(I$9='CONDUIT LENGTH'!$L32,'CONDUIT LENGTH'!$K32*-1,IF(AND(I$9=RIGHT('CONDUIT LENGTH'!$L32,2),LEFT('CONDUIT LENGTH'!$L32,3)=\"2x3\")=TRUE,IF(LEFT('CONDUIT LENGTH'!$L32,2)=\"2x\",'CONDUIT LENGTH'!$K32*-1*2,\"\"),\"\")),\"\"),IF(LEFT(J$6,1)='CONDUIT LENGTH'!$M32,IF(I$9='CONDUIT LENGTH'!$L32,'CONDUIT LENGTH'!$K32,IF(AND(I$9=RIGHT('CONDUIT LENGTH'!$L32,2),LEFT('CONDUIT LENGTH'!$L32,3)=\"2x3\")=TRUE,IF(LEFT('CONDUIT LENGTH'!$L32,2)=\"2x\",'CONDUIT LENGTH'!$K32*2,\"\"),\"\")),\"\"))","v":""},{"$f":"IF($B39=\"SOURCE\",IF(LEFT(J$6,1)='CONDUIT LENGTH'!$M32,IF(J$9='CONDUIT LENGTH'!$L32,'CONDUIT LENGTH'!$K32*-1,IF(AND(J$9=RIGHT('CONDUIT LENGTH'!$L32,2),LEFT('CONDUIT LENGTH'!$L32,3)=\"2x3\")=TRUE,IF(LEFT('CONDUIT LENGTH'!$L32,2)=\"2x\",'CONDUIT LENGTH'!$K32*-1*2,\"\"),\"\")),\"\"),IF(LEFT(J$6,1)='CONDUIT LENGTH'!$M32,IF(J$9='CONDUIT LENGTH'!$L32,'CONDUIT LENGTH'!$K32,IF(AND(J$9=RIGHT('CONDUIT LENGTH'!$L32,2),LEFT('CONDUIT LENGTH'!$L32,3)=\"2x3\")=TRUE,IF(LEFT('CONDUIT LENGTH'!$L32,2)=\"2x\",'CONDUIT LENGTH'!$K32*2,\"\"),\"\")),\"\"))","v":""},{"$f":"IF($B39=\"SOURCE\",IF(LEFT(J$6,1)='CONDUIT LENGTH'!$M32,IF(K$9='CONDUIT LENGTH'!$L32,'CONDUIT LENGTH'!$K32*-1,IF(AND(K$9=RIGHT('CONDUIT LENGTH'!$L32,2),LEFT('CONDUIT LENGTH'!$L32,3)=\"2x3\")=TRUE,IF(LEFT('CONDUIT LENGTH'!$L32,2)=\"2x\",'CONDUIT LENGTH'!$K32*-1*2,\"\"),\"\")),\"\"),IF(LEFT(J$6,1)='CONDUIT LENGTH'!$M32,IF(K$9='CONDUIT LENGTH'!$L32,'CONDUIT LENGTH'!$K32,IF(AND(K$9=RIGHT('CONDUIT LENGTH'!$L32,2),LEFT('CONDUIT LENGTH'!$L32,3)=\"2x3\")=TRUE,IF(LEFT('CONDUIT LENGTH'!$L32,2)=\"2x\",'CONDUIT LENGTH'!$K32*2,\"\"),\"\")),\"\"))","v":""},{"$f":"IF($B39=\"SOURCE\",IF(LEFT(M$6,1)='CONDUIT LENGTH'!$M32,IF(L$9='CONDUIT LENGTH'!$L32,'CONDUIT LENGTH'!$K32*-1,IF(AND(L$9=RIGHT('CONDUIT LENGTH'!$L32,2),LEFT('CONDUIT LENGTH'!$L32,3)=\"2x3\")=TRUE,IF(LEFT('CONDUIT LENGTH'!$L32,2)=\"2x\",'CONDUIT LENGTH'!$K32*-1*2,\"\"),\"\")),\"\"),IF(LEFT(M$6,1)='CONDUIT LENGTH'!$M32,IF(L$9='CONDUIT LENGTH'!$L32,'CONDUIT LENGTH'!$K32,IF(AND(L$9=RIGHT('CONDUIT LENGTH'!$L32,2),LEFT('CONDUIT LENGTH'!$L32,3)=\"2x3\")=TRUE,IF(LEFT('CONDUIT LENGTH'!$L32,2)=\"2x\",'CONDUIT LENGTH'!$K32*2,\"\"),\"\")),\"\"))","v":""},{"$f":"IF($B39=\"SOURCE\",IF(LEFT(M$6,1)='CONDUIT LENGTH'!$M32,IF(M$9='CONDUIT LENGTH'!$L32,'CONDUIT LENGTH'!$K32*-1,IF(AND(M$9=RIGHT('CONDUIT LENGTH'!$L32,2),LEFT('CONDUIT LENGTH'!$L32,3)=\"2x3\")=TRUE,IF(LEFT('CONDUIT LENGTH'!$L32,2)=\"2x\",'CONDUIT LENGTH'!$K32*-1*2,\"\"),\"\")),\"\"),IF(LEFT(M$6,1)='CONDUIT LENGTH'!$M32,IF(M$9='CONDUIT LENGTH'!$L32,'CONDUIT LENGTH'!$K32,IF(AND(M$9=RIGHT('CONDUIT LENGTH'!$L32,2),LEFT('CONDUIT LENGTH'!$L32,3)=\"2x3\")=TRUE,IF(LEFT('CONDUIT LENGTH'!$L32,2)=\"2x\",'CONDUIT LENGTH'!$K32*2,\"\"),\"\")),\"\"))","v":""},{"$f":"IF($B39=\"SOURCE\",IF(LEFT(M$6,1)='CONDUIT LENGTH'!$M32,IF(N$9='CONDUIT LENGTH'!$L32,'CONDUIT LENGTH'!$K32*-1,IF(AND(N$9=RIGHT('CONDUIT LENGTH'!$L32,2),LEFT('CONDUIT LENGTH'!$L32,3)=\"2x3\")=TRUE,IF(LEFT('CONDUIT LENGTH'!$L32,2)=\"2x\",'CONDUIT LENGTH'!$K32*-1*2,\"\"),\"\")),\"\"),IF(LEFT(M$6,1)='CONDUIT LENGTH'!$M32,IF(N$9='CONDUIT LENGTH'!$L32,'CONDUIT LENGTH'!$K32,IF(AND(N$9=RIGHT('CONDUIT LENGTH'!$L32,2),LEFT('CONDUIT LENGTH'!$L32,3)=\"2x3\")=TRUE,IF(LEFT('CONDUIT LENGTH'!$L32,2)=\"2x\",'CONDUIT LENGTH'!$K32*2,\"\"),\"\")),\"\"))","v":""},{"$f":"IF($B39=\"SOURCE\",IF(LEFT(P$5,1)='CONDUIT LENGTH'!$M32,IF(O$9='CONDUIT LENGTH'!$L32,'CONDUIT LENGTH'!$K32*-1,IF(AND(O$9=RIGHT('CONDUIT LENGTH'!$L32,2),LEFT('CONDUIT LENGTH'!$L32,3)=\"2x3\")=TRUE,IF(LEFT('CONDUIT LENGTH'!$L32,2)=\"2x\",'CONDUIT LENGTH'!$K32*-1*2,\"\"),\"\")),\"\"),IF(LEFT(P$6,1)='CONDUIT LENGTH'!$M32,IF(O$9='CONDUIT LENGTH'!$L32,'CONDUIT LENGTH'!$K32,IF(AND(O$9=RIGHT('CONDUIT LENGTH'!$L32,2),LEFT('CONDUIT LENGTH'!$L32,3)=\"2x3\")=TRUE,IF(LEFT('CONDUIT LENGTH'!$L32,2)=\"2x\",'CONDUIT LENGTH'!$K32*2,\"\"),\"\")),\"\"))","v":""},{"$f":"IF($B39=\"SOURCE\",IF(LEFT(P$5,1)='CONDUIT LENGTH'!$M32,IF(P$9='CONDUIT LENGTH'!$L32,'CONDUIT LENGTH'!$K32*-1,IF(AND(P$9=RIGHT('CONDUIT LENGTH'!$L32,2),LEFT('CONDUIT LENGTH'!$L32,3)=\"2x3\")=TRUE,IF(LEFT('CONDUIT LENGTH'!$L32,2)=\"2x\",'CONDUIT LENGTH'!$K32*-1*2,\"\"),\"\")),\"\"),IF(LEFT(P$6,1)='CONDUIT LENGTH'!$M32,IF(P$9='CONDUIT LENGTH'!$L32,'CONDUIT LENGTH'!$K32,IF(AND(P$9=RIGHT('CONDUIT LENGTH'!$L32,2),LEFT('CONDUIT LENGTH'!$L32,3)=\"2x3\")=TRUE,IF(LEFT('CONDUIT LENGTH'!$L32,2)=\"2x\",'CONDUIT LENGTH'!$K32*2,\"\"),\"\")),\"\"))","v":""},{"$f":"IF($B39=\"SOURCE\",IF(LEFT(P$5,1)='CONDUIT LENGTH'!$M32,IF(Q$9='CONDUIT LENGTH'!$L32,'CONDUIT LENGTH'!$K32*-1,IF(AND(Q$9=RIGHT('CONDUIT LENGTH'!$L32,2),LEFT('CONDUIT LENGTH'!$L32,3)=\"2x3\")=TRUE,IF(LEFT('CONDUIT LENGTH'!$L32,2)=\"2x\",'CONDUIT LENGTH'!$K32*-1*2,\"\"),\"\")),\"\"),IF(LEFT(Q$6,1)='CONDUIT LENGTH'!$M32,IF(Q$9='CONDUIT LENGTH'!$L32,'CONDUIT LENGTH'!$K32,IF(AND(Q$9=RIGHT('CONDUIT LENGTH'!$L32,2),LEFT('CONDUIT LENGTH'!$L32,3)=\"2x3\")=TRUE,IF(LEFT('CONDUIT LENGTH'!$L32,2)=\"2x\",'CONDUIT LENGTH'!$K32*2,\"\"),\"\")),\"\"))","v":""},{"$f":"IF('CONDUIT LENGTH'!M32=\"UIP\",\"UIP EXISTING\",\"\")","v":""},{"$f":"IF('CABLE LENGTH'!A33>0,'CABLE LENGTH'!A33,\"\")","v":""},{"$f":"IF('CABLE LENGTH'!B33>0,'CABLE LENGTH'!B33,\"\")","v":""},{"$f":"IF('CABLE LENGTH'!Q33>0,'CABLE LENGTH'!Q33,\"\")","v":""},{"$f":"IF($S39=\"SOURCE\",IF(V$9='CABLE LENGTH'!$AK33,'CABLE LENGTH'!$AJ33*'CABLE LENGTH'!$AL33*-1,\"\"),IF(V$9=\"VIDEO\",IF(V$9='CABLE LENGTH'!$AK33,'CABLE LENGTH'!$AJ33*'CABLE LENGTH'!$AL33*-1,\"\"),IF(V$9='CABLE LENGTH'!$AK33,'CABLE LENGTH'!$AJ33*'CABLE LENGTH'!$AL33,\"\")))","v":""},{"$f":"IF($S39=\"SOURCE\",IF(W$9='CABLE LENGTH'!$AK33,'CABLE LENGTH'!$AJ33*'CABLE LENGTH'!$AL33*-1,\"\"),IF(W$9=\"VIDEO\",IF(W$9='CABLE LENGTH'!$AK33,'CABLE LENGTH'!$AJ33*'CABLE LENGTH'!$AL33*-1,\"\"),IF(W$9='CABLE LENGTH'!$AK33,'CABLE LENGTH'!$AJ33*'CABLE LENGTH'!$AL33,\"\")))","v":""},{"$f":"IF($S39=\"SOURCE\",IF(X$10='CABLE LENGTH'!$AK33,'CABLE LENGTH'!$AJ33*'CABLE LENGTH'!$AL33*-1,\"\"),IF(X$10=\"VIDEO\",IF(X$10='CABLE LENGTH'!$AK33,'CABLE LENGTH'!$AJ33*'CABLE LENGTH'!$AL33*-1,\"\"),IF(X$10='CABLE LENGTH'!$AK33,'CABLE LENGTH'!$AJ33*'CABLE LENGTH'!$AL33,\"\")))","v":""},{"$f":"IF($S39=\"SOURCE\",IF(Y$10='CABLE LENGTH'!$AK33,'CABLE LENGTH'!$AJ33*'CABLE LENGTH'!$AL33*-1,\"\"),IF(Y$10=\"VIDEO\",IF(Y$10='CABLE LENGTH'!$AK33,'CABLE LENGTH'!$AJ33*'CABLE LENGTH'!$AL33*-1,\"\"),IF(Y$10='CABLE LENGTH'!$AK33,'CABLE LENGTH'!$AJ33*'CABLE LENGTH'!$AL33,\"\")))","v":""},{"$f":"IF($S39=\"SOURCE\",IF(Z$10='CABLE LENGTH'!$AK33,'CABLE LENGTH'!$AJ33*'CABLE LENGTH'!$AL33*-1,\"\"),IF(Z$10=\"VIDEO\",IF(Z$10='CABLE LENGTH'!$AK33,'CABLE LENGTH'!$AJ33*'CABLE LENGTH'!$AL33*-1,\"\"),IF(Z$10='CABLE LENGTH'!$AK33,'CABLE LENGTH'!$AJ33*'CABLE LENGTH'!$AL33,\"\")))","v":""},{"$f":"IF($S39=\"SOURCE\",IF(AA$10='CABLE LENGTH'!$AK33,'CABLE LENGTH'!$AJ33*'CABLE LENGTH'!$AL33*-1,\"\"),IF(AA$10=\"VIDEO\",IF(AA$10='CABLE LENGTH'!$AK33,'CABLE LENGTH'!$AJ33*'CABLE LENGTH'!$AL33*-1,\"\"),IF(AA$10='CABLE LENGTH'!$AK33,'CABLE LENGTH'!$AJ33*'CABLE LENGTH'!$AL33,\"\")))","v":""},{"$f":"IF($S39=\"SOURCE\",IF(AB$10='CABLE LENGTH'!$AK33,'CABLE LENGTH'!$AJ33*'CABLE LENGTH'!$AL33*-1,\"\"),IF(AB$10=\"VIDEO\",IF(AB$10='CABLE LENGTH'!$AK33,'CABLE LENGTH'!$AJ33*'CABLE LENGTH'!$AL33*-1,\"\"),IF(AB$10='CABLE LENGTH'!$AK33,'CABLE LENGTH'!$AJ33*'CABLE LENGTH'!$AL33,\"\")))","v":""},{"$f":"IF($S39=\"SOURCE\",IF(AC$10='CABLE LENGTH'!$AK33,'CABLE LENGTH'!$AJ33*'CABLE LENGTH'!$AL33*-1,\"\"),IF(AC$10=\"VIDEO\",IF(AC$10='CABLE LENGTH'!$AK33,'CABLE LENGTH'!$AJ33*'CABLE LENGTH'!$AL33*-1,\"\"),IF(AC$10='CABLE LENGTH'!$AK33,'CABLE LENGTH'!$AJ33*'CABLE LENGTH'!$AL33,\"\")))","v":""},{"$f":"IF($S39=\"SOURCE\",IF(AD$9='CABLE LENGTH'!$AK33,'CABLE LENGTH'!$AJ33*'CABLE LENGTH'!$AL33*-1,\"\"),IF(AD$9=\"VIDEO\",IF(AD$9='CABLE LENGTH'!$AK33,'CABLE LENGTH'!$AJ33*'CABLE LENGTH'!$AL33*-1,\"\"),IF(AD$9='CABLE LENGTH'!$AK33,'CABLE LENGTH'!$AJ33*'CABLE LENGTH'!$AL33,\"\")))","v":""},{"$f":"IF($S39=\"SOURCE\",IF(AE$9='CABLE LENGTH'!$AK33,'CABLE LENGTH'!$AJ33*'CABLE LENGTH'!$AL33*-1,\"\"),IF(AE$9=\"VIDEO\",IF(AE$9='CABLE LENGTH'!$AK33,'CABLE LENGTH'!$AJ33*'CABLE LENGTH'!$AL33*-1,\"\"),IF(AE$9='CABLE LENGTH'!$AK33,'CABLE LENGTH'!$AJ33*'CABLE LENGTH'!$AL33,\"\")))","v":""},{"$f":"IF($S39=\"SOURCE\",IF(AF$9='CABLE LENGTH'!$AK33,'CABLE LENGTH'!$AJ33*'CABLE LENGTH'!$AL33*-1,\"\"),IF(AF$9=\"VIDEO\",IF(AF$9='CABLE LENGTH'!$AK33,'CABLE LENGTH'!$AJ33*'CABLE LENGTH'!$AL33*-1,\"\"),IF(AF$9='CABLE LENGTH'!$AK33,'CABLE LENGTH'!$AJ33*'CABLE LENGTH'!$AL33,\"\")))","v":""}]
[0.3,{"$f":"IF('CONDUIT LENGTH'!A33>0,'CONDUIT LENGTH'!A33,\" \")","v":" "},{"$f":"IF('CONDUIT LENGTH'!B33>0,'CONDUIT LENGTH'!B33,\" \")","v":" "},{"$f":"IF('CONDUIT LENGTH'!C33>0,'CONDUIT LENGTH'!C33,\" \")","v":" "},{"$f":"IF($B40=\"SOURCE\",IF(LEFT(E$5,1)='CONDUIT LENGTH'!$M33,IF(E$9='CONDUIT LENGTH'!$L33,'CONDUIT LENGTH'!$K33*-1,IF(AND(E$9=RIGHT('CONDUIT LENGTH'!$L33,2),LEFT('CONDUIT LENGTH'!$L33,3)=\"2x3\")=TRUE,IF(LEFT('CONDUIT LENGTH'!$L33,2)=\"2x\",'CONDUIT LENGTH'!$K33*-1*2,\"\"),\"\")),\"\"),IF(LEFT(E$5,1)='CONDUIT LENGTH'!$M33,IF(E$9='CONDUIT LENGTH'!$L33,'CONDUIT LENGTH'!$K33,IF(AND(E$9=RIGHT('CONDUIT LENGTH'!$L33,2),LEFT('CONDUIT LENGTH'!$L33,3)=\"2x3\")=TRUE,IF(LEFT('CONDUIT LENGTH'!$L33,2)=\"2x\",'CONDUIT LENGTH'!$K33*2,\"\"),\"\")),\"\"))","v":""},{"$f":"IF($B40=\"SOURCE\",IF(LEFT(G$6,1)='CONDUIT LENGTH'!$M33,IF(F$9='CONDUIT LENGTH'!$L33,'CONDUIT LENGTH'!$K33*-1,IF(AND(F$9=RIGHT('CONDUIT LENGTH'!$L33,2),LEFT('CONDUIT LENGTH'!$L33,3)=\"2x3\")=TRUE,IF(LEFT('CONDUIT LENGTH'!$L33,2)=\"2x\",'CONDUIT LENGTH'!$K33*-1*2,\"\"),\"\")),\"\"),IF(LEFT(G$6,1)='CONDUIT LENGTH'!$M33,IF(F$9='CONDUIT LENGTH'!$L33,'CONDUIT LENGTH'!$K33,IF(AND(F$9=RIGHT('CONDUIT LENGTH'!$L33,2),LEFT('CONDUIT LENGTH'!$L33,3)=\"2x3\")=TRUE,IF(LEFT('CONDUIT LENGTH'!$L33,2)=\"2x\",'CONDUIT LENGTH'!$K33*2,\"\"),\"\")),\"\"))","v":""},{"$f":"IF($B40=\"SOURCE\",IF(LEFT(G$6,1)='CONDUIT LENGTH'!$M33,IF(G$9='CONDUIT LENGTH'!$L33,'CONDUIT LENGTH'!$K33*-1,IF(AND(G$9=RIGHT('CONDUIT LENGTH'!$L33,2),LEFT('CONDUIT LENGTH'!$L33,3)=\"2x3\")=TRUE,IF(LEFT('CONDUIT LENGTH'!$L33,2)=\"2x\",'CONDUIT LENGTH'!$K33*-1*2,\"\"),\"\")),\"\"),IF(LEFT(G$6,1)='CONDUIT LENGTH'!$M33,IF(G$9='CONDUIT LENGTH'!$L33,'CONDUIT LENGTH'!$K33,IF(AND(G$9=RIGHT('CONDUIT LENGTH'!$L33,2),LEFT('CONDUIT LENGTH'!$L33,3)=\"2x3\")=TRUE,IF(LEFT('CONDUIT LENGTH'!$L33,2)=\"2x\",'CONDUIT LENGTH'!$K33*2,\"\"),\"\")),\"\"))","v":""},{"$f":"IF($B40=\"SOURCE\",IF(LEFT(G$6,1)='CONDUIT LENGTH'!$M33,IF(H$9='CONDUIT LENGTH'!$L33,'CONDUIT LENGTH'!$K33*-1,IF(AND(H$9=RIGHT('CONDUIT LENGTH'!$L33,2),LEFT('CONDUIT LENGTH'!$L33,3)=\"2x3\")=TRUE,IF(LEFT('CONDUIT LENGTH'!$L33,2)=\"2x\",'CONDUIT LENGTH'!$K33*-1*2,\"\"),\"\")),\"\"),IF(LEFT(G$6,1)='CONDUIT LENGTH'!$M33,IF(H$9='CONDUIT LENGTH'!$L33,'CONDUIT LENGTH'!$K33,IF(AND(H$9=RIGHT('CONDUIT LENGTH'!$L33,2),LEFT('CONDUIT LENGTH'!$L33,3)=\"2x3\")=TRUE,IF(LEFT('CONDUIT LENGTH'!$L33,2)=\"2x\",'CONDUIT LENGTH'!$K33*2,\"\"),\"\")),\"\"))","v":""},{"$f":"IF($B40=\"SOURCE\",IF(LEFT(J$6,1)='CONDUIT LENGTH'!$M33,IF(I$9='CONDUIT LENGTH'!$L33,'CONDUIT LENGTH'!$K33*-1,IF(AND(I$9=RIGHT('CONDUIT LENGTH'!$L33,2),LEFT('CONDUIT LENGTH'!$L33,3)=\"2x3\")=TRUE,IF(LEFT('CONDUIT LENGTH'!$L33,2)=\"2x\",'CONDUIT LENGTH'!$K33*-1*2,\"\"),\"\")),\"\"),IF(LEFT(J$6,1)='CONDUIT LENGTH'!$M33,IF(I$9='CONDUIT LENGTH'!$L33,'CONDUIT LENGTH'!$K33,IF(AND(I$9=RIGHT('CONDUIT LENGTH'!$L33,2),LEFT('CONDUIT LENGTH'!$L33,3)=\"2x3\")=TRUE,IF(LEFT('CONDUIT LENGTH'!$L33,2)=\"2x\",'CONDUIT LENGTH'!$K33*2,\"\"),\"\")),\"\"))","v":""},{"$f":"IF($B40=\"SOURCE\",IF(LEFT(J$6,1)='CONDUIT LENGTH'!$M33,IF(J$9='CONDUIT LENGTH'!$L33,'CONDUIT LENGTH'!$K33*-1,IF(AND(J$9=RIGHT('CONDUIT LENGTH'!$L33,2),LEFT('CONDUIT LENGTH'!$L33,3)=\"2x3\")=TRUE,IF(LEFT('CONDUIT LENGTH'!$L33,2)=\"2x\",'CONDUIT LENGTH'!$K33*-1*2,\"\"),\"\")),\"\"),IF(LEFT(J$6,1)='CONDUIT LENGTH'!$M33,IF(J$9='CONDUIT LENGTH'!$L33,'CONDUIT LENGTH'!$K33,IF(AND(J$9=RIGHT('CONDUIT LENGTH'!$L33,2),LEFT('CONDUIT LENGTH'!$L33,3)=\"2x3\")=TRUE,IF(LEFT('CONDUIT LENGTH'!$L33,2)=\"2x\",'CONDUIT LENGTH'!$K33*2,\"\"),\"\")),\"\"))","v":""},{"$f":"IF($B40=\"SOURCE\",IF(LEFT(J$6,1)='CONDUIT LENGTH'!$M33,IF(K$9='CONDUIT LENGTH'!$L33,'CONDUIT LENGTH'!$K33*-1,IF(AND(K$9=RIGHT('CONDUIT LENGTH'!$L33,2),LEFT('CONDUIT LENGTH'!$L33,3)=\"2x3\")=TRUE,IF(LEFT('CONDUIT LENGTH'!$L33,2)=\"2x\",'CONDUIT LENGTH'!$K33*-1*2,\"\"),\"\")),\"\"),IF(LEFT(J$6,1)='CONDUIT LENGTH'!$M33,IF(K$9='CONDUIT LENGTH'!$L33,'CONDUIT LENGTH'!$K33,IF(AND(K$9=RIGHT('CONDUIT LENGTH'!$L33,2),LEFT('CONDUIT LENGTH'!$L33,3)=\"2x3\")=TRUE,IF(LEFT('CONDUIT LENGTH'!$L33,2)=\"2x\",'CONDUIT LENGTH'!$K33*2,\"\"),\"\")),\"\"))","v":""},{"$f":"IF($B40=\"SOURCE\",IF(LEFT(M$6,1)='CONDUIT LENGTH'!$M33,IF(L$9='CONDUIT LENGTH'!$L33,'CONDUIT LENGTH'!$K33*-1,IF(AND(L$9=RIGHT('CONDUIT LENGTH'!$L33,2),LEFT('CONDUIT LENGTH'!$L33,3)=\"2x3\")=TRUE,IF(LEFT('CONDUIT LENGTH'!$L33,2)=\"2x\",'CONDUIT LENGTH'!$K33*-1*2,\"\"),\"\")),\"\"),IF(LEFT(M$6,1)='CONDUIT LENGTH'!$M33,IF(L$9='CONDUIT LENGTH'!$L33,'CONDUIT LENGTH'!$K33,IF(AND(L$9=RIGHT('CONDUIT LENGTH'!$L33,2),LEFT('CONDUIT LENGTH'!$L33,3)=\"2x3\")=TRUE,IF(LEFT('CONDUIT LENGTH'!$L33,2)=\"2x\",'CONDUIT LENGTH'!$K33*2,\"\"),\"\")),\"\"))","v":""},{"$f":"IF($B40=\"SOURCE\",IF(LEFT(M$6,1)='CONDUIT LENGTH'!$M33,IF(M$9='CONDUIT LENGTH'!$L33,'CONDUIT LENGTH'!$K33*-1,IF(AND(M$9=RIGHT('CONDUIT LENGTH'!$L33,2),LEFT('CONDUIT LENGTH'!$L33,3)=\"2x3\")=TRUE,IF(LEFT('CONDUIT LENGTH'!$L33,2)=\"2x\",'CONDUIT LENGTH'!$K33*-1*2,\"\"),\"\")),\"\"),IF(LEFT(M$6,1)='CONDUIT LENGTH'!$M33,IF(M$9='CONDUIT LENGTH'!$L33,'CONDUIT LENGTH'!$K33,IF(AND(M$9=RIGHT('CONDUIT LENGTH'!$L33,2),LEFT('CONDUIT LENGTH'!$L33,3)=\"2x3\")=TRUE,IF(LEFT('CONDUIT LENGTH'!$L33,2)=\"2x\",'CONDUIT LENGTH'!$K33*2,\"\"),\"\")),\"\"))","v":""},{"$f":"IF($B40=\"SOURCE\",IF(LEFT(M$6,1)='CONDUIT LENGTH'!$M33,IF(N$9='CONDUIT LENGTH'!$L33,'CONDUIT LENGTH'!$K33*-1,IF(AND(N$9=RIGHT('CONDUIT LENGTH'!$L33,2),LEFT('CONDUIT LENGTH'!$L33,3)=\"2x3\")=TRUE,IF(LEFT('CONDUIT LENGTH'!$L33,2)=\"2x\",'CONDUIT LENGTH'!$K33*-1*2,\"\"),\"\")),\"\"),IF(LEFT(M$6,1)='CONDUIT LENGTH'!$M33,IF(N$9='CONDUIT LENGTH'!$L33,'CONDUIT LENGTH'!$K33,IF(AND(N$9=RIGHT('CONDUIT LENGTH'!$L33,2),LEFT('CONDUIT LENGTH'!$L33,3)=\"2x3\")=TRUE,IF(LEFT('CONDUIT LENGTH'!$L33,2)=\"2x\",'CONDUIT LENGTH'!$K33*2,\"\"),\"\")),\"\"))","v":""},{"$f":"IF($B40=\"SOURCE\",IF(LEFT(P$5,1)='CONDUIT LENGTH'!$M33,IF(O$9='CONDUIT LENGTH'!$L33,'CONDUIT LENGTH'!$K33*-1,IF(AND(O$9=RIGHT('CONDUIT LENGTH'!$L33,2),LEFT('CONDUIT LENGTH'!$L33,3)=\"2x3\")=TRUE,IF(LEFT('CONDUIT LENGTH'!$L33,2)=\"2x\",'CONDUIT LENGTH'!$K33*-1*2,\"\"),\"\")),\"\"),IF(LEFT(P$6,1)='CONDUIT LENGTH'!$M33,IF(O$9='CONDUIT LENGTH'!$L33,'CONDUIT LENGTH'!$K33,IF(AND(O$9=RIGHT('CONDUIT LENGTH'!$L33,2),LEFT('CONDUIT LENGTH'!$L33,3)=\"2x3\")=TRUE,IF(LEFT('CONDUIT LENGTH'!$L33,2)=\"2x\",'CONDUIT LENGTH'!$K33*2,\"\"),\"\")),\"\"))","v":""},{"$f":"IF($B40=\"SOURCE\",IF(LEFT(P$5,1)='CONDUIT LENGTH'!$M33,IF(P$9='CONDUIT LENGTH'!$L33,'CONDUIT LENGTH'!$K33*-1,IF(AND(P$9=RIGHT('CONDUIT LENGTH'!$L33,2),LEFT('CONDUIT LENGTH'!$L33,3)=\"2x3\")=TRUE,IF(LEFT('CONDUIT LENGTH'!$L33,2)=\"2x\",'CONDUIT LENGTH'!$K33*-1*2,\"\"),\"\")),\"\"),IF(LEFT(P$6,1)='CONDUIT LENGTH'!$M33,IF(P$9='CONDUIT LENGTH'!$L33,'CONDUIT LENGTH'!$K33,IF(AND(P$9=RIGHT('CONDUIT LENGTH'!$L33,2),LEFT('CONDUIT LENGTH'!$L33,3)=\"2x3\")=TRUE,IF(LEFT('CONDUIT LENGTH'!$L33,2)=\"2x\",'CONDUIT LENGTH'!$K33*2,\"\"),\"\")),\"\"))","v":""},{"$f":"IF($B40=\"SOURCE\",IF(LEFT(P$5,1)='CONDUIT LENGTH'!$M33,IF(Q$9='CONDUIT LENGTH'!$L33,'CONDUIT LENGTH'!$K33*-1,IF(AND(Q$9=RIGHT('CONDUIT LENGTH'!$L33,2),LEFT('CONDUIT LENGTH'!$L33,3)=\"2x3\")=TRUE,IF(LEFT('CONDUIT LENGTH'!$L33,2)=\"2x\",'CONDUIT LENGTH'!$K33*-1*2,\"\"),\"\")),\"\"),IF(LEFT(Q$6,1)='CONDUIT LENGTH'!$M33,IF(Q$9='CONDUIT LENGTH'!$L33,'CONDUIT LENGTH'!$K33,IF(AND(Q$9=RIGHT('CONDUIT LENGTH'!$L33,2),LEFT('CONDUIT LENGTH'!$L33,3)=\"2x3\")=TRUE,IF(LEFT('CONDUIT LENGTH'!$L33,2)=\"2x\",'CONDUIT LENGTH'!$K33*2,\"\"),\"\")),\"\"))","v":""},{"$f":"IF('CONDUIT LENGTH'!M33=\"UIP\",\"UIP EXISTING\",\"\")","v":""},{"$f":"IF('CABLE LENGTH'!A34>0,'CABLE LENGTH'!A34,\"\")","v":""},{"$f":"IF('CABLE LENGTH'!B34>0,'CABLE LENGTH'!B34,\"\")","v":""},{"$f":"IF('CABLE LENGTH'!Q34>0,'CABLE LENGTH'!Q34,\"\")","v":""},{"$f":"IF($S40=\"SOURCE\",IF(V$9='CABLE LENGTH'!$AK34,'CABLE LENGTH'!$AJ34*'CABLE LENGTH'!$AL34*-1,\"\"),IF(V$9=\"VIDEO\",IF(V$9='CABLE LENGTH'!$AK34,'CABLE LENGTH'!$AJ34*'CABLE LENGTH'!$AL34*-1,\"\"),IF(V$9='CABLE LENGTH'!$AK34,'CABLE LENGTH'!$AJ34*'CABLE LENGTH'!$AL34,\"\")))","v":""},{"$f":"IF($S40=\"SOURCE\",IF(W$9='CABLE LENGTH'!$AK34,'CABLE LENGTH'!$AJ34*'CABLE LENGTH'!$AL34*-1,\"\"),IF(W$9=\"VIDEO\",IF(W$9='CABLE LENGTH'!$AK34,'CABLE LENGTH'!$AJ34*'CABLE LENGTH'!$AL34*-1,\"\"),IF(W$9='CABLE LENGTH'!$AK34,'CABLE LENGTH'!$AJ34*'CABLE LENGTH'!$AL34,\"\")))","v":""},{"$f":"IF($S40=\"SOURCE\",IF(X$10='CABLE LENGTH'!$AK34,'CABLE LENGTH'!$AJ34*'CABLE LENGTH'!$AL34*-1,\"\"),IF(X$10=\"VIDEO\",IF(X$10='CABLE LENGTH'!$AK34,'CABLE LENGTH'!$AJ34*'CABLE LENGTH'!$AL34*-1,\"\"),IF(X$10='CABLE LENGTH'!$AK34,'CABLE LENGTH'!$AJ34*'CABLE LENGTH'!$AL34,\"\")))","v":""},{"$f":"IF($S40=\"SOURCE\",IF(Y$10='CABLE LENGTH'!$AK34,'CABLE LENGTH'!$AJ34*'CABLE LENGTH'!$AL34*-1,\"\"),IF(Y$10=\"VIDEO\",IF(Y$10='CABLE LENGTH'!$AK34,'CABLE LENGTH'!$AJ34*'CABLE LENGTH'!$AL34*-1,\"\"),IF(Y$10='CABLE LENGTH'!$AK34,'CABLE LENGTH'!$AJ34*'CABLE LENGTH'!$AL34,\"\")))","v":""},{"$f":"IF($S40=\"SOURCE\",IF(Z$10='CABLE LENGTH'!$AK34,'CABLE LENGTH'!$AJ34*'CABLE LENGTH'!$AL34*-1,\"\"),IF(Z$10=\"VIDEO\",IF(Z$10='CABLE LENGTH'!$AK34,'CABLE LENGTH'!$AJ34*'CABLE LENGTH'!$AL34*-1,\"\"),IF(Z$10='CABLE LENGTH'!$AK34,'CABLE LENGTH'!$AJ34*'CABLE LENGTH'!$AL34,\"\")))","v":""},{"$f":"IF($S40=\"SOURCE\",IF(AA$10='CABLE LENGTH'!$AK34,'CABLE LENGTH'!$AJ34*'CABLE LENGTH'!$AL34*-1,\"\"),IF(AA$10=\"VIDEO\",IF(AA$10='CABLE LENGTH'!$AK34,'CABLE LENGTH'!$AJ34*'CABLE LENGTH'!$AL34*-1,\"\"),IF(AA$10='CABLE LENGTH'!$AK34,'CABLE LENGTH'!$AJ34*'CABLE LENGTH'!$AL34,\"\")))","v":""},{"$f":"IF($S40=\"SOURCE\",IF(AB$10='CABLE LENGTH'!$AK34,'CABLE LENGTH'!$AJ34*'CABLE LENGTH'!$AL34*-1,\"\"),IF(AB$10=\"VIDEO\",IF(AB$10='CABLE LENGTH'!$AK34,'CABLE LENGTH'!$AJ34*'CABLE LENGTH'!$AL34*-1,\"\"),IF(AB$10='CABLE LENGTH'!$AK34,'CABLE LENGTH'!$AJ34*'CABLE LENGTH'!$AL34,\"\")))","v":""},{"$f":"IF($S40=\"SOURCE\",IF(AC$10='CABLE LENGTH'!$AK34,'CABLE LENGTH'!$AJ34*'CABLE LENGTH'!$AL34*-1,\"\"),IF(AC$10=\"VIDEO\",IF(AC$10='CABLE LENGTH'!$AK34,'CABLE LENGTH'!$AJ34*'CABLE LENGTH'!$AL34*-1,\"\"),IF(AC$10='CABLE LENGTH'!$AK34,'CABLE LENGTH'!$AJ34*'CABLE LENGTH'!$AL34,\"\")))","v":""},{"$f":"IF($S40=\"SOURCE\",IF(AD$9='CABLE LENGTH'!$AK34,'CABLE LENGTH'!$AJ34*'CABLE LENGTH'!$AL34*-1,\"\"),IF(AD$9=\"VIDEO\",IF(AD$9='CABLE LENGTH'!$AK34,'CABLE LENGTH'!$AJ34*'CABLE LENGTH'!$AL34*-1,\"\"),IF(AD$9='CABLE LENGTH'!$AK34,'CABLE LENGTH'!$AJ34*'CABLE LENGTH'!$AL34,\"\")))","v":""},{"$f":"IF($S40=\"SOURCE\",IF(AE$9='CABLE LENGTH'!$AK34,'CABLE LENGTH'!$AJ34*'CABLE LENGTH'!$AL34*-1,\"\"),IF(AE$9=\"VIDEO\",IF(AE$9='CABLE LENGTH'!$AK34,'CABLE LENGTH'!$AJ34*'CABLE LENGTH'!$AL34*-1,\"\"),IF(AE$9='CABLE LENGTH'!$AK34,'CABLE LENGTH'!$AJ34*'CABLE LENGTH'!$AL34,\"\")))","v":""},{"$f":"IF($S40=\"SOURCE\",IF(AF$9='CABLE LENGTH'!$AK34,'CABLE LENGTH'!$AJ34*'CABLE LENGTH'!$AL34*-1,\"\"),IF(AF$9=\"VIDEO\",IF(AF$9='CABLE LENGTH'!$AK34,'CABLE LENGTH'!$AJ34*'CABLE LENGTH'!$AL34*-1,\"\"),IF(AF$9='CABLE LENGTH'!$AK34,'CABLE LENGTH'!$AJ34*'CABLE LENGTH'!$AL34,\"\")))","v":""}]
[0.3,{"$f":"IF('CONDUIT LENGTH'!A34>0,'CONDUIT LENGTH'!A34,\" \")","v":" "},{"$f":"IF('CONDUIT LENGTH'!B34>0,'CONDUIT LENGTH'!B34,\" \")","v":" "},{"$f":"IF('CONDUIT LENGTH'!C34>0,'CONDUIT LENGTH'!C34,\" \")","v":" "},{"$f":"IF($B41=\"SOURCE\",IF(LEFT(E$5,1)='CONDUIT LENGTH'!$M34,IF(E$9='CONDUIT LENGTH'!$L34,'CONDUIT LENGTH'!$K34*-1,IF(AND(E$9=RIGHT('CONDUIT LENGTH'!$L34,2),LEFT('CONDUIT LENGTH'!$L34,3)=\"2x3\")=TRUE,IF(LEFT('CONDUIT LENGTH'!$L34,2)=\"2x\",'CONDUIT LENGTH'!$K34*-1*2,\"\"),\"\")),\"\"),IF(LEFT(E$5,1)='CONDUIT LENGTH'!$M34,IF(E$9='CONDUIT LENGTH'!$L34,'CONDUIT LENGTH'!$K34,IF(AND(E$9=RIGHT('CONDUIT LENGTH'!$L34,2),LEFT('CONDUIT LENGTH'!$L34,3)=\"2x3\")=TRUE,IF(LEFT('CONDUIT LENGTH'!$L34,2)=\"2x\",'CONDUIT LENGTH'!$K34*2,\"\"),\"\")),\"\"))","v":""},{"$f":"IF($B41=\"SOURCE\",IF(LEFT(G$6,1)='CONDUIT LENGTH'!$M34,IF(F$9='CONDUIT LENGTH'!$L34,'CONDUIT LENGTH'!$K34*-1,IF(AND(F$9=RIGHT('CONDUIT LENGTH'!$L34,2),LEFT('CONDUIT LENGTH'!$L34,3)=\"2x3\")=TRUE,IF(LEFT('CONDUIT LENGTH'!$L34,2)=\"2x\",'CONDUIT LENGTH'!$K34*-1*2,\"\"),\"\")),\"\"),IF(LEFT(G$6,1)='CONDUIT LENGTH'!$M34,IF(F$9='CONDUIT LENGTH'!$L34,'CONDUIT LENGTH'!$K34,IF(AND(F$9=RIGHT('CONDUIT LENGTH'!$L34,2),LEFT('CONDUIT LENGTH'!$L34,3)=\"2x3\")=TRUE,IF(LEFT('CONDUIT LENGTH'!$L34,2)=\"2x\",'CONDUIT LENGTH'!$K34*2,\"\"),\"\")),\"\"))","v":""},{"$f":"IF($B41=\"SOURCE\",IF(LEFT(G$6,1)='CONDUIT LENGTH'!$M34,IF(G$9='CONDUIT LENGTH'!$L34,'CONDUIT LENGTH'!$K34*-1,IF(AND(G$9=RIGHT('CONDUIT LENGTH'!$L34,2),LEFT('CONDUIT LENGTH'!$L34,3)=\"2x3\")=TRUE,IF(LEFT('CONDUIT LENGTH'!$L34,2)=\"2x\",'CONDUIT LENGTH'!$K34*-1*2,\"\"),\"\")),\"\"),IF(LEFT(G$6,1)='CONDUIT LENGTH'!$M34,IF(G$9='CONDUIT LENGTH'!$L34,'CONDUIT LENGTH'!$K34,IF(AND(G$9=RIGHT('CONDUIT LENGTH'!$L34,2),LEFT('CONDUIT LENGTH'!$L34,3)=\"2x3\")=TRUE,IF(LEFT('CONDUIT LENGTH'!$L34,2)=\"2x\",'CONDUIT LENGTH'!$K34*2,\"\"),\"\")),\"\"))","v":""},{"$f":"IF($B41=\"SOURCE\",IF(LEFT(G$6,1)='CONDUIT LENGTH'!$M34,IF(H$9='CONDUIT LENGTH'!$L34,'CONDUIT LENGTH'!$K34*-1,IF(AND(H$9=RIGHT('CONDUIT LENGTH'!$L34,2),LEFT('CONDUIT LENGTH'!$L34,3)=\"2x3\")=TRUE,IF(LEFT('CONDUIT LENGTH'!$L34,2)=\"2x\",'CONDUIT LENGTH'!$K34*-1*2,\"\"),\"\")),\"\"),IF(LEFT(G$6,1)='CONDUIT LENGTH'!$M34,IF(H$9='CONDUIT LENGTH'!$L34,'CONDUIT LENGTH'!$K34,IF(AND(H$9=RIGHT('CONDUIT LENGTH'!$L34,2),LEFT('CONDUIT LENGTH'!$L34,3)=\"2x3\")=TRUE,IF(LEFT('CONDUIT LENGTH'!$L34,2)=\"2x\",'CONDUIT LENGTH'!$K34*2,\"\"),\"\")),\"\"))","v":""},{"$f":"IF($B41=\"SOURCE\",IF(LEFT(J$6,1)='CONDUIT LENGTH'!$M34,IF(I$9='CONDUIT LENGTH'!$L34,'CONDUIT LENGTH'!$K34*-1,IF(AND(I$9=RIGHT('CONDUIT LENGTH'!$L34,2),LEFT('CONDUIT LENGTH'!$L34,3)=\"2x3\")=TRUE,IF(LEFT('CONDUIT LENGTH'!$L34,2)=\"2x\",'CONDUIT LENGTH'!$K34*-1*2,\"\"),\"\")),\"\"),IF(LEFT(J$6,1)='CONDUIT LENGTH'!$M34,IF(I$9='CONDUIT LENGTH'!$L34,'CONDUIT LENGTH'!$K34,IF(AND(I$9=RIGHT('CONDUIT LENGTH'!$L34,2),LEFT('CONDUIT LENGTH'!$L34,3)=\"2x3\")=TRUE,IF(LEFT('CONDUIT LENGTH'!$L34,2)=\"2x\",'CONDUIT LENGTH'!$K34*2,\"\"),\"\")),\"\"))","v":""},{"$f":"IF($B41=\"SOURCE\",IF(LEFT(J$6,1)='CONDUIT LENGTH'!$M34,IF(J$9='CONDUIT LENGTH'!$L34,'CONDUIT LENGTH'!$K34*-1,IF(AND(J$9=RIGHT('CONDUIT LENGTH'!$L34,2),LEFT('CONDUIT LENGTH'!$L34,3)=\"2x3\")=TRUE,IF(LEFT('CONDUIT LENGTH'!$L34,2)=\"2x\",'CONDUIT LENGTH'!$K34*-1*2,\"\"),\"\")),\"\"),IF(LEFT(J$6,1)='CONDUIT LENGTH'!$M34,IF(J$9='CONDUIT LENGTH'!$L34,'CONDUIT LENGTH'!$K34,IF(AND(J$9=RIGHT('CONDUIT LENGTH'!$L34,2),LEFT('CONDUIT LENGTH'!$L34,3)=\"2x3\")=TRUE,IF(LEFT('CONDUIT LENGTH'!$L34,2)=\"2x\",'CONDUIT LENGTH'!$K34*2,\"\"),\"\")),\"\"))","v":""},{"$f":"IF($B41=\"SOURCE\",IF(LEFT(J$6,1)='CONDUIT LENGTH'!$M34,IF(K$9='CONDUIT LENGTH'!$L34,'CONDUIT LENGTH'!$K34*-1,IF(AND(K$9=RIGHT('CONDUIT LENGTH'!$L34,2),LEFT('CONDUIT LENGTH'!$L34,3)=\"2x3\")=TRUE,IF(LEFT('CONDUIT LENGTH'!$L34,2)=\"2x\",'CONDUIT LENGTH'!$K34*-1*2,\"\"),\"\")),\"\"),IF(LEFT(J$6,1)='CONDUIT LENGTH'!$M34,IF(K$9='CONDUIT LENGTH'!$L34,'CONDUIT LENGTH'!$K34,IF(AND(K$9=RIGHT('CONDUIT LENGTH'!$L34,2),LEFT('CONDUIT LENGTH'!$L34,3)=\"2x3\")=TRUE,IF(LEFT('CONDUIT LENGTH'!$L34,2)=\"2x\",'CONDUIT LENGTH'!$K34*2,\"\"),\"\")),\"\"))","v":""},{"$f":"IF($B41=\"SOURCE\",IF(LEFT(M$6,1)='CONDUIT LENGTH'!$M34,IF(L$9='CONDUIT LENGTH'!$L34,'CONDUIT LENGTH'!$K34*-1,IF(AND(L$9=RIGHT('CONDUIT LENGTH'!$L34,2),LEFT('CONDUIT LENGTH'!$L34,3)=\"2x3\")=TRUE,IF(LEFT('CONDUIT LENGTH'!$L34,2)=\"2x\",'CONDUIT LENGTH'!$K34*-1*2,\"\"),\"\")),\"\"),IF(LEFT(M$6,1)='CONDUIT LENGTH'!$M34,IF(L$9='CONDUIT LENGTH'!$L34,'CONDUIT LENGTH'!$K34,IF(AND(L$9=RIGHT('CONDUIT LENGTH'!$L34,2),LEFT('CONDUIT LENGTH'!$L34,3)=\"2x3\")=TRUE,IF(LEFT('CONDUIT LENGTH'!$L34,2)=\"2x\",'CONDUIT LENGTH'!$K34*2,\"\"),\"\")),\"\"))","v":""},{"$f":"IF($B41=\"SOURCE\",IF(LEFT(M$6,1)='CONDUIT LENGTH'!$M34,IF(M$9='CONDUIT LENGTH'!$L34,'CONDUIT LENGTH'!$K34*-1,IF(AND(M$9=RIGHT('CONDUIT LENGTH'!$L34,2),LEFT('CONDUIT LENGTH'!$L34,3)=\"2x3\")=TRUE,IF(LEFT('CONDUIT LENGTH'!$L34,2)=\"2x\",'CONDUIT LENGTH'!$K34*-1*2,\"\"),\"\")),\"\"),IF(LEFT(M$6,1)='CONDUIT LENGTH'!$M34,IF(M$9='CONDUIT LENGTH'!$L34,'CONDUIT LENGTH'!$K34,IF(AND(M$9=RIGHT('CONDUIT LENGTH'!$L34,2),LEFT('CONDUIT LENGTH'!$L34,3)=\"2x3\")=TRUE,IF(LEFT('CONDUIT LENGTH'!$L34,2)=\"2x\",'CONDUIT LENGTH'!$K34*2,\"\"),\"\")),\"\"))","v":""},{"$f":"IF($B41=\"SOURCE\",IF(LEFT(M$6,1)='CONDUIT LENGTH'!$M34,IF(N$9='CONDUIT LENGTH'!$L34,'CONDUIT LENGTH'!$K34*-1,IF(AND(N$9=RIGHT('CONDUIT LENGTH'!$L34,2),LEFT('CONDUIT LENGTH'!$L34,3)=\"2x3\")=TRUE,IF(LEFT('CONDUIT LENGTH'!$L34,2)=\"2x\",'CONDUIT LENGTH'!$K34*-1*2,\"\"),\"\")),\"\"),IF(LEFT(M$6,1)='CONDUIT LENGTH'!$M34,IF(N$9='CONDUIT LENGTH'!$L34,'CONDUIT LENGTH'!$K34,IF(AND(N$9=RIGHT('CONDUIT LENGTH'!$L34,2),LEFT('CONDUIT LENGTH'!$L34,3)=\"2x3\")=TRUE,IF(LEFT('CONDUIT LENGTH'!$L34,2)=\"2x\",'CONDUIT LENGTH'!$K34*2,\"\"),\"\")),\"\"))","v":""},{"$f":"IF($B41=\"SOURCE\",IF(LEFT(P$5,1)='CONDUIT LENGTH'!$M34,IF(O$9='CONDUIT LENGTH'!$L34,'CONDUIT LENGTH'!$K34*-1,IF(AND(O$9=RIGHT('CONDUIT LENGTH'!$L34,2),LEFT('CONDUIT LENGTH'!$L34,3)=\"2x3\")=TRUE,IF(LEFT('CONDUIT LENGTH'!$L34,2)=\"2x\",'CONDUIT LENGTH'!$K34*-1*2,\"\"),\"\")),\"\"),IF(LEFT(P$6,1)='CONDUIT LENGTH'!$M34,IF(O$9='CONDUIT LENGTH'!$L34,'CONDUIT LENGTH'!$K34,IF(AND(O$9=RIGHT('CONDUIT LENGTH'!$L34,2),LEFT('CONDUIT LENGTH'!$L34,3)=\"2x3\")=TRUE,IF(LEFT('CONDUIT LENGTH'!$L34,2)=\"2x\",'CONDUIT LENGTH'!$K34*2,\"\"),\"\")),\"\"))","v":""},{"$f":"IF($B41=\"SOURCE\",IF(LEFT(P$5,1)='CONDUIT LENGTH'!$M34,IF(P$9='CONDUIT LENGTH'!$L34,'CONDUIT LENGTH'!$K34*-1,IF(AND(P$9=RIGHT('CONDUIT LENGTH'!$L34,2),LEFT('CONDUIT LENGTH'!$L34,3)=\"2x3\")=TRUE,IF(LEFT('CONDUIT LENGTH'!$L34,2)=\"2x\",'CONDUIT LENGTH'!$K34*-1*2,\"\"),\"\")),\"\"),IF(LEFT(P$6,1)='CONDUIT LENGTH'!$M34,IF(P$9='CONDUIT LENGTH'!$L34,'CONDUIT LENGTH'!$K34,IF(AND(P$9=RIGHT('CONDUIT LENGTH'!$L34,2),LEFT('CONDUIT LENGTH'!$L34,3)=\"2x3\")=TRUE,IF(LEFT('CONDUIT LENGTH'!$L34,2)=\"2x\",'CONDUIT LENGTH'!$K34*2,\"\"),\"\")),\"\"))","v":""},{"$f":"IF($B41=\"SOURCE\",IF(LEFT(P$5,1)='CONDUIT LENGTH'!$M34,IF(Q$9='CONDUIT LENGTH'!$L34,'CONDUIT LENGTH'!$K34*-1,IF(AND(Q$9=RIGHT('CONDUIT LENGTH'!$L34,2),LEFT('CONDUIT LENGTH'!$L34,3)=\"2x3\")=TRUE,IF(LEFT('CONDUIT LENGTH'!$L34,2)=\"2x\",'CONDUIT LENGTH'!$K34*-1*2,\"\"),\"\")),\"\"),IF(LEFT(Q$6,1)='CONDUIT LENGTH'!$M34,IF(Q$9='CONDUIT LENGTH'!$L34,'CONDUIT LENGTH'!$K34,IF(AND(Q$9=RIGHT('CONDUIT LENGTH'!$L34,2),LEFT('CONDUIT LENGTH'!$L34,3)=\"2x3\")=TRUE,IF(LEFT('CONDUIT LENGTH'!$L34,2)=\"2x\",'CONDUIT LENGTH'!$K34*2,\"\"),\"\")),\"\"))","v":""},{"$f":"IF('CONDUIT LENGTH'!M34=\"UIP\",\"UIP EXISTING\",\"\")","v":""},{"$f":"IF('CABLE LENGTH'!A35>0,'CABLE LENGTH'!A35,\"\")","v":""},{"$f":"IF('CABLE LENGTH'!B35>0,'CABLE LENGTH'!B35,\"\")","v":""},{"$f":"IF('CABLE LENGTH'!Q35>0,'CABLE LENGTH'!Q35,\"\")","v":""},{"$f":"IF($S41=\"SOURCE\",IF(V$9='CABLE LENGTH'!$AK35,'CABLE LENGTH'!$AJ35*'CABLE LENGTH'!$AL35*-1,\"\"),IF(V$9=\"VIDEO\",IF(V$9='CABLE LENGTH'!$AK35,'CABLE LENGTH'!$AJ35*'CABLE LENGTH'!$AL35*-1,\"\"),IF(V$9='CABLE LENGTH'!$AK35,'CABLE LENGTH'!$AJ35*'CABLE LENGTH'!$AL35,\"\")))","v":""},{"$f":"IF($S41=\"SOURCE\",IF(W$9='CABLE LENGTH'!$AK35,'CABLE LENGTH'!$AJ35*'CABLE LENGTH'!$AL35*-1,\"\"),IF(W$9=\"VIDEO\",IF(W$9='CABLE LENGTH'!$AK35,'CABLE LENGTH'!$AJ35*'CABLE LENGTH'!$AL35*-1,\"\"),IF(W$9='CABLE LENGTH'!$AK35,'CABLE LENGTH'!$AJ35*'CABLE LENGTH'!$AL35,\"\")))","v":""},{"$f":"IF($S41=\"SOURCE\",IF(X$10='CABLE LENGTH'!$AK35,'CABLE LENGTH'!$AJ35*'CABLE LENGTH'!$AL35*-1,\"\"),IF(X$10=\"VIDEO\",IF(X$10='CABLE LENGTH'!$AK35,'CABLE LENGTH'!$AJ35*'CABLE LENGTH'!$AL35*-1,\"\"),IF(X$10='CABLE LENGTH'!$AK35,'CABLE LENGTH'!$AJ35*'CABLE LENGTH'!$AL35,\"\")))","v":""},{"$f":"IF($S41=\"SOURCE\",IF(Y$10='CABLE LENGTH'!$AK35,'CABLE LENGTH'!$AJ35*'CABLE LENGTH'!$AL35*-1,\"\"),IF(Y$10=\"VIDEO\",IF(Y$10='CABLE LENGTH'!$AK35,'CABLE LENGTH'!$AJ35*'CABLE LENGTH'!$AL35*-1,\"\"),IF(Y$10='CABLE LENGTH'!$AK35,'CABLE LENGTH'!$AJ35*'CABLE LENGTH'!$AL35,\"\")))","v":""},{"$f":"IF($S41=\"SOURCE\",IF(Z$10='CABLE LENGTH'!$AK35,'CABLE LENGTH'!$AJ35*'CABLE LENGTH'!$AL35*-1,\"\"),IF(Z$10=\"VIDEO\",IF(Z$10='CABLE LENGTH'!$AK35,'CABLE LENGTH'!$AJ35*'CABLE LENGTH'!$AL35*-1,\"\"),IF(Z$10='CABLE LENGTH'!$AK35,'CABLE LENGTH'!$AJ35*'CABLE LENGTH'!$AL35,\"\")))","v":""},{"$f":"IF($S41=\"SOURCE\",IF(AA$10='CABLE LENGTH'!$AK35,'CABLE LENGTH'!$AJ35*'CABLE LENGTH'!$AL35*-1,\"\"),IF(AA$10=\"VIDEO\",IF(AA$10='CABLE LENGTH'!$AK35,'CABLE LENGTH'!$AJ35*'CABLE LENGTH'!$AL35*-1,\"\"),IF(AA$10='CABLE LENGTH'!$AK35,'CABLE LENGTH'!$AJ35*'CABLE LENGTH'!$AL35,\"\")))","v":""},{"$f":"IF($S41=\"SOURCE\",IF(AB$10='CABLE LENGTH'!$AK35,'CABLE LENGTH'!$AJ35*'CABLE LENGTH'!$AL35*-1,\"\"),IF(AB$10=\"VIDEO\",IF(AB$10='CABLE LENGTH'!$AK35,'CABLE LENGTH'!$AJ35*'CABLE LENGTH'!$AL35*-1,\"\"),IF(AB$10='CABLE LENGTH'!$AK35,'CABLE LENGTH'!$AJ35*'CABLE LENGTH'!$AL35,\"\")))","v":""},{"$f":"IF($S41=\"SOURCE\",IF(AC$10='CABLE LENGTH'!$AK35,'CABLE LENGTH'!$AJ35*'CABLE LENGTH'!$AL35*-1,\"\"),IF(AC$10=\"VIDEO\",IF(AC$10='CABLE LENGTH'!$AK35,'CABLE LENGTH'!$AJ35*'CABLE LENGTH'!$AL35*-1,\"\"),IF(AC$10='CABLE LENGTH'!$AK35,'CABLE LENGTH'!$AJ35*'CABLE LENGTH'!$AL35,\"\")))","v":""},{"$f":"IF($S41=\"SOURCE\",IF(AD$9='CABLE LENGTH'!$AK35,'CABLE LENGTH'!$AJ35*'CABLE LENGTH'!$AL35*-1,\"\"),IF(AD$9=\"VIDEO\",IF(AD$9='CABLE LENGTH'!$AK35,'CABLE LENGTH'!$AJ35*'CABLE LENGTH'!$AL35*-1,\"\"),IF(AD$9='CABLE LENGTH'!$AK35,'CABLE LENGTH'!$AJ35*'CABLE LENGTH'!$AL35,\"\")))","v":""},{"$f":"IF($S41=\"SOURCE\",IF(AE$9='CABLE LENGTH'!$AK35,'CABLE LENGTH'!$AJ35*'CABLE LENGTH'!$AL35*-1,\"\"),IF(AE$9=\"VIDEO\",IF(AE$9='CABLE LENGTH'!$AK35,'CABLE LENGTH'!$AJ35*'CABLE LENGTH'!$AL35*-1,\"\"),IF(AE$9='CABLE LENGTH'!$AK35,'CABLE LENGTH'!$AJ35*'CABLE LENGTH'!$AL35,\"\")))","v":""},{"$f":"IF($S41=\"SOURCE\",IF(AF$9='CABLE LENGTH'!$AK35,'CABLE LENGTH'!$AJ35*'CABLE LENGTH'!$AL35*-1,\"\"),IF(AF$9=\"VIDEO\",IF(AF$9='CABLE LENGTH'!$AK35,'CABLE LENGTH'!$AJ35*'CABLE LENGTH'!$AL35*-1,\"\"),IF(AF$9='CABLE LENGTH'!$AK35,'CABLE LENGTH'!$AJ35*'CABLE LENGTH'!$AL35,\"\")))","v":""}]
[0.3,{"$f":"IF('CONDUIT LENGTH'!A35>0,'CONDUIT LENGTH'!A35,\" \")","v":" "},{"$f":"IF('CONDUIT LENGTH'!B35>0,'CONDUIT LENGTH'!B35,\" \")","v":" "},{"$f":"IF('CONDUIT LENGTH'!C35>0,'CONDUIT LENGTH'!C35,\" \")","v":" "},{"$f":"IF($B42=\"SOURCE\",IF(LEFT(E$5,1)='CONDUIT LENGTH'!$M35,IF(E$9='CONDUIT LENGTH'!$L35,'CONDUIT LENGTH'!$K35*-1,IF(AND(E$9=RIGHT('CONDUIT LENGTH'!$L35,2),LEFT('CONDUIT LENGTH'!$L35,3)=\"2x3\")=TRUE,IF(LEFT('CONDUIT LENGTH'!$L35,2)=\"2x\",'CONDUIT LENGTH'!$K35*-1*2,\"\"),\"\")),\"\"),IF(LEFT(E$5,1)='CONDUIT LENGTH'!$M35,IF(E$9='CONDUIT LENGTH'!$L35,'CONDUIT LENGTH'!$K35,IF(AND(E$9=RIGHT('CONDUIT LENGTH'!$L35,2),LEFT('CONDUIT LENGTH'!$L35,3)=\"2x3\")=TRUE,IF(LEFT('CONDUIT LENGTH'!$L35,2)=\"2x\",'CONDUIT LENGTH'!$K35*2,\"\"),\"\")),\"\"))","v":""},{"$f":"IF($B42=\"SOURCE\",IF(LEFT(G$6,1)='CONDUIT LENGTH'!$M35,IF(F$9='CONDUIT LENGTH'!$L35,'CONDUIT LENGTH'!$K35*-1,IF(AND(F$9=RIGHT('CONDUIT LENGTH'!$L35,2),LEFT('CONDUIT LENGTH'!$L35,3)=\"2x3\")=TRUE,IF(LEFT('CONDUIT LENGTH'!$L35,2)=\"2x\",'CONDUIT LENGTH'!$K35*-1*2,\"\"),\"\")),\"\"),IF(LEFT(G$6,1)='CONDUIT LENGTH'!$M35,IF(F$9='CONDUIT LENGTH'!$L35,'CONDUIT LENGTH'!$K35,IF(AND(F$9=RIGHT('CONDUIT LENGTH'!$L35,2),LEFT('CONDUIT LENGTH'!$L35,3)=\"2x3\")=TRUE,IF(LEFT('CONDUIT LENGTH'!$L35,2)=\"2x\",'CONDUIT LENGTH'!$K35*2,\"\"),\"\")),\"\"))","v":""},{"$f":"IF($B42=\"SOURCE\",IF(LEFT(G$6,1)='CONDUIT LENGTH'!$M35,IF(G$9='CONDUIT LENGTH'!$L35,'CONDUIT LENGTH'!$K35*-1,IF(AND(G$9=RIGHT('CONDUIT LENGTH'!$L35,2),LEFT('CONDUIT LENGTH'!$L35,3)=\"2x3\")=TRUE,IF(LEFT('CONDUIT LENGTH'!$L35,2)=\"2x\",'CONDUIT LENGTH'!$K35*-1*2,\"\"),\"\")),\"\"),IF(LEFT(G$6,1)='CONDUIT LENGTH'!$M35,IF(G$9='CONDUIT LENGTH'!$L35,'CONDUIT LENGTH'!$K35,IF(AND(G$9=RIGHT('CONDUIT LENGTH'!$L35,2),LEFT('CONDUIT LENGTH'!$L35,3)=\"2x3\")=TRUE,IF(LEFT('CONDUIT LENGTH'!$L35,2)=\"2x\",'CONDUIT LENGTH'!$K35*2,\"\"),\"\")),\"\"))","v":""},{"$f":"IF($B42=\"SOURCE\",IF(LEFT(G$6,1)='CONDUIT LENGTH'!$M35,IF(H$9='CONDUIT LENGTH'!$L35,'CONDUIT LENGTH'!$K35*-1,IF(AND(H$9=RIGHT('CONDUIT LENGTH'!$L35,2),LEFT('CONDUIT LENGTH'!$L35,3)=\"2x3\")=TRUE,IF(LEFT('CONDUIT LENGTH'!$L35,2)=\"2x\",'CONDUIT LENGTH'!$K35*-1*2,\"\"),\"\")),\"\"),IF(LEFT(G$6,1)='CONDUIT LENGTH'!$M35,IF(H$9='CONDUIT LENGTH'!$L35,'CONDUIT LENGTH'!$K35,IF(AND(H$9=RIGHT('CONDUIT LENGTH'!$L35,2),LEFT('CONDUIT LENGTH'!$L35,3)=\"2x3\")=TRUE,IF(LEFT('CONDUIT LENGTH'!$L35,2)=\"2x\",'CONDUIT LENGTH'!$K35*2,\"\"),\"\")),\"\"))","v":""},{"$f":"IF($B42=\"SOURCE\",IF(LEFT(J$6,1)='CONDUIT LENGTH'!$M35,IF(I$9='CONDUIT LENGTH'!$L35,'CONDUIT LENGTH'!$K35*-1,IF(AND(I$9=RIGHT('CONDUIT LENGTH'!$L35,2),LEFT('CONDUIT LENGTH'!$L35,3)=\"2x3\")=TRUE,IF(LEFT('CONDUIT LENGTH'!$L35,2)=\"2x\",'CONDUIT LENGTH'!$K35*-1*2,\"\"),\"\")),\"\"),IF(LEFT(J$6,1)='CONDUIT LENGTH'!$M35,IF(I$9='CONDUIT LENGTH'!$L35,'CONDUIT LENGTH'!$K35,IF(AND(I$9=RIGHT('CONDUIT LENGTH'!$L35,2),LEFT('CONDUIT LENGTH'!$L35,3)=\"2x3\")=TRUE,IF(LEFT('CONDUIT LENGTH'!$L35,2)=\"2x\",'CONDUIT LENGTH'!$K35*2,\"\"),\"\")),\"\"))","v":""},{"$f":"IF($B42=\"SOURCE\",IF(LEFT(J$6,1)='CONDUIT LENGTH'!$M35,IF(J$9='CONDUIT LENGTH'!$L35,'CONDUIT LENGTH'!$K35*-1,IF(AND(J$9=RIGHT('CONDUIT LENGTH'!$L35,2),LEFT('CONDUIT LENGTH'!$L35,3)=\"2x3\")=TRUE,IF(LEFT('CONDUIT LENGTH'!$L35,2)=\"2x\",'CONDUIT LENGTH'!$K35*-1*2,\"\"),\"\")),\"\"),IF(LEFT(J$6,1)='CONDUIT LENGTH'!$M35,IF(J$9='CONDUIT LENGTH'!$L35,'CONDUIT LENGTH'!$K35,IF(AND(J$9=RIGHT('CONDUIT LENGTH'!$L35,2),LEFT('CONDUIT LENGTH'!$L35,3)=\"2x3\")=TRUE,IF(LEFT('CONDUIT LENGTH'!$L35,2)=\"2x\",'CONDUIT LENGTH'!$K35*2,\"\"),\"\")),\"\"))","v":""},{"$f":"IF($B42=\"SOURCE\",IF(LEFT(J$6,1)='CONDUIT LENGTH'!$M35,IF(K$9='CONDUIT LENGTH'!$L35,'CONDUIT LENGTH'!$K35*-1,IF(AND(K$9=RIGHT('CONDUIT LENGTH'!$L35,2),LEFT('CONDUIT LENGTH'!$L35,3)=\"2x3\")=TRUE,IF(LEFT('CONDUIT LENGTH'!$L35,2)=\"2x\",'CONDUIT LENGTH'!$K35*-1*2,\"\"),\"\")),\"\"),IF(LEFT(J$6,1)='CONDUIT LENGTH'!$M35,IF(K$9='CONDUIT LENGTH'!$L35,'CONDUIT LENGTH'!$K35,IF(AND(K$9=RIGHT('CONDUIT LENGTH'!$L35,2),LEFT('CONDUIT LENGTH'!$L35,3)=\"2x3\")=TRUE,IF(LEFT('CONDUIT LENGTH'!$L35,2)=\"2x\",'CONDUIT LENGTH'!$K35*2,\"\"),\"\")),\"\"))","v":""},{"$f":"IF($B42=\"SOURCE\",IF(LEFT(M$6,1)='CONDUIT LENGTH'!$M35,IF(L$9='CONDUIT LENGTH'!$L35,'CONDUIT LENGTH'!$K35*-1,IF(AND(L$9=RIGHT('CONDUIT LENGTH'!$L35,2),LEFT('CONDUIT LENGTH'!$L35,3)=\"2x3\")=TRUE,IF(LEFT('CONDUIT LENGTH'!$L35,2)=\"2x\",'CONDUIT LENGTH'!$K35*-1*2,\"\"),\"\")),\"\"),IF(LEFT(M$6,1)='CONDUIT LENGTH'!$M35,IF(L$9='CONDUIT LENGTH'!$L35,'CONDUIT LENGTH'!$K35,IF(AND(L$9=RIGHT('CONDUIT LENGTH'!$L35,2),LEFT('CONDUIT LENGTH'!$L35,3)=\"2x3\")=TRUE,IF(LEFT('CONDUIT LENGTH'!$L35,2)=\"2x\",'CONDUIT LENGTH'!$K35*2,\"\"),\"\")),\"\"))","v":""},{"$f":"IF($B42=\"SOURCE\",IF(LEFT(M$6,1)='CONDUIT LENGTH'!$M35,IF(M$9='CONDUIT LENGTH'!$L35,'CONDUIT LENGTH'!$K35*-1,IF(AND(M$9=RIGHT('CONDUIT LENGTH'!$L35,2),LEFT('CONDUIT LENGTH'!$L35,3)=\"2x3\")=TRUE,IF(LEFT('CONDUIT LENGTH'!$L35,2)=\"2x\",'CONDUIT LENGTH'!$K35*-1*2,\"\"),\"\")),\"\"),IF(LEFT(M$6,1)='CONDUIT LENGTH'!$M35,IF(M$9='CONDUIT LENGTH'!$L35,'CONDUIT LENGTH'!$K35,IF(AND(M$9=RIGHT('CONDUIT LENGTH'!$L35,2),LEFT('CONDUIT LENGTH'!$L35,3)=\"2x3\")=TRUE,IF(LEFT('CONDUIT LENGTH'!$L35,2)=\"2x\",'CONDUIT LENGTH'!$K35*2,\"\"),\"\")),\"\"))","v":""},{"$f":"IF($B42=\"SOURCE\",IF(LEFT(M$6,1)='CONDUIT LENGTH'!$M35,IF(N$9='CONDUIT LENGTH'!$L35,'CONDUIT LENGTH'!$K35*-1,IF(AND(N$9=RIGHT('CONDUIT LENGTH'!$L35,2),LEFT('CONDUIT LENGTH'!$L35,3)=\"2x3\")=TRUE,IF(LEFT('CONDUIT LENGTH'!$L35,2)=\"2x\",'CONDUIT LENGTH'!$K35*-1*2,\"\"),\"\")),\"\"),IF(LEFT(M$6,1)='CONDUIT LENGTH'!$M35,IF(N$9='CONDUIT LENGTH'!$L35,'CONDUIT LENGTH'!$K35,IF(AND(N$9=RIGHT('CONDUIT LENGTH'!$L35,2),LEFT('CONDUIT LENGTH'!$L35,3)=\"2x3\")=TRUE,IF(LEFT('CONDUIT LENGTH'!$L35,2)=\"2x\",'CONDUIT LENGTH'!$K35*2,\"\"),\"\")),\"\"))","v":""},{"$f":"IF($B42=\"SOURCE\",IF(LEFT(P$5,1)='CONDUIT LENGTH'!$M35,IF(O$9='CONDUIT LENGTH'!$L35,'CONDUIT LENGTH'!$K35*-1,IF(AND(O$9=RIGHT('CONDUIT LENGTH'!$L35,2),LEFT('CONDUIT LENGTH'!$L35,3)=\"2x3\")=TRUE,IF(LEFT('CONDUIT LENGTH'!$L35,2)=\"2x\",'CONDUIT LENGTH'!$K35*-1*2,\"\"),\"\")),\"\"),IF(LEFT(P$6,1)='CONDUIT LENGTH'!$M35,IF(O$9='CONDUIT LENGTH'!$L35,'CONDUIT LENGTH'!$K35,IF(AND(O$9=RIGHT('CONDUIT LENGTH'!$L35,2),LEFT('CONDUIT LENGTH'!$L35,3)=\"2x3\")=TRUE,IF(LEFT('CONDUIT LENGTH'!$L35,2)=\"2x\",'CONDUIT LENGTH'!$K35*2,\"\"),\"\")),\"\"))","v":""},{"$f":"IF($B42=\"SOURCE\",IF(LEFT(P$5,1)='CONDUIT LENGTH'!$M35,IF(P$9='CONDUIT LENGTH'!$L35,'CONDUIT LENGTH'!$K35*-1,IF(AND(P$9=RIGHT('CONDUIT LENGTH'!$L35,2),LEFT('CONDUIT LENGTH'!$L35,3)=\"2x3\")=TRUE,IF(LEFT('CONDUIT LENGTH'!$L35,2)=\"2x\",'CONDUIT LENGTH'!$K35*-1*2,\"\"),\"\")),\"\"),IF(LEFT(P$6,1)='CONDUIT LENGTH'!$M35,IF(P$9='CONDUIT LENGTH'!$L35,'CONDUIT LENGTH'!$K35,IF(AND(P$9=RIGHT('CONDUIT LENGTH'!$L35,2),LEFT('CONDUIT LENGTH'!$L35,3)=\"2x3\")=TRUE,IF(LEFT('CONDUIT LENGTH'!$L35,2)=\"2x\",'CONDUIT LENGTH'!$K35*2,\"\"),\"\")),\"\"))","v":""},{"$f":"IF($B42=\"SOURCE\",IF(LEFT(P$5,1)='CONDUIT LENGTH'!$M35,IF(Q$9='CONDUIT LENGTH'!$L35,'CONDUIT LENGTH'!$K35*-1,IF(AND(Q$9=RIGHT('CONDUIT LENGTH'!$L35,2),LEFT('CONDUIT LENGTH'!$L35,3)=\"2x3\")=TRUE,IF(LEFT('CONDUIT LENGTH'!$L35,2)=\"2x\",'CONDUIT LENGTH'!$K35*-1*2,\"\"),\"\")),\"\"),IF(LEFT(Q$6,1)='CONDUIT LENGTH'!$M35,IF(Q$9='CONDUIT LENGTH'!$L35,'CONDUIT LENGTH'!$K35,IF(AND(Q$9=RIGHT('CONDUIT LENGTH'!$L35,2),LEFT('CONDUIT LENGTH'!$L35,3)=\"2x3\")=TRUE,IF(LEFT('CONDUIT LENGTH'!$L35,2)=\"2x\",'CONDUIT LENGTH'!$K35*2,\"\"),\"\")),\"\"))","v":""},{"$f":"IF('CONDUIT LENGTH'!M35=\"UIP\",\"UIP EXISTING\",\"\")","v":""},{"$f":"IF('CABLE LENGTH'!A36>0,'CABLE LENGTH'!A36,\"\")","v":""},{"$f":"IF('CABLE LENGTH'!B36>0,'CABLE LENGTH'!B36,\"\")","v":""},{"$f":"IF('CABLE LENGTH'!Q36>0,'CABLE LENGTH'!Q36,\"\")","v":""},{"$f":"IF($S42=\"SOURCE\",IF(V$9='CABLE LENGTH'!$AK36,'CABLE LENGTH'!$AJ36*'CABLE LENGTH'!$AL36*-1,\"\"),IF(V$9=\"VIDEO\",IF(V$9='CABLE LENGTH'!$AK36,'CABLE LENGTH'!$AJ36*'CABLE LENGTH'!$AL36*-1,\"\"),IF(V$9='CABLE LENGTH'!$AK36,'CABLE LENGTH'!$AJ36*'CABLE LENGTH'!$AL36,\"\")))","v":""},{"$f":"IF($S42=\"SOURCE\",IF(W$9='CABLE LENGTH'!$AK36,'CABLE LENGTH'!$AJ36*'CABLE LENGTH'!$AL36*-1,\"\"),IF(W$9=\"VIDEO\",IF(W$9='CABLE LENGTH'!$AK36,'CABLE LENGTH'!$AJ36*'CABLE LENGTH'!$AL36*-1,\"\"),IF(W$9='CABLE LENGTH'!$AK36,'CABLE LENGTH'!$AJ36*'CABLE LENGTH'!$AL36,\"\")))","v":""},{"$f":"IF($S42=\"SOURCE\",IF(X$10='CABLE LENGTH'!$AK36,'CABLE LENGTH'!$AJ36*'CABLE LENGTH'!$AL36*-1,\"\"),IF(X$10=\"VIDEO\",IF(X$10='CABLE LENGTH'!$AK36,'CABLE LENGTH'!$AJ36*'CABLE LENGTH'!$AL36*-1,\"\"),IF(X$10='CABLE LENGTH'!$AK36,'CABLE LENGTH'!$AJ36*'CABLE LENGTH'!$AL36,\"\")))","v":""},{"$f":"IF($S42=\"SOURCE\",IF(Y$10='CABLE LENGTH'!$AK36,'CABLE LENGTH'!$AJ36*'CABLE LENGTH'!$AL36*-1,\"\"),IF(Y$10=\"VIDEO\",IF(Y$10='CABLE LENGTH'!$AK36,'CABLE LENGTH'!$AJ36*'CABLE LENGTH'!$AL36*-1,\"\"),IF(Y$10='CABLE LENGTH'!$AK36,'CABLE LENGTH'!$AJ36*'CABLE LENGTH'!$AL36,\"\")))","v":""},{"$f":"IF($S42=\"SOURCE\",IF(Z$10='CABLE LENGTH'!$AK36,'CABLE LENGTH'!$AJ36*'CABLE LENGTH'!$AL36*-1,\"\"),IF(Z$10=\"VIDEO\",IF(Z$10='CABLE LENGTH'!$AK36,'CABLE LENGTH'!$AJ36*'CABLE LENGTH'!$AL36*-1,\"\"),IF(Z$10='CABLE LENGTH'!$AK36,'CABLE LENGTH'!$AJ36*'CABLE LENGTH'!$AL36,\"\")))","v":""},{"$f":"IF($S42=\"SOURCE\",IF(AA$10='CABLE LENGTH'!$AK36,'CABLE LENGTH'!$AJ36*'CABLE LENGTH'!$AL36*-1,\"\"),IF(AA$10=\"VIDEO\",IF(AA$10='CABLE LENGTH'!$AK36,'CABLE LENGTH'!$AJ36*'CABLE LENGTH'!$AL36*-1,\"\"),IF(AA$10='CABLE LENGTH'!$AK36,'CABLE LENGTH'!$AJ36*'CABLE LENGTH'!$AL36,\"\")))","v":""},{"$f":"IF($S42=\"SOURCE\",IF(AB$10='CABLE LENGTH'!$AK36,'CABLE LENGTH'!$AJ36*'CABLE LENGTH'!$AL36*-1,\"\"),IF(AB$10=\"VIDEO\",IF(AB$10='CABLE LENGTH'!$AK36,'CABLE LENGTH'!$AJ36*'CABLE LENGTH'!$AL36*-1,\"\"),IF(AB$10='CABLE LENGTH'!$AK36,'CABLE LENGTH'!$AJ36*'CABLE LENGTH'!$AL36,\"\")))","v":""},{"$f":"IF($S42=\"SOURCE\",IF(AC$10='CABLE LENGTH'!$AK36,'CABLE LENGTH'!$AJ36*'CABLE LENGTH'!$AL36*-1,\"\"),IF(AC$10=\"VIDEO\",IF(AC$10='CABLE LENGTH'!$AK36,'CABLE LENGTH'!$AJ36*'CABLE LENGTH'!$AL36*-1,\"\"),IF(AC$10='CABLE LENGTH'!$AK36,'CABLE LENGTH'!$AJ36*'CABLE LENGTH'!$AL36,\"\")))","v":""},{"$f":"IF($S42=\"SOURCE\",IF(AD$9='CABLE LENGTH'!$AK36,'CABLE LENGTH'!$AJ36*'CABLE LENGTH'!$AL36*-1,\"\"),IF(AD$9=\"VIDEO\",IF(AD$9='CABLE LENGTH'!$AK36,'CABLE LENGTH'!$AJ36*'CABLE LENGTH'!$AL36*-1,\"\"),IF(AD$9='CABLE LENGTH'!$AK36,'CABLE LENGTH'!$AJ36*'CABLE LENGTH'!$AL36,\"\")))","v":""},{"$f":"IF($S42=\"SOURCE\",IF(AE$9='CABLE LENGTH'!$AK36,'CABLE LENGTH'!$AJ36*'CABLE LENGTH'!$AL36*-1,\"\"),IF(AE$9=\"VIDEO\",IF(AE$9='CABLE LENGTH'!$AK36,'CABLE LENGTH'!$AJ36*'CABLE LENGTH'!$AL36*-1,\"\"),IF(AE$9='CABLE LENGTH'!$AK36,'CABLE LENGTH'!$AJ36*'CABLE LENGTH'!$AL36,\"\")))","v":""},{"$f":"IF($S42=\"SOURCE\",IF(AF$9='CABLE LENGTH'!$AK36,'CABLE LENGTH'!$AJ36*'CABLE LENGTH'!$AL36*-1,\"\"),IF(AF$9=\"VIDEO\",IF(AF$9='CABLE LENGTH'!$AK36,'CABLE LENGTH'!$AJ36*'CABLE LENGTH'!$AL36*-1,\"\"),IF(AF$9='CABLE LENGTH'!$AK36,'CABLE LENGTH'!$AJ36*'CABLE LENGTH'!$AL36,\"\")))","v":""}]
[0.3,{"$f":"IF('CONDUIT LENGTH'!A36>0,'CONDUIT LENGTH'!A36,\" \")","v":" "},{"$f":"IF('CONDUIT LENGTH'!B36>0,'CONDUIT LENGTH'!B36,\" \")","v":" "},{"$f":"IF('CONDUIT LENGTH'!C36>0,'CONDUIT LENGTH'!C36,\" \")","v":" "},{"$f":"IF($B43=\"SOURCE\",IF(LEFT(E$5,1)='CONDUIT LENGTH'!$M36,IF(E$9='CONDUIT LENGTH'!$L36,'CONDUIT LENGTH'!$K36*-1,IF(AND(E$9=RIGHT('CONDUIT LENGTH'!$L36,2),LEFT('CONDUIT LENGTH'!$L36,3)=\"2x3\")=TRUE,IF(LEFT('CONDUIT LENGTH'!$L36,2)=\"2x\",'CONDUIT LENGTH'!$K36*-1*2,\"\"),\"\")),\"\"),IF(LEFT(E$5,1)='CONDUIT LENGTH'!$M36,IF(E$9='CONDUIT LENGTH'!$L36,'CONDUIT LENGTH'!$K36,IF(AND(E$9=RIGHT('CONDUIT LENGTH'!$L36,2),LEFT('CONDUIT LENGTH'!$L36,3)=\"2x3\")=TRUE,IF(LEFT('CONDUIT LENGTH'!$L36,2)=\"2x\",'CONDUIT LENGTH'!$K36*2,\"\"),\"\")),\"\"))","v":""},{"$f":"IF($B43=\"SOURCE\",IF(LEFT(G$6,1)='CONDUIT LENGTH'!$M36,IF(F$9='CONDUIT LENGTH'!$L36,'CONDUIT LENGTH'!$K36*-1,IF(AND(F$9=RIGHT('CONDUIT LENGTH'!$L36,2),LEFT('CONDUIT LENGTH'!$L36,3)=\"2x3\")=TRUE,IF(LEFT('CONDUIT LENGTH'!$L36,2)=\"2x\",'CONDUIT LENGTH'!$K36*-1*2,\"\"),\"\")),\"\"),IF(LEFT(G$6,1)='CONDUIT LENGTH'!$M36,IF(F$9='CONDUIT LENGTH'!$L36,'CONDUIT LENGTH'!$K36,IF(AND(F$9=RIGHT('CONDUIT LENGTH'!$L36,2),LEFT('CONDUIT LENGTH'!$L36,3)=\"2x3\")=TRUE,IF(LEFT('CONDUIT LENGTH'!$L36,2)=\"2x\",'CONDUIT LENGTH'!$K36*2,\"\"),\"\")),\"\"))","v":""},{"$f":"IF($B43=\"SOURCE\",IF(LEFT(G$6,1)='CONDUIT LENGTH'!$M36,IF(G$9='CONDUIT LENGTH'!$L36,'CONDUIT LENGTH'!$K36*-1,IF(AND(G$9=RIGHT('CONDUIT LENGTH'!$L36,2),LEFT('CONDUIT LENGTH'!$L36,3)=\"2x3\")=TRUE,IF(LEFT('CONDUIT LENGTH'!$L36,2)=\"2x\",'CONDUIT LENGTH'!$K36*-1*2,\"\"),\"\")),\"\"),IF(LEFT(G$6,1)='CONDUIT LENGTH'!$M36,IF(G$9='CONDUIT LENGTH'!$L36,'CONDUIT LENGTH'!$K36,IF(AND(G$9=RIGHT('CONDUIT LENGTH'!$L36,2),LEFT('CONDUIT LENGTH'!$L36,3)=\"2x3\")=TRUE,IF(LEFT('CONDUIT LENGTH'!$L36,2)=\"2x\",'CONDUIT LENGTH'!$K36*2,\"\"),\"\")),\"\"))","v":""},{"$f":"IF($B43=\"SOURCE\",IF(LEFT(G$6,1)='CONDUIT LENGTH'!$M36,IF(H$9='CONDUIT LENGTH'!$L36,'CONDUIT LENGTH'!$K36*-1,IF(AND(H$9=RIGHT('CONDUIT LENGTH'!$L36,2),LEFT('CONDUIT LENGTH'!$L36,3)=\"2x3\")=TRUE,IF(LEFT('CONDUIT LENGTH'!$L36,2)=\"2x\",'CONDUIT LENGTH'!$K36*-1*2,\"\"),\"\")),\"\"),IF(LEFT(G$6,1)='CONDUIT LENGTH'!$M36,IF(H$9='CONDUIT LENGTH'!$L36,'CONDUIT LENGTH'!$K36,IF(AND(H$9=RIGHT('CONDUIT LENGTH'!$L36,2),LEFT('CONDUIT LENGTH'!$L36,3)=\"2x3\")=TRUE,IF(LEFT('CONDUIT LENGTH'!$L36,2)=\"2x\",'CONDUIT LENGTH'!$K36*2,\"\"),\"\")),\"\"))","v":""},{"$f":"IF($B43=\"SOURCE\",IF(LEFT(J$6,1)='CONDUIT LENGTH'!$M36,IF(I$9='CONDUIT LENGTH'!$L36,'CONDUIT LENGTH'!$K36*-1,IF(AND(I$9=RIGHT('CONDUIT LENGTH'!$L36,2),LEFT('CONDUIT LENGTH'!$L36,3)=\"2x3\")=TRUE,IF(LEFT('CONDUIT LENGTH'!$L36,2)=\"2x\",'CONDUIT LENGTH'!$K36*-1*2,\"\"),\"\")),\"\"),IF(LEFT(J$6,1)='CONDUIT LENGTH'!$M36,IF(I$9='CONDUIT LENGTH'!$L36,'CONDUIT LENGTH'!$K36,IF(AND(I$9=RIGHT('CONDUIT LENGTH'!$L36,2),LEFT('CONDUIT LENGTH'!$L36,3)=\"2x3\")=TRUE,IF(LEFT('CONDUIT LENGTH'!$L36,2)=\"2x\",'CONDUIT LENGTH'!$K36*2,\"\"),\"\")),\"\"))","v":""},{"$f":"IF($B43=\"SOURCE\",IF(LEFT(J$6,1)='CONDUIT LENGTH'!$M36,IF(J$9='CONDUIT LENGTH'!$L36,'CONDUIT LENGTH'!$K36*-1,IF(AND(J$9=RIGHT('CONDUIT LENGTH'!$L36,2),LEFT('CONDUIT LENGTH'!$L36,3)=\"2x3\")=TRUE,IF(LEFT('CONDUIT LENGTH'!$L36,2)=\"2x\",'CONDUIT LENGTH'!$K36*-1*2,\"\"),\"\")),\"\"),IF(LEFT(J$6,1)='CONDUIT LENGTH'!$M36,IF(J$9='CONDUIT LENGTH'!$L36,'CONDUIT LENGTH'!$K36,IF(AND(J$9=RIGHT('CONDUIT LENGTH'!$L36,2),LEFT('CONDUIT LENGTH'!$L36,3)=\"2x3\")=TRUE,IF(LEFT('CONDUIT LENGTH'!$L36,2)=\"2x\",'CONDUIT LENGTH'!$K36*2,\"\"),\"\")),\"\"))","v":""},{"$f":"IF($B43=\"SOURCE\",IF(LEFT(J$6,1)='CONDUIT LENGTH'!$M36,IF(K$9='CONDUIT LENGTH'!$L36,'CONDUIT LENGTH'!$K36*-1,IF(AND(K$9=RIGHT('CONDUIT LENGTH'!$L36,2),LEFT('CONDUIT LENGTH'!$L36,3)=\"2x3\")=TRUE,IF(LEFT('CONDUIT LENGTH'!$L36,2)=\"2x\",'CONDUIT LENGTH'!$K36*-1*2,\"\"),\"\")),\"\"),IF(LEFT(J$6,1)='CONDUIT LENGTH'!$M36,IF(K$9='CONDUIT LENGTH'!$L36,'CONDUIT LENGTH'!$K36,IF(AND(K$9=RIGHT('CONDUIT LENGTH'!$L36,2),LEFT('CONDUIT LENGTH'!$L36,3)=\"2x3\")=TRUE,IF(LEFT('CONDUIT LENGTH'!$L36,2)=\"2x\",'CONDUIT LENGTH'!$K36*2,\"\"),\"\")),\"\"))","v":""},{"$f":"IF($B43=\"SOURCE\",IF(LEFT(M$6,1)='CONDUIT LENGTH'!$M36,IF(L$9='CONDUIT LENGTH'!$L36,'CONDUIT LENGTH'!$K36*-1,IF(AND(L$9=RIGHT('CONDUIT LENGTH'!$L36,2),LEFT('CONDUIT LENGTH'!$L36,3)=\"2x3\")=TRUE,IF(LEFT('CONDUIT LENGTH'!$L36,2)=\"2x\",'CONDUIT LENGTH'!$K36*-1*2,\"\"),\"\")),\"\"),IF(LEFT(M$6,1)='CONDUIT LENGTH'!$M36,IF(L$9='CONDUIT LENGTH'!$L36,'CONDUIT LENGTH'!$K36,IF(AND(L$9=RIGHT('CONDUIT LENGTH'!$L36,2),LEFT('CONDUIT LENGTH'!$L36,3)=\"2x3\")=TRUE,IF(LEFT('CONDUIT LENGTH'!$L36,2)=\"2x\",'CONDUIT LENGTH'!$K36*2,\"\"),\"\")),\"\"))","v":""},{"$f":"IF($B43=\"SOURCE\",IF(LEFT(M$6,1)='CONDUIT LENGTH'!$M36,IF(M$9='CONDUIT LENGTH'!$L36,'CONDUIT LENGTH'!$K36*-1,IF(AND(M$9=RIGHT('CONDUIT LENGTH'!$L36,2),LEFT('CONDUIT LENGTH'!$L36,3)=\"2x3\")=TRUE,IF(LEFT('CONDUIT LENGTH'!$L36,2)=\"2x\",'CONDUIT LENGTH'!$K36*-1*2,\"\"),\"\")),\"\"),IF(LEFT(M$6,1)='CONDUIT LENGTH'!$M36,IF(M$9='CONDUIT LENGTH'!$L36,'CONDUIT LENGTH'!$K36,IF(AND(M$9=RIGHT('CONDUIT LENGTH'!$L36,2),LEFT('CONDUIT LENGTH'!$L36,3)=\"2x3\")=TRUE,IF(LEFT('CONDUIT LENGTH'!$L36,2)=\"2x\",'CONDUIT LENGTH'!$K36*2,\"\"),\"\")),\"\"))","v":""},{"$f":"IF($B43=\"SOURCE\",IF(LEFT(M$6,1)='CONDUIT LENGTH'!$M36,IF(N$9='CONDUIT LENGTH'!$L36,'CONDUIT LENGTH'!$K36*-1,IF(AND(N$9=RIGHT('CONDUIT LENGTH'!$L36,2),LEFT('CONDUIT LENGTH'!$L36,3)=\"2x3\")=TRUE,IF(LEFT('CONDUIT LENGTH'!$L36,2)=\"2x\",'CONDUIT LENGTH'!$K36*-1*2,\"\"),\"\")),\"\"),IF(LEFT(M$6,1)='CONDUIT LENGTH'!$M36,IF(N$9='CONDUIT LENGTH'!$L36,'CONDUIT LENGTH'!$K36,IF(AND(N$9=RIGHT('CONDUIT LENGTH'!$L36,2),LEFT('CONDUIT LENGTH'!$L36,3)=\"2x3\")=TRUE,IF(LEFT('CONDUIT LENGTH'!$L36,2)=\"2x\",'CONDUIT LENGTH'!$K36*2,\"\"),\"\")),\"\"))","v":""},{"$f":"IF($B43=\"SOURCE\",IF(LEFT(P$5,1)='CONDUIT LENGTH'!$M36,IF(O$9='CONDUIT LENGTH'!$L36,'CONDUIT LENGTH'!$K36*-1,IF(AND(O$9=RIGHT('CONDUIT LENGTH'!$L36,2),LEFT('CONDUIT LENGTH'!$L36,3)=\"2x3\")=TRUE,IF(LEFT('CONDUIT LENGTH'!$L36,2)=\"2x\",'CONDUIT LENGTH'!$K36*-1*2,\"\"),\"\")),\"\"),IF(LEFT(P$6,1)='CONDUIT LENGTH'!$M36,IF(O$9='CONDUIT LENGTH'!$L36,'CONDUIT LENGTH'!$K36,IF(AND(O$9=RIGHT('CONDUIT LENGTH'!$L36,2),LEFT('CONDUIT LENGTH'!$L36,3)=\"2x3\")=TRUE,IF(LEFT('CONDUIT LENGTH'!$L36,2)=\"2x\",'CONDUIT LENGTH'!$K36*2,\"\"),\"\")),\"\"))","v":""},{"$f":"IF($B43=\"SOURCE\",IF(LEFT(P$5,1)='CONDUIT LENGTH'!$M36,IF(P$9='CONDUIT LENGTH'!$L36,'CONDUIT LENGTH'!$K36*-1,IF(AND(P$9=RIGHT('CONDUIT LENGTH'!$L36,2),LEFT('CONDUIT LENGTH'!$L36,3)=\"2x3\")=TRUE,IF(LEFT('CONDUIT LENGTH'!$L36,2)=\"2x\",'CONDUIT LENGTH'!$K36*-1*2,\"\"),\"\")),\"\"),IF(LEFT(P$6,1)='CONDUIT LENGTH'!$M36,IF(P$9='CONDUIT LENGTH'!$L36,'CONDUIT LENGTH'!$K36,IF(AND(P$9=RIGHT('CONDUIT LENGTH'!$L36,2),LEFT('CONDUIT LENGTH'!$L36,3)=\"2x3\")=TRUE,IF(LEFT('CONDUIT LENGTH'!$L36,2)=\"2x\",'CONDUIT LENGTH'!$K36*2,\"\"),\"\")),\"\"))","v":""},{"$f":"IF($B43=\"SOURCE\",IF(LEFT(P$5,1)='CONDUIT LENGTH'!$M36,IF(Q$9='CONDUIT LENGTH'!$L36,'CONDUIT LENGTH'!$K36*-1,IF(AND(Q$9=RIGHT('CONDUIT LENGTH'!$L36,2),LEFT('CONDUIT LENGTH'!$L36,3)=\"2x3\")=TRUE,IF(LEFT('CONDUIT LENGTH'!$L36,2)=\"2x\",'CONDUIT LENGTH'!$K36*-1*2,\"\"),\"\")),\"\"),IF(LEFT(Q$6,1)='CONDUIT LENGTH'!$M36,IF(Q$9='CONDUIT LENGTH'!$L36,'CONDUIT LENGTH'!$K36,IF(AND(Q$9=RIGHT('CONDUIT LENGTH'!$L36,2),LEFT('CONDUIT LENGTH'!$L36,3)=\"2x3\")=TRUE,IF(LEFT('CONDUIT LENGTH'!$L36,2)=\"2x\",'CONDUIT LENGTH'!$K36*2,\"\"),\"\")),\"\"))","v":""},{"$f":"IF('CONDUIT LENGTH'!M36=\"UIP\",\"UIP EXISTING\",\"\")","v":""},{"$f":"IF('CABLE LENGTH'!A37>0,'CABLE LENGTH'!A37,\"\")","v":""},{"$f":"IF('CABLE LENGTH'!B37>0,'CABLE LENGTH'!B37,\"\")","v":""},{"$f":"IF('CABLE LENGTH'!Q37>0,'CABLE LENGTH'!Q37,\"\")","v":""},{"$f":"IF($S43=\"SOURCE\",IF(V$9='CABLE LENGTH'!$AK37,'CABLE LENGTH'!$AJ37*'CABLE LENGTH'!$AL37*-1,\"\"),IF(V$9=\"VIDEO\",IF(V$9='CABLE LENGTH'!$AK37,'CABLE LENGTH'!$AJ37*'CABLE LENGTH'!$AL37*-1,\"\"),IF(V$9='CABLE LENGTH'!$AK37,'CABLE LENGTH'!$AJ37*'CABLE LENGTH'!$AL37,\"\")))","v":""},{"$f":"IF($S43=\"SOURCE\",IF(W$9='CABLE LENGTH'!$AK37,'CABLE LENGTH'!$AJ37*'CABLE LENGTH'!$AL37*-1,\"\"),IF(W$9=\"VIDEO\",IF(W$9='CABLE LENGTH'!$AK37,'CABLE LENGTH'!$AJ37*'CABLE LENGTH'!$AL37*-1,\"\"),IF(W$9='CABLE LENGTH'!$AK37,'CABLE LENGTH'!$AJ37*'CABLE LENGTH'!$AL37,\"\")))","v":""},{"$f":"IF($S43=\"SOURCE\",IF(X$10='CABLE LENGTH'!$AK37,'CABLE LENGTH'!$AJ37*'CABLE LENGTH'!$AL37*-1,\"\"),IF(X$10=\"VIDEO\",IF(X$10='CABLE LENGTH'!$AK37,'CABLE LENGTH'!$AJ37*'CABLE LENGTH'!$AL37*-1,\"\"),IF(X$10='CABLE LENGTH'!$AK37,'CABLE LENGTH'!$AJ37*'CABLE LENGTH'!$AL37,\"\")))","v":""},{"$f":"IF($S43=\"SOURCE\",IF(Y$10='CABLE LENGTH'!$AK37,'CABLE LENGTH'!$AJ37*'CABLE LENGTH'!$AL37*-1,\"\"),IF(Y$10=\"VIDEO\",IF(Y$10='CABLE LENGTH'!$AK37,'CABLE LENGTH'!$AJ37*'CABLE LENGTH'!$AL37*-1,\"\"),IF(Y$10='CABLE LENGTH'!$AK37,'CABLE LENGTH'!$AJ37*'CABLE LENGTH'!$AL37,\"\")))","v":""},{"$f":"IF($S43=\"SOURCE\",IF(Z$10='CABLE LENGTH'!$AK37,'CABLE LENGTH'!$AJ37*'CABLE LENGTH'!$AL37*-1,\"\"),IF(Z$10=\"VIDEO\",IF(Z$10='CABLE LENGTH'!$AK37,'CABLE LENGTH'!$AJ37*'CABLE LENGTH'!$AL37*-1,\"\"),IF(Z$10='CABLE LENGTH'!$AK37,'CABLE LENGTH'!$AJ37*'CABLE LENGTH'!$AL37,\"\")))","v":""},{"$f":"IF($S43=\"SOURCE\",IF(AA$10='CABLE LENGTH'!$AK37,'CABLE LENGTH'!$AJ37*'CABLE LENGTH'!$AL37*-1,\"\"),IF(AA$10=\"VIDEO\",IF(AA$10='CABLE LENGTH'!$AK37,'CABLE LENGTH'!$AJ37*'CABLE LENGTH'!$AL37*-1,\"\"),IF(AA$10='CABLE LENGTH'!$AK37,'CABLE LENGTH'!$AJ37*'CABLE LENGTH'!$AL37,\"\")))","v":""},{"$f":"IF($S43=\"SOURCE\",IF(AB$10='CABLE LENGTH'!$AK37,'CABLE LENGTH'!$AJ37*'CABLE LENGTH'!$AL37*-1,\"\"),IF(AB$10=\"VIDEO\",IF(AB$10='CABLE LENGTH'!$AK37,'CABLE LENGTH'!$AJ37*'CABLE LENGTH'!$AL37*-1,\"\"),IF(AB$10='CABLE LENGTH'!$AK37,'CABLE LENGTH'!$AJ37*'CABLE LENGTH'!$AL37,\"\")))","v":""},{"$f":"IF($S43=\"SOURCE\",IF(AC$10='CABLE LENGTH'!$AK37,'CABLE LENGTH'!$AJ37*'CABLE LENGTH'!$AL37*-1,\"\"),IF(AC$10=\"VIDEO\",IF(AC$10='CABLE LENGTH'!$AK37,'CABLE LENGTH'!$AJ37*'CABLE LENGTH'!$AL37*-1,\"\"),IF(AC$10='CABLE LENGTH'!$AK37,'CABLE LENGTH'!$AJ37*'CABLE LENGTH'!$AL37,\"\")))","v":""},{"$f":"IF($S43=\"SOURCE\",IF(AD$9='CABLE LENGTH'!$AK37,'CABLE LENGTH'!$AJ37*'CABLE LENGTH'!$AL37*-1,\"\"),IF(AD$9=\"VIDEO\",IF(AD$9='CABLE LENGTH'!$AK37,'CABLE LENGTH'!$AJ37*'CABLE LENGTH'!$AL37*-1,\"\"),IF(AD$9='CABLE LENGTH'!$AK37,'CABLE LENGTH'!$AJ37*'CABLE LENGTH'!$AL37,\"\")))","v":""},{"$f":"IF($S43=\"SOURCE\",IF(AE$9='CABLE LENGTH'!$AK37,'CABLE LENGTH'!$AJ37*'CABLE LENGTH'!$AL37*-1,\"\"),IF(AE$9=\"VIDEO\",IF(AE$9='CABLE LENGTH'!$AK37,'CABLE LENGTH'!$AJ37*'CABLE LENGTH'!$AL37*-1,\"\"),IF(AE$9='CABLE LENGTH'!$AK37,'CABLE LENGTH'!$AJ37*'CABLE LENGTH'!$AL37,\"\")))","v":""},{"$f":"IF($S43=\"SOURCE\",IF(AF$9='CABLE LENGTH'!$AK37,'CABLE LENGTH'!$AJ37*'CABLE LENGTH'!$AL37*-1,\"\"),IF(AF$9=\"VIDEO\",IF(AF$9='CABLE LENGTH'!$AK37,'CABLE LENGTH'!$AJ37*'CABLE LENGTH'!$AL37*-1,\"\"),IF(AF$9='CABLE LENGTH'!$AK37,'CABLE LENGTH'!$AJ37*'CABLE LENGTH'!$AL37,\"\")))","v":""}]
[0.3,{"$f":"IF('CONDUIT LENGTH'!A37>0,'CONDUIT LENGTH'!A37,\" \")","v":" "},{"$f":"IF('CONDUIT LENGTH'!B37>0,'CONDUIT LENGTH'!B37,\" \")","v":" "},{"$f":"IF('CONDUIT LENGTH'!C37>0,'CONDUIT LENGTH'!C37,\" \")","v":" "},{"$f":"IF($B44=\"SOURCE\",IF(LEFT(E$5,1)='CONDUIT LENGTH'!$M37,IF(E$9='CONDUIT LENGTH'!$L37,'CONDUIT LENGTH'!$K37*-1,IF(AND(E$9=RIGHT('CONDUIT LENGTH'!$L37,2),LEFT('CONDUIT LENGTH'!$L37,3)=\"2x3\")=TRUE,IF(LEFT('CONDUIT LENGTH'!$L37,2)=\"2x\",'CONDUIT LENGTH'!$K37*-1*2,\"\"),\"\")),\"\"),IF(LEFT(E$5,1)='CONDUIT LENGTH'!$M37,IF(E$9='CONDUIT LENGTH'!$L37,'CONDUIT LENGTH'!$K37,IF(AND(E$9=RIGHT('CONDUIT LENGTH'!$L37,2),LEFT('CONDUIT LENGTH'!$L37,3)=\"2x3\")=TRUE,IF(LEFT('CONDUIT LENGTH'!$L37,2)=\"2x\",'CONDUIT LENGTH'!$K37*2,\"\"),\"\")),\"\"))","v":""},{"$f":"IF($B44=\"SOURCE\",IF(LEFT(G$6,1)='CONDUIT LENGTH'!$M37,IF(F$9='CONDUIT LENGTH'!$L37,'CONDUIT LENGTH'!$K37*-1,IF(AND(F$9=RIGHT('CONDUIT LENGTH'!$L37,2),LEFT('CONDUIT LENGTH'!$L37,3)=\"2x3\")=TRUE,IF(LEFT('CONDUIT LENGTH'!$L37,2)=\"2x\",'CONDUIT LENGTH'!$K37*-1*2,\"\"),\"\")),\"\"),IF(LEFT(G$6,1)='CONDUIT LENGTH'!$M37,IF(F$9='CONDUIT LENGTH'!$L37,'CONDUIT LENGTH'!$K37,IF(AND(F$9=RIGHT('CONDUIT LENGTH'!$L37,2),LEFT('CONDUIT LENGTH'!$L37,3)=\"2x3\")=TRUE,IF(LEFT('CONDUIT LENGTH'!$L37,2)=\"2x\",'CONDUIT LENGTH'!$K37*2,\"\"),\"\")),\"\"))","v":""},{"$f":"IF($B44=\"SOURCE\",IF(LEFT(G$6,1)='CONDUIT LENGTH'!$M37,IF(G$9='CONDUIT LENGTH'!$L37,'CONDUIT LENGTH'!$K37*-1,IF(AND(G$9=RIGHT('CONDUIT LENGTH'!$L37,2),LEFT('CONDUIT LENGTH'!$L37,3)=\"2x3\")=TRUE,IF(LEFT('CONDUIT LENGTH'!$L37,2)=\"2x\",'CONDUIT LENGTH'!$K37*-1*2,\"\"),\"\")),\"\"),IF(LEFT(G$6,1)='CONDUIT LENGTH'!$M37,IF(G$9='CONDUIT LENGTH'!$L37,'CONDUIT LENGTH'!$K37,IF(AND(G$9=RIGHT('CONDUIT LENGTH'!$L37,2),LEFT('CONDUIT LENGTH'!$L37,3)=\"2x3\")=TRUE,IF(LEFT('CONDUIT LENGTH'!$L37,2)=\"2x\",'CONDUIT LENGTH'!$K37*2,\"\"),\"\")),\"\"))","v":""},{"$f":"IF($B44=\"SOURCE\",IF(LEFT(G$6,1)='CONDUIT LENGTH'!$M37,IF(H$9='CONDUIT LENGTH'!$L37,'CONDUIT LENGTH'!$K37*-1,IF(AND(H$9=RIGHT('CONDUIT LENGTH'!$L37,2),LEFT('CONDUIT LENGTH'!$L37,3)=\"2x3\")=TRUE,IF(LEFT('CONDUIT LENGTH'!$L37,2)=\"2x\",'CONDUIT LENGTH'!$K37*-1*2,\"\"),\"\")),\"\"),IF(LEFT(G$6,1)='CONDUIT LENGTH'!$M37,IF(H$9='CONDUIT LENGTH'!$L37,'CONDUIT LENGTH'!$K37,IF(AND(H$9=RIGHT('CONDUIT LENGTH'!$L37,2),LEFT('CONDUIT LENGTH'!$L37,3)=\"2x3\")=TRUE,IF(LEFT('CONDUIT LENGTH'!$L37,2)=\"2x\",'CONDUIT LENGTH'!$K37*2,\"\"),\"\")),\"\"))","v":""},{"$f":"IF($B44=\"SOURCE\",IF(LEFT(J$6,1)='CONDUIT LENGTH'!$M37,IF(I$9='CONDUIT LENGTH'!$L37,'CONDUIT LENGTH'!$K37*-1,IF(AND(I$9=RIGHT('CONDUIT LENGTH'!$L37,2),LEFT('CONDUIT LENGTH'!$L37,3)=\"2x3\")=TRUE,IF(LEFT('CONDUIT LENGTH'!$L37,2)=\"2x\",'CONDUIT LENGTH'!$K37*-1*2,\"\"),\"\")),\"\"),IF(LEFT(J$6,1)='CONDUIT LENGTH'!$M37,IF(I$9='CONDUIT LENGTH'!$L37,'CONDUIT LENGTH'!$K37,IF(AND(I$9=RIGHT('CONDUIT LENGTH'!$L37,2),LEFT('CONDUIT LENGTH'!$L37,3)=\"2x3\")=TRUE,IF(LEFT('CONDUIT LENGTH'!$L37,2)=\"2x\",'CONDUIT LENGTH'!$K37*2,\"\"),\"\")),\"\"))","v":""},{"$f":"IF($B44=\"SOURCE\",IF(LEFT(J$6,1)='CONDUIT LENGTH'!$M37,IF(J$9='CONDUIT LENGTH'!$L37,'CONDUIT LENGTH'!$K37*-1,IF(AND(J$9=RIGHT('CONDUIT LENGTH'!$L37,2),LEFT('CONDUIT LENGTH'!$L37,3)=\"2x3\")=TRUE,IF(LEFT('CONDUIT LENGTH'!$L37,2)=\"2x\",'CONDUIT LENGTH'!$K37*-1*2,\"\"),\"\")),\"\"),IF(LEFT(J$6,1)='CONDUIT LENGTH'!$M37,IF(J$9='CONDUIT LENGTH'!$L37,'CONDUIT LENGTH'!$K37,IF(AND(J$9=RIGHT('CONDUIT LENGTH'!$L37,2),LEFT('CONDUIT LENGTH'!$L37,3)=\"2x3\")=TRUE,IF(LEFT('CONDUIT LENGTH'!$L37,2)=\"2x\",'CONDUIT LENGTH'!$K37*2,\"\"),\"\")),\"\"))","v":""},{"$f":"IF($B44=\"SOURCE\",IF(LEFT(J$6,1)='CONDUIT LENGTH'!$M37,IF(K$9='CONDUIT LENGTH'!$L37,'CONDUIT LENGTH'!$K37*-1,IF(AND(K$9=RIGHT('CONDUIT LENGTH'!$L37,2),LEFT('CONDUIT LENGTH'!$L37,3)=\"2x3\")=TRUE,IF(LEFT('CONDUIT LENGTH'!$L37,2)=\"2x\",'CONDUIT LENGTH'!$K37*-1*2,\"\"),\"\")),\"\"),IF(LEFT(J$6,1)='CONDUIT LENGTH'!$M37,IF(K$9='CONDUIT LENGTH'!$L37,'CONDUIT LENGTH'!$K37,IF(AND(K$9=RIGHT('CONDUIT LENGTH'!$L37,2),LEFT('CONDUIT LENGTH'!$L37,3)=\"2x3\")=TRUE,IF(LEFT('CONDUIT LENGTH'!$L37,2)=\"2x\",'CONDUIT LENGTH'!$K37*2,\"\"),\"\")),\"\"))","v":""},{"$f":"IF($B44=\"SOURCE\",IF(LEFT(M$6,1)='CONDUIT LENGTH'!$M37,IF(L$9='CONDUIT LENGTH'!$L37,'CONDUIT LENGTH'!$K37*-1,IF(AND(L$9=RIGHT('CONDUIT LENGTH'!$L37,2),LEFT('CONDUIT LENGTH'!$L37,3)=\"2x3\")=TRUE,IF(LEFT('CONDUIT LENGTH'!$L37,2)=\"2x\",'CONDUIT LENGTH'!$K37*-1*2,\"\"),\"\")),\"\"),IF(LEFT(M$6,1)='CONDUIT LENGTH'!$M37,IF(L$9='CONDUIT LENGTH'!$L37,'CONDUIT LENGTH'!$K37,IF(AND(L$9=RIGHT('CONDUIT LENGTH'!$L37,2),LEFT('CONDUIT LENGTH'!$L37,3)=\"2x3\")=TRUE,IF(LEFT('CONDUIT LENGTH'!$L37,2)=\"2x\",'CONDUIT LENGTH'!$K37*2,\"\"),\"\")),\"\"))","v":""},{"$f":"IF($B44=\"SOURCE\",IF(LEFT(M$6,1)='CONDUIT LENGTH'!$M37,IF(M$9='CONDUIT LENGTH'!$L37,'CONDUIT LENGTH'!$K37*-1,IF(AND(M$9=RIGHT('CONDUIT LENGTH'!$L37,2),LEFT('CONDUIT LENGTH'!$L37,3)=\"2x3\")=TRUE,IF(LEFT('CONDUIT LENGTH'!$L37,2)=\"2x\",'CONDUIT LENGTH'!$K37*-1*2,\"\"),\"\")),\"\"),IF(LEFT(M$6,1)='CONDUIT LENGTH'!$M37,IF(M$9='CONDUIT LENGTH'!$L37,'CONDUIT LENGTH'!$K37,IF(AND(M$9=RIGHT('CONDUIT LENGTH'!$L37,2),LEFT('CONDUIT LENGTH'!$L37,3)=\"2x3\")=TRUE,IF(LEFT('CONDUIT LENGTH'!$L37,2)=\"2x\",'CONDUIT LENGTH'!$K37*2,\"\"),\"\")),\"\"))","v":""},{"$f":"IF($B44=\"SOURCE\",IF(LEFT(M$6,1)='CONDUIT LENGTH'!$M37,IF(N$9='CONDUIT LENGTH'!$L37,'CONDUIT LENGTH'!$K37*-1,IF(AND(N$9=RIGHT('CONDUIT LENGTH'!$L37,2),LEFT('CONDUIT LENGTH'!$L37,3)=\"2x3\")=TRUE,IF(LEFT('CONDUIT LENGTH'!$L37,2)=\"2x\",'CONDUIT LENGTH'!$K37*-1*2,\"\"),\"\")),\"\"),IF(LEFT(M$6,1)='CONDUIT LENGTH'!$M37,IF(N$9='CONDUIT LENGTH'!$L37,'CONDUIT LENGTH'!$K37,IF(AND(N$9=RIGHT('CONDUIT LENGTH'!$L37,2),LEFT('CONDUIT LENGTH'!$L37,3)=\"2x3\")=TRUE,IF(LEFT('CONDUIT LENGTH'!$L37,2)=\"2x\",'CONDUIT LENGTH'!$K37*2,\"\"),\"\")),\"\"))","v":""},{"$f":"IF($B44=\"SOURCE\",IF(LEFT(P$5,1)='CONDUIT LENGTH'!$M37,IF(O$9='CONDUIT LENGTH'!$L37,'CONDUIT LENGTH'!$K37*-1,IF(AND(O$9=RIGHT('CONDUIT LENGTH'!$L37,2),LEFT('CONDUIT LENGTH'!$L37,3)=\"2x3\")=TRUE,IF(LEFT('CONDUIT LENGTH'!$L37,2)=\"2x\",'CONDUIT LENGTH'!$K37*-1*2,\"\"),\"\")),\"\"),IF(LEFT(P$6,1)='CONDUIT LENGTH'!$M37,IF(O$9='CONDUIT LENGTH'!$L37,'CONDUIT LENGTH'!$K37,IF(AND(O$9=RIGHT('CONDUIT LENGTH'!$L37,2),LEFT('CONDUIT LENGTH'!$L37,3)=\"2x3\")=TRUE,IF(LEFT('CONDUIT LENGTH'!$L37,2)=\"2x\",'CONDUIT LENGTH'!$K37*2,\"\"),\"\")),\"\"))","v":""},{"$f":"IF($B44=\"SOURCE\",IF(LEFT(P$5,1)='CONDUIT LENGTH'!$M37,IF(P$9='CONDUIT LENGTH'!$L37,'CONDUIT LENGTH'!$K37*-1,IF(AND(P$9=RIGHT('CONDUIT LENGTH'!$L37,2),LEFT('CONDUIT LENGTH'!$L37,3)=\"2x3\")=TRUE,IF(LEFT('CONDUIT LENGTH'!$L37,2)=\"2x\",'CONDUIT LENGTH'!$K37*-1*2,\"\"),\"\")),\"\"),IF(LEFT(P$6,1)='CONDUIT LENGTH'!$M37,IF(P$9='CONDUIT LENGTH'!$L37,'CONDUIT LENGTH'!$K37,IF(AND(P$9=RIGHT('CONDUIT LENGTH'!$L37,2),LEFT('CONDUIT LENGTH'!$L37,3)=\"2x3\")=TRUE,IF(LEFT('CONDUIT LENGTH'!$L37,2)=\"2x\",'CONDUIT LENGTH'!$K37*2,\"\"),\"\")),\"\"))","v":""},{"$f":"IF($B44=\"SOURCE\",IF(LEFT(P$5,1)='CONDUIT LENGTH'!$M37,IF(Q$9='CONDUIT LENGTH'!$L37,'CONDUIT LENGTH'!$K37*-1,IF(AND(Q$9=RIGHT('CONDUIT LENGTH'!$L37,2),LEFT('CONDUIT LENGTH'!$L37,3)=\"2x3\")=TRUE,IF(LEFT('CONDUIT LENGTH'!$L37,2)=\"2x\",'CONDUIT LENGTH'!$K37*-1*2,\"\"),\"\")),\"\"),IF(LEFT(Q$6,1)='CONDUIT LENGTH'!$M37,IF(Q$9='CONDUIT LENGTH'!$L37,'CONDUIT LENGTH'!$K37,IF(AND(Q$9=RIGHT('CONDUIT LENGTH'!$L37,2),LEFT('CONDUIT LENGTH'!$L37,3)=\"2x3\")=TRUE,IF(LEFT('CONDUIT LENGTH'!$L37,2)=\"2x\",'CONDUIT LENGTH'!$K37*2,\"\"),\"\")),\"\"))","v":""},{"$f":"IF('CONDUIT LENGTH'!M37=\"UIP\",\"UIP EXISTING\",\"\")","v":""},{"$f":"IF('CABLE LENGTH'!A38>0,'CABLE LENGTH'!A38,\"\")","v":""},{"$f":"IF('CABLE LENGTH'!B38>0,'CABLE LENGTH'!B38,\"\")","v":""},{"$f":"IF('CABLE LENGTH'!Q38>0,'CABLE LENGTH'!Q38,\"\")","v":""},{"$f":"IF($S44=\"SOURCE\",IF(V$9='CABLE LENGTH'!$AK38,'CABLE LENGTH'!$AJ38*'CABLE LENGTH'!$AL38*-1,\"\"),IF(V$9=\"VIDEO\",IF(V$9='CABLE LENGTH'!$AK38,'CABLE LENGTH'!$AJ38*'CABLE LENGTH'!$AL38*-1,\"\"),IF(V$9='CABLE LENGTH'!$AK38,'CABLE LENGTH'!$AJ38*'CABLE LENGTH'!$AL38,\"\")))","v":""},{"$f":"IF($S44=\"SOURCE\",IF(W$9='CABLE LENGTH'!$AK38,'CABLE LENGTH'!$AJ38*'CABLE LENGTH'!$AL38*-1,\"\"),IF(W$9=\"VIDEO\",IF(W$9='CABLE LENGTH'!$AK38,'CABLE LENGTH'!$AJ38*'CABLE LENGTH'!$AL38*-1,\"\"),IF(W$9='CABLE LENGTH'!$AK38,'CABLE LENGTH'!$AJ38*'CABLE LENGTH'!$AL38,\"\")))","v":""},{"$f":"IF($S44=\"SOURCE\",IF(X$10='CABLE LENGTH'!$AK38,'CABLE LENGTH'!$AJ38*'CABLE LENGTH'!$AL38*-1,\"\"),IF(X$10=\"VIDEO\",IF(X$10='CABLE LENGTH'!$AK38,'CABLE LENGTH'!$AJ38*'CABLE LENGTH'!$AL38*-1,\"\"),IF(X$10='CABLE LENGTH'!$AK38,'CABLE LENGTH'!$AJ38*'CABLE LENGTH'!$AL38,\"\")))","v":""},{"$f":"IF($S44=\"SOURCE\",IF(Y$10='CABLE LENGTH'!$AK38,'CABLE LENGTH'!$AJ38*'CABLE LENGTH'!$AL38*-1,\"\"),IF(Y$10=\"VIDEO\",IF(Y$10='CABLE LENGTH'!$AK38,'CABLE LENGTH'!$AJ38*'CABLE LENGTH'!$AL38*-1,\"\"),IF(Y$10='CABLE LENGTH'!$AK38,'CABLE LENGTH'!$AJ38*'CABLE LENGTH'!$AL38,\"\")))","v":""},{"$f":"IF($S44=\"SOURCE\",IF(Z$10='CABLE LENGTH'!$AK38,'CABLE LENGTH'!$AJ38*'CABLE LENGTH'!$AL38*-1,\"\"),IF(Z$10=\"VIDEO\",IF(Z$10='CABLE LENGTH'!$AK38,'CABLE LENGTH'!$AJ38*'CABLE LENGTH'!$AL38*-1,\"\"),IF(Z$10='CABLE LENGTH'!$AK38,'CABLE LENGTH'!$AJ38*'CABLE LENGTH'!$AL38,\"\")))","v":""},{"$f":"IF($S44=\"SOURCE\",IF(AA$10='CABLE LENGTH'!$AK38,'CABLE LENGTH'!$AJ38*'CABLE LENGTH'!$AL38*-1,\"\"),IF(AA$10=\"VIDEO\",IF(AA$10='CABLE LENGTH'!$AK38,'CABLE LENGTH'!$AJ38*'CABLE LENGTH'!$AL38*-1,\"\"),IF(AA$10='CABLE LENGTH'!$AK38,'CABLE LENGTH'!$AJ38*'CABLE LENGTH'!$AL38,\"\")))","v":""},{"$f":"IF($S44=\"SOURCE\",IF(AB$10='CABLE LENGTH'!$AK38,'CABLE LENGTH'!$AJ38*'CABLE LENGTH'!$AL38*-1,\"\"),IF(AB$10=\"VIDEO\",IF(AB$10='CABLE LENGTH'!$AK38,'CABLE LENGTH'!$AJ38*'CABLE LENGTH'!$AL38*-1,\"\"),IF(AB$10='CABLE LENGTH'!$AK38,'CABLE LENGTH'!$AJ38*'CABLE LENGTH'!$AL38,\"\")))","v":""},{"$f":"IF($S44=\"SOURCE\",IF(AC$10='CABLE LENGTH'!$AK38,'CABLE LENGTH'!$AJ38*'CABLE LENGTH'!$AL38*-1,\"\"),IF(AC$10=\"VIDEO\",IF(AC$10='CABLE LENGTH'!$AK38,'CABLE LENGTH'!$AJ38*'CABLE LENGTH'!$AL38*-1,\"\"),IF(AC$10='CABLE LENGTH'!$AK38,'CABLE LENGTH'!$AJ38*'CABLE LENGTH'!$AL38,\"\")))","v":""},{"$f":"IF($S44=\"SOURCE\",IF(AD$9='CABLE LENGTH'!$AK38,'CABLE LENGTH'!$AJ38*'CABLE LENGTH'!$AL38*-1,\"\"),IF(AD$9=\"VIDEO\",IF(AD$9='CABLE LENGTH'!$AK38,'CABLE LENGTH'!$AJ38*'CABLE LENGTH'!$AL38*-1,\"\"),IF(AD$9='CABLE LENGTH'!$AK38,'CABLE LENGTH'!$AJ38*'CABLE LENGTH'!$AL38,\"\")))","v":""},{"$f":"IF($S44=\"SOURCE\",IF(AE$9='CABLE LENGTH'!$AK38,'CABLE LENGTH'!$AJ38*'CABLE LENGTH'!$AL38*-1,\"\"),IF(AE$9=\"VIDEO\",IF(AE$9='CABLE LENGTH'!$AK38,'CABLE LENGTH'!$AJ38*'CABLE LENGTH'!$AL38*-1,\"\"),IF(AE$9='CABLE LENGTH'!$AK38,'CABLE LENGTH'!$AJ38*'CABLE LENGTH'!$AL38,\"\")))","v":""},{"$f":"IF($S44=\"SOURCE\",IF(AF$9='CABLE LENGTH'!$AK38,'CABLE LENGTH'!$AJ38*'CABLE LENGTH'!$AL38*-1,\"\"),IF(AF$9=\"VIDEO\",IF(AF$9='CABLE LENGTH'!$AK38,'CABLE LENGTH'!$AJ38*'CABLE LENGTH'!$AL38*-1,\"\"),IF(AF$9='CABLE LENGTH'!$AK38,'CABLE LENGTH'!$AJ38*'CABLE LENGTH'!$AL38,\"\")))","v":""}]
[0.3,{"$f":"IF('CONDUIT LENGTH'!A38>0,'CONDUIT LENGTH'!A38,\" \")","v":" "},{"$f":"IF('CONDUIT LENGTH'!B38>0,'CONDUIT LENGTH'!B38,\" \")","v":" "},{"$f":"IF('CONDUIT LENGTH'!C38>0,'CONDUIT LENGTH'!C38,\" \")","v":" "},{"$f":"IF($B45=\"SOURCE\",IF(LEFT(E$5,1)='CONDUIT LENGTH'!$M38,IF(E$9='CONDUIT LENGTH'!$L38,'CONDUIT LENGTH'!$K38*-1,IF(AND(E$9=RIGHT('CONDUIT LENGTH'!$L38,2),LEFT('CONDUIT LENGTH'!$L38,3)=\"2x3\")=TRUE,IF(LEFT('CONDUIT LENGTH'!$L38,2)=\"2x\",'CONDUIT LENGTH'!$K38*-1*2,\"\"),\"\")),\"\"),IF(LEFT(E$5,1)='CONDUIT LENGTH'!$M38,IF(E$9='CONDUIT LENGTH'!$L38,'CONDUIT LENGTH'!$K38,IF(AND(E$9=RIGHT('CONDUIT LENGTH'!$L38,2),LEFT('CONDUIT LENGTH'!$L38,3)=\"2x3\")=TRUE,IF(LEFT('CONDUIT LENGTH'!$L38,2)=\"2x\",'CONDUIT LENGTH'!$K38*2,\"\"),\"\")),\"\"))","v":""},{"$f":"IF($B45=\"SOURCE\",IF(LEFT(G$6,1)='CONDUIT LENGTH'!$M38,IF(F$9='CONDUIT LENGTH'!$L38,'CONDUIT LENGTH'!$K38*-1,IF(AND(F$9=RIGHT('CONDUIT LENGTH'!$L38,2),LEFT('CONDUIT LENGTH'!$L38,3)=\"2x3\")=TRUE,IF(LEFT('CONDUIT LENGTH'!$L38,2)=\"2x\",'CONDUIT LENGTH'!$K38*-1*2,\"\"),\"\")),\"\"),IF(LEFT(G$6,1)='CONDUIT LENGTH'!$M38,IF(F$9='CONDUIT LENGTH'!$L38,'CONDUIT LENGTH'!$K38,IF(AND(F$9=RIGHT('CONDUIT LENGTH'!$L38,2),LEFT('CONDUIT LENGTH'!$L38,3)=\"2x3\")=TRUE,IF(LEFT('CONDUIT LENGTH'!$L38,2)=\"2x\",'CONDUIT LENGTH'!$K38*2,\"\"),\"\")),\"\"))","v":""},{"$f":"IF($B45=\"SOURCE\",IF(LEFT(G$6,1)='CONDUIT LENGTH'!$M38,IF(G$9='CONDUIT LENGTH'!$L38,'CONDUIT LENGTH'!$K38*-1,IF(AND(G$9=RIGHT('CONDUIT LENGTH'!$L38,2),LEFT('CONDUIT LENGTH'!$L38,3)=\"2x3\")=TRUE,IF(LEFT('CONDUIT LENGTH'!$L38,2)=\"2x\",'CONDUIT LENGTH'!$K38*-1*2,\"\"),\"\")),\"\"),IF(LEFT(G$6,1)='CONDUIT LENGTH'!$M38,IF(G$9='CONDUIT LENGTH'!$L38,'CONDUIT LENGTH'!$K38,IF(AND(G$9=RIGHT('CONDUIT LENGTH'!$L38,2),LEFT('CONDUIT LENGTH'!$L38,3)=\"2x3\")=TRUE,IF(LEFT('CONDUIT LENGTH'!$L38,2)=\"2x\",'CONDUIT LENGTH'!$K38*2,\"\"),\"\")),\"\"))","v":""},{"$f":"IF($B45=\"SOURCE\",IF(LEFT(G$6,1)='CONDUIT LENGTH'!$M38,IF(H$9='CONDUIT LENGTH'!$L38,'CONDUIT LENGTH'!$K38*-1,IF(AND(H$9=RIGHT('CONDUIT LENGTH'!$L38,2),LEFT('CONDUIT LENGTH'!$L38,3)=\"2x3\")=TRUE,IF(LEFT('CONDUIT LENGTH'!$L38,2)=\"2x\",'CONDUIT LENGTH'!$K38*-1*2,\"\"),\"\")),\"\"),IF(LEFT(G$6,1)='CONDUIT LENGTH'!$M38,IF(H$9='CONDUIT LENGTH'!$L38,'CONDUIT LENGTH'!$K38,IF(AND(H$9=RIGHT('CONDUIT LENGTH'!$L38,2),LEFT('CONDUIT LENGTH'!$L38,3)=\"2x3\")=TRUE,IF(LEFT('CONDUIT LENGTH'!$L38,2)=\"2x\",'CONDUIT LENGTH'!$K38*2,\"\"),\"\")),\"\"))","v":""},{"$f":"IF($B45=\"SOURCE\",IF(LEFT(J$6,1)='CONDUIT LENGTH'!$M38,IF(I$9='CONDUIT LENGTH'!$L38,'CONDUIT LENGTH'!$K38*-1,IF(AND(I$9=RIGHT('CONDUIT LENGTH'!$L38,2),LEFT('CONDUIT LENGTH'!$L38,3)=\"2x3\")=TRUE,IF(LEFT('CONDUIT LENGTH'!$L38,2)=\"2x\",'CONDUIT LENGTH'!$K38*-1*2,\"\"),\"\")),\"\"),IF(LEFT(J$6,1)='CONDUIT LENGTH'!$M38,IF(I$9='CONDUIT LENGTH'!$L38,'CONDUIT LENGTH'!$K38,IF(AND(I$9=RIGHT('CONDUIT LENGTH'!$L38,2),LEFT('CONDUIT LENGTH'!$L38,3)=\"2x3\")=TRUE,IF(LEFT('CONDUIT LENGTH'!$L38,2)=\"2x\",'CONDUIT LENGTH'!$K38*2,\"\"),\"\")),\"\"))","v":""},{"$f":"IF($B45=\"SOURCE\",IF(LEFT(J$6,1)='CONDUIT LENGTH'!$M38,IF(J$9='CONDUIT LENGTH'!$L38,'CONDUIT LENGTH'!$K38*-1,IF(AND(J$9=RIGHT('CONDUIT LENGTH'!$L38,2),LEFT('CONDUIT LENGTH'!$L38,3)=\"2x3\")=TRUE,IF(LEFT('CONDUIT LENGTH'!$L38,2)=\"2x\",'CONDUIT LENGTH'!$K38*-1*2,\"\"),\"\")),\"\"),IF(LEFT(J$6,1)='CONDUIT LENGTH'!$M38,IF(J$9='CONDUIT LENGTH'!$L38,'CONDUIT LENGTH'!$K38,IF(AND(J$9=RIGHT('CONDUIT LENGTH'!$L38,2),LEFT('CONDUIT LENGTH'!$L38,3)=\"2x3\")=TRUE,IF(LEFT('CONDUIT LENGTH'!$L38,2)=\"2x\",'CONDUIT LENGTH'!$K38*2,\"\"),\"\")),\"\"))","v":""},{"$f":"IF($B45=\"SOURCE\",IF(LEFT(J$6,1)='CONDUIT LENGTH'!$M38,IF(K$9='CONDUIT LENGTH'!$L38,'CONDUIT LENGTH'!$K38*-1,IF(AND(K$9=RIGHT('CONDUIT LENGTH'!$L38,2),LEFT('CONDUIT LENGTH'!$L38,3)=\"2x3\")=TRUE,IF(LEFT('CONDUIT LENGTH'!$L38,2)=\"2x\",'CONDUIT LENGTH'!$K38*-1*2,\"\"),\"\")),\"\"),IF(LEFT(J$6,1)='CONDUIT LENGTH'!$M38,IF(K$9='CONDUIT LENGTH'!$L38,'CONDUIT LENGTH'!$K38,IF(AND(K$9=RIGHT('CONDUIT LENGTH'!$L38,2),LEFT('CONDUIT LENGTH'!$L38,3)=\"2x3\")=TRUE,IF(LEFT('CONDUIT LENGTH'!$L38,2)=\"2x\",'CONDUIT LENGTH'!$K38*2,\"\"),\"\")),\"\"))","v":""},{"$f":"IF($B45=\"SOURCE\",IF(LEFT(M$6,1)='CONDUIT LENGTH'!$M38,IF(L$9='CONDUIT LENGTH'!$L38,'CONDUIT LENGTH'!$K38*-1,IF(AND(L$9=RIGHT('CONDUIT LENGTH'!$L38,2),LEFT('CONDUIT LENGTH'!$L38,3)=\"2x3\")=TRUE,IF(LEFT('CONDUIT LENGTH'!$L38,2)=\"2x\",'CONDUIT LENGTH'!$K38*-1*2,\"\"),\"\")),\"\"),IF(LEFT(M$6,1)='CONDUIT LENGTH'!$M38,IF(L$9='CONDUIT LENGTH'!$L38,'CONDUIT LENGTH'!$K38,IF(AND(L$9=RIGHT('CONDUIT LENGTH'!$L38,2),LEFT('CONDUIT LENGTH'!$L38,3)=\"2x3\")=TRUE,IF(LEFT('CONDUIT LENGTH'!$L38,2)=\"2x\",'CONDUIT LENGTH'!$K38*2,\"\"),\"\")),\"\"))","v":""},{"$f":"IF($B45=\"SOURCE\",IF(LEFT(M$6,1)='CONDUIT LENGTH'!$M38,IF(M$9='CONDUIT LENGTH'!$L38,'CONDUIT LENGTH'!$K38*-1,IF(AND(M$9=RIGHT('CONDUIT LENGTH'!$L38,2),LEFT('CONDUIT LENGTH'!$L38,3)=\"2x3\")=TRUE,IF(LEFT('CONDUIT LENGTH'!$L38,2)=\"2x\",'CONDUIT LENGTH'!$K38*-1*2,\"\"),\"\")),\"\"),IF(LEFT(M$6,1)='CONDUIT LENGTH'!$M38,IF(M$9='CONDUIT LENGTH'!$L38,'CONDUIT LENGTH'!$K38,IF(AND(M$9=RIGHT('CONDUIT LENGTH'!$L38,2),LEFT('CONDUIT LENGTH'!$L38,3)=\"2x3\")=TRUE,IF(LEFT('CONDUIT LENGTH'!$L38,2)=\"2x\",'CONDUIT LENGTH'!$K38*2,\"\"),\"\")),\"\"))","v":""},{"$f":"IF($B45=\"SOURCE\",IF(LEFT(M$6,1)='CONDUIT LENGTH'!$M38,IF(N$9='CONDUIT LENGTH'!$L38,'CONDUIT LENGTH'!$K38*-1,IF(AND(N$9=RIGHT('CONDUIT LENGTH'!$L38,2),LEFT('CONDUIT LENGTH'!$L38,3)=\"2x3\")=TRUE,IF(LEFT('CONDUIT LENGTH'!$L38,2)=\"2x\",'CONDUIT LENGTH'!$K38*-1*2,\"\"),\"\")),\"\"),IF(LEFT(M$6,1)='CONDUIT LENGTH'!$M38,IF(N$9='CONDUIT LENGTH'!$L38,'CONDUIT LENGTH'!$K38,IF(AND(N$9=RIGHT('CONDUIT LENGTH'!$L38,2),LEFT('CONDUIT LENGTH'!$L38,3)=\"2x3\")=TRUE,IF(LEFT('CONDUIT LENGTH'!$L38,2)=\"2x\",'CONDUIT LENGTH'!$K38*2,\"\"),\"\")),\"\"))","v":""},{"$f":"IF($B45=\"SOURCE\",IF(LEFT(P$5,1)='CONDUIT LENGTH'!$M38,IF(O$9='CONDUIT LENGTH'!$L38,'CONDUIT LENGTH'!$K38*-1,IF(AND(O$9=RIGHT('CONDUIT LENGTH'!$L38,2),LEFT('CONDUIT LENGTH'!$L38,3)=\"2x3\")=TRUE,IF(LEFT('CONDUIT LENGTH'!$L38,2)=\"2x\",'CONDUIT LENGTH'!$K38*-1*2,\"\"),\"\")),\"\"),IF(LEFT(P$6,1)='CONDUIT LENGTH'!$M38,IF(O$9='CONDUIT LENGTH'!$L38,'CONDUIT LENGTH'!$K38,IF(AND(O$9=RIGHT('CONDUIT LENGTH'!$L38,2),LEFT('CONDUIT LENGTH'!$L38,3)=\"2x3\")=TRUE,IF(LEFT('CONDUIT LENGTH'!$L38,2)=\"2x\",'CONDUIT LENGTH'!$K38*2,\"\"),\"\")),\"\"))","v":""},{"$f":"IF($B45=\"SOURCE\",IF(LEFT(P$5,1)='CONDUIT LENGTH'!$M38,IF(P$9='CONDUIT LENGTH'!$L38,'CONDUIT LENGTH'!$K38*-1,IF(AND(P$9=RIGHT('CONDUIT LENGTH'!$L38,2),LEFT('CONDUIT LENGTH'!$L38,3)=\"2x3\")=TRUE,IF(LEFT('CONDUIT LENGTH'!$L38,2)=\"2x\",'CONDUIT LENGTH'!$K38*-1*2,\"\"),\"\")),\"\"),IF(LEFT(P$6,1)='CONDUIT LENGTH'!$M38,IF(P$9='CONDUIT LENGTH'!$L38,'CONDUIT LENGTH'!$K38,IF(AND(P$9=RIGHT('CONDUIT LENGTH'!$L38,2),LEFT('CONDUIT LENGTH'!$L38,3)=\"2x3\")=TRUE,IF(LEFT('CONDUIT LENGTH'!$L38,2)=\"2x\",'CONDUIT LENGTH'!$K38*2,\"\"),\"\")),\"\"))","v":""},{"$f":"IF($B45=\"SOURCE\",IF(LEFT(P$5,1)='CONDUIT LENGTH'!$M38,IF(Q$9='CONDUIT LENGTH'!$L38,'CONDUIT LENGTH'!$K38*-1,IF(AND(Q$9=RIGHT('CONDUIT LENGTH'!$L38,2),LEFT('CONDUIT LENGTH'!$L38,3)=\"2x3\")=TRUE,IF(LEFT('CONDUIT LENGTH'!$L38,2)=\"2x\",'CONDUIT LENGTH'!$K38*-1*2,\"\"),\"\")),\"\"),IF(LEFT(Q$6,1)='CONDUIT LENGTH'!$M38,IF(Q$9='CONDUIT LENGTH'!$L38,'CONDUIT LENGTH'!$K38,IF(AND(Q$9=RIGHT('CONDUIT LENGTH'!$L38,2),LEFT('CONDUIT LENGTH'!$L38,3)=\"2x3\")=TRUE,IF(LEFT('CONDUIT LENGTH'!$L38,2)=\"2x\",'CONDUIT LENGTH'!$K38*2,\"\"),\"\")),\"\"))","v":""},{"$f":"IF('CONDUIT LENGTH'!M38=\"UIP\",\"UIP EXISTING\",\"\")","v":""},{"$f":"IF('CABLE LENGTH'!A39>0,'CABLE LENGTH'!A39,\"\")","v":""},{"$f":"IF('CABLE LENGTH'!B39>0,'CABLE LENGTH'!B39,\"\")","v":""},{"$f":"IF('CABLE LENGTH'!Q39>0,'CABLE LENGTH'!Q39,\"\")","v":""},{"$f":"IF($S45=\"SOURCE\",IF(V$9='CABLE LENGTH'!$AK39,'CABLE LENGTH'!$AJ39*'CABLE LENGTH'!$AL39*-1,\"\"),IF(V$9=\"VIDEO\",IF(V$9='CABLE LENGTH'!$AK39,'CABLE LENGTH'!$AJ39*'CABLE LENGTH'!$AL39*-1,\"\"),IF(V$9='CABLE LENGTH'!$AK39,'CABLE LENGTH'!$AJ39*'CABLE LENGTH'!$AL39,\"\")))","v":""},{"$f":"IF($S45=\"SOURCE\",IF(W$9='CABLE LENGTH'!$AK39,'CABLE LENGTH'!$AJ39*'CABLE LENGTH'!$AL39*-1,\"\"),IF(W$9=\"VIDEO\",IF(W$9='CABLE LENGTH'!$AK39,'CABLE LENGTH'!$AJ39*'CABLE LENGTH'!$AL39*-1,\"\"),IF(W$9='CABLE LENGTH'!$AK39,'CABLE LENGTH'!$AJ39*'CABLE LENGTH'!$AL39,\"\")))","v":""},{"$f":"IF($S45=\"SOURCE\",IF(X$10='CABLE LENGTH'!$AK39,'CABLE LENGTH'!$AJ39*'CABLE LENGTH'!$AL39*-1,\"\"),IF(X$10=\"VIDEO\",IF(X$10='CABLE LENGTH'!$AK39,'CABLE LENGTH'!$AJ39*'CABLE LENGTH'!$AL39*-1,\"\"),IF(X$10='CABLE LENGTH'!$AK39,'CABLE LENGTH'!$AJ39*'CABLE LENGTH'!$AL39,\"\")))","v":""},{"$f":"IF($S45=\"SOURCE\",IF(Y$10='CABLE LENGTH'!$AK39,'CABLE LENGTH'!$AJ39*'CABLE LENGTH'!$AL39*-1,\"\"),IF(Y$10=\"VIDEO\",IF(Y$10='CABLE LENGTH'!$AK39,'CABLE LENGTH'!$AJ39*'CABLE LENGTH'!$AL39*-1,\"\"),IF(Y$10='CABLE LENGTH'!$AK39,'CABLE LENGTH'!$AJ39*'CABLE LENGTH'!$AL39,\"\")))","v":""},{"$f":"IF($S45=\"SOURCE\",IF(Z$10='CABLE LENGTH'!$AK39,'CABLE LENGTH'!$AJ39*'CABLE LENGTH'!$AL39*-1,\"\"),IF(Z$10=\"VIDEO\",IF(Z$10='CABLE LENGTH'!$AK39,'CABLE LENGTH'!$AJ39*'CABLE LENGTH'!$AL39*-1,\"\"),IF(Z$10='CABLE LENGTH'!$AK39,'CABLE LENGTH'!$AJ39*'CABLE LENGTH'!$AL39,\"\")))","v":""},{"$f":"IF($S45=\"SOURCE\",IF(AA$10='CABLE LENGTH'!$AK39,'CABLE LENGTH'!$AJ39*'CABLE LENGTH'!$AL39*-1,\"\"),IF(AA$10=\"VIDEO\",IF(AA$10='CABLE LENGTH'!$AK39,'CABLE LENGTH'!$AJ39*'CABLE LENGTH'!$AL39*-1,\"\"),IF(AA$10='CABLE LENGTH'!$AK39,'CABLE LENGTH'!$AJ39*'CABLE LENGTH'!$AL39,\"\")))","v":""},{"$f":"IF($S45=\"SOURCE\",IF(AB$10='CABLE LENGTH'!$AK39,'CABLE LENGTH'!$AJ39*'CABLE LENGTH'!$AL39*-1,\"\"),IF(AB$10=\"VIDEO\",IF(AB$10='CABLE LENGTH'!$AK39,'CABLE LENGTH'!$AJ39*'CABLE LENGTH'!$AL39*-1,\"\"),IF(AB$10='CABLE LENGTH'!$AK39,'CABLE LENGTH'!$AJ39*'CABLE LENGTH'!$AL39,\"\")))","v":""},{"$f":"IF($S45=\"SOURCE\",IF(AC$10='CABLE LENGTH'!$AK39,'CABLE LENGTH'!$AJ39*'CABLE LENGTH'!$AL39*-1,\"\"),IF(AC$10=\"VIDEO\",IF(AC$10='CABLE LENGTH'!$AK39,'CABLE LENGTH'!$AJ39*'CABLE LENGTH'!$AL39*-1,\"\"),IF(AC$10='CABLE LENGTH'!$AK39,'CABLE LENGTH'!$AJ39*'CABLE LENGTH'!$AL39,\"\")))","v":""},{"$f":"IF($S45=\"SOURCE\",IF(AD$9='CABLE LENGTH'!$AK39,'CABLE LENGTH'!$AJ39*'CABLE LENGTH'!$AL39*-1,\"\"),IF(AD$9=\"VIDEO\",IF(AD$9='CABLE LENGTH'!$AK39,'CABLE LENGTH'!$AJ39*'CABLE LENGTH'!$AL39*-1,\"\"),IF(AD$9='CABLE LENGTH'!$AK39,'CABLE LENGTH'!$AJ39*'CABLE LENGTH'!$AL39,\"\")))","v":""},{"$f":"IF($S45=\"SOURCE\",IF(AE$9='CABLE LENGTH'!$AK39,'CABLE LENGTH'!$AJ39*'CABLE LENGTH'!$AL39*-1,\"\"),IF(AE$9=\"VIDEO\",IF(AE$9='CABLE LENGTH'!$AK39,'CABLE LENGTH'!$AJ39*'CABLE LENGTH'!$AL39*-1,\"\"),IF(AE$9='CABLE LENGTH'!$AK39,'CABLE LENGTH'!$AJ39*'CABLE LENGTH'!$AL39,\"\")))","v":""},{"$f":"IF($S45=\"SOURCE\",IF(AF$9='CABLE LENGTH'!$AK39,'CABLE LENGTH'!$AJ39*'CABLE LENGTH'!$AL39*-1,\"\"),IF(AF$9=\"VIDEO\",IF(AF$9='CABLE LENGTH'!$AK39,'CABLE LENGTH'!$AJ39*'CABLE LENGTH'!$AL39*-1,\"\"),IF(AF$9='CABLE LENGTH'!$AK39,'CABLE LENGTH'!$AJ39*'CABLE LENGTH'!$AL39,\"\")))","v":""}]
[0.3,{"$f":"IF('CONDUIT LENGTH'!A39>0,'CONDUIT LENGTH'!A39,\" \")","v":" "},{"$f":"IF('CONDUIT LENGTH'!B39>0,'CONDUIT LENGTH'!B39,\" \")","v":" "},{"$f":"IF('CONDUIT LENGTH'!C39>0,'CONDUIT LENGTH'!C39,\" \")","v":" "},{"$f":"IF($B46=\"SOURCE\",IF(LEFT(E$5,1)='CONDUIT LENGTH'!$M39,IF(E$9='CONDUIT LENGTH'!$L39,'CONDUIT LENGTH'!$K39*-1,IF(AND(E$9=RIGHT('CONDUIT LENGTH'!$L39,2),LEFT('CONDUIT LENGTH'!$L39,3)=\"2x3\")=TRUE,IF(LEFT('CONDUIT LENGTH'!$L39,2)=\"2x\",'CONDUIT LENGTH'!$K39*-1*2,\"\"),\"\")),\"\"),IF(LEFT(E$5,1)='CONDUIT LENGTH'!$M39,IF(E$9='CONDUIT LENGTH'!$L39,'CONDUIT LENGTH'!$K39,IF(AND(E$9=RIGHT('CONDUIT LENGTH'!$L39,2),LEFT('CONDUIT LENGTH'!$L39,3)=\"2x3\")=TRUE,IF(LEFT('CONDUIT LENGTH'!$L39,2)=\"2x\",'CONDUIT LENGTH'!$K39*2,\"\"),\"\")),\"\"))","v":""},{"$f":"IF($B46=\"SOURCE\",IF(LEFT(G$6,1)='CONDUIT LENGTH'!$M39,IF(F$9='CONDUIT LENGTH'!$L39,'CONDUIT LENGTH'!$K39*-1,IF(AND(F$9=RIGHT('CONDUIT LENGTH'!$L39,2),LEFT('CONDUIT LENGTH'!$L39,3)=\"2x3\")=TRUE,IF(LEFT('CONDUIT LENGTH'!$L39,2)=\"2x\",'CONDUIT LENGTH'!$K39*-1*2,\"\"),\"\")),\"\"),IF(LEFT(G$6,1)='CONDUIT LENGTH'!$M39,IF(F$9='CONDUIT LENGTH'!$L39,'CONDUIT LENGTH'!$K39,IF(AND(F$9=RIGHT('CONDUIT LENGTH'!$L39,2),LEFT('CONDUIT LENGTH'!$L39,3)=\"2x3\")=TRUE,IF(LEFT('CONDUIT LENGTH'!$L39,2)=\"2x\",'CONDUIT LENGTH'!$K39*2,\"\"),\"\")),\"\"))","v":""},{"$f":"IF($B46=\"SOURCE\",IF(LEFT(G$6,1)='CONDUIT LENGTH'!$M39,IF(G$9='CONDUIT LENGTH'!$L39,'CONDUIT LENGTH'!$K39*-1,IF(AND(G$9=RIGHT('CONDUIT LENGTH'!$L39,2),LEFT('CONDUIT LENGTH'!$L39,3)=\"2x3\")=TRUE,IF(LEFT('CONDUIT LENGTH'!$L39,2)=\"2x\",'CONDUIT LENGTH'!$K39*-1*2,\"\"),\"\")),\"\"),IF(LEFT(G$6,1)='CONDUIT LENGTH'!$M39,IF(G$9='CONDUIT LENGTH'!$L39,'CONDUIT LENGTH'!$K39,IF(AND(G$9=RIGHT('CONDUIT LENGTH'!$L39,2),LEFT('CONDUIT LENGTH'!$L39,3)=\"2x3\")=TRUE,IF(LEFT('CONDUIT LENGTH'!$L39,2)=\"2x\",'CONDUIT LENGTH'!$K39*2,\"\"),\"\")),\"\"))","v":""},{"$f":"IF($B46=\"SOURCE\",IF(LEFT(G$6,1)='CONDUIT LENGTH'!$M39,IF(H$9='CONDUIT LENGTH'!$L39,'CONDUIT LENGTH'!$K39*-1,IF(AND(H$9=RIGHT('CONDUIT LENGTH'!$L39,2),LEFT('CONDUIT LENGTH'!$L39,3)=\"2x3\")=TRUE,IF(LEFT('CONDUIT LENGTH'!$L39,2)=\"2x\",'CONDUIT LENGTH'!$K39*-1*2,\"\"),\"\")),\"\"),IF(LEFT(G$6,1)='CONDUIT LENGTH'!$M39,IF(H$9='CONDUIT LENGTH'!$L39,'CONDUIT LENGTH'!$K39,IF(AND(H$9=RIGHT('CONDUIT LENGTH'!$L39,2),LEFT('CONDUIT LENGTH'!$L39,3)=\"2x3\")=TRUE,IF(LEFT('CONDUIT LENGTH'!$L39,2)=\"2x\",'CONDUIT LENGTH'!$K39*2,\"\"),\"\")),\"\"))","v":""},{"$f":"IF($B46=\"SOURCE\",IF(LEFT(J$6,1)='CONDUIT LENGTH'!$M39,IF(I$9='CONDUIT LENGTH'!$L39,'CONDUIT LENGTH'!$K39*-1,IF(AND(I$9=RIGHT('CONDUIT LENGTH'!$L39,2),LEFT('CONDUIT LENGTH'!$L39,3)=\"2x3\")=TRUE,IF(LEFT('CONDUIT LENGTH'!$L39,2)=\"2x\",'CONDUIT LENGTH'!$K39*-1*2,\"\"),\"\")),\"\"),IF(LEFT(J$6,1)='CONDUIT LENGTH'!$M39,IF(I$9='CONDUIT LENGTH'!$L39,'CONDUIT LENGTH'!$K39,IF(AND(I$9=RIGHT('CONDUIT LENGTH'!$L39,2),LEFT('CONDUIT LENGTH'!$L39,3)=\"2x3\")=TRUE,IF(LEFT('CONDUIT LENGTH'!$L39,2)=\"2x\",'CONDUIT LENGTH'!$K39*2,\"\"),\"\")),\"\"))","v":""},{"$f":"IF($B46=\"SOURCE\",IF(LEFT(J$6,1)='CONDUIT LENGTH'!$M39,IF(J$9='CONDUIT LENGTH'!$L39,'CONDUIT LENGTH'!$K39*-1,IF(AND(J$9=RIGHT('CONDUIT LENGTH'!$L39,2),LEFT('CONDUIT LENGTH'!$L39,3)=\"2x3\")=TRUE,IF(LEFT('CONDUIT LENGTH'!$L39,2)=\"2x\",'CONDUIT LENGTH'!$K39*-1*2,\"\"),\"\")),\"\"),IF(LEFT(J$6,1)='CONDUIT LENGTH'!$M39,IF(J$9='CONDUIT LENGTH'!$L39,'CONDUIT LENGTH'!$K39,IF(AND(J$9=RIGHT('CONDUIT LENGTH'!$L39,2),LEFT('CONDUIT LENGTH'!$L39,3)=\"2x3\")=TRUE,IF(LEFT('CONDUIT LENGTH'!$L39,2)=\"2x\",'CONDUIT LENGTH'!$K39*2,\"\"),\"\")),\"\"))","v":""},{"$f":"IF($B46=\"SOURCE\",IF(LEFT(J$6,1)='CONDUIT LENGTH'!$M39,IF(K$9='CONDUIT LENGTH'!$L39,'CONDUIT LENGTH'!$K39*-1,IF(AND(K$9=RIGHT('CONDUIT LENGTH'!$L39,2),LEFT('CONDUIT LENGTH'!$L39,3)=\"2x3\")=TRUE,IF(LEFT('CONDUIT LENGTH'!$L39,2)=\"2x\",'CONDUIT LENGTH'!$K39*-1*2,\"\"),\"\")),\"\"),IF(LEFT(J$6,1)='CONDUIT LENGTH'!$M39,IF(K$9='CONDUIT LENGTH'!$L39,'CONDUIT LENGTH'!$K39,IF(AND(K$9=RIGHT('CONDUIT LENGTH'!$L39,2),LEFT('CONDUIT LENGTH'!$L39,3)=\"2x3\")=TRUE,IF(LEFT('CONDUIT LENGTH'!$L39,2)=\"2x\",'CONDUIT LENGTH'!$K39*2,\"\"),\"\")),\"\"))","v":""},{"$f":"IF($B46=\"SOURCE\",IF(LEFT(M$6,1)='CONDUIT LENGTH'!$M39,IF(L$9='CONDUIT LENGTH'!$L39,'CONDUIT LENGTH'!$K39*-1,IF(AND(L$9=RIGHT('CONDUIT LENGTH'!$L39,2),LEFT('CONDUIT LENGTH'!$L39,3)=\"2x3\")=TRUE,IF(LEFT('CONDUIT LENGTH'!$L39,2)=\"2x\",'CONDUIT LENGTH'!$K39*-1*2,\"\"),\"\")),\"\"),IF(LEFT(M$6,1)='CONDUIT LENGTH'!$M39,IF(L$9='CONDUIT LENGTH'!$L39,'CONDUIT LENGTH'!$K39,IF(AND(L$9=RIGHT('CONDUIT LENGTH'!$L39,2),LEFT('CONDUIT LENGTH'!$L39,3)=\"2x3\")=TRUE,IF(LEFT('CONDUIT LENGTH'!$L39,2)=\"2x\",'CONDUIT LENGTH'!$K39*2,\"\"),\"\")),\"\"))","v":""},{"$f":"IF($B46=\"SOURCE\",IF(LEFT(M$6,1)='CONDUIT LENGTH'!$M39,IF(M$9='CONDUIT LENGTH'!$L39,'CONDUIT LENGTH'!$K39*-1,IF(AND(M$9=RIGHT('CONDUIT LENGTH'!$L39,2),LEFT('CONDUIT LENGTH'!$L39,3)=\"2x3\")=TRUE,IF(LEFT('CONDUIT LENGTH'!$L39,2)=\"2x\",'CONDUIT LENGTH'!$K39*-1*2,\"\"),\"\")),\"\"),IF(LEFT(M$6,1)='CONDUIT LENGTH'!$M39,IF(M$9='CONDUIT LENGTH'!$L39,'CONDUIT LENGTH'!$K39,IF(AND(M$9=RIGHT('CONDUIT LENGTH'!$L39,2),LEFT('CONDUIT LENGTH'!$L39,3)=\"2x3\")=TRUE,IF(LEFT('CONDUIT LENGTH'!$L39,2)=\"2x\",'CONDUIT LENGTH'!$K39*2,\"\"),\"\")),\"\"))","v":""},{"$f":"IF($B46=\"SOURCE\",IF(LEFT(M$6,1)='CONDUIT LENGTH'!$M39,IF(N$9='CONDUIT LENGTH'!$L39,'CONDUIT LENGTH'!$K39*-1,IF(AND(N$9=RIGHT('CONDUIT LENGTH'!$L39,2),LEFT('CONDUIT LENGTH'!$L39,3)=\"2x3\")=TRUE,IF(LEFT('CONDUIT LENGTH'!$L39,2)=\"2x\",'CONDUIT LENGTH'!$K39*-1*2,\"\"),\"\")),\"\"),IF(LEFT(M$6,1)='CONDUIT LENGTH'!$M39,IF(N$9='CONDUIT LENGTH'!$L39,'CONDUIT LENGTH'!$K39,IF(AND(N$9=RIGHT('CONDUIT LENGTH'!$L39,2),LEFT('CONDUIT LENGTH'!$L39,3)=\"2x3\")=TRUE,IF(LEFT('CONDUIT LENGTH'!$L39,2)=\"2x\",'CONDUIT LENGTH'!$K39*2,\"\"),\"\")),\"\"))","v":""},{"$f":"IF($B46=\"SOURCE\",IF(LEFT(P$5,1)='CONDUIT LENGTH'!$M39,IF(O$9='CONDUIT LENGTH'!$L39,'CONDUIT LENGTH'!$K39*-1,IF(AND(O$9=RIGHT('CONDUIT LENGTH'!$L39,2),LEFT('CONDUIT LENGTH'!$L39,3)=\"2x3\")=TRUE,IF(LEFT('CONDUIT LENGTH'!$L39,2)=\"2x\",'CONDUIT LENGTH'!$K39*-1*2,\"\"),\"\")),\"\"),IF(LEFT(P$6,1)='CONDUIT LENGTH'!$M39,IF(O$9='CONDUIT LENGTH'!$L39,'CONDUIT LENGTH'!$K39,IF(AND(O$9=RIGHT('CONDUIT LENGTH'!$L39,2),LEFT('CONDUIT LENGTH'!$L39,3)=\"2x3\")=TRUE,IF(LEFT('CONDUIT LENGTH'!$L39,2)=\"2x\",'CONDUIT LENGTH'!$K39*2,\"\"),\"\")),\"\"))","v":""},{"$f":"IF($B46=\"SOURCE\",IF(LEFT(P$5,1)='CONDUIT LENGTH'!$M39,IF(P$9='CONDUIT LENGTH'!$L39,'CONDUIT LENGTH'!$K39*-1,IF(AND(P$9=RIGHT('CONDUIT LENGTH'!$L39,2),LEFT('CONDUIT LENGTH'!$L39,3)=\"2x3\")=TRUE,IF(LEFT('CONDUIT LENGTH'!$L39,2)=\"2x\",'CONDUIT LENGTH'!$K39*-1*2,\"\"),\"\")),\"\"),IF(LEFT(P$6,1)='CONDUIT LENGTH'!$M39,IF(P$9='CONDUIT LENGTH'!$L39,'CONDUIT LENGTH'!$K39,IF(AND(P$9=RIGHT('CONDUIT LENGTH'!$L39,2),LEFT('CONDUIT LENGTH'!$L39,3)=\"2x3\")=TRUE,IF(LEFT('CONDUIT LENGTH'!$L39,2)=\"2x\",'CONDUIT LENGTH'!$K39*2,\"\"),\"\")),\"\"))","v":""},{"$f":"IF($B46=\"SOURCE\",IF(LEFT(P$5,1)='CONDUIT LENGTH'!$M39,IF(Q$9='CONDUIT LENGTH'!$L39,'CONDUIT LENGTH'!$K39*-1,IF(AND(Q$9=RIGHT('CONDUIT LENGTH'!$L39,2),LEFT('CONDUIT LENGTH'!$L39,3)=\"2x3\")=TRUE,IF(LEFT('CONDUIT LENGTH'!$L39,2)=\"2x\",'CONDUIT LENGTH'!$K39*-1*2,\"\"),\"\")),\"\"),IF(LEFT(Q$6,1)='CONDUIT LENGTH'!$M39,IF(Q$9='CONDUIT LENGTH'!$L39,'CONDUIT LENGTH'!$K39,IF(AND(Q$9=RIGHT('CONDUIT LENGTH'!$L39,2),LEFT('CONDUIT LENGTH'!$L39,3)=\"2x3\")=TRUE,IF(LEFT('CONDUIT LENGTH'!$L39,2)=\"2x\",'CONDUIT LENGTH'!$K39*2,\"\"),\"\")),\"\"))","v":""},{"$f":"IF('CONDUIT LENGTH'!M39=\"UIP\",\"UIP EXISTING\",\"\")","v":""},{"$f":"IF('CABLE LENGTH'!A40>0,'CABLE LENGTH'!A40,\"\")","v":""},{"$f":"IF('CABLE LENGTH'!B40>0,'CABLE LENGTH'!B40,\"\")","v":""},{"$f":"IF('CABLE LENGTH'!Q40>0,'CABLE LENGTH'!Q40,\"\")","v":""},{"$f":"IF($S46=\"SOURCE\",IF(V$9='CABLE LENGTH'!$AK40,'CABLE LENGTH'!$AJ40*'CABLE LENGTH'!$AL40*-1,\"\"),IF(V$9=\"VIDEO\",IF(V$9='CABLE LENGTH'!$AK40,'CABLE LENGTH'!$AJ40*'CABLE LENGTH'!$AL40*-1,\"\"),IF(V$9='CABLE LENGTH'!$AK40,'CABLE LENGTH'!$AJ40*'CABLE LENGTH'!$AL40,\"\")))","v":""},{"$f":"IF($S46=\"SOURCE\",IF(W$9='CABLE LENGTH'!$AK40,'CABLE LENGTH'!$AJ40*'CABLE LENGTH'!$AL40*-1,\"\"),IF(W$9=\"VIDEO\",IF(W$9='CABLE LENGTH'!$AK40,'CABLE LENGTH'!$AJ40*'CABLE LENGTH'!$AL40*-1,\"\"),IF(W$9='CABLE LENGTH'!$AK40,'CABLE LENGTH'!$AJ40*'CABLE LENGTH'!$AL40,\"\")))","v":""},{"$f":"IF($S46=\"SOURCE\",IF(X$10='CABLE LENGTH'!$AK40,'CABLE LENGTH'!$AJ40*'CABLE LENGTH'!$AL40*-1,\"\"),IF(X$10=\"VIDEO\",IF(X$10='CABLE LENGTH'!$AK40,'CABLE LENGTH'!$AJ40*'CABLE LENGTH'!$AL40*-1,\"\"),IF(X$10='CABLE LENGTH'!$AK40,'CABLE LENGTH'!$AJ40*'CABLE LENGTH'!$AL40,\"\")))","v":""},{"$f":"IF($S46=\"SOURCE\",IF(Y$10='CABLE LENGTH'!$AK40,'CABLE LENGTH'!$AJ40*'CABLE LENGTH'!$AL40*-1,\"\"),IF(Y$10=\"VIDEO\",IF(Y$10='CABLE LENGTH'!$AK40,'CABLE LENGTH'!$AJ40*'CABLE LENGTH'!$AL40*-1,\"\"),IF(Y$10='CABLE LENGTH'!$AK40,'CABLE LENGTH'!$AJ40*'CABLE LENGTH'!$AL40,\"\")))","v":""},{"$f":"IF($S46=\"SOURCE\",IF(Z$10='CABLE LENGTH'!$AK40,'CABLE LENGTH'!$AJ40*'CABLE LENGTH'!$AL40*-1,\"\"),IF(Z$10=\"VIDEO\",IF(Z$10='CABLE LENGTH'!$AK40,'CABLE LENGTH'!$AJ40*'CABLE LENGTH'!$AL40*-1,\"\"),IF(Z$10='CABLE LENGTH'!$AK40,'CABLE LENGTH'!$AJ40*'CABLE LENGTH'!$AL40,\"\")))","v":""},{"$f":"IF($S46=\"SOURCE\",IF(AA$10='CABLE LENGTH'!$AK40,'CABLE LENGTH'!$AJ40*'CABLE LENGTH'!$AL40*-1,\"\"),IF(AA$10=\"VIDEO\",IF(AA$10='CABLE LENGTH'!$AK40,'CABLE LENGTH'!$AJ40*'CABLE LENGTH'!$AL40*-1,\"\"),IF(AA$10='CABLE LENGTH'!$AK40,'CABLE LENGTH'!$AJ40*'CABLE LENGTH'!$AL40,\"\")))","v":""},{"$f":"IF($S46=\"SOURCE\",IF(AB$10='CABLE LENGTH'!$AK40,'CABLE LENGTH'!$AJ40*'CABLE LENGTH'!$AL40*-1,\"\"),IF(AB$10=\"VIDEO\",IF(AB$10='CABLE LENGTH'!$AK40,'CABLE LENGTH'!$AJ40*'CABLE LENGTH'!$AL40*-1,\"\"),IF(AB$10='CABLE LENGTH'!$AK40,'CABLE LENGTH'!$AJ40*'CABLE LENGTH'!$AL40,\"\")))","v":""},{"$f":"IF($S46=\"SOURCE\",IF(AC$10='CABLE LENGTH'!$AK40,'CABLE LENGTH'!$AJ40*'CABLE LENGTH'!$AL40*-1,\"\"),IF(AC$10=\"VIDEO\",IF(AC$10='CABLE LENGTH'!$AK40,'CABLE LENGTH'!$AJ40*'CABLE LENGTH'!$AL40*-1,\"\"),IF(AC$10='CABLE LENGTH'!$AK40,'CABLE LENGTH'!$AJ40*'CABLE LENGTH'!$AL40,\"\")))","v":""},{"$f":"IF($S46=\"SOURCE\",IF(AD$9='CABLE LENGTH'!$AK40,'CABLE LENGTH'!$AJ40*'CABLE LENGTH'!$AL40*-1,\"\"),IF(AD$9=\"VIDEO\",IF(AD$9='CABLE LENGTH'!$AK40,'CABLE LENGTH'!$AJ40*'CABLE LENGTH'!$AL40*-1,\"\"),IF(AD$9='CABLE LENGTH'!$AK40,'CABLE LENGTH'!$AJ40*'CABLE LENGTH'!$AL40,\"\")))","v":""},{"$f":"IF($S46=\"SOURCE\",IF(AE$9='CABLE LENGTH'!$AK40,'CABLE LENGTH'!$AJ40*'CABLE LENGTH'!$AL40*-1,\"\"),IF(AE$9=\"VIDEO\",IF(AE$9='CABLE LENGTH'!$AK40,'CABLE LENGTH'!$AJ40*'CABLE LENGTH'!$AL40*-1,\"\"),IF(AE$9='CABLE LENGTH'!$AK40,'CABLE LENGTH'!$AJ40*'CABLE LENGTH'!$AL40,\"\")))","v":""},{"$f":"IF($S46=\"SOURCE\",IF(AF$9='CABLE LENGTH'!$AK40,'CABLE LENGTH'!$AJ40*'CABLE LENGTH'!$AL40*-1,\"\"),IF(AF$9=\"VIDEO\",IF(AF$9='CABLE LENGTH'!$AK40,'CABLE LENGTH'!$AJ40*'CABLE LENGTH'!$AL40*-1,\"\"),IF(AF$9='CABLE LENGTH'!$AK40,'CABLE LENGTH'!$AJ40*'CABLE LENGTH'!$AL40,\"\")))","v":""}]
[0.3,{"$f":"IF('CONDUIT LENGTH'!A40>0,'CONDUIT LENGTH'!A40,\" \")","v":" "},{"$f":"IF('CONDUIT LENGTH'!B40>0,'CONDUIT LENGTH'!B40,\" \")","v":" "},{"$f":"IF('CONDUIT LENGTH'!C40>0,'CONDUIT LENGTH'!C40,\" \")","v":" "},{"$f":"IF($B47=\"SOURCE\",IF(LEFT(E$5,1)='CONDUIT LENGTH'!$M40,IF(E$9='CONDUIT LENGTH'!$L40,'CONDUIT LENGTH'!$K40*-1,IF(AND(E$9=RIGHT('CONDUIT LENGTH'!$L40,2),LEFT('CONDUIT LENGTH'!$L40,3)=\"2x3\")=TRUE,IF(LEFT('CONDUIT LENGTH'!$L40,2)=\"2x\",'CONDUIT LENGTH'!$K40*-1*2,\"\"),\"\")),\"\"),IF(LEFT(E$5,1)='CONDUIT LENGTH'!$M40,IF(E$9='CONDUIT LENGTH'!$L40,'CONDUIT LENGTH'!$K40,IF(AND(E$9=RIGHT('CONDUIT LENGTH'!$L40,2),LEFT('CONDUIT LENGTH'!$L40,3)=\"2x3\")=TRUE,IF(LEFT('CONDUIT LENGTH'!$L40,2)=\"2x\",'CONDUIT LENGTH'!$K40*2,\"\"),\"\")),\"\"))","v":""},{"$f":"IF($B47=\"SOURCE\",IF(LEFT(G$6,1)='CONDUIT LENGTH'!$M40,IF(F$9='CONDUIT LENGTH'!$L40,'CONDUIT LENGTH'!$K40*-1,IF(AND(F$9=RIGHT('CONDUIT LENGTH'!$L40,2),LEFT('CONDUIT LENGTH'!$L40,3)=\"2x3\")=TRUE,IF(LEFT('CONDUIT LENGTH'!$L40,2)=\"2x\",'CONDUIT LENGTH'!$K40*-1*2,\"\"),\"\")),\"\"),IF(LEFT(G$6,1)='CONDUIT LENGTH'!$M40,IF(F$9='CONDUIT LENGTH'!$L40,'CONDUIT LENGTH'!$K40,IF(AND(F$9=RIGHT('CONDUIT LENGTH'!$L40,2),LEFT('CONDUIT LENGTH'!$L40,3)=\"2x3\")=TRUE,IF(LEFT('CONDUIT LENGTH'!$L40,2)=\"2x\",'CONDUIT LENGTH'!$K40*2,\"\"),\"\")),\"\"))","v":""},{"$f":"IF($B47=\"SOURCE\",IF(LEFT(G$6,1)='CONDUIT LENGTH'!$M40,IF(G$9='CONDUIT LENGTH'!$L40,'CONDUIT LENGTH'!$K40*-1,IF(AND(G$9=RIGHT('CONDUIT LENGTH'!$L40,2),LEFT('CONDUIT LENGTH'!$L40,3)=\"2x3\")=TRUE,IF(LEFT('CONDUIT LENGTH'!$L40,2)=\"2x\",'CONDUIT LENGTH'!$K40*-1*2,\"\"),\"\")),\"\"),IF(LEFT(G$6,1)='CONDUIT LENGTH'!$M40,IF(G$9='CONDUIT LENGTH'!$L40,'CONDUIT LENGTH'!$K40,IF(AND(G$9=RIGHT('CONDUIT LENGTH'!$L40,2),LEFT('CONDUIT LENGTH'!$L40,3)=\"2x3\")=TRUE,IF(LEFT('CONDUIT LENGTH'!$L40,2)=\"2x\",'CONDUIT LENGTH'!$K40*2,\"\"),\"\")),\"\"))","v":""},{"$f":"IF($B47=\"SOURCE\",IF(LEFT(G$6,1)='CONDUIT LENGTH'!$M40,IF(H$9='CONDUIT LENGTH'!$L40,'CONDUIT LENGTH'!$K40*-1,IF(AND(H$9=RIGHT('CONDUIT LENGTH'!$L40,2),LEFT('CONDUIT LENGTH'!$L40,3)=\"2x3\")=TRUE,IF(LEFT('CONDUIT LENGTH'!$L40,2)=\"2x\",'CONDUIT LENGTH'!$K40*-1*2,\"\"),\"\")),\"\"),IF(LEFT(G$6,1)='CONDUIT LENGTH'!$M40,IF(H$9='CONDUIT LENGTH'!$L40,'CONDUIT LENGTH'!$K40,IF(AND(H$9=RIGHT('CONDUIT LENGTH'!$L40,2),LEFT('CONDUIT LENGTH'!$L40,3)=\"2x3\")=TRUE,IF(LEFT('CONDUIT LENGTH'!$L40,2)=\"2x\",'CONDUIT LENGTH'!$K40*2,\"\"),\"\")),\"\"))","v":""},{"$f":"IF($B47=\"SOURCE\",IF(LEFT(J$6,1)='CONDUIT LENGTH'!$M40,IF(I$9='CONDUIT LENGTH'!$L40,'CONDUIT LENGTH'!$K40*-1,IF(AND(I$9=RIGHT('CONDUIT LENGTH'!$L40,2),LEFT('CONDUIT LENGTH'!$L40,3)=\"2x3\")=TRUE,IF(LEFT('CONDUIT LENGTH'!$L40,2)=\"2x\",'CONDUIT LENGTH'!$K40*-1*2,\"\"),\"\")),\"\"),IF(LEFT(J$6,1)='CONDUIT LENGTH'!$M40,IF(I$9='CONDUIT LENGTH'!$L40,'CONDUIT LENGTH'!$K40,IF(AND(I$9=RIGHT('CONDUIT LENGTH'!$L40,2),LEFT('CONDUIT LENGTH'!$L40,3)=\"2x3\")=TRUE,IF(LEFT('CONDUIT LENGTH'!$L40,2)=\"2x\",'CONDUIT LENGTH'!$K40*2,\"\"),\"\")),\"\"))","v":""},{"$f":"IF($B47=\"SOURCE\",IF(LEFT(J$6,1)='CONDUIT LENGTH'!$M40,IF(J$9='CONDUIT LENGTH'!$L40,'CONDUIT LENGTH'!$K40*-1,IF(AND(J$9=RIGHT('CONDUIT LENGTH'!$L40,2),LEFT('CONDUIT LENGTH'!$L40,3)=\"2x3\")=TRUE,IF(LEFT('CONDUIT LENGTH'!$L40,2)=\"2x\",'CONDUIT LENGTH'!$K40*-1*2,\"\"),\"\")),\"\"),IF(LEFT(J$6,1)='CONDUIT LENGTH'!$M40,IF(J$9='CONDUIT LENGTH'!$L40,'CONDUIT LENGTH'!$K40,IF(AND(J$9=RIGHT('CONDUIT LENGTH'!$L40,2),LEFT('CONDUIT LENGTH'!$L40,3)=\"2x3\")=TRUE,IF(LEFT('CONDUIT LENGTH'!$L40,2)=\"2x\",'CONDUIT LENGTH'!$K40*2,\"\"),\"\")),\"\"))","v":""},{"$f":"IF($B47=\"SOURCE\",IF(LEFT(J$6,1)='CONDUIT LENGTH'!$M40,IF(K$9='CONDUIT LENGTH'!$L40,'CONDUIT LENGTH'!$K40*-1,IF(AND(K$9=RIGHT('CONDUIT LENGTH'!$L40,2),LEFT('CONDUIT LENGTH'!$L40,3)=\"2x3\")=TRUE,IF(LEFT('CONDUIT LENGTH'!$L40,2)=\"2x\",'CONDUIT LENGTH'!$K40*-1*2,\"\"),\"\")),\"\"),IF(LEFT(J$6,1)='CONDUIT LENGTH'!$M40,IF(K$9='CONDUIT LENGTH'!$L40,'CONDUIT LENGTH'!$K40,IF(AND(K$9=RIGHT('CONDUIT LENGTH'!$L40,2),LEFT('CONDUIT LENGTH'!$L40,3)=\"2x3\")=TRUE,IF(LEFT('CONDUIT LENGTH'!$L40,2)=\"2x\",'CONDUIT LENGTH'!$K40*2,\"\"),\"\")),\"\"))","v":""},{"$f":"IF($B47=\"SOURCE\",IF(LEFT(M$6,1)='CONDUIT LENGTH'!$M40,IF(L$9='CONDUIT LENGTH'!$L40,'CONDUIT LENGTH'!$K40*-1,IF(AND(L$9=RIGHT('CONDUIT LENGTH'!$L40,2),LEFT('CONDUIT LENGTH'!$L40,3)=\"2x3\")=TRUE,IF(LEFT('CONDUIT LENGTH'!$L40,2)=\"2x\",'CONDUIT LENGTH'!$K40*-1*2,\"\"),\"\")),\"\"),IF(LEFT(M$6,1)='CONDUIT LENGTH'!$M40,IF(L$9='CONDUIT LENGTH'!$L40,'CONDUIT LENGTH'!$K40,IF(AND(L$9=RIGHT('CONDUIT LENGTH'!$L40,2),LEFT('CONDUIT LENGTH'!$L40,3)=\"2x3\")=TRUE,IF(LEFT('CONDUIT LENGTH'!$L40,2)=\"2x\",'CONDUIT LENGTH'!$K40*2,\"\"),\"\")),\"\"))","v":""},{"$f":"IF($B47=\"SOURCE\",IF(LEFT(M$6,1)='CONDUIT LENGTH'!$M40,IF(M$9='CONDUIT LENGTH'!$L40,'CONDUIT LENGTH'!$K40*-1,IF(AND(M$9=RIGHT('CONDUIT LENGTH'!$L40,2),LEFT('CONDUIT LENGTH'!$L40,3)=\"2x3\")=TRUE,IF(LEFT('CONDUIT LENGTH'!$L40,2)=\"2x\",'CONDUIT LENGTH'!$K40*-1*2,\"\"),\"\")),\"\"),IF(LEFT(M$6,1)='CONDUIT LENGTH'!$M40,IF(M$9='CONDUIT LENGTH'!$L40,'CONDUIT LENGTH'!$K40,IF(AND(M$9=RIGHT('CONDUIT LENGTH'!$L40,2),LEFT('CONDUIT LENGTH'!$L40,3)=\"2x3\")=TRUE,IF(LEFT('CONDUIT LENGTH'!$L40,2)=\"2x\",'CONDUIT LENGTH'!$K40*2,\"\"),\"\")),\"\"))","v":""},{"$f":"IF($B47=\"SOURCE\",IF(LEFT(M$6,1)='CONDUIT LENGTH'!$M40,IF(N$9='CONDUIT LENGTH'!$L40,'CONDUIT LENGTH'!$K40*-1,IF(AND(N$9=RIGHT('CONDUIT LENGTH'!$L40,2),LEFT('CONDUIT LENGTH'!$L40,3)=\"2x3\")=TRUE,IF(LEFT('CONDUIT LENGTH'!$L40,2)=\"2x\",'CONDUIT LENGTH'!$K40*-1*2,\"\"),\"\")),\"\"),IF(LEFT(M$6,1)='CONDUIT LENGTH'!$M40,IF(N$9='CONDUIT LENGTH'!$L40,'CONDUIT LENGTH'!$K40,IF(AND(N$9=RIGHT('CONDUIT LENGTH'!$L40,2),LEFT('CONDUIT LENGTH'!$L40,3)=\"2x3\")=TRUE,IF(LEFT('CONDUIT LENGTH'!$L40,2)=\"2x\",'CONDUIT LENGTH'!$K40*2,\"\"),\"\")),\"\"))","v":""},{"$f":"IF($B47=\"SOURCE\",IF(LEFT(P$5,1)='CONDUIT LENGTH'!$M40,IF(O$9='CONDUIT LENGTH'!$L40,'CONDUIT LENGTH'!$K40*-1,IF(AND(O$9=RIGHT('CONDUIT LENGTH'!$L40,2),LEFT('CONDUIT LENGTH'!$L40,3)=\"2x3\")=TRUE,IF(LEFT('CONDUIT LENGTH'!$L40,2)=\"2x\",'CONDUIT LENGTH'!$K40*-1*2,\"\"),\"\")),\"\"),IF(LEFT(P$6,1)='CONDUIT LENGTH'!$M40,IF(O$9='CONDUIT LENGTH'!$L40,'CONDUIT LENGTH'!$K40,IF(AND(O$9=RIGHT('CONDUIT LENGTH'!$L40,2),LEFT('CONDUIT LENGTH'!$L40,3)=\"2x3\")=TRUE,IF(LEFT('CONDUIT LENGTH'!$L40,2)=\"2x\",'CONDUIT LENGTH'!$K40*2,\"\"),\"\")),\"\"))","v":""},{"$f":"IF($B47=\"SOURCE\",IF(LEFT(P$5,1)='CONDUIT LENGTH'!$M40,IF(P$9='CONDUIT LENGTH'!$L40,'CONDUIT LENGTH'!$K40*-1,IF(AND(P$9=RIGHT('CONDUIT LENGTH'!$L40,2),LEFT('CONDUIT LENGTH'!$L40,3)=\"2x3\")=TRUE,IF(LEFT('CONDUIT LENGTH'!$L40,2)=\"2x\",'CONDUIT LENGTH'!$K40*-1*2,\"\"),\"\")),\"\"),IF(LEFT(P$6,1)='CONDUIT LENGTH'!$M40,IF(P$9='CONDUIT LENGTH'!$L40,'CONDUIT LENGTH'!$K40,IF(AND(P$9=RIGHT('CONDUIT LENGTH'!$L40,2),LEFT('CONDUIT LENGTH'!$L40,3)=\"2x3\")=TRUE,IF(LEFT('CONDUIT LENGTH'!$L40,2)=\"2x\",'CONDUIT LENGTH'!$K40*2,\"\"),\"\")),\"\"))","v":""},{"$f":"IF($B47=\"SOURCE\",IF(LEFT(P$5,1)='CONDUIT LENGTH'!$M40,IF(Q$9='CONDUIT LENGTH'!$L40,'CONDUIT LENGTH'!$K40*-1,IF(AND(Q$9=RIGHT('CONDUIT LENGTH'!$L40,2),LEFT('CONDUIT LENGTH'!$L40,3)=\"2x3\")=TRUE,IF(LEFT('CONDUIT LENGTH'!$L40,2)=\"2x\",'CONDUIT LENGTH'!$K40*-1*2,\"\"),\"\")),\"\"),IF(LEFT(Q$6,1)='CONDUIT LENGTH'!$M40,IF(Q$9='CONDUIT LENGTH'!$L40,'CONDUIT LENGTH'!$K40,IF(AND(Q$9=RIGHT('CONDUIT LENGTH'!$L40,2),LEFT('CONDUIT LENGTH'!$L40,3)=\"2x3\")=TRUE,IF(LEFT('CONDUIT LENGTH'!$L40,2)=\"2x\",'CONDUIT LENGTH'!$K40*2,\"\"),\"\")),\"\"))","v":""},{"$f":"IF('CONDUIT LENGTH'!M40=\"UIP\",\"UIP EXISTING\",\"\")","v":""},{"$f":"IF('CABLE LENGTH'!A41>0,'CABLE LENGTH'!A41,\"\")","v":""},{"$f":"IF('CABLE LENGTH'!B41>0,'CABLE LENGTH'!B41,\"\")","v":""},{"$f":"IF('CABLE LENGTH'!Q41>0,'CABLE LENGTH'!Q41,\"\")","v":""},{"$f":"IF($S47=\"SOURCE\",IF(V$9='CABLE LENGTH'!$AK41,'CABLE LENGTH'!$AJ41*'CABLE LENGTH'!$AL41*-1,\"\"),IF(V$9=\"VIDEO\",IF(V$9='CABLE LENGTH'!$AK41,'CABLE LENGTH'!$AJ41*'CABLE LENGTH'!$AL41*-1,\"\"),IF(V$9='CABLE LENGTH'!$AK41,'CABLE LENGTH'!$AJ41*'CABLE LENGTH'!$AL41,\"\")))","v":""},{"$f":"IF($S47=\"SOURCE\",IF(W$9='CABLE LENGTH'!$AK41,'CABLE LENGTH'!$AJ41*'CABLE LENGTH'!$AL41*-1,\"\"),IF(W$9=\"VIDEO\",IF(W$9='CABLE LENGTH'!$AK41,'CABLE LENGTH'!$AJ41*'CABLE LENGTH'!$AL41*-1,\"\"),IF(W$9='CABLE LENGTH'!$AK41,'CABLE LENGTH'!$AJ41*'CABLE LENGTH'!$AL41,\"\")))","v":""},{"$f":"IF($S47=\"SOURCE\",IF(X$10='CABLE LENGTH'!$AK41,'CABLE LENGTH'!$AJ41*'CABLE LENGTH'!$AL41*-1,\"\"),IF(X$10=\"VIDEO\",IF(X$10='CABLE LENGTH'!$AK41,'CABLE LENGTH'!$AJ41*'CABLE LENGTH'!$AL41*-1,\"\"),IF(X$10='CABLE LENGTH'!$AK41,'CABLE LENGTH'!$AJ41*'CABLE LENGTH'!$AL41,\"\")))","v":""},{"$f":"IF($S47=\"SOURCE\",IF(Y$10='CABLE LENGTH'!$AK41,'CABLE LENGTH'!$AJ41*'CABLE LENGTH'!$AL41*-1,\"\"),IF(Y$10=\"VIDEO\",IF(Y$10='CABLE LENGTH'!$AK41,'CABLE LENGTH'!$AJ41*'CABLE LENGTH'!$AL41*-1,\"\"),IF(Y$10='CABLE LENGTH'!$AK41,'CABLE LENGTH'!$AJ41*'CABLE LENGTH'!$AL41,\"\")))","v":""},{"$f":"IF($S47=\"SOURCE\",IF(Z$10='CABLE LENGTH'!$AK41,'CABLE LENGTH'!$AJ41*'CABLE LENGTH'!$AL41*-1,\"\"),IF(Z$10=\"VIDEO\",IF(Z$10='CABLE LENGTH'!$AK41,'CABLE LENGTH'!$AJ41*'CABLE LENGTH'!$AL41*-1,\"\"),IF(Z$10='CABLE LENGTH'!$AK41,'CABLE LENGTH'!$AJ41*'CABLE LENGTH'!$AL41,\"\")))","v":""},{"$f":"IF($S47=\"SOURCE\",IF(AA$10='CABLE LENGTH'!$AK41,'CABLE LENGTH'!$AJ41*'CABLE LENGTH'!$AL41*-1,\"\"),IF(AA$10=\"VIDEO\",IF(AA$10='CABLE LENGTH'!$AK41,'CABLE LENGTH'!$AJ41*'CABLE LENGTH'!$AL41*-1,\"\"),IF(AA$10='CABLE LENGTH'!$AK41,'CABLE LENGTH'!$AJ41*'CABLE LENGTH'!$AL41,\"\")))","v":""},{"$f":"IF($S47=\"SOURCE\",IF(AB$10='CABLE LENGTH'!$AK41,'CABLE LENGTH'!$AJ41*'CABLE LENGTH'!$AL41*-1,\"\"),IF(AB$10=\"VIDEO\",IF(AB$10='CABLE LENGTH'!$AK41,'CABLE LENGTH'!$AJ41*'CABLE LENGTH'!$AL41*-1,\"\"),IF(AB$10='CABLE LENGTH'!$AK41,'CABLE LENGTH'!$AJ41*'CABLE LENGTH'!$AL41,\"\")))","v":""},{"$f":"IF($S47=\"SOURCE\",IF(AC$10='CABLE LENGTH'!$AK41,'CABLE LENGTH'!$AJ41*'CABLE LENGTH'!$AL41*-1,\"\"),IF(AC$10=\"VIDEO\",IF(AC$10='CABLE LENGTH'!$AK41,'CABLE LENGTH'!$AJ41*'CABLE LENGTH'!$AL41*-1,\"\"),IF(AC$10='CABLE LENGTH'!$AK41,'CABLE LENGTH'!$AJ41*'CABLE LENGTH'!$AL41,\"\")))","v":""},{"$f":"IF($S47=\"SOURCE\",IF(AD$9='CABLE LENGTH'!$AK41,'CABLE LENGTH'!$AJ41*'CABLE LENGTH'!$AL41*-1,\"\"),IF(AD$9=\"VIDEO\",IF(AD$9='CABLE LENGTH'!$AK41,'CABLE LENGTH'!$AJ41*'CABLE LENGTH'!$AL41*-1,\"\"),IF(AD$9='CABLE LENGTH'!$AK41,'CABLE LENGTH'!$AJ41*'CABLE LENGTH'!$AL41,\"\")))","v":""},{"$f":"IF($S47=\"SOURCE\",IF(AE$9='CABLE LENGTH'!$AK41,'CABLE LENGTH'!$AJ41*'CABLE LENGTH'!$AL41*-1,\"\"),IF(AE$9=\"VIDEO\",IF(AE$9='CABLE LENGTH'!$AK41,'CABLE LENGTH'!$AJ41*'CABLE LENGTH'!$AL41*-1,\"\"),IF(AE$9='CABLE LENGTH'!$AK41,'CABLE LENGTH'!$AJ41*'CABLE LENGTH'!$AL41,\"\")))","v":""},{"$f":"IF($S47=\"SOURCE\",IF(AF$9='CABLE LENGTH'!$AK41,'CABLE LENGTH'!$AJ41*'CABLE LENGTH'!$AL41*-1,\"\"),IF(AF$9=\"VIDEO\",IF(AF$9='CABLE LENGTH'!$AK41,'CABLE LENGTH'!$AJ41*'CABLE LENGTH'!$AL41*-1,\"\"),IF(AF$9='CABLE LENGTH'!$AK41,'CABLE LENGTH'!$AJ41*'CABLE LENGTH'!$AL41,\"\")))","v":""}]
[0.3,{"$f":"IF('CONDUIT LENGTH'!A41>0,'CONDUIT LENGTH'!A41,\" \")","v":" "},{"$f":"IF('CONDUIT LENGTH'!B41>0,'CONDUIT LENGTH'!B41,\" \")","v":" "},{"$f":"IF('CONDUIT LENGTH'!C41>0,'CONDUIT LENGTH'!C41,\" \")","v":" "},{"$f":"IF($B48=\"SOURCE\",IF(LEFT(E$5,1)='CONDUIT LENGTH'!$M41,IF(E$9='CONDUIT LENGTH'!$L41,'CONDUIT LENGTH'!$K41*-1,IF(AND(E$9=RIGHT('CONDUIT LENGTH'!$L41,2),LEFT('CONDUIT LENGTH'!$L41,3)=\"2x3\")=TRUE,IF(LEFT('CONDUIT LENGTH'!$L41,2)=\"2x\",'CONDUIT LENGTH'!$K41*-1*2,\"\"),\"\")),\"\"),IF(LEFT(E$5,1)='CONDUIT LENGTH'!$M41,IF(E$9='CONDUIT LENGTH'!$L41,'CONDUIT LENGTH'!$K41,IF(AND(E$9=RIGHT('CONDUIT LENGTH'!$L41,2),LEFT('CONDUIT LENGTH'!$L41,3)=\"2x3\")=TRUE,IF(LEFT('CONDUIT LENGTH'!$L41,2)=\"2x\",'CONDUIT LENGTH'!$K41*2,\"\"),\"\")),\"\"))","v":""},{"$f":"IF($B48=\"SOURCE\",IF(LEFT(G$6,1)='CONDUIT LENGTH'!$M41,IF(F$9='CONDUIT LENGTH'!$L41,'CONDUIT LENGTH'!$K41*-1,IF(AND(F$9=RIGHT('CONDUIT LENGTH'!$L41,2),LEFT('CONDUIT LENGTH'!$L41,3)=\"2x3\")=TRUE,IF(LEFT('CONDUIT LENGTH'!$L41,2)=\"2x\",'CONDUIT LENGTH'!$K41*-1*2,\"\"),\"\")),\"\"),IF(LEFT(G$6,1)='CONDUIT LENGTH'!$M41,IF(F$9='CONDUIT LENGTH'!$L41,'CONDUIT LENGTH'!$K41,IF(AND(F$9=RIGHT('CONDUIT LENGTH'!$L41,2),LEFT('CONDUIT LENGTH'!$L41,3)=\"2x3\")=TRUE,IF(LEFT('CONDUIT LENGTH'!$L41,2)=\"2x\",'CONDUIT LENGTH'!$K41*2,\"\"),\"\")),\"\"))","v":""},{"$f":"IF($B48=\"SOURCE\",IF(LEFT(G$6,1)='CONDUIT LENGTH'!$M41,IF(G$9='CONDUIT LENGTH'!$L41,'CONDUIT LENGTH'!$K41*-1,IF(AND(G$9=RIGHT('CONDUIT LENGTH'!$L41,2),LEFT('CONDUIT LENGTH'!$L41,3)=\"2x3\")=TRUE,IF(LEFT('CONDUIT LENGTH'!$L41,2)=\"2x\",'CONDUIT LENGTH'!$K41*-1*2,\"\"),\"\")),\"\"),IF(LEFT(G$6,1)='CONDUIT LENGTH'!$M41,IF(G$9='CONDUIT LENGTH'!$L41,'CONDUIT LENGTH'!$K41,IF(AND(G$9=RIGHT('CONDUIT LENGTH'!$L41,2),LEFT('CONDUIT LENGTH'!$L41,3)=\"2x3\")=TRUE,IF(LEFT('CONDUIT LENGTH'!$L41,2)=\"2x\",'CONDUIT LENGTH'!$K41*2,\"\"),\"\")),\"\"))","v":""},{"$f":"IF($B48=\"SOURCE\",IF(LEFT(G$6,1)='CONDUIT LENGTH'!$M41,IF(H$9='CONDUIT LENGTH'!$L41,'CONDUIT LENGTH'!$K41*-1,IF(AND(H$9=RIGHT('CONDUIT LENGTH'!$L41,2),LEFT('CONDUIT LENGTH'!$L41,3)=\"2x3\")=TRUE,IF(LEFT('CONDUIT LENGTH'!$L41,2)=\"2x\",'CONDUIT LENGTH'!$K41*-1*2,\"\"),\"\")),\"\"),IF(LEFT(G$6,1)='CONDUIT LENGTH'!$M41,IF(H$9='CONDUIT LENGTH'!$L41,'CONDUIT LENGTH'!$K41,IF(AND(H$9=RIGHT('CONDUIT LENGTH'!$L41,2),LEFT('CONDUIT LENGTH'!$L41,3)=\"2x3\")=TRUE,IF(LEFT('CONDUIT LENGTH'!$L41,2)=\"2x\",'CONDUIT LENGTH'!$K41*2,\"\"),\"\")),\"\"))","v":""},{"$f":"IF($B48=\"SOURCE\",IF(LEFT(J$6,1)='CONDUIT LENGTH'!$M41,IF(I$9='CONDUIT LENGTH'!$L41,'CONDUIT LENGTH'!$K41*-1,IF(AND(I$9=RIGHT('CONDUIT LENGTH'!$L41,2),LEFT('CONDUIT LENGTH'!$L41,3)=\"2x3\")=TRUE,IF(LEFT('CONDUIT LENGTH'!$L41,2)=\"2x\",'CONDUIT LENGTH'!$K41*-1*2,\"\"),\"\")),\"\"),IF(LEFT(J$6,1)='CONDUIT LENGTH'!$M41,IF(I$9='CONDUIT LENGTH'!$L41,'CONDUIT LENGTH'!$K41,IF(AND(I$9=RIGHT('CONDUIT LENGTH'!$L41,2),LEFT('CONDUIT LENGTH'!$L41,3)=\"2x3\")=TRUE,IF(LEFT('CONDUIT LENGTH'!$L41,2)=\"2x\",'CONDUIT LENGTH'!$K41*2,\"\"),\"\")),\"\"))","v":""},{"$f":"IF($B48=\"SOURCE\",IF(LEFT(J$6,1)='CONDUIT LENGTH'!$M41,IF(J$9='CONDUIT LENGTH'!$L41,'CONDUIT LENGTH'!$K41*-1,IF(AND(J$9=RIGHT('CONDUIT LENGTH'!$L41,2),LEFT('CONDUIT LENGTH'!$L41,3)=\"2x3\")=TRUE,IF(LEFT('CONDUIT LENGTH'!$L41,2)=\"2x\",'CONDUIT LENGTH'!$K41*-1*2,\"\"),\"\")),\"\"),IF(LEFT(J$6,1)='CONDUIT LENGTH'!$M41,IF(J$9='CONDUIT LENGTH'!$L41,'CONDUIT LENGTH'!$K41,IF(AND(J$9=RIGHT('CONDUIT LENGTH'!$L41,2),LEFT('CONDUIT LENGTH'!$L41,3)=\"2x3\")=TRUE,IF(LEFT('CONDUIT LENGTH'!$L41,2)=\"2x\",'CONDUIT LENGTH'!$K41*2,\"\"),\"\")),\"\"))","v":""},{"$f":"IF($B48=\"SOURCE\",IF(LEFT(J$6,1)='CONDUIT LENGTH'!$M41,IF(K$9='CONDUIT LENGTH'!$L41,'CONDUIT LENGTH'!$K41*-1,IF(AND(K$9=RIGHT('CONDUIT LENGTH'!$L41,2),LEFT('CONDUIT LENGTH'!$L41,3)=\"2x3\")=TRUE,IF(LEFT('CONDUIT LENGTH'!$L41,2)=\"2x\",'CONDUIT LENGTH'!$K41*-1*2,\"\"),\"\")),\"\"),IF(LEFT(J$6,1)='CONDUIT LENGTH'!$M41,IF(K$9='CONDUIT LENGTH'!$L41,'CONDUIT LENGTH'!$K41,IF(AND(K$9=RIGHT('CONDUIT LENGTH'!$L41,2),LEFT('CONDUIT LENGTH'!$L41,3)=\"2x3\")=TRUE,IF(LEFT('CONDUIT LENGTH'!$L41,2)=\"2x\",'CONDUIT LENGTH'!$K41*2,\"\"),\"\")),\"\"))","v":""},{"$f":"IF($B48=\"SOURCE\",IF(LEFT(M$6,1)='CONDUIT LENGTH'!$M41,IF(L$9='CONDUIT LENGTH'!$L41,'CONDUIT LENGTH'!$K41*-1,IF(AND(L$9=RIGHT('CONDUIT LENGTH'!$L41,2),LEFT('CONDUIT LENGTH'!$L41,3)=\"2x3\")=TRUE,IF(LEFT('CONDUIT LENGTH'!$L41,2)=\"2x\",'CONDUIT LENGTH'!$K41*-1*2,\"\"),\"\")),\"\"),IF(LEFT(M$6,1)='CONDUIT LENGTH'!$M41,IF(L$9='CONDUIT LENGTH'!$L41,'CONDUIT LENGTH'!$K41,IF(AND(L$9=RIGHT('CONDUIT LENGTH'!$L41,2),LEFT('CONDUIT LENGTH'!$L41,3)=\"2x3\")=TRUE,IF(LEFT('CONDUIT LENGTH'!$L41,2)=\"2x\",'CONDUIT LENGTH'!$K41*2,\"\"),\"\")),\"\"))","v":""},{"$f":"IF($B48=\"SOURCE\",IF(LEFT(M$6,1)='CONDUIT LENGTH'!$M41,IF(M$9='CONDUIT LENGTH'!$L41,'CONDUIT LENGTH'!$K41*-1,IF(AND(M$9=RIGHT('CONDUIT LENGTH'!$L41,2),LEFT('CONDUIT LENGTH'!$L41,3)=\"2x3\")=TRUE,IF(LEFT('CONDUIT LENGTH'!$L41,2)=\"2x\",'CONDUIT LENGTH'!$K41*-1*2,\"\"),\"\")),\"\"),IF(LEFT(M$6,1)='CONDUIT LENGTH'!$M41,IF(M$9='CONDUIT LENGTH'!$L41,'CONDUIT LENGTH'!$K41,IF(AND(M$9=RIGHT('CONDUIT LENGTH'!$L41,2),LEFT('CONDUIT LENGTH'!$L41,3)=\"2x3\")=TRUE,IF(LEFT('CONDUIT LENGTH'!$L41,2)=\"2x\",'CONDUIT LENGTH'!$K41*2,\"\"),\"\")),\"\"))","v":""},{"$f":"IF($B48=\"SOURCE\",IF(LEFT(M$6,1)='CONDUIT LENGTH'!$M41,IF(N$9='CONDUIT LENGTH'!$L41,'CONDUIT LENGTH'!$K41*-1,IF(AND(N$9=RIGHT('CONDUIT LENGTH'!$L41,2),LEFT('CONDUIT LENGTH'!$L41,3)=\"2x3\")=TRUE,IF(LEFT('CONDUIT LENGTH'!$L41,2)=\"2x\",'CONDUIT LENGTH'!$K41*-1*2,\"\"),\"\")),\"\"),IF(LEFT(M$6,1)='CONDUIT LENGTH'!$M41,IF(N$9='CONDUIT LENGTH'!$L41,'CONDUIT LENGTH'!$K41,IF(AND(N$9=RIGHT('CONDUIT LENGTH'!$L41,2),LEFT('CONDUIT LENGTH'!$L41,3)=\"2x3\")=TRUE,IF(LEFT('CONDUIT LENGTH'!$L41,2)=\"2x\",'CONDUIT LENGTH'!$K41*2,\"\"),\"\")),\"\"))","v":""},{"$f":"IF($B48=\"SOURCE\",IF(LEFT(P$5,1)='CONDUIT LENGTH'!$M41,IF(O$9='CONDUIT LENGTH'!$L41,'CONDUIT LENGTH'!$K41*-1,IF(AND(O$9=RIGHT('CONDUIT LENGTH'!$L41,2),LEFT('CONDUIT LENGTH'!$L41,3)=\"2x3\")=TRUE,IF(LEFT('CONDUIT LENGTH'!$L41,2)=\"2x\",'CONDUIT LENGTH'!$K41*-1*2,\"\"),\"\")),\"\"),IF(LEFT(P$6,1)='CONDUIT LENGTH'!$M41,IF(O$9='CONDUIT LENGTH'!$L41,'CONDUIT LENGTH'!$K41,IF(AND(O$9=RIGHT('CONDUIT LENGTH'!$L41,2),LEFT('CONDUIT LENGTH'!$L41,3)=\"2x3\")=TRUE,IF(LEFT('CONDUIT LENGTH'!$L41,2)=\"2x\",'CONDUIT LENGTH'!$K41*2,\"\"),\"\")),\"\"))","v":""},{"$f":"IF($B48=\"SOURCE\",IF(LEFT(P$5,1)='CONDUIT LENGTH'!$M41,IF(P$9='CONDUIT LENGTH'!$L41,'CONDUIT LENGTH'!$K41*-1,IF(AND(P$9=RIGHT('CONDUIT LENGTH'!$L41,2),LEFT('CONDUIT LENGTH'!$L41,3)=\"2x3\")=TRUE,IF(LEFT('CONDUIT LENGTH'!$L41,2)=\"2x\",'CONDUIT LENGTH'!$K41*-1*2,\"\"),\"\")),\"\"),IF(LEFT(P$6,1)='CONDUIT LENGTH'!$M41,IF(P$9='CONDUIT LENGTH'!$L41,'CONDUIT LENGTH'!$K41,IF(AND(P$9=RIGHT('CONDUIT LENGTH'!$L41,2),LEFT('CONDUIT LENGTH'!$L41,3)=\"2x3\")=TRUE,IF(LEFT('CONDUIT LENGTH'!$L41,2)=\"2x\",'CONDUIT LENGTH'!$K41*2,\"\"),\"\")),\"\"))","v":""},{"$f":"IF($B48=\"SOURCE\",IF(LEFT(P$5,1)='CONDUIT LENGTH'!$M41,IF(Q$9='CONDUIT LENGTH'!$L41,'CONDUIT LENGTH'!$K41*-1,IF(AND(Q$9=RIGHT('CONDUIT LENGTH'!$L41,2),LEFT('CONDUIT LENGTH'!$L41,3)=\"2x3\")=TRUE,IF(LEFT('CONDUIT LENGTH'!$L41,2)=\"2x\",'CONDUIT LENGTH'!$K41*-1*2,\"\"),\"\")),\"\"),IF(LEFT(Q$6,1)='CONDUIT LENGTH'!$M41,IF(Q$9='CONDUIT LENGTH'!$L41,'CONDUIT LENGTH'!$K41,IF(AND(Q$9=RIGHT('CONDUIT LENGTH'!$L41,2),LEFT('CONDUIT LENGTH'!$L41,3)=\"2x3\")=TRUE,IF(LEFT('CONDUIT LENGTH'!$L41,2)=\"2x\",'CONDUIT LENGTH'!$K41*2,\"\"),\"\")),\"\"))","v":""},{"$f":"IF('CONDUIT LENGTH'!M41=\"UIP\",\"UIP EXISTING\",\"\")","v":""},{"$f":"IF('CABLE LENGTH'!A42>0,'CABLE LENGTH'!A42,\"\")","v":""},{"$f":"IF('CABLE LENGTH'!B42>0,'CABLE LENGTH'!B42,\"\")","v":""},{"$f":"IF('CABLE LENGTH'!Q42>0,'CABLE LENGTH'!Q42,\"\")","v":""},{"$f":"IF($S48=\"SOURCE\",IF(V$9='CABLE LENGTH'!$AK42,'CABLE LENGTH'!$AJ42*'CABLE LENGTH'!$AL42*-1,\"\"),IF(V$9=\"VIDEO\",IF(V$9='CABLE LENGTH'!$AK42,'CABLE LENGTH'!$AJ42*'CABLE LENGTH'!$AL42*-1,\"\"),IF(V$9='CABLE LENGTH'!$AK42,'CABLE LENGTH'!$AJ42*'CABLE LENGTH'!$AL42,\"\")))","v":""},{"$f":"IF($S48=\"SOURCE\",IF(W$9='CABLE LENGTH'!$AK42,'CABLE LENGTH'!$AJ42*'CABLE LENGTH'!$AL42*-1,\"\"),IF(W$9=\"VIDEO\",IF(W$9='CABLE LENGTH'!$AK42,'CABLE LENGTH'!$AJ42*'CABLE LENGTH'!$AL42*-1,\"\"),IF(W$9='CABLE LENGTH'!$AK42,'CABLE LENGTH'!$AJ42*'CABLE LENGTH'!$AL42,\"\")))","v":""},{"$f":"IF($S48=\"SOURCE\",IF(X$10='CABLE LENGTH'!$AK42,'CABLE LENGTH'!$AJ42*'CABLE LENGTH'!$AL42*-1,\"\"),IF(X$10=\"VIDEO\",IF(X$10='CABLE LENGTH'!$AK42,'CABLE LENGTH'!$AJ42*'CABLE LENGTH'!$AL42*-1,\"\"),IF(X$10='CABLE LENGTH'!$AK42,'CABLE LENGTH'!$AJ42*'CABLE LENGTH'!$AL42,\"\")))","v":""},{"$f":"IF($S48=\"SOURCE\",IF(Y$10='CABLE LENGTH'!$AK42,'CABLE LENGTH'!$AJ42*'CABLE LENGTH'!$AL42*-1,\"\"),IF(Y$10=\"VIDEO\",IF(Y$10='CABLE LENGTH'!$AK42,'CABLE LENGTH'!$AJ42*'CABLE LENGTH'!$AL42*-1,\"\"),IF(Y$10='CABLE LENGTH'!$AK42,'CABLE LENGTH'!$AJ42*'CABLE LENGTH'!$AL42,\"\")))","v":""},{"$f":"IF($S48=\"SOURCE\",IF(Z$10='CABLE LENGTH'!$AK42,'CABLE LENGTH'!$AJ42*'CABLE LENGTH'!$AL42*-1,\"\"),IF(Z$10=\"VIDEO\",IF(Z$10='CABLE LENGTH'!$AK42,'CABLE LENGTH'!$AJ42*'CABLE LENGTH'!$AL42*-1,\"\"),IF(Z$10='CABLE LENGTH'!$AK42,'CABLE LENGTH'!$AJ42*'CABLE LENGTH'!$AL42,\"\")))","v":""},{"$f":"IF($S48=\"SOURCE\",IF(AA$10='CABLE LENGTH'!$AK42,'CABLE LENGTH'!$AJ42*'CABLE LENGTH'!$AL42*-1,\"\"),IF(AA$10=\"VIDEO\",IF(AA$10='CABLE LENGTH'!$AK42,'CABLE LENGTH'!$AJ42*'CABLE LENGTH'!$AL42*-1,\"\"),IF(AA$10='CABLE LENGTH'!$AK42,'CABLE LENGTH'!$AJ42*'CABLE LENGTH'!$AL42,\"\")))","v":""},{"$f":"IF($S48=\"SOURCE\",IF(AB$10='CABLE LENGTH'!$AK42,'CABLE LENGTH'!$AJ42*'CABLE LENGTH'!$AL42*-1,\"\"),IF(AB$10=\"VIDEO\",IF(AB$10='CABLE LENGTH'!$AK42,'CABLE LENGTH'!$AJ42*'CABLE LENGTH'!$AL42*-1,\"\"),IF(AB$10='CABLE LENGTH'!$AK42,'CABLE LENGTH'!$AJ42*'CABLE LENGTH'!$AL42,\"\")))","v":""},{"$f":"IF($S48=\"SOURCE\",IF(AC$10='CABLE LENGTH'!$AK42,'CABLE LENGTH'!$AJ42*'CABLE LENGTH'!$AL42*-1,\"\"),IF(AC$10=\"VIDEO\",IF(AC$10='CABLE LENGTH'!$AK42,'CABLE LENGTH'!$AJ42*'CABLE LENGTH'!$AL42*-1,\"\"),IF(AC$10='CABLE LENGTH'!$AK42,'CABLE LENGTH'!$AJ42*'CABLE LENGTH'!$AL42,\"\")))","v":""},{"$f":"IF($S48=\"SOURCE\",IF(AD$9='CABLE LENGTH'!$AK42,'CABLE LENGTH'!$AJ42*'CABLE LENGTH'!$AL42*-1,\"\"),IF(AD$9=\"VIDEO\",IF(AD$9='CABLE LENGTH'!$AK42,'CABLE LENGTH'!$AJ42*'CABLE LENGTH'!$AL42*-1,\"\"),IF(AD$9='CABLE LENGTH'!$AK42,'CABLE LENGTH'!$AJ42*'CABLE LENGTH'!$AL42,\"\")))","v":""},{"$f":"IF($S48=\"SOURCE\",IF(AE$9='CABLE LENGTH'!$AK42,'CABLE LENGTH'!$AJ42*'CABLE LENGTH'!$AL42*-1,\"\"),IF(AE$9=\"VIDEO\",IF(AE$9='CABLE LENGTH'!$AK42,'CABLE LENGTH'!$AJ42*'CABLE LENGTH'!$AL42*-1,\"\"),IF(AE$9='CABLE LENGTH'!$AK42,'CABLE LENGTH'!$AJ42*'CABLE LENGTH'!$AL42,\"\")))","v":""},{"$f":"IF($S48=\"SOURCE\",IF(AF$9='CABLE LENGTH'!$AK42,'CABLE LENGTH'!$AJ42*'CABLE LENGTH'!$AL42*-1,\"\"),IF(AF$9=\"VIDEO\",IF(AF$9='CABLE LENGTH'!$AK42,'CABLE LENGTH'!$AJ42*'CABLE LENGTH'!$AL42*-1,\"\"),IF(AF$9='CABLE LENGTH'!$AK42,'CABLE LENGTH'!$AJ42*'CABLE LENGTH'!$AL42,\"\")))","v":""}]
[0.3,{"$f":"IF('CONDUIT LENGTH'!A42>0,'CONDUIT LENGTH'!A42,\" \")","v":" "},{"$f":"IF('CONDUIT LENGTH'!B42>0,'CONDUIT LENGTH'!B42,\" \")","v":" "},{"$f":"IF('CONDUIT LENGTH'!C42>0,'CONDUIT LENGTH'!C42,\" \")","v":" "},{"$f":"IF($B49=\"SOURCE\",IF(LEFT(E$5,1)='CONDUIT LENGTH'!$M42,IF(E$9='CONDUIT LENGTH'!$L42,'CONDUIT LENGTH'!$K42*-1,IF(AND(E$9=RIGHT('CONDUIT LENGTH'!$L42,2),LEFT('CONDUIT LENGTH'!$L42,3)=\"2x3\")=TRUE,IF(LEFT('CONDUIT LENGTH'!$L42,2)=\"2x\",'CONDUIT LENGTH'!$K42*-1*2,\"\"),\"\")),\"\"),IF(LEFT(E$5,1)='CONDUIT LENGTH'!$M42,IF(E$9='CONDUIT LENGTH'!$L42,'CONDUIT LENGTH'!$K42,IF(AND(E$9=RIGHT('CONDUIT LENGTH'!$L42,2),LEFT('CONDUIT LENGTH'!$L42,3)=\"2x3\")=TRUE,IF(LEFT('CONDUIT LENGTH'!$L42,2)=\"2x\",'CONDUIT LENGTH'!$K42*2,\"\"),\"\")),\"\"))","v":""},{"$f":"IF($B49=\"SOURCE\",IF(LEFT(G$6,1)='CONDUIT LENGTH'!$M42,IF(F$9='CONDUIT LENGTH'!$L42,'CONDUIT LENGTH'!$K42*-1,IF(AND(F$9=RIGHT('CONDUIT LENGTH'!$L42,2),LEFT('CONDUIT LENGTH'!$L42,3)=\"2x3\")=TRUE,IF(LEFT('CONDUIT LENGTH'!$L42,2)=\"2x\",'CONDUIT LENGTH'!$K42*-1*2,\"\"),\"\")),\"\"),IF(LEFT(G$6,1)='CONDUIT LENGTH'!$M42,IF(F$9='CONDUIT LENGTH'!$L42,'CONDUIT LENGTH'!$K42,IF(AND(F$9=RIGHT('CONDUIT LENGTH'!$L42,2),LEFT('CONDUIT LENGTH'!$L42,3)=\"2x3\")=TRUE,IF(LEFT('CONDUIT LENGTH'!$L42,2)=\"2x\",'CONDUIT LENGTH'!$K42*2,\"\"),\"\")),\"\"))","v":""},{"$f":"IF($B49=\"SOURCE\",IF(LEFT(G$6,1)='CONDUIT LENGTH'!$M42,IF(G$9='CONDUIT LENGTH'!$L42,'CONDUIT LENGTH'!$K42*-1,IF(AND(G$9=RIGHT('CONDUIT LENGTH'!$L42,2),LEFT('CONDUIT LENGTH'!$L42,3)=\"2x3\")=TRUE,IF(LEFT('CONDUIT LENGTH'!$L42,2)=\"2x\",'CONDUIT LENGTH'!$K42*-1*2,\"\"),\"\")),\"\"),IF(LEFT(G$6,1)='CONDUIT LENGTH'!$M42,IF(G$9='CONDUIT LENGTH'!$L42,'CONDUIT LENGTH'!$K42,IF(AND(G$9=RIGHT('CONDUIT LENGTH'!$L42,2),LEFT('CONDUIT LENGTH'!$L42,3)=\"2x3\")=TRUE,IF(LEFT('CONDUIT LENGTH'!$L42,2)=\"2x\",'CONDUIT LENGTH'!$K42*2,\"\"),\"\")),\"\"))","v":""},{"$f":"IF($B49=\"SOURCE\",IF(LEFT(G$6,1)='CONDUIT LENGTH'!$M42,IF(H$9='CONDUIT LENGTH'!$L42,'CONDUIT LENGTH'!$K42*-1,IF(AND(H$9=RIGHT('CONDUIT LENGTH'!$L42,2),LEFT('CONDUIT LENGTH'!$L42,3)=\"2x3\")=TRUE,IF(LEFT('CONDUIT LENGTH'!$L42,2)=\"2x\",'CONDUIT LENGTH'!$K42*-1*2,\"\"),\"\")),\"\"),IF(LEFT(G$6,1)='CONDUIT LENGTH'!$M42,IF(H$9='CONDUIT LENGTH'!$L42,'CONDUIT LENGTH'!$K42,IF(AND(H$9=RIGHT('CONDUIT LENGTH'!$L42,2),LEFT('CONDUIT LENGTH'!$L42,3)=\"2x3\")=TRUE,IF(LEFT('CONDUIT LENGTH'!$L42,2)=\"2x\",'CONDUIT LENGTH'!$K42*2,\"\"),\"\")),\"\"))","v":""},{"$f":"IF($B49=\"SOURCE\",IF(LEFT(J$6,1)='CONDUIT LENGTH'!$M42,IF(I$9='CONDUIT LENGTH'!$L42,'CONDUIT LENGTH'!$K42*-1,IF(AND(I$9=RIGHT('CONDUIT LENGTH'!$L42,2),LEFT('CONDUIT LENGTH'!$L42,3)=\"2x3\")=TRUE,IF(LEFT('CONDUIT LENGTH'!$L42,2)=\"2x\",'CONDUIT LENGTH'!$K42*-1*2,\"\"),\"\")),\"\"),IF(LEFT(J$6,1)='CONDUIT LENGTH'!$M42,IF(I$9='CONDUIT LENGTH'!$L42,'CONDUIT LENGTH'!$K42,IF(AND(I$9=RIGHT('CONDUIT LENGTH'!$L42,2),LEFT('CONDUIT LENGTH'!$L42,3)=\"2x3\")=TRUE,IF(LEFT('CONDUIT LENGTH'!$L42,2)=\"2x\",'CONDUIT LENGTH'!$K42*2,\"\"),\"\")),\"\"))","v":""},{"$f":"IF($B49=\"SOURCE\",IF(LEFT(J$6,1)='CONDUIT LENGTH'!$M42,IF(J$9='CONDUIT LENGTH'!$L42,'CONDUIT LENGTH'!$K42*-1,IF(AND(J$9=RIGHT('CONDUIT LENGTH'!$L42,2),LEFT('CONDUIT LENGTH'!$L42,3)=\"2x3\")=TRUE,IF(LEFT('CONDUIT LENGTH'!$L42,2)=\"2x\",'CONDUIT LENGTH'!$K42*-1*2,\"\"),\"\")),\"\"),IF(LEFT(J$6,1)='CONDUIT LENGTH'!$M42,IF(J$9='CONDUIT LENGTH'!$L42,'CONDUIT LENGTH'!$K42,IF(AND(J$9=RIGHT('CONDUIT LENGTH'!$L42,2),LEFT('CONDUIT LENGTH'!$L42,3)=\"2x3\")=TRUE,IF(LEFT('CONDUIT LENGTH'!$L42,2)=\"2x\",'CONDUIT LENGTH'!$K42*2,\"\"),\"\")),\"\"))","v":""},{"$f":"IF($B49=\"SOURCE\",IF(LEFT(J$6,1)='CONDUIT LENGTH'!$M42,IF(K$9='CONDUIT LENGTH'!$L42,'CONDUIT LENGTH'!$K42*-1,IF(AND(K$9=RIGHT('CONDUIT LENGTH'!$L42,2),LEFT('CONDUIT LENGTH'!$L42,3)=\"2x3\")=TRUE,IF(LEFT('CONDUIT LENGTH'!$L42,2)=\"2x\",'CONDUIT LENGTH'!$K42*-1*2,\"\"),\"\")),\"\"),IF(LEFT(J$6,1)='CONDUIT LENGTH'!$M42,IF(K$9='CONDUIT LENGTH'!$L42,'CONDUIT LENGTH'!$K42,IF(AND(K$9=RIGHT('CONDUIT LENGTH'!$L42,2),LEFT('CONDUIT LENGTH'!$L42,3)=\"2x3\")=TRUE,IF(LEFT('CONDUIT LENGTH'!$L42,2)=\"2x\",'CONDUIT LENGTH'!$K42*2,\"\"),\"\")),\"\"))","v":""},{"$f":"IF($B49=\"SOURCE\",IF(LEFT(M$6,1)='CONDUIT LENGTH'!$M42,IF(L$9='CONDUIT LENGTH'!$L42,'CONDUIT LENGTH'!$K42*-1,IF(AND(L$9=RIGHT('CONDUIT LENGTH'!$L42,2),LEFT('CONDUIT LENGTH'!$L42,3)=\"2x3\")=TRUE,IF(LEFT('CONDUIT LENGTH'!$L42,2)=\"2x\",'CONDUIT LENGTH'!$K42*-1*2,\"\"),\"\")),\"\"),IF(LEFT(M$6,1)='CONDUIT LENGTH'!$M42,IF(L$9='CONDUIT LENGTH'!$L42,'CONDUIT LENGTH'!$K42,IF(AND(L$9=RIGHT('CONDUIT LENGTH'!$L42,2),LEFT('CONDUIT LENGTH'!$L42,3)=\"2x3\")=TRUE,IF(LEFT('CONDUIT LENGTH'!$L42,2)=\"2x\",'CONDUIT LENGTH'!$K42*2,\"\"),\"\")),\"\"))","v":""},{"$f":"IF($B49=\"SOURCE\",IF(LEFT(M$6,1)='CONDUIT LENGTH'!$M42,IF(M$9='CONDUIT LENGTH'!$L42,'CONDUIT LENGTH'!$K42*-1,IF(AND(M$9=RIGHT('CONDUIT LENGTH'!$L42,2),LEFT('CONDUIT LENGTH'!$L42,3)=\"2x3\")=TRUE,IF(LEFT('CONDUIT LENGTH'!$L42,2)=\"2x\",'CONDUIT LENGTH'!$K42*-1*2,\"\"),\"\")),\"\"),IF(LEFT(M$6,1)='CONDUIT LENGTH'!$M42,IF(M$9='CONDUIT LENGTH'!$L42,'CONDUIT LENGTH'!$K42,IF(AND(M$9=RIGHT('CONDUIT LENGTH'!$L42,2),LEFT('CONDUIT LENGTH'!$L42,3)=\"2x3\")=TRUE,IF(LEFT('CONDUIT LENGTH'!$L42,2)=\"2x\",'CONDUIT LENGTH'!$K42*2,\"\"),\"\")),\"\"))","v":""},{"$f":"IF($B49=\"SOURCE\",IF(LEFT(M$6,1)='CONDUIT LENGTH'!$M42,IF(N$9='CONDUIT LENGTH'!$L42,'CONDUIT LENGTH'!$K42*-1,IF(AND(N$9=RIGHT('CONDUIT LENGTH'!$L42,2),LEFT('CONDUIT LENGTH'!$L42,3)=\"2x3\")=TRUE,IF(LEFT('CONDUIT LENGTH'!$L42,2)=\"2x\",'CONDUIT LENGTH'!$K42*-1*2,\"\"),\"\")),\"\"),IF(LEFT(M$6,1)='CONDUIT LENGTH'!$M42,IF(N$9='CONDUIT LENGTH'!$L42,'CONDUIT LENGTH'!$K42,IF(AND(N$9=RIGHT('CONDUIT LENGTH'!$L42,2),LEFT('CONDUIT LENGTH'!$L42,3)=\"2x3\")=TRUE,IF(LEFT('CONDUIT LENGTH'!$L42,2)=\"2x\",'CONDUIT LENGTH'!$K42*2,\"\"),\"\")),\"\"))","v":""},{"$f":"IF($B49=\"SOURCE\",IF(LEFT(P$5,1)='CONDUIT LENGTH'!$M42,IF(O$9='CONDUIT LENGTH'!$L42,'CONDUIT LENGTH'!$K42*-1,IF(AND(O$9=RIGHT('CONDUIT LENGTH'!$L42,2),LEFT('CONDUIT LENGTH'!$L42,3)=\"2x3\")=TRUE,IF(LEFT('CONDUIT LENGTH'!$L42,2)=\"2x\",'CONDUIT LENGTH'!$K42*-1*2,\"\"),\"\")),\"\"),IF(LEFT(P$6,1)='CONDUIT LENGTH'!$M42,IF(O$9='CONDUIT LENGTH'!$L42,'CONDUIT LENGTH'!$K42,IF(AND(O$9=RIGHT('CONDUIT LENGTH'!$L42,2),LEFT('CONDUIT LENGTH'!$L42,3)=\"2x3\")=TRUE,IF(LEFT('CONDUIT LENGTH'!$L42,2)=\"2x\",'CONDUIT LENGTH'!$K42*2,\"\"),\"\")),\"\"))","v":""},{"$f":"IF($B49=\"SOURCE\",IF(LEFT(P$5,1)='CONDUIT LENGTH'!$M42,IF(P$9='CONDUIT LENGTH'!$L42,'CONDUIT LENGTH'!$K42*-1,IF(AND(P$9=RIGHT('CONDUIT LENGTH'!$L42,2),LEFT('CONDUIT LENGTH'!$L42,3)=\"2x3\")=TRUE,IF(LEFT('CONDUIT LENGTH'!$L42,2)=\"2x\",'CONDUIT LENGTH'!$K42*-1*2,\"\"),\"\")),\"\"),IF(LEFT(P$6,1)='CONDUIT LENGTH'!$M42,IF(P$9='CONDUIT LENGTH'!$L42,'CONDUIT LENGTH'!$K42,IF(AND(P$9=RIGHT('CONDUIT LENGTH'!$L42,2),LEFT('CONDUIT LENGTH'!$L42,3)=\"2x3\")=TRUE,IF(LEFT('CONDUIT LENGTH'!$L42,2)=\"2x\",'CONDUIT LENGTH'!$K42*2,\"\"),\"\")),\"\"))","v":""},{"$f":"IF($B49=\"SOURCE\",IF(LEFT(P$5,1)='CONDUIT LENGTH'!$M42,IF(Q$9='CONDUIT LENGTH'!$L42,'CONDUIT LENGTH'!$K42*-1,IF(AND(Q$9=RIGHT('CONDUIT LENGTH'!$L42,2),LEFT('CONDUIT LENGTH'!$L42,3)=\"2x3\")=TRUE,IF(LEFT('CONDUIT LENGTH'!$L42,2)=\"2x\",'CONDUIT LENGTH'!$K42*-1*2,\"\"),\"\")),\"\"),IF(LEFT(Q$6,1)='CONDUIT LENGTH'!$M42,IF(Q$9='CONDUIT LENGTH'!$L42,'CONDUIT LENGTH'!$K42,IF(AND(Q$9=RIGHT('CONDUIT LENGTH'!$L42,2),LEFT('CONDUIT LENGTH'!$L42,3)=\"2x3\")=TRUE,IF(LEFT('CONDUIT LENGTH'!$L42,2)=\"2x\",'CONDUIT LENGTH'!$K42*2,\"\"),\"\")),\"\"))","v":""},{"$f":"IF('CONDUIT LENGTH'!M42=\"UIP\",\"UIP EXISTING\",\"\")","v":""},{"$f":"IF('CABLE LENGTH'!A43>0,'CABLE LENGTH'!A43,\"\")","v":""},{"$f":"IF('CABLE LENGTH'!B43>0,'CABLE LENGTH'!B43,\"\")","v":""},{"$f":"IF('CABLE LENGTH'!Q43>0,'CABLE LENGTH'!Q43,\"\")","v":""},{"$f":"IF($S49=\"SOURCE\",IF(V$9='CABLE LENGTH'!$AK43,'CABLE LENGTH'!$AJ43*'CABLE LENGTH'!$AL43*-1,\"\"),IF(V$9=\"VIDEO\",IF(V$9='CABLE LENGTH'!$AK43,'CABLE LENGTH'!$AJ43*'CABLE LENGTH'!$AL43*-1,\"\"),IF(V$9='CABLE LENGTH'!$AK43,'CABLE LENGTH'!$AJ43*'CABLE LENGTH'!$AL43,\"\")))","v":""},{"$f":"IF($S49=\"SOURCE\",IF(W$9='CABLE LENGTH'!$AK43,'CABLE LENGTH'!$AJ43*'CABLE LENGTH'!$AL43*-1,\"\"),IF(W$9=\"VIDEO\",IF(W$9='CABLE LENGTH'!$AK43,'CABLE LENGTH'!$AJ43*'CABLE LENGTH'!$AL43*-1,\"\"),IF(W$9='CABLE LENGTH'!$AK43,'CABLE LENGTH'!$AJ43*'CABLE LENGTH'!$AL43,\"\")))","v":""},{"$f":"IF($S49=\"SOURCE\",IF(X$10='CABLE LENGTH'!$AK43,'CABLE LENGTH'!$AJ43*'CABLE LENGTH'!$AL43*-1,\"\"),IF(X$10=\"VIDEO\",IF(X$10='CABLE LENGTH'!$AK43,'CABLE LENGTH'!$AJ43*'CABLE LENGTH'!$AL43*-1,\"\"),IF(X$10='CABLE LENGTH'!$AK43,'CABLE LENGTH'!$AJ43*'CABLE LENGTH'!$AL43,\"\")))","v":""},{"$f":"IF($S49=\"SOURCE\",IF(Y$10='CABLE LENGTH'!$AK43,'CABLE LENGTH'!$AJ43*'CABLE LENGTH'!$AL43*-1,\"\"),IF(Y$10=\"VIDEO\",IF(Y$10='CABLE LENGTH'!$AK43,'CABLE LENGTH'!$AJ43*'CABLE LENGTH'!$AL43*-1,\"\"),IF(Y$10='CABLE LENGTH'!$AK43,'CABLE LENGTH'!$AJ43*'CABLE LENGTH'!$AL43,\"\")))","v":""},{"$f":"IF($S49=\"SOURCE\",IF(Z$10='CABLE LENGTH'!$AK43,'CABLE LENGTH'!$AJ43*'CABLE LENGTH'!$AL43*-1,\"\"),IF(Z$10=\"VIDEO\",IF(Z$10='CABLE LENGTH'!$AK43,'CABLE LENGTH'!$AJ43*'CABLE LENGTH'!$AL43*-1,\"\"),IF(Z$10='CABLE LENGTH'!$AK43,'CABLE LENGTH'!$AJ43*'CABLE LENGTH'!$AL43,\"\")))","v":""},{"$f":"IF($S49=\"SOURCE\",IF(AA$10='CABLE LENGTH'!$AK43,'CABLE LENGTH'!$AJ43*'CABLE LENGTH'!$AL43*-1,\"\"),IF(AA$10=\"VIDEO\",IF(AA$10='CABLE LENGTH'!$AK43,'CABLE LENGTH'!$AJ43*'CABLE LENGTH'!$AL43*-1,\"\"),IF(AA$10='CABLE LENGTH'!$AK43,'CABLE LENGTH'!$AJ43*'CABLE LENGTH'!$AL43,\"\")))","v":""},{"$f":"IF($S49=\"SOURCE\",IF(AB$10='CABLE LENGTH'!$AK43,'CABLE LENGTH'!$AJ43*'CABLE LENGTH'!$AL43*-1,\"\"),IF(AB$10=\"VIDEO\",IF(AB$10='CABLE LENGTH'!$AK43,'CABLE LENGTH'!$AJ43*'CABLE LENGTH'!$AL43*-1,\"\"),IF(AB$10='CABLE LENGTH'!$AK43,'CABLE LENGTH'!$AJ43*'CABLE LENGTH'!$AL43,\"\")))","v":""},{"$f":"IF($S49=\"SOURCE\",IF(AC$10='CABLE LENGTH'!$AK43,'CABLE LENGTH'!$AJ43*'CABLE LENGTH'!$AL43*-1,\"\"),IF(AC$10=\"VIDEO\",IF(AC$10='CABLE LENGTH'!$AK43,'CABLE LENGTH'!$AJ43*'CABLE LENGTH'!$AL43*-1,\"\"),IF(AC$10='CABLE LENGTH'!$AK43,'CABLE LENGTH'!$AJ43*'CABLE LENGTH'!$AL43,\"\")))","v":""},{"$f":"IF($S49=\"SOURCE\",IF(AD$9='CABLE LENGTH'!$AK43,'CABLE LENGTH'!$AJ43*'CABLE LENGTH'!$AL43*-1,\"\"),IF(AD$9=\"VIDEO\",IF(AD$9='CABLE LENGTH'!$AK43,'CABLE LENGTH'!$AJ43*'CABLE LENGTH'!$AL43*-1,\"\"),IF(AD$9='CABLE LENGTH'!$AK43,'CABLE LENGTH'!$AJ43*'CABLE LENGTH'!$AL43,\"\")))","v":""},{"$f":"IF($S49=\"SOURCE\",IF(AE$9='CABLE LENGTH'!$AK43,'CABLE LENGTH'!$AJ43*'CABLE LENGTH'!$AL43*-1,\"\"),IF(AE$9=\"VIDEO\",IF(AE$9='CABLE LENGTH'!$AK43,'CABLE LENGTH'!$AJ43*'CABLE LENGTH'!$AL43*-1,\"\"),IF(AE$9='CABLE LENGTH'!$AK43,'CABLE LENGTH'!$AJ43*'CABLE LENGTH'!$AL43,\"\")))","v":""},{"$f":"IF($S49=\"SOURCE\",IF(AF$9='CABLE LENGTH'!$AK43,'CABLE LENGTH'!$AJ43*'CABLE LENGTH'!$AL43*-1,\"\"),IF(AF$9=\"VIDEO\",IF(AF$9='CABLE LENGTH'!$AK43,'CABLE LENGTH'!$AJ43*'CABLE LENGTH'!$AL43*-1,\"\"),IF(AF$9='CABLE LENGTH'!$AK43,'CABLE LENGTH'!$AJ43*'CABLE LENGTH'!$AL43,\"\")))","v":""}]
[0.3,{"$f":"IF('CONDUIT LENGTH'!A43>0,'CONDUIT LENGTH'!A43,\" \")","v":" "},{"$f":"IF('CONDUIT LENGTH'!B43>0,'CONDUIT LENGTH'!B43,\" \")","v":" "},{"$f":"IF('CONDUIT LENGTH'!C43>0,'CONDUIT LENGTH'!C43,\" \")","v":" "},{"$f":"IF($B50=\"SOURCE\",IF(LEFT(E$5,1)='CONDUIT LENGTH'!$M43,IF(E$9='CONDUIT LENGTH'!$L43,'CONDUIT LENGTH'!$K43*-1,IF(AND(E$9=RIGHT('CONDUIT LENGTH'!$L43,2),LEFT('CONDUIT LENGTH'!$L43,3)=\"2x3\")=TRUE,IF(LEFT('CONDUIT LENGTH'!$L43,2)=\"2x\",'CONDUIT LENGTH'!$K43*-1*2,\"\"),\"\")),\"\"),IF(LEFT(E$5,1)='CONDUIT LENGTH'!$M43,IF(E$9='CONDUIT LENGTH'!$L43,'CONDUIT LENGTH'!$K43,IF(AND(E$9=RIGHT('CONDUIT LENGTH'!$L43,2),LEFT('CONDUIT LENGTH'!$L43,3)=\"2x3\")=TRUE,IF(LEFT('CONDUIT LENGTH'!$L43,2)=\"2x\",'CONDUIT LENGTH'!$K43*2,\"\"),\"\")),\"\"))","v":""},{"$f":"IF($B50=\"SOURCE\",IF(LEFT(G$6,1)='CONDUIT LENGTH'!$M43,IF(F$9='CONDUIT LENGTH'!$L43,'CONDUIT LENGTH'!$K43*-1,IF(AND(F$9=RIGHT('CONDUIT LENGTH'!$L43,2),LEFT('CONDUIT LENGTH'!$L43,3)=\"2x3\")=TRUE,IF(LEFT('CONDUIT LENGTH'!$L43,2)=\"2x\",'CONDUIT LENGTH'!$K43*-1*2,\"\"),\"\")),\"\"),IF(LEFT(G$6,1)='CONDUIT LENGTH'!$M43,IF(F$9='CONDUIT LENGTH'!$L43,'CONDUIT LENGTH'!$K43,IF(AND(F$9=RIGHT('CONDUIT LENGTH'!$L43,2),LEFT('CONDUIT LENGTH'!$L43,3)=\"2x3\")=TRUE,IF(LEFT('CONDUIT LENGTH'!$L43,2)=\"2x\",'CONDUIT LENGTH'!$K43*2,\"\"),\"\")),\"\"))","v":""},{"$f":"IF($B50=\"SOURCE\",IF(LEFT(G$6,1)='CONDUIT LENGTH'!$M43,IF(G$9='CONDUIT LENGTH'!$L43,'CONDUIT LENGTH'!$K43*-1,IF(AND(G$9=RIGHT('CONDUIT LENGTH'!$L43,2),LEFT('CONDUIT LENGTH'!$L43,3)=\"2x3\")=TRUE,IF(LEFT('CONDUIT LENGTH'!$L43,2)=\"2x\",'CONDUIT LENGTH'!$K43*-1*2,\"\"),\"\")),\"\"),IF(LEFT(G$6,1)='CONDUIT LENGTH'!$M43,IF(G$9='CONDUIT LENGTH'!$L43,'CONDUIT LENGTH'!$K43,IF(AND(G$9=RIGHT('CONDUIT LENGTH'!$L43,2),LEFT('CONDUIT LENGTH'!$L43,3)=\"2x3\")=TRUE,IF(LEFT('CONDUIT LENGTH'!$L43,2)=\"2x\",'CONDUIT LENGTH'!$K43*2,\"\"),\"\")),\"\"))","v":""},{"$f":"IF($B50=\"SOURCE\",IF(LEFT(G$6,1)='CONDUIT LENGTH'!$M43,IF(H$9='CONDUIT LENGTH'!$L43,'CONDUIT LENGTH'!$K43*-1,IF(AND(H$9=RIGHT('CONDUIT LENGTH'!$L43,2),LEFT('CONDUIT LENGTH'!$L43,3)=\"2x3\")=TRUE,IF(LEFT('CONDUIT LENGTH'!$L43,2)=\"2x\",'CONDUIT LENGTH'!$K43*-1*2,\"\"),\"\")),\"\"),IF(LEFT(G$6,1)='CONDUIT LENGTH'!$M43,IF(H$9='CONDUIT LENGTH'!$L43,'CONDUIT LENGTH'!$K43,IF(AND(H$9=RIGHT('CONDUIT LENGTH'!$L43,2),LEFT('CONDUIT LENGTH'!$L43,3)=\"2x3\")=TRUE,IF(LEFT('CONDUIT LENGTH'!$L43,2)=\"2x\",'CONDUIT LENGTH'!$K43*2,\"\"),\"\")),\"\"))","v":""},{"$f":"IF($B50=\"SOURCE\",IF(LEFT(J$6,1)='CONDUIT LENGTH'!$M43,IF(I$9='CONDUIT LENGTH'!$L43,'CONDUIT LENGTH'!$K43*-1,IF(AND(I$9=RIGHT('CONDUIT LENGTH'!$L43,2),LEFT('CONDUIT LENGTH'!$L43,3)=\"2x3\")=TRUE,IF(LEFT('CONDUIT LENGTH'!$L43,2)=\"2x\",'CONDUIT LENGTH'!$K43*-1*2,\"\"),\"\")),\"\"),IF(LEFT(J$6,1)='CONDUIT LENGTH'!$M43,IF(I$9='CONDUIT LENGTH'!$L43,'CONDUIT LENGTH'!$K43,IF(AND(I$9=RIGHT('CONDUIT LENGTH'!$L43,2),LEFT('CONDUIT LENGTH'!$L43,3)=\"2x3\")=TRUE,IF(LEFT('CONDUIT LENGTH'!$L43,2)=\"2x\",'CONDUIT LENGTH'!$K43*2,\"\"),\"\")),\"\"))","v":""},{"$f":"IF($B50=\"SOURCE\",IF(LEFT(J$6,1)='CONDUIT LENGTH'!$M43,IF(J$9='CONDUIT LENGTH'!$L43,'CONDUIT LENGTH'!$K43*-1,IF(AND(J$9=RIGHT('CONDUIT LENGTH'!$L43,2),LEFT('CONDUIT LENGTH'!$L43,3)=\"2x3\")=TRUE,IF(LEFT('CONDUIT LENGTH'!$L43,2)=\"2x\",'CONDUIT LENGTH'!$K43*-1*2,\"\"),\"\")),\"\"),IF(LEFT(J$6,1)='CONDUIT LENGTH'!$M43,IF(J$9='CONDUIT LENGTH'!$L43,'CONDUIT LENGTH'!$K43,IF(AND(J$9=RIGHT('CONDUIT LENGTH'!$L43,2),LEFT('CONDUIT LENGTH'!$L43,3)=\"2x3\")=TRUE,IF(LEFT('CONDUIT LENGTH'!$L43,2)=\"2x\",'CONDUIT LENGTH'!$K43*2,\"\"),\"\")),\"\"))","v":""},{"$f":"IF($B50=\"SOURCE\",IF(LEFT(J$6,1)='CONDUIT LENGTH'!$M43,IF(K$9='CONDUIT LENGTH'!$L43,'CONDUIT LENGTH'!$K43*-1,IF(AND(K$9=RIGHT('CONDUIT LENGTH'!$L43,2),LEFT('CONDUIT LENGTH'!$L43,3)=\"2x3\")=TRUE,IF(LEFT('CONDUIT LENGTH'!$L43,2)=\"2x\",'CONDUIT LENGTH'!$K43*-1*2,\"\"),\"\")),\"\"),IF(LEFT(J$6,1)='CONDUIT LENGTH'!$M43,IF(K$9='CONDUIT LENGTH'!$L43,'CONDUIT LENGTH'!$K43,IF(AND(K$9=RIGHT('CONDUIT LENGTH'!$L43,2),LEFT('CONDUIT LENGTH'!$L43,3)=\"2x3\")=TRUE,IF(LEFT('CONDUIT LENGTH'!$L43,2)=\"2x\",'CONDUIT LENGTH'!$K43*2,\"\"),\"\")),\"\"))","v":""},{"$f":"IF($B50=\"SOURCE\",IF(LEFT(M$6,1)='CONDUIT LENGTH'!$M43,IF(L$9='CONDUIT LENGTH'!$L43,'CONDUIT LENGTH'!$K43*-1,IF(AND(L$9=RIGHT('CONDUIT LENGTH'!$L43,2),LEFT('CONDUIT LENGTH'!$L43,3)=\"2x3\")=TRUE,IF(LEFT('CONDUIT LENGTH'!$L43,2)=\"2x\",'CONDUIT LENGTH'!$K43*-1*2,\"\"),\"\")),\"\"),IF(LEFT(M$6,1)='CONDUIT LENGTH'!$M43,IF(L$9='CONDUIT LENGTH'!$L43,'CONDUIT LENGTH'!$K43,IF(AND(L$9=RIGHT('CONDUIT LENGTH'!$L43,2),LEFT('CONDUIT LENGTH'!$L43,3)=\"2x3\")=TRUE,IF(LEFT('CONDUIT LENGTH'!$L43,2)=\"2x\",'CONDUIT LENGTH'!$K43*2,\"\"),\"\")),\"\"))","v":""},{"$f":"IF($B50=\"SOURCE\",IF(LEFT(M$6,1)='CONDUIT LENGTH'!$M43,IF(M$9='CONDUIT LENGTH'!$L43,'CONDUIT LENGTH'!$K43*-1,IF(AND(M$9=RIGHT('CONDUIT LENGTH'!$L43,2),LEFT('CONDUIT LENGTH'!$L43,3)=\"2x3\")=TRUE,IF(LEFT('CONDUIT LENGTH'!$L43,2)=\"2x\",'CONDUIT LENGTH'!$K43*-1*2,\"\"),\"\")),\"\"),IF(LEFT(M$6,1)='CONDUIT LENGTH'!$M43,IF(M$9='CONDUIT LENGTH'!$L43,'CONDUIT LENGTH'!$K43,IF(AND(M$9=RIGHT('CONDUIT LENGTH'!$L43,2),LEFT('CONDUIT LENGTH'!$L43,3)=\"2x3\")=TRUE,IF(LEFT('CONDUIT LENGTH'!$L43,2)=\"2x\",'CONDUIT LENGTH'!$K43*2,\"\"),\"\")),\"\"))","v":""},{"$f":"IF($B50=\"SOURCE\",IF(LEFT(M$6,1)='CONDUIT LENGTH'!$M43,IF(N$9='CONDUIT LENGTH'!$L43,'CONDUIT LENGTH'!$K43*-1,IF(AND(N$9=RIGHT('CONDUIT LENGTH'!$L43,2),LEFT('CONDUIT LENGTH'!$L43,3)=\"2x3\")=TRUE,IF(LEFT('CONDUIT LENGTH'!$L43,2)=\"2x\",'CONDUIT LENGTH'!$K43*-1*2,\"\"),\"\")),\"\"),IF(LEFT(M$6,1)='CONDUIT LENGTH'!$M43,IF(N$9='CONDUIT LENGTH'!$L43,'CONDUIT LENGTH'!$K43,IF(AND(N$9=RIGHT('CONDUIT LENGTH'!$L43,2),LEFT('CONDUIT LENGTH'!$L43,3)=\"2x3\")=TRUE,IF(LEFT('CONDUIT LENGTH'!$L43,2)=\"2x\",'CONDUIT LENGTH'!$K43*2,\"\"),\"\")),\"\"))","v":""},{"$f":"IF($B50=\"SOURCE\",IF(LEFT(P$5,1)='CONDUIT LENGTH'!$M43,IF(O$9='CONDUIT LENGTH'!$L43,'CONDUIT LENGTH'!$K43*-1,IF(AND(O$9=RIGHT('CONDUIT LENGTH'!$L43,2),LEFT('CONDUIT LENGTH'!$L43,3)=\"2x3\")=TRUE,IF(LEFT('CONDUIT LENGTH'!$L43,2)=\"2x\",'CONDUIT LENGTH'!$K43*-1*2,\"\"),\"\")),\"\"),IF(LEFT(P$6,1)='CONDUIT LENGTH'!$M43,IF(O$9='CONDUIT LENGTH'!$L43,'CONDUIT LENGTH'!$K43,IF(AND(O$9=RIGHT('CONDUIT LENGTH'!$L43,2),LEFT('CONDUIT LENGTH'!$L43,3)=\"2x3\")=TRUE,IF(LEFT('CONDUIT LENGTH'!$L43,2)=\"2x\",'CONDUIT LENGTH'!$K43*2,\"\"),\"\")),\"\"))","v":""},{"$f":"IF($B50=\"SOURCE\",IF(LEFT(P$5,1)='CONDUIT LENGTH'!$M43,IF(P$9='CONDUIT LENGTH'!$L43,'CONDUIT LENGTH'!$K43*-1,IF(AND(P$9=RIGHT('CONDUIT LENGTH'!$L43,2),LEFT('CONDUIT LENGTH'!$L43,3)=\"2x3\")=TRUE,IF(LEFT('CONDUIT LENGTH'!$L43,2)=\"2x\",'CONDUIT LENGTH'!$K43*-1*2,\"\"),\"\")),\"\"),IF(LEFT(P$6,1)='CONDUIT LENGTH'!$M43,IF(P$9='CONDUIT LENGTH'!$L43,'CONDUIT LENGTH'!$K43,IF(AND(P$9=RIGHT('CONDUIT LENGTH'!$L43,2),LEFT('CONDUIT LENGTH'!$L43,3)=\"2x3\")=TRUE,IF(LEFT('CONDUIT LENGTH'!$L43,2)=\"2x\",'CONDUIT LENGTH'!$K43*2,\"\"),\"\")),\"\"))","v":""},{"$f":"IF($B50=\"SOURCE\",IF(LEFT(P$5,1)='CONDUIT LENGTH'!$M43,IF(Q$9='CONDUIT LENGTH'!$L43,'CONDUIT LENGTH'!$K43*-1,IF(AND(Q$9=RIGHT('CONDUIT LENGTH'!$L43,2),LEFT('CONDUIT LENGTH'!$L43,3)=\"2x3\")=TRUE,IF(LEFT('CONDUIT LENGTH'!$L43,2)=\"2x\",'CONDUIT LENGTH'!$K43*-1*2,\"\"),\"\")),\"\"),IF(LEFT(Q$6,1)='CONDUIT LENGTH'!$M43,IF(Q$9='CONDUIT LENGTH'!$L43,'CONDUIT LENGTH'!$K43,IF(AND(Q$9=RIGHT('CONDUIT LENGTH'!$L43,2),LEFT('CONDUIT LENGTH'!$L43,3)=\"2x3\")=TRUE,IF(LEFT('CONDUIT LENGTH'!$L43,2)=\"2x\",'CONDUIT LENGTH'!$K43*2,\"\"),\"\")),\"\"))","v":""},{"$f":"IF('CONDUIT LENGTH'!M43=\"UIP\",\"UIP EXISTING\",\"\")","v":""},{"$f":"IF('CABLE LENGTH'!A44>0,'CABLE LENGTH'!A44,\"\")","v":""},{"$f":"IF('CABLE LENGTH'!B44>0,'CABLE LENGTH'!B44,\"\")","v":""},{"$f":"IF('CABLE LENGTH'!Q44>0,'CABLE LENGTH'!Q44,\"\")","v":""},{"$f":"IF($S50=\"SOURCE\",IF(V$9='CABLE LENGTH'!$AK44,'CABLE LENGTH'!$AJ44*'CABLE LENGTH'!$AL44*-1,\"\"),IF(V$9=\"VIDEO\",IF(V$9='CABLE LENGTH'!$AK44,'CABLE LENGTH'!$AJ44*'CABLE LENGTH'!$AL44*-1,\"\"),IF(V$9='CABLE LENGTH'!$AK44,'CABLE LENGTH'!$AJ44*'CABLE LENGTH'!$AL44,\"\")))","v":""},{"$f":"IF($S50=\"SOURCE\",IF(W$9='CABLE LENGTH'!$AK44,'CABLE LENGTH'!$AJ44*'CABLE LENGTH'!$AL44*-1,\"\"),IF(W$9=\"VIDEO\",IF(W$9='CABLE LENGTH'!$AK44,'CABLE LENGTH'!$AJ44*'CABLE LENGTH'!$AL44*-1,\"\"),IF(W$9='CABLE LENGTH'!$AK44,'CABLE LENGTH'!$AJ44*'CABLE LENGTH'!$AL44,\"\")))","v":""},{"$f":"IF($S50=\"SOURCE\",IF(X$10='CABLE LENGTH'!$AK44,'CABLE LENGTH'!$AJ44*'CABLE LENGTH'!$AL44*-1,\"\"),IF(X$10=\"VIDEO\",IF(X$10='CABLE LENGTH'!$AK44,'CABLE LENGTH'!$AJ44*'CABLE LENGTH'!$AL44*-1,\"\"),IF(X$10='CABLE LENGTH'!$AK44,'CABLE LENGTH'!$AJ44*'CABLE LENGTH'!$AL44,\"\")))","v":""},{"$f":"IF($S50=\"SOURCE\",IF(Y$10='CABLE LENGTH'!$AK44,'CABLE LENGTH'!$AJ44*'CABLE LENGTH'!$AL44*-1,\"\"),IF(Y$10=\"VIDEO\",IF(Y$10='CABLE LENGTH'!$AK44,'CABLE LENGTH'!$AJ44*'CABLE LENGTH'!$AL44*-1,\"\"),IF(Y$10='CABLE LENGTH'!$AK44,'CABLE LENGTH'!$AJ44*'CABLE LENGTH'!$AL44,\"\")))","v":""},{"$f":"IF($S50=\"SOURCE\",IF(Z$10='CABLE LENGTH'!$AK44,'CABLE LENGTH'!$AJ44*'CABLE LENGTH'!$AL44*-1,\"\"),IF(Z$10=\"VIDEO\",IF(Z$10='CABLE LENGTH'!$AK44,'CABLE LENGTH'!$AJ44*'CABLE LENGTH'!$AL44*-1,\"\"),IF(Z$10='CABLE LENGTH'!$AK44,'CABLE LENGTH'!$AJ44*'CABLE LENGTH'!$AL44,\"\")))","v":""},{"$f":"IF($S50=\"SOURCE\",IF(AA$10='CABLE LENGTH'!$AK44,'CABLE LENGTH'!$AJ44*'CABLE LENGTH'!$AL44*-1,\"\"),IF(AA$10=\"VIDEO\",IF(AA$10='CABLE LENGTH'!$AK44,'CABLE LENGTH'!$AJ44*'CABLE LENGTH'!$AL44*-1,\"\"),IF(AA$10='CABLE LENGTH'!$AK44,'CABLE LENGTH'!$AJ44*'CABLE LENGTH'!$AL44,\"\")))","v":""},{"$f":"IF($S50=\"SOURCE\",IF(AB$10='CABLE LENGTH'!$AK44,'CABLE LENGTH'!$AJ44*'CABLE LENGTH'!$AL44*-1,\"\"),IF(AB$10=\"VIDEO\",IF(AB$10='CABLE LENGTH'!$AK44,'CABLE LENGTH'!$AJ44*'CABLE LENGTH'!$AL44*-1,\"\"),IF(AB$10='CABLE LENGTH'!$AK44,'CABLE LENGTH'!$AJ44*'CABLE LENGTH'!$AL44,\"\")))","v":""},{"$f":"IF($S50=\"SOURCE\",IF(AC$10='CABLE LENGTH'!$AK44,'CABLE LENGTH'!$AJ44*'CABLE LENGTH'!$AL44*-1,\"\"),IF(AC$10=\"VIDEO\",IF(AC$10='CABLE LENGTH'!$AK44,'CABLE LENGTH'!$AJ44*'CABLE LENGTH'!$AL44*-1,\"\"),IF(AC$10='CABLE LENGTH'!$AK44,'CABLE LENGTH'!$AJ44*'CABLE LENGTH'!$AL44,\"\")))","v":""},{"$f":"IF($S50=\"SOURCE\",IF(AD$9='CABLE LENGTH'!$AK44,'CABLE LENGTH'!$AJ44*'CABLE LENGTH'!$AL44*-1,\"\"),IF(AD$9=\"VIDEO\",IF(AD$9='CABLE LENGTH'!$AK44,'CABLE LENGTH'!$AJ44*'CABLE LENGTH'!$AL44*-1,\"\"),IF(AD$9='CABLE LENGTH'!$AK44,'CABLE LENGTH'!$AJ44*'CABLE LENGTH'!$AL44,\"\")))","v":""},{"$f":"IF($S50=\"SOURCE\",IF(AE$9='CABLE LENGTH'!$AK44,'CABLE LENGTH'!$AJ44*'CABLE LENGTH'!$AL44*-1,\"\"),IF(AE$9=\"VIDEO\",IF(AE$9='CABLE LENGTH'!$AK44,'CABLE LENGTH'!$AJ44*'CABLE LENGTH'!$AL44*-1,\"\"),IF(AE$9='CABLE LENGTH'!$AK44,'CABLE LENGTH'!$AJ44*'CABLE LENGTH'!$AL44,\"\")))","v":""},{"$f":"IF($S50=\"SOURCE\",IF(AF$9='CABLE LENGTH'!$AK44,'CABLE LENGTH'!$AJ44*'CABLE LENGTH'!$AL44*-1,\"\"),IF(AF$9=\"VIDEO\",IF(AF$9='CABLE LENGTH'!$AK44,'CABLE LENGTH'!$AJ44*'CABLE LENGTH'!$AL44*-1,\"\"),IF(AF$9='CABLE LENGTH'!$AK44,'CABLE LENGTH'!$AJ44*'CABLE LENGTH'!$AL44,\"\")))","v":""}]
[0.3,{"$f":"IF('CONDUIT LENGTH'!A44>0,'CONDUIT LENGTH'!A44,\" \")","v":" "},{"$f":"IF('CONDUIT LENGTH'!B44>0,'CONDUIT LENGTH'!B44,\" \")","v":" "},{"$f":"IF('CONDUIT LENGTH'!C44>0,'CONDUIT LENGTH'!C44,\" \")","v":" "},{"$f":"IF($B51=\"SOURCE\",IF(LEFT(E$5,1)='CONDUIT LENGTH'!$M44,IF(E$9='CONDUIT LENGTH'!$L44,'CONDUIT LENGTH'!$K44*-1,IF(AND(E$9=RIGHT('CONDUIT LENGTH'!$L44,2),LEFT('CONDUIT LENGTH'!$L44,3)=\"2x3\")=TRUE,IF(LEFT('CONDUIT LENGTH'!$L44,2)=\"2x\",'CONDUIT LENGTH'!$K44*-1*2,\"\"),\"\")),\"\"),IF(LEFT(E$5,1)='CONDUIT LENGTH'!$M44,IF(E$9='CONDUIT LENGTH'!$L44,'CONDUIT LENGTH'!$K44,IF(AND(E$9=RIGHT('CONDUIT LENGTH'!$L44,2),LEFT('CONDUIT LENGTH'!$L44,3)=\"2x3\")=TRUE,IF(LEFT('CONDUIT LENGTH'!$L44,2)=\"2x\",'CONDUIT LENGTH'!$K44*2,\"\"),\"\")),\"\"))","v":""},{"$f":"IF($B51=\"SOURCE\",IF(LEFT(G$6,1)='CONDUIT LENGTH'!$M44,IF(F$9='CONDUIT LENGTH'!$L44,'CONDUIT LENGTH'!$K44*-1,IF(AND(F$9=RIGHT('CONDUIT LENGTH'!$L44,2),LEFT('CONDUIT LENGTH'!$L44,3)=\"2x3\")=TRUE,IF(LEFT('CONDUIT LENGTH'!$L44,2)=\"2x\",'CONDUIT LENGTH'!$K44*-1*2,\"\"),\"\")),\"\"),IF(LEFT(G$6,1)='CONDUIT LENGTH'!$M44,IF(F$9='CONDUIT LENGTH'!$L44,'CONDUIT LENGTH'!$K44,IF(AND(F$9=RIGHT('CONDUIT LENGTH'!$L44,2),LEFT('CONDUIT LENGTH'!$L44,3)=\"2x3\")=TRUE,IF(LEFT('CONDUIT LENGTH'!$L44,2)=\"2x\",'CONDUIT LENGTH'!$K44*2,\"\"),\"\")),\"\"))","v":""},{"$f":"IF($B51=\"SOURCE\",IF(LEFT(G$6,1)='CONDUIT LENGTH'!$M44,IF(G$9='CONDUIT LENGTH'!$L44,'CONDUIT LENGTH'!$K44*-1,IF(AND(G$9=RIGHT('CONDUIT LENGTH'!$L44,2),LEFT('CONDUIT LENGTH'!$L44,3)=\"2x3\")=TRUE,IF(LEFT('CONDUIT LENGTH'!$L44,2)=\"2x\",'CONDUIT LENGTH'!$K44*-1*2,\"\"),\"\")),\"\"),IF(LEFT(G$6,1)='CONDUIT LENGTH'!$M44,IF(G$9='CONDUIT LENGTH'!$L44,'CONDUIT LENGTH'!$K44,IF(AND(G$9=RIGHT('CONDUIT LENGTH'!$L44,2),LEFT('CONDUIT LENGTH'!$L44,3)=\"2x3\")=TRUE,IF(LEFT('CONDUIT LENGTH'!$L44,2)=\"2x\",'CONDUIT LENGTH'!$K44*2,\"\"),\"\")),\"\"))","v":""},{"$f":"IF($B51=\"SOURCE\",IF(LEFT(G$6,1)='CONDUIT LENGTH'!$M44,IF(H$9='CONDUIT LENGTH'!$L44,'CONDUIT LENGTH'!$K44*-1,IF(AND(H$9=RIGHT('CONDUIT LENGTH'!$L44,2),LEFT('CONDUIT LENGTH'!$L44,3)=\"2x3\")=TRUE,IF(LEFT('CONDUIT LENGTH'!$L44,2)=\"2x\",'CONDUIT LENGTH'!$K44*-1*2,\"\"),\"\")),\"\"),IF(LEFT(G$6,1)='CONDUIT LENGTH'!$M44,IF(H$9='CONDUIT LENGTH'!$L44,'CONDUIT LENGTH'!$K44,IF(AND(H$9=RIGHT('CONDUIT LENGTH'!$L44,2),LEFT('CONDUIT LENGTH'!$L44,3)=\"2x3\")=TRUE,IF(LEFT('CONDUIT LENGTH'!$L44,2)=\"2x\",'CONDUIT LENGTH'!$K44*2,\"\"),\"\")),\"\"))","v":""},{"$f":"IF($B51=\"SOURCE\",IF(LEFT(J$6,1)='CONDUIT LENGTH'!$M44,IF(I$9='CONDUIT LENGTH'!$L44,'CONDUIT LENGTH'!$K44*-1,IF(AND(I$9=RIGHT('CONDUIT LENGTH'!$L44,2),LEFT('CONDUIT LENGTH'!$L44,3)=\"2x3\")=TRUE,IF(LEFT('CONDUIT LENGTH'!$L44,2)=\"2x\",'CONDUIT LENGTH'!$K44*-1*2,\"\"),\"\")),\"\"),IF(LEFT(J$6,1)='CONDUIT LENGTH'!$M44,IF(I$9='CONDUIT LENGTH'!$L44,'CONDUIT LENGTH'!$K44,IF(AND(I$9=RIGHT('CONDUIT LENGTH'!$L44,2),LEFT('CONDUIT LENGTH'!$L44,3)=\"2x3\")=TRUE,IF(LEFT('CONDUIT LENGTH'!$L44,2)=\"2x\",'CONDUIT LENGTH'!$K44*2,\"\"),\"\")),\"\"))","v":""},{"$f":"IF($B51=\"SOURCE\",IF(LEFT(J$6,1)='CONDUIT LENGTH'!$M44,IF(J$9='CONDUIT LENGTH'!$L44,'CONDUIT LENGTH'!$K44*-1,IF(AND(J$9=RIGHT('CONDUIT LENGTH'!$L44,2),LEFT('CONDUIT LENGTH'!$L44,3)=\"2x3\")=TRUE,IF(LEFT('CONDUIT LENGTH'!$L44,2)=\"2x\",'CONDUIT LENGTH'!$K44*-1*2,\"\"),\"\")),\"\"),IF(LEFT(J$6,1)='CONDUIT LENGTH'!$M44,IF(J$9='CONDUIT LENGTH'!$L44,'CONDUIT LENGTH'!$K44,IF(AND(J$9=RIGHT('CONDUIT LENGTH'!$L44,2),LEFT('CONDUIT LENGTH'!$L44,3)=\"2x3\")=TRUE,IF(LEFT('CONDUIT LENGTH'!$L44,2)=\"2x\",'CONDUIT LENGTH'!$K44*2,\"\"),\"\")),\"\"))","v":""},{"$f":"IF($B51=\"SOURCE\",IF(LEFT(J$6,1)='CONDUIT LENGTH'!$M44,IF(K$9='CONDUIT LENGTH'!$L44,'CONDUIT LENGTH'!$K44*-1,IF(AND(K$9=RIGHT('CONDUIT LENGTH'!$L44,2),LEFT('CONDUIT LENGTH'!$L44,3)=\"2x3\")=TRUE,IF(LEFT('CONDUIT LENGTH'!$L44,2)=\"2x\",'CONDUIT LENGTH'!$K44*-1*2,\"\"),\"\")),\"\"),IF(LEFT(J$6,1)='CONDUIT LENGTH'!$M44,IF(K$9='CONDUIT LENGTH'!$L44,'CONDUIT LENGTH'!$K44,IF(AND(K$9=RIGHT('CONDUIT LENGTH'!$L44,2),LEFT('CONDUIT LENGTH'!$L44,3)=\"2x3\")=TRUE,IF(LEFT('CONDUIT LENGTH'!$L44,2)=\"2x\",'CONDUIT LENGTH'!$K44*2,\"\"),\"\")),\"\"))","v":""},{"$f":"IF($B51=\"SOURCE\",IF(LEFT(M$6,1)='CONDUIT LENGTH'!$M44,IF(L$9='CONDUIT LENGTH'!$L44,'CONDUIT LENGTH'!$K44*-1,IF(AND(L$9=RIGHT('CONDUIT LENGTH'!$L44,2),LEFT('CONDUIT LENGTH'!$L44,3)=\"2x3\")=TRUE,IF(LEFT('CONDUIT LENGTH'!$L44,2)=\"2x\",'CONDUIT LENGTH'!$K44*-1*2,\"\"),\"\")),\"\"),IF(LEFT(M$6,1)='CONDUIT LENGTH'!$M44,IF(L$9='CONDUIT LENGTH'!$L44,'CONDUIT LENGTH'!$K44,IF(AND(L$9=RIGHT('CONDUIT LENGTH'!$L44,2),LEFT('CONDUIT LENGTH'!$L44,3)=\"2x3\")=TRUE,IF(LEFT('CONDUIT LENGTH'!$L44,2)=\"2x\",'CONDUIT LENGTH'!$K44*2,\"\"),\"\")),\"\"))","v":""},{"$f":"IF($B51=\"SOURCE\",IF(LEFT(M$6,1)='CONDUIT LENGTH'!$M44,IF(M$9='CONDUIT LENGTH'!$L44,'CONDUIT LENGTH'!$K44*-1,IF(AND(M$9=RIGHT('CONDUIT LENGTH'!$L44,2),LEFT('CONDUIT LENGTH'!$L44,3)=\"2x3\")=TRUE,IF(LEFT('CONDUIT LENGTH'!$L44,2)=\"2x\",'CONDUIT LENGTH'!$K44*-1*2,\"\"),\"\")),\"\"),IF(LEFT(M$6,1)='CONDUIT LENGTH'!$M44,IF(M$9='CONDUIT LENGTH'!$L44,'CONDUIT LENGTH'!$K44,IF(AND(M$9=RIGHT('CONDUIT LENGTH'!$L44,2),LEFT('CONDUIT LENGTH'!$L44,3)=\"2x3\")=TRUE,IF(LEFT('CONDUIT LENGTH'!$L44,2)=\"2x\",'CONDUIT LENGTH'!$K44*2,\"\"),\"\")),\"\"))","v":""},{"$f":"IF($B51=\"SOURCE\",IF(LEFT(M$6,1)='CONDUIT LENGTH'!$M44,IF(N$9='CONDUIT LENGTH'!$L44,'CONDUIT LENGTH'!$K44*-1,IF(AND(N$9=RIGHT('CONDUIT LENGTH'!$L44,2),LEFT('CONDUIT LENGTH'!$L44,3)=\"2x3\")=TRUE,IF(LEFT('CONDUIT LENGTH'!$L44,2)=\"2x\",'CONDUIT LENGTH'!$K44*-1*2,\"\"),\"\")),\"\"),IF(LEFT(M$6,1)='CONDUIT LENGTH'!$M44,IF(N$9='CONDUIT LENGTH'!$L44,'CONDUIT LENGTH'!$K44,IF(AND(N$9=RIGHT('CONDUIT LENGTH'!$L44,2),LEFT('CONDUIT LENGTH'!$L44,3)=\"2x3\")=TRUE,IF(LEFT('CONDUIT LENGTH'!$L44,2)=\"2x\",'CONDUIT LENGTH'!$K44*2,\"\"),\"\")),\"\"))","v":""},{"$f":"IF($B51=\"SOURCE\",IF(LEFT(P$5,1)='CONDUIT LENGTH'!$M44,IF(O$9='CONDUIT LENGTH'!$L44,'CONDUIT LENGTH'!$K44*-1,IF(AND(O$9=RIGHT('CONDUIT LENGTH'!$L44,2),LEFT('CONDUIT LENGTH'!$L44,3)=\"2x3\")=TRUE,IF(LEFT('CONDUIT LENGTH'!$L44,2)=\"2x\",'CONDUIT LENGTH'!$K44*-1*2,\"\"),\"\")),\"\"),IF(LEFT(P$6,1)='CONDUIT LENGTH'!$M44,IF(O$9='CONDUIT LENGTH'!$L44,'CONDUIT LENGTH'!$K44,IF(AND(O$9=RIGHT('CONDUIT LENGTH'!$L44,2),LEFT('CONDUIT LENGTH'!$L44,3)=\"2x3\")=TRUE,IF(LEFT('CONDUIT LENGTH'!$L44,2)=\"2x\",'CONDUIT LENGTH'!$K44*2,\"\"),\"\")),\"\"))","v":""},{"$f":"IF($B51=\"SOURCE\",IF(LEFT(P$5,1)='CONDUIT LENGTH'!$M44,IF(P$9='CONDUIT LENGTH'!$L44,'CONDUIT LENGTH'!$K44*-1,IF(AND(P$9=RIGHT('CONDUIT LENGTH'!$L44,2),LEFT('CONDUIT LENGTH'!$L44,3)=\"2x3\")=TRUE,IF(LEFT('CONDUIT LENGTH'!$L44,2)=\"2x\",'CONDUIT LENGTH'!$K44*-1*2,\"\"),\"\")),\"\"),IF(LEFT(P$6,1)='CONDUIT LENGTH'!$M44,IF(P$9='CONDUIT LENGTH'!$L44,'CONDUIT LENGTH'!$K44,IF(AND(P$9=RIGHT('CONDUIT LENGTH'!$L44,2),LEFT('CONDUIT LENGTH'!$L44,3)=\"2x3\")=TRUE,IF(LEFT('CONDUIT LENGTH'!$L44,2)=\"2x\",'CONDUIT LENGTH'!$K44*2,\"\"),\"\")),\"\"))","v":""},{"$f":"IF($B51=\"SOURCE\",IF(LEFT(P$5,1)='CONDUIT LENGTH'!$M44,IF(Q$9='CONDUIT LENGTH'!$L44,'CONDUIT LENGTH'!$K44*-1,IF(AND(Q$9=RIGHT('CONDUIT LENGTH'!$L44,2),LEFT('CONDUIT LENGTH'!$L44,3)=\"2x3\")=TRUE,IF(LEFT('CONDUIT LENGTH'!$L44,2)=\"2x\",'CONDUIT LENGTH'!$K44*-1*2,\"\"),\"\")),\"\"),IF(LEFT(Q$6,1)='CONDUIT LENGTH'!$M44,IF(Q$9='CONDUIT LENGTH'!$L44,'CONDUIT LENGTH'!$K44,IF(AND(Q$9=RIGHT('CONDUIT LENGTH'!$L44,2),LEFT('CONDUIT LENGTH'!$L44,3)=\"2x3\")=TRUE,IF(LEFT('CONDUIT LENGTH'!$L44,2)=\"2x\",'CONDUIT LENGTH'!$K44*2,\"\"),\"\")),\"\"))","v":""},{"$f":"IF('CONDUIT LENGTH'!M44=\"UIP\",\"UIP EXISTING\",\"\")","v":""},{"$f":"IF('CABLE LENGTH'!A45>0,'CABLE LENGTH'!A45,\"\")","v":""},{"$f":"IF('CABLE LENGTH'!B45>0,'CABLE LENGTH'!B45,\"\")","v":""},{"$f":"IF('CABLE LENGTH'!Q45>0,'CABLE LENGTH'!Q45,\"\")","v":""},{"$f":"IF($S51=\"SOURCE\",IF(V$9='CABLE LENGTH'!$AK45,'CABLE LENGTH'!$AJ45*'CABLE LENGTH'!$AL45*-1,\"\"),IF(V$9=\"VIDEO\",IF(V$9='CABLE LENGTH'!$AK45,'CABLE LENGTH'!$AJ45*'CABLE LENGTH'!$AL45*-1,\"\"),IF(V$9='CABLE LENGTH'!$AK45,'CABLE LENGTH'!$AJ45*'CABLE LENGTH'!$AL45,\"\")))","v":""},{"$f":"IF($S51=\"SOURCE\",IF(W$9='CABLE LENGTH'!$AK45,'CABLE LENGTH'!$AJ45*'CABLE LENGTH'!$AL45*-1,\"\"),IF(W$9=\"VIDEO\",IF(W$9='CABLE LENGTH'!$AK45,'CABLE LENGTH'!$AJ45*'CABLE LENGTH'!$AL45*-1,\"\"),IF(W$9='CABLE LENGTH'!$AK45,'CABLE LENGTH'!$AJ45*'CABLE LENGTH'!$AL45,\"\")))","v":""},{"$f":"IF($S51=\"SOURCE\",IF(X$10='CABLE LENGTH'!$AK45,'CABLE LENGTH'!$AJ45*'CABLE LENGTH'!$AL45*-1,\"\"),IF(X$10=\"VIDEO\",IF(X$10='CABLE LENGTH'!$AK45,'CABLE LENGTH'!$AJ45*'CABLE LENGTH'!$AL45*-1,\"\"),IF(X$10='CABLE LENGTH'!$AK45,'CABLE LENGTH'!$AJ45*'CABLE LENGTH'!$AL45,\"\")))","v":""},{"$f":"IF($S51=\"SOURCE\",IF(Y$10='CABLE LENGTH'!$AK45,'CABLE LENGTH'!$AJ45*'CABLE LENGTH'!$AL45*-1,\"\"),IF(Y$10=\"VIDEO\",IF(Y$10='CABLE LENGTH'!$AK45,'CABLE LENGTH'!$AJ45*'CABLE LENGTH'!$AL45*-1,\"\"),IF(Y$10='CABLE LENGTH'!$AK45,'CABLE LENGTH'!$AJ45*'CABLE LENGTH'!$AL45,\"\")))","v":""},{"$f":"IF($S51=\"SOURCE\",IF(Z$10='CABLE LENGTH'!$AK45,'CABLE LENGTH'!$AJ45*'CABLE LENGTH'!$AL45*-1,\"\"),IF(Z$10=\"VIDEO\",IF(Z$10='CABLE LENGTH'!$AK45,'CABLE LENGTH'!$AJ45*'CABLE LENGTH'!$AL45*-1,\"\"),IF(Z$10='CABLE LENGTH'!$AK45,'CABLE LENGTH'!$AJ45*'CABLE LENGTH'!$AL45,\"\")))","v":""},{"$f":"IF($S51=\"SOURCE\",IF(AA$10='CABLE LENGTH'!$AK45,'CABLE LENGTH'!$AJ45*'CABLE LENGTH'!$AL45*-1,\"\"),IF(AA$10=\"VIDEO\",IF(AA$10='CABLE LENGTH'!$AK45,'CABLE LENGTH'!$AJ45*'CABLE LENGTH'!$AL45*-1,\"\"),IF(AA$10='CABLE LENGTH'!$AK45,'CABLE LENGTH'!$AJ45*'CABLE LENGTH'!$AL45,\"\")))","v":""},{"$f":"IF($S51=\"SOURCE\",IF(AB$10='CABLE LENGTH'!$AK45,'CABLE LENGTH'!$AJ45*'CABLE LENGTH'!$AL45*-1,\"\"),IF(AB$10=\"VIDEO\",IF(AB$10='CABLE LENGTH'!$AK45,'CABLE LENGTH'!$AJ45*'CABLE LENGTH'!$AL45*-1,\"\"),IF(AB$10='CABLE LENGTH'!$AK45,'CABLE LENGTH'!$AJ45*'CABLE LENGTH'!$AL45,\"\")))","v":""},{"$f":"IF($S51=\"SOURCE\",IF(AC$10='CABLE LENGTH'!$AK45,'CABLE LENGTH'!$AJ45*'CABLE LENGTH'!$AL45*-1,\"\"),IF(AC$10=\"VIDEO\",IF(AC$10='CABLE LENGTH'!$AK45,'CABLE LENGTH'!$AJ45*'CABLE LENGTH'!$AL45*-1,\"\"),IF(AC$10='CABLE LENGTH'!$AK45,'CABLE LENGTH'!$AJ45*'CABLE LENGTH'!$AL45,\"\")))","v":""},{"$f":"IF($S51=\"SOURCE\",IF(AD$9='CABLE LENGTH'!$AK45,'CABLE LENGTH'!$AJ45*'CABLE LENGTH'!$AL45*-1,\"\"),IF(AD$9=\"VIDEO\",IF(AD$9='CABLE LENGTH'!$AK45,'CABLE LENGTH'!$AJ45*'CABLE LENGTH'!$AL45*-1,\"\"),IF(AD$9='CABLE LENGTH'!$AK45,'CABLE LENGTH'!$AJ45*'CABLE LENGTH'!$AL45,\"\")))","v":""},{"$f":"IF($S51=\"SOURCE\",IF(AE$9='CABLE LENGTH'!$AK45,'CABLE LENGTH'!$AJ45*'CABLE LENGTH'!$AL45*-1,\"\"),IF(AE$9=\"VIDEO\",IF(AE$9='CABLE LENGTH'!$AK45,'CABLE LENGTH'!$AJ45*'CABLE LENGTH'!$AL45*-1,\"\"),IF(AE$9='CABLE LENGTH'!$AK45,'CABLE LENGTH'!$AJ45*'CABLE LENGTH'!$AL45,\"\")))","v":""},{"$f":"IF($S51=\"SOURCE\",IF(AF$9='CABLE LENGTH'!$AK45,'CABLE LENGTH'!$AJ45*'CABLE LENGTH'!$AL45*-1,\"\"),IF(AF$9=\"VIDEO\",IF(AF$9='CABLE LENGTH'!$AK45,'CABLE LENGTH'!$AJ45*'CABLE LENGTH'!$AL45*-1,\"\"),IF(AF$9='CABLE LENGTH'!$AK45,'CABLE LENGTH'!$AJ45*'CABLE LENGTH'!$AL45,\"\")))","v":""}]
[0.3,{"$f":"IF('CONDUIT LENGTH'!A45>0,'CONDUIT LENGTH'!A45,\" \")","v":" "},{"$f":"IF('CONDUIT LENGTH'!B45>0,'CONDUIT LENGTH'!B45,\" \")","v":" "},{"$f":"IF('CONDUIT LENGTH'!C45>0,'CONDUIT LENGTH'!C45,\" \")","v":" "},{"$f":"IF($B52=\"SOURCE\",IF(LEFT(E$5,1)='CONDUIT LENGTH'!$M45,IF(E$9='CONDUIT LENGTH'!$L45,'CONDUIT LENGTH'!$K45*-1,IF(AND(E$9=RIGHT('CONDUIT LENGTH'!$L45,2),LEFT('CONDUIT LENGTH'!$L45,3)=\"2x3\")=TRUE,IF(LEFT('CONDUIT LENGTH'!$L45,2)=\"2x\",'CONDUIT LENGTH'!$K45*-1*2,\"\"),\"\")),\"\"),IF(LEFT(E$5,1)='CONDUIT LENGTH'!$M45,IF(E$9='CONDUIT LENGTH'!$L45,'CONDUIT LENGTH'!$K45,IF(AND(E$9=RIGHT('CONDUIT LENGTH'!$L45,2),LEFT('CONDUIT LENGTH'!$L45,3)=\"2x3\")=TRUE,IF(LEFT('CONDUIT LENGTH'!$L45,2)=\"2x\",'CONDUIT LENGTH'!$K45*2,\"\"),\"\")),\"\"))","v":""},{"$f":"IF($B52=\"SOURCE\",IF(LEFT(G$6,1)='CONDUIT LENGTH'!$M45,IF(F$9='CONDUIT LENGTH'!$L45,'CONDUIT LENGTH'!$K45*-1,IF(AND(F$9=RIGHT('CONDUIT LENGTH'!$L45,2),LEFT('CONDUIT LENGTH'!$L45,3)=\"2x3\")=TRUE,IF(LEFT('CONDUIT LENGTH'!$L45,2)=\"2x\",'CONDUIT LENGTH'!$K45*-1*2,\"\"),\"\")),\"\"),IF(LEFT(G$6,1)='CONDUIT LENGTH'!$M45,IF(F$9='CONDUIT LENGTH'!$L45,'CONDUIT LENGTH'!$K45,IF(AND(F$9=RIGHT('CONDUIT LENGTH'!$L45,2),LEFT('CONDUIT LENGTH'!$L45,3)=\"2x3\")=TRUE,IF(LEFT('CONDUIT LENGTH'!$L45,2)=\"2x\",'CONDUIT LENGTH'!$K45*2,\"\"),\"\")),\"\"))","v":""},{"$f":"IF($B52=\"SOURCE\",IF(LEFT(G$6,1)='CONDUIT LENGTH'!$M45,IF(G$9='CONDUIT LENGTH'!$L45,'CONDUIT LENGTH'!$K45*-1,IF(AND(G$9=RIGHT('CONDUIT LENGTH'!$L45,2),LEFT('CONDUIT LENGTH'!$L45,3)=\"2x3\")=TRUE,IF(LEFT('CONDUIT LENGTH'!$L45,2)=\"2x\",'CONDUIT LENGTH'!$K45*-1*2,\"\"),\"\")),\"\"),IF(LEFT(G$6,1)='CONDUIT LENGTH'!$M45,IF(G$9='CONDUIT LENGTH'!$L45,'CONDUIT LENGTH'!$K45,IF(AND(G$9=RIGHT('CONDUIT LENGTH'!$L45,2),LEFT('CONDUIT LENGTH'!$L45,3)=\"2x3\")=TRUE,IF(LEFT('CONDUIT LENGTH'!$L45,2)=\"2x\",'CONDUIT LENGTH'!$K45*2,\"\"),\"\")),\"\"))","v":""},{"$f":"IF($B52=\"SOURCE\",IF(LEFT(G$6,1)='CONDUIT LENGTH'!$M45,IF(H$9='CONDUIT LENGTH'!$L45,'CONDUIT LENGTH'!$K45*-1,IF(AND(H$9=RIGHT('CONDUIT LENGTH'!$L45,2),LEFT('CONDUIT LENGTH'!$L45,3)=\"2x3\")=TRUE,IF(LEFT('CONDUIT LENGTH'!$L45,2)=\"2x\",'CONDUIT LENGTH'!$K45*-1*2,\"\"),\"\")),\"\"),IF(LEFT(G$6,1)='CONDUIT LENGTH'!$M45,IF(H$9='CONDUIT LENGTH'!$L45,'CONDUIT LENGTH'!$K45,IF(AND(H$9=RIGHT('CONDUIT LENGTH'!$L45,2),LEFT('CONDUIT LENGTH'!$L45,3)=\"2x3\")=TRUE,IF(LEFT('CONDUIT LENGTH'!$L45,2)=\"2x\",'CONDUIT LENGTH'!$K45*2,\"\"),\"\")),\"\"))","v":""},{"$f":"IF($B52=\"SOURCE\",IF(LEFT(J$6,1)='CONDUIT LENGTH'!$M45,IF(I$9='CONDUIT LENGTH'!$L45,'CONDUIT LENGTH'!$K45*-1,IF(AND(I$9=RIGHT('CONDUIT LENGTH'!$L45,2),LEFT('CONDUIT LENGTH'!$L45,3)=\"2x3\")=TRUE,IF(LEFT('CONDUIT LENGTH'!$L45,2)=\"2x\",'CONDUIT LENGTH'!$K45*-1*2,\"\"),\"\")),\"\"),IF(LEFT(J$6,1)='CONDUIT LENGTH'!$M45,IF(I$9='CONDUIT LENGTH'!$L45,'CONDUIT LENGTH'!$K45,IF(AND(I$9=RIGHT('CONDUIT LENGTH'!$L45,2),LEFT('CONDUIT LENGTH'!$L45,3)=\"2x3\")=TRUE,IF(LEFT('CONDUIT LENGTH'!$L45,2)=\"2x\",'CONDUIT LENGTH'!$K45*2,\"\"),\"\")),\"\"))","v":""},{"$f":"IF($B52=\"SOURCE\",IF(LEFT(J$6,1)='CONDUIT LENGTH'!$M45,IF(J$9='CONDUIT LENGTH'!$L45,'CONDUIT LENGTH'!$K45*-1,IF(AND(J$9=RIGHT('CONDUIT LENGTH'!$L45,2),LEFT('CONDUIT LENGTH'!$L45,3)=\"2x3\")=TRUE,IF(LEFT('CONDUIT LENGTH'!$L45,2)=\"2x\",'CONDUIT LENGTH'!$K45*-1*2,\"\"),\"\")),\"\"),IF(LEFT(J$6,1)='CONDUIT LENGTH'!$M45,IF(J$9='CONDUIT LENGTH'!$L45,'CONDUIT LENGTH'!$K45,IF(AND(J$9=RIGHT('CONDUIT LENGTH'!$L45,2),LEFT('CONDUIT LENGTH'!$L45,3)=\"2x3\")=TRUE,IF(LEFT('CONDUIT LENGTH'!$L45,2)=\"2x\",'CONDUIT LENGTH'!$K45*2,\"\"),\"\")),\"\"))","v":""},{"$f":"IF($B52=\"SOURCE\",IF(LEFT(J$6,1)='CONDUIT LENGTH'!$M45,IF(K$9='CONDUIT LENGTH'!$L45,'CONDUIT LENGTH'!$K45*-1,IF(AND(K$9=RIGHT('CONDUIT LENGTH'!$L45,2),LEFT('CONDUIT LENGTH'!$L45,3)=\"2x3\")=TRUE,IF(LEFT('CONDUIT LENGTH'!$L45,2)=\"2x\",'CONDUIT LENGTH'!$K45*-1*2,\"\"),\"\")),\"\"),IF(LEFT(J$6,1)='CONDUIT LENGTH'!$M45,IF(K$9='CONDUIT LENGTH'!$L45,'CONDUIT LENGTH'!$K45,IF(AND(K$9=RIGHT('CONDUIT LENGTH'!$L45,2),LEFT('CONDUIT LENGTH'!$L45,3)=\"2x3\")=TRUE,IF(LEFT('CONDUIT LENGTH'!$L45,2)=\"2x\",'CONDUIT LENGTH'!$K45*2,\"\"),\"\")),\"\"))","v":""},{"$f":"IF($B52=\"SOURCE\",IF(LEFT(M$6,1)='CONDUIT LENGTH'!$M45,IF(L$9='CONDUIT LENGTH'!$L45,'CONDUIT LENGTH'!$K45*-1,IF(AND(L$9=RIGHT('CONDUIT LENGTH'!$L45,2),LEFT('CONDUIT LENGTH'!$L45,3)=\"2x3\")=TRUE,IF(LEFT('CONDUIT LENGTH'!$L45,2)=\"2x\",'CONDUIT LENGTH'!$K45*-1*2,\"\"),\"\")),\"\"),IF(LEFT(M$6,1)='CONDUIT LENGTH'!$M45,IF(L$9='CONDUIT LENGTH'!$L45,'CONDUIT LENGTH'!$K45,IF(AND(L$9=RIGHT('CONDUIT LENGTH'!$L45,2),LEFT('CONDUIT LENGTH'!$L45,3)=\"2x3\")=TRUE,IF(LEFT('CONDUIT LENGTH'!$L45,2)=\"2x\",'CONDUIT LENGTH'!$K45*2,\"\"),\"\")),\"\"))","v":""},{"$f":"IF($B52=\"SOURCE\",IF(LEFT(M$6,1)='CONDUIT LENGTH'!$M45,IF(M$9='CONDUIT LENGTH'!$L45,'CONDUIT LENGTH'!$K45*-1,IF(AND(M$9=RIGHT('CONDUIT LENGTH'!$L45,2),LEFT('CONDUIT LENGTH'!$L45,3)=\"2x3\")=TRUE,IF(LEFT('CONDUIT LENGTH'!$L45,2)=\"2x\",'CONDUIT LENGTH'!$K45*-1*2,\"\"),\"\")),\"\"),IF(LEFT(M$6,1)='CONDUIT LENGTH'!$M45,IF(M$9='CONDUIT LENGTH'!$L45,'CONDUIT LENGTH'!$K45,IF(AND(M$9=RIGHT('CONDUIT LENGTH'!$L45,2),LEFT('CONDUIT LENGTH'!$L45,3)=\"2x3\")=TRUE,IF(LEFT('CONDUIT LENGTH'!$L45,2)=\"2x\",'CONDUIT LENGTH'!$K45*2,\"\"),\"\")),\"\"))","v":""},{"$f":"IF($B52=\"SOURCE\",IF(LEFT(M$6,1)='CONDUIT LENGTH'!$M45,IF(N$9='CONDUIT LENGTH'!$L45,'CONDUIT LENGTH'!$K45*-1,IF(AND(N$9=RIGHT('CONDUIT LENGTH'!$L45,2),LEFT('CONDUIT LENGTH'!$L45,3)=\"2x3\")=TRUE,IF(LEFT('CONDUIT LENGTH'!$L45,2)=\"2x\",'CONDUIT LENGTH'!$K45*-1*2,\"\"),\"\")),\"\"),IF(LEFT(M$6,1)='CONDUIT LENGTH'!$M45,IF(N$9='CONDUIT LENGTH'!$L45,'CONDUIT LENGTH'!$K45,IF(AND(N$9=RIGHT('CONDUIT LENGTH'!$L45,2),LEFT('CONDUIT LENGTH'!$L45,3)=\"2x3\")=TRUE,IF(LEFT('CONDUIT LENGTH'!$L45,2)=\"2x\",'CONDUIT LENGTH'!$K45*2,\"\"),\"\")),\"\"))","v":""},{"$f":"IF($B52=\"SOURCE\",IF(LEFT(P$5,1)='CONDUIT LENGTH'!$M45,IF(O$9='CONDUIT LENGTH'!$L45,'CONDUIT LENGTH'!$K45*-1,IF(AND(O$9=RIGHT('CONDUIT LENGTH'!$L45,2),LEFT('CONDUIT LENGTH'!$L45,3)=\"2x3\")=TRUE,IF(LEFT('CONDUIT LENGTH'!$L45,2)=\"2x\",'CONDUIT LENGTH'!$K45*-1*2,\"\"),\"\")),\"\"),IF(LEFT(P$6,1)='CONDUIT LENGTH'!$M45,IF(O$9='CONDUIT LENGTH'!$L45,'CONDUIT LENGTH'!$K45,IF(AND(O$9=RIGHT('CONDUIT LENGTH'!$L45,2),LEFT('CONDUIT LENGTH'!$L45,3)=\"2x3\")=TRUE,IF(LEFT('CONDUIT LENGTH'!$L45,2)=\"2x\",'CONDUIT LENGTH'!$K45*2,\"\"),\"\")),\"\"))","v":""},{"$f":"IF($B52=\"SOURCE\",IF(LEFT(P$5,1)='CONDUIT LENGTH'!$M45,IF(P$9='CONDUIT LENGTH'!$L45,'CONDUIT LENGTH'!$K45*-1,IF(AND(P$9=RIGHT('CONDUIT LENGTH'!$L45,2),LEFT('CONDUIT LENGTH'!$L45,3)=\"2x3\")=TRUE,IF(LEFT('CONDUIT LENGTH'!$L45,2)=\"2x\",'CONDUIT LENGTH'!$K45*-1*2,\"\"),\"\")),\"\"),IF(LEFT(P$6,1)='CONDUIT LENGTH'!$M45,IF(P$9='CONDUIT LENGTH'!$L45,'CONDUIT LENGTH'!$K45,IF(AND(P$9=RIGHT('CONDUIT LENGTH'!$L45,2),LEFT('CONDUIT LENGTH'!$L45,3)=\"2x3\")=TRUE,IF(LEFT('CONDUIT LENGTH'!$L45,2)=\"2x\",'CONDUIT LENGTH'!$K45*2,\"\"),\"\")),\"\"))","v":""},{"$f":"IF($B52=\"SOURCE\",IF(LEFT(P$5,1)='CONDUIT LENGTH'!$M45,IF(Q$9='CONDUIT LENGTH'!$L45,'CONDUIT LENGTH'!$K45*-1,IF(AND(Q$9=RIGHT('CONDUIT LENGTH'!$L45,2),LEFT('CONDUIT LENGTH'!$L45,3)=\"2x3\")=TRUE,IF(LEFT('CONDUIT LENGTH'!$L45,2)=\"2x\",'CONDUIT LENGTH'!$K45*-1*2,\"\"),\"\")),\"\"),IF(LEFT(Q$6,1)='CONDUIT LENGTH'!$M45,IF(Q$9='CONDUIT LENGTH'!$L45,'CONDUIT LENGTH'!$K45,IF(AND(Q$9=RIGHT('CONDUIT LENGTH'!$L45,2),LEFT('CONDUIT LENGTH'!$L45,3)=\"2x3\")=TRUE,IF(LEFT('CONDUIT LENGTH'!$L45,2)=\"2x\",'CONDUIT LENGTH'!$K45*2,\"\"),\"\")),\"\"))","v":""},{"$f":"IF('CONDUIT LENGTH'!M45=\"UIP\",\"UIP EXISTING\",\"\")","v":""},{"$f":"IF('CABLE LENGTH'!A46>0,'CABLE LENGTH'!A46,\"\")","v":""},{"$f":"IF('CABLE LENGTH'!B46>0,'CABLE LENGTH'!B46,\"\")","v":""},{"$f":"IF('CABLE LENGTH'!Q46>0,'CABLE LENGTH'!Q46,\"\")","v":""},{"$f":"IF($S52=\"SOURCE\",IF(V$9='CABLE LENGTH'!$AK46,'CABLE LENGTH'!$AJ46*'CABLE LENGTH'!$AL46*-1,\"\"),IF(V$9=\"VIDEO\",IF(V$9='CABLE LENGTH'!$AK46,'CABLE LENGTH'!$AJ46*'CABLE LENGTH'!$AL46*-1,\"\"),IF(V$9='CABLE LENGTH'!$AK46,'CABLE LENGTH'!$AJ46*'CABLE LENGTH'!$AL46,\"\")))","v":""},{"$f":"IF($S52=\"SOURCE\",IF(W$9='CABLE LENGTH'!$AK46,'CABLE LENGTH'!$AJ46*'CABLE LENGTH'!$AL46*-1,\"\"),IF(W$9=\"VIDEO\",IF(W$9='CABLE LENGTH'!$AK46,'CABLE LENGTH'!$AJ46*'CABLE LENGTH'!$AL46*-1,\"\"),IF(W$9='CABLE LENGTH'!$AK46,'CABLE LENGTH'!$AJ46*'CABLE LENGTH'!$AL46,\"\")))","v":""},{"$f":"IF($S52=\"SOURCE\",IF(X$10='CABLE LENGTH'!$AK46,'CABLE LENGTH'!$AJ46*'CABLE LENGTH'!$AL46*-1,\"\"),IF(X$10=\"VIDEO\",IF(X$10='CABLE LENGTH'!$AK46,'CABLE LENGTH'!$AJ46*'CABLE LENGTH'!$AL46*-1,\"\"),IF(X$10='CABLE LENGTH'!$AK46,'CABLE LENGTH'!$AJ46*'CABLE LENGTH'!$AL46,\"\")))","v":""},{"$f":"IF($S52=\"SOURCE\",IF(Y$10='CABLE LENGTH'!$AK46,'CABLE LENGTH'!$AJ46*'CABLE LENGTH'!$AL46*-1,\"\"),IF(Y$10=\"VIDEO\",IF(Y$10='CABLE LENGTH'!$AK46,'CABLE LENGTH'!$AJ46*'CABLE LENGTH'!$AL46*-1,\"\"),IF(Y$10='CABLE LENGTH'!$AK46,'CABLE LENGTH'!$AJ46*'CABLE LENGTH'!$AL46,\"\")))","v":""},{"$f":"IF($S52=\"SOURCE\",IF(Z$10='CABLE LENGTH'!$AK46,'CABLE LENGTH'!$AJ46*'CABLE LENGTH'!$AL46*-1,\"\"),IF(Z$10=\"VIDEO\",IF(Z$10='CABLE LENGTH'!$AK46,'CABLE LENGTH'!$AJ46*'CABLE LENGTH'!$AL46*-1,\"\"),IF(Z$10='CABLE LENGTH'!$AK46,'CABLE LENGTH'!$AJ46*'CABLE LENGTH'!$AL46,\"\")))","v":""},{"$f":"IF($S52=\"SOURCE\",IF(AA$10='CABLE LENGTH'!$AK46,'CABLE LENGTH'!$AJ46*'CABLE LENGTH'!$AL46*-1,\"\"),IF(AA$10=\"VIDEO\",IF(AA$10='CABLE LENGTH'!$AK46,'CABLE LENGTH'!$AJ46*'CABLE LENGTH'!$AL46*-1,\"\"),IF(AA$10='CABLE LENGTH'!$AK46,'CABLE LENGTH'!$AJ46*'CABLE LENGTH'!$AL46,\"\")))","v":""},{"$f":"IF($S52=\"SOURCE\",IF(AB$10='CABLE LENGTH'!$AK46,'CABLE LENGTH'!$AJ46*'CABLE LENGTH'!$AL46*-1,\"\"),IF(AB$10=\"VIDEO\",IF(AB$10='CABLE LENGTH'!$AK46,'CABLE LENGTH'!$AJ46*'CABLE LENGTH'!$AL46*-1,\"\"),IF(AB$10='CABLE LENGTH'!$AK46,'CABLE LENGTH'!$AJ46*'CABLE LENGTH'!$AL46,\"\")))","v":""},{"$f":"IF($S52=\"SOURCE\",IF(AC$10='CABLE LENGTH'!$AK46,'CABLE LENGTH'!$AJ46*'CABLE LENGTH'!$AL46*-1,\"\"),IF(AC$10=\"VIDEO\",IF(AC$10='CABLE LENGTH'!$AK46,'CABLE LENGTH'!$AJ46*'CABLE LENGTH'!$AL46*-1,\"\"),IF(AC$10='CABLE LENGTH'!$AK46,'CABLE LENGTH'!$AJ46*'CABLE LENGTH'!$AL46,\"\")))","v":""},{"$f":"IF($S52=\"SOURCE\",IF(AD$9='CABLE LENGTH'!$AK46,'CABLE LENGTH'!$AJ46*'CABLE LENGTH'!$AL46*-1,\"\"),IF(AD$9=\"VIDEO\",IF(AD$9='CABLE LENGTH'!$AK46,'CABLE LENGTH'!$AJ46*'CABLE LENGTH'!$AL46*-1,\"\"),IF(AD$9='CABLE LENGTH'!$AK46,'CABLE LENGTH'!$AJ46*'CABLE LENGTH'!$AL46,\"\")))","v":""},{"$f":"IF($S52=\"SOURCE\",IF(AE$9='CABLE LENGTH'!$AK46,'CABLE LENGTH'!$AJ46*'CABLE LENGTH'!$AL46*-1,\"\"),IF(AE$9=\"VIDEO\",IF(AE$9='CABLE LENGTH'!$AK46,'CABLE LENGTH'!$AJ46*'CABLE LENGTH'!$AL46*-1,\"\"),IF(AE$9='CABLE LENGTH'!$AK46,'CABLE LENGTH'!$AJ46*'CABLE LENGTH'!$AL46,\"\")))","v":""},{"$f":"IF($S52=\"SOURCE\",IF(AF$9='CABLE LENGTH'!$AK46,'CABLE LENGTH'!$AJ46*'CABLE LENGTH'!$AL46*-1,\"\"),IF(AF$9=\"VIDEO\",IF(AF$9='CABLE LENGTH'!$AK46,'CABLE LENGTH'!$AJ46*'CABLE LENGTH'!$AL46*-1,\"\"),IF(AF$9='CABLE LENGTH'!$AK46,'CABLE LENGTH'!$AJ46*'CABLE LENGTH'!$AL46,\"\")))","v":""}]
[0.3,{"$f":"IF('CONDUIT LENGTH'!A46>0,'CONDUIT LENGTH'!A46,\" \")","v":" "},{"$f":"IF('CONDUIT LENGTH'!B46>0,'CONDUIT LENGTH'!B46,\" \")","v":" "},{"$f":"IF('CONDUIT LENGTH'!C46>0,'CONDUIT LENGTH'!C46,\" \")","v":" "},{"$f":"IF($B53=\"SOURCE\",IF(LEFT(E$5,1)='CONDUIT LENGTH'!$M46,IF(E$9='CONDUIT LENGTH'!$L46,'CONDUIT LENGTH'!$K46*-1,IF(AND(E$9=RIGHT('CONDUIT LENGTH'!$L46,2),LEFT('CONDUIT LENGTH'!$L46,3)=\"2x3\")=TRUE,IF(LEFT('CONDUIT LENGTH'!$L46,2)=\"2x\",'CONDUIT LENGTH'!$K46*-1*2,\"\"),\"\")),\"\"),IF(LEFT(E$5,1)='CONDUIT LENGTH'!$M46,IF(E$9='CONDUIT LENGTH'!$L46,'CONDUIT LENGTH'!$K46,IF(AND(E$9=RIGHT('CONDUIT LENGTH'!$L46,2),LEFT('CONDUIT LENGTH'!$L46,3)=\"2x3\")=TRUE,IF(LEFT('CONDUIT LENGTH'!$L46,2)=\"2x\",'CONDUIT LENGTH'!$K46*2,\"\"),\"\")),\"\"))","v":""},{"$f":"IF($B53=\"SOURCE\",IF(LEFT(G$6,1)='CONDUIT LENGTH'!$M46,IF(F$9='CONDUIT LENGTH'!$L46,'CONDUIT LENGTH'!$K46*-1,IF(AND(F$9=RIGHT('CONDUIT LENGTH'!$L46,2),LEFT('CONDUIT LENGTH'!$L46,3)=\"2x3\")=TRUE,IF(LEFT('CONDUIT LENGTH'!$L46,2)=\"2x\",'CONDUIT LENGTH'!$K46*-1*2,\"\"),\"\")),\"\"),IF(LEFT(G$6,1)='CONDUIT LENGTH'!$M46,IF(F$9='CONDUIT LENGTH'!$L46,'CONDUIT LENGTH'!$K46,IF(AND(F$9=RIGHT('CONDUIT LENGTH'!$L46,2),LEFT('CONDUIT LENGTH'!$L46,3)=\"2x3\")=TRUE,IF(LEFT('CONDUIT LENGTH'!$L46,2)=\"2x\",'CONDUIT LENGTH'!$K46*2,\"\"),\"\")),\"\"))","v":""},{"$f":"IF($B53=\"SOURCE\",IF(LEFT(G$6,1)='CONDUIT LENGTH'!$M46,IF(G$9='CONDUIT LENGTH'!$L46,'CONDUIT LENGTH'!$K46*-1,IF(AND(G$9=RIGHT('CONDUIT LENGTH'!$L46,2),LEFT('CONDUIT LENGTH'!$L46,3)=\"2x3\")=TRUE,IF(LEFT('CONDUIT LENGTH'!$L46,2)=\"2x\",'CONDUIT LENGTH'!$K46*-1*2,\"\"),\"\")),\"\"),IF(LEFT(G$6,1)='CONDUIT LENGTH'!$M46,IF(G$9='CONDUIT LENGTH'!$L46,'CONDUIT LENGTH'!$K46,IF(AND(G$9=RIGHT('CONDUIT LENGTH'!$L46,2),LEFT('CONDUIT LENGTH'!$L46,3)=\"2x3\")=TRUE,IF(LEFT('CONDUIT LENGTH'!$L46,2)=\"2x\",'CONDUIT LENGTH'!$K46*2,\"\"),\"\")),\"\"))","v":""},{"$f":"IF($B53=\"SOURCE\",IF(LEFT(G$6,1)='CONDUIT LENGTH'!$M46,IF(H$9='CONDUIT LENGTH'!$L46,'CONDUIT LENGTH'!$K46*-1,IF(AND(H$9=RIGHT('CONDUIT LENGTH'!$L46,2),LEFT('CONDUIT LENGTH'!$L46,3)=\"2x3\")=TRUE,IF(LEFT('CONDUIT LENGTH'!$L46,2)=\"2x\",'CONDUIT LENGTH'!$K46*-1*2,\"\"),\"\")),\"\"),IF(LEFT(G$6,1)='CONDUIT LENGTH'!$M46,IF(H$9='CONDUIT LENGTH'!$L46,'CONDUIT LENGTH'!$K46,IF(AND(H$9=RIGHT('CONDUIT LENGTH'!$L46,2),LEFT('CONDUIT LENGTH'!$L46,3)=\"2x3\")=TRUE,IF(LEFT('CONDUIT LENGTH'!$L46,2)=\"2x\",'CONDUIT LENGTH'!$K46*2,\"\"),\"\")),\"\"))","v":""},{"$f":"IF($B53=\"SOURCE\",IF(LEFT(J$6,1)='CONDUIT LENGTH'!$M46,IF(I$9='CONDUIT LENGTH'!$L46,'CONDUIT LENGTH'!$K46*-1,IF(AND(I$9=RIGHT('CONDUIT LENGTH'!$L46,2),LEFT('CONDUIT LENGTH'!$L46,3)=\"2x3\")=TRUE,IF(LEFT('CONDUIT LENGTH'!$L46,2)=\"2x\",'CONDUIT LENGTH'!$K46*-1*2,\"\"),\"\")),\"\"),IF(LEFT(J$6,1)='CONDUIT LENGTH'!$M46,IF(I$9='CONDUIT LENGTH'!$L46,'CONDUIT LENGTH'!$K46,IF(AND(I$9=RIGHT('CONDUIT LENGTH'!$L46,2),LEFT('CONDUIT LENGTH'!$L46,3)=\"2x3\")=TRUE,IF(LEFT('CONDUIT LENGTH'!$L46,2)=\"2x\",'CONDUIT LENGTH'!$K46*2,\"\"),\"\")),\"\"))","v":""},{"$f":"IF($B53=\"SOURCE\",IF(LEFT(J$6,1)='CONDUIT LENGTH'!$M46,IF(J$9='CONDUIT LENGTH'!$L46,'CONDUIT LENGTH'!$K46*-1,IF(AND(J$9=RIGHT('CONDUIT LENGTH'!$L46,2),LEFT('CONDUIT LENGTH'!$L46,3)=\"2x3\")=TRUE,IF(LEFT('CONDUIT LENGTH'!$L46,2)=\"2x\",'CONDUIT LENGTH'!$K46*-1*2,\"\"),\"\")),\"\"),IF(LEFT(J$6,1)='CONDUIT LENGTH'!$M46,IF(J$9='CONDUIT LENGTH'!$L46,'CONDUIT LENGTH'!$K46,IF(AND(J$9=RIGHT('CONDUIT LENGTH'!$L46,2),LEFT('CONDUIT LENGTH'!$L46,3)=\"2x3\")=TRUE,IF(LEFT('CONDUIT LENGTH'!$L46,2)=\"2x\",'CONDUIT LENGTH'!$K46*2,\"\"),\"\")),\"\"))","v":""},{"$f":"IF($B53=\"SOURCE\",IF(LEFT(J$6,1)='CONDUIT LENGTH'!$M46,IF(K$9='CONDUIT LENGTH'!$L46,'CONDUIT LENGTH'!$K46*-1,IF(AND(K$9=RIGHT('CONDUIT LENGTH'!$L46,2),LEFT('CONDUIT LENGTH'!$L46,3)=\"2x3\")=TRUE,IF(LEFT('CONDUIT LENGTH'!$L46,2)=\"2x\",'CONDUIT LENGTH'!$K46*-1*2,\"\"),\"\")),\"\"),IF(LEFT(J$6,1)='CONDUIT LENGTH'!$M46,IF(K$9='CONDUIT LENGTH'!$L46,'CONDUIT LENGTH'!$K46,IF(AND(K$9=RIGHT('CONDUIT LENGTH'!$L46,2),LEFT('CONDUIT LENGTH'!$L46,3)=\"2x3\")=TRUE,IF(LEFT('CONDUIT LENGTH'!$L46,2)=\"2x\",'CONDUIT LENGTH'!$K46*2,\"\"),\"\")),\"\"))","v":""},{"$f":"IF($B53=\"SOURCE\",IF(LEFT(M$6,1)='CONDUIT LENGTH'!$M46,IF(L$9='CONDUIT LENGTH'!$L46,'CONDUIT LENGTH'!$K46*-1,IF(AND(L$9=RIGHT('CONDUIT LENGTH'!$L46,2),LEFT('CONDUIT LENGTH'!$L46,3)=\"2x3\")=TRUE,IF(LEFT('CONDUIT LENGTH'!$L46,2)=\"2x\",'CONDUIT LENGTH'!$K46*-1*2,\"\"),\"\")),\"\"),IF(LEFT(M$6,1)='CONDUIT LENGTH'!$M46,IF(L$9='CONDUIT LENGTH'!$L46,'CONDUIT LENGTH'!$K46,IF(AND(L$9=RIGHT('CONDUIT LENGTH'!$L46,2),LEFT('CONDUIT LENGTH'!$L46,3)=\"2x3\")=TRUE,IF(LEFT('CONDUIT LENGTH'!$L46,2)=\"2x\",'CONDUIT LENGTH'!$K46*2,\"\"),\"\")),\"\"))","v":""},{"$f":"IF($B53=\"SOURCE\",IF(LEFT(M$6,1)='CONDUIT LENGTH'!$M46,IF(M$9='CONDUIT LENGTH'!$L46,'CONDUIT LENGTH'!$K46*-1,IF(AND(M$9=RIGHT('CONDUIT LENGTH'!$L46,2),LEFT('CONDUIT LENGTH'!$L46,3)=\"2x3\")=TRUE,IF(LEFT('CONDUIT LENGTH'!$L46,2)=\"2x\",'CONDUIT LENGTH'!$K46*-1*2,\"\"),\"\")),\"\"),IF(LEFT(M$6,1)='CONDUIT LENGTH'!$M46,IF(M$9='CONDUIT LENGTH'!$L46,'CONDUIT LENGTH'!$K46,IF(AND(M$9=RIGHT('CONDUIT LENGTH'!$L46,2),LEFT('CONDUIT LENGTH'!$L46,3)=\"2x3\")=TRUE,IF(LEFT('CONDUIT LENGTH'!$L46,2)=\"2x\",'CONDUIT LENGTH'!$K46*2,\"\"),\"\")),\"\"))","v":""},{"$f":"IF($B53=\"SOURCE\",IF(LEFT(M$6,1)='CONDUIT LENGTH'!$M46,IF(N$9='CONDUIT LENGTH'!$L46,'CONDUIT LENGTH'!$K46*-1,IF(AND(N$9=RIGHT('CONDUIT LENGTH'!$L46,2),LEFT('CONDUIT LENGTH'!$L46,3)=\"2x3\")=TRUE,IF(LEFT('CONDUIT LENGTH'!$L46,2)=\"2x\",'CONDUIT LENGTH'!$K46*-1*2,\"\"),\"\")),\"\"),IF(LEFT(M$6,1)='CONDUIT LENGTH'!$M46,IF(N$9='CONDUIT LENGTH'!$L46,'CONDUIT LENGTH'!$K46,IF(AND(N$9=RIGHT('CONDUIT LENGTH'!$L46,2),LEFT('CONDUIT LENGTH'!$L46,3)=\"2x3\")=TRUE,IF(LEFT('CONDUIT LENGTH'!$L46,2)=\"2x\",'CONDUIT LENGTH'!$K46*2,\"\"),\"\")),\"\"))","v":""},{"$f":"IF($B53=\"SOURCE\",IF(LEFT(P$5,1)='CONDUIT LENGTH'!$M46,IF(O$9='CONDUIT LENGTH'!$L46,'CONDUIT LENGTH'!$K46*-1,IF(AND(O$9=RIGHT('CONDUIT LENGTH'!$L46,2),LEFT('CONDUIT LENGTH'!$L46,3)=\"2x3\")=TRUE,IF(LEFT('CONDUIT LENGTH'!$L46,2)=\"2x\",'CONDUIT LENGTH'!$K46*-1*2,\"\"),\"\")),\"\"),IF(LEFT(P$6,1)='CONDUIT LENGTH'!$M46,IF(O$9='CONDUIT LENGTH'!$L46,'CONDUIT LENGTH'!$K46,IF(AND(O$9=RIGHT('CONDUIT LENGTH'!$L46,2),LEFT('CONDUIT LENGTH'!$L46,3)=\"2x3\")=TRUE,IF(LEFT('CONDUIT LENGTH'!$L46,2)=\"2x\",'CONDUIT LENGTH'!$K46*2,\"\"),\"\")),\"\"))","v":""},{"$f":"IF($B53=\"SOURCE\",IF(LEFT(P$5,1)='CONDUIT LENGTH'!$M46,IF(P$9='CONDUIT LENGTH'!$L46,'CONDUIT LENGTH'!$K46*-1,IF(AND(P$9=RIGHT('CONDUIT LENGTH'!$L46,2),LEFT('CONDUIT LENGTH'!$L46,3)=\"2x3\")=TRUE,IF(LEFT('CONDUIT LENGTH'!$L46,2)=\"2x\",'CONDUIT LENGTH'!$K46*-1*2,\"\"),\"\")),\"\"),IF(LEFT(P$6,1)='CONDUIT LENGTH'!$M46,IF(P$9='CONDUIT LENGTH'!$L46,'CONDUIT LENGTH'!$K46,IF(AND(P$9=RIGHT('CONDUIT LENGTH'!$L46,2),LEFT('CONDUIT LENGTH'!$L46,3)=\"2x3\")=TRUE,IF(LEFT('CONDUIT LENGTH'!$L46,2)=\"2x\",'CONDUIT LENGTH'!$K46*2,\"\"),\"\")),\"\"))","v":""},{"$f":"IF($B53=\"SOURCE\",IF(LEFT(P$5,1)='CONDUIT LENGTH'!$M46,IF(Q$9='CONDUIT LENGTH'!$L46,'CONDUIT LENGTH'!$K46*-1,IF(AND(Q$9=RIGHT('CONDUIT LENGTH'!$L46,2),LEFT('CONDUIT LENGTH'!$L46,3)=\"2x3\")=TRUE,IF(LEFT('CONDUIT LENGTH'!$L46,2)=\"2x\",'CONDUIT LENGTH'!$K46*-1*2,\"\"),\"\")),\"\"),IF(LEFT(Q$6,1)='CONDUIT LENGTH'!$M46,IF(Q$9='CONDUIT LENGTH'!$L46,'CONDUIT LENGTH'!$K46,IF(AND(Q$9=RIGHT('CONDUIT LENGTH'!$L46,2),LEFT('CONDUIT LENGTH'!$L46,3)=\"2x3\")=TRUE,IF(LEFT('CONDUIT LENGTH'!$L46,2)=\"2x\",'CONDUIT LENGTH'!$K46*2,\"\"),\"\")),\"\"))","v":""},{"$f":"IF('CONDUIT LENGTH'!M46=\"UIP\",\"UIP EXISTING\",\"\")","v":""},{"$f":"IF('CABLE LENGTH'!A47>0,'CABLE LENGTH'!A47,\"\")","v":""},{"$f":"IF('CABLE LENGTH'!B47>0,'CABLE LENGTH'!B47,\"\")","v":""},{"$f":"IF('CABLE LENGTH'!Q47>0,'CABLE LENGTH'!Q47,\"\")","v":""},{"$f":"IF($S53=\"SOURCE\",IF(V$9='CABLE LENGTH'!$AK47,'CABLE LENGTH'!$AJ47*'CABLE LENGTH'!$AL47*-1,\"\"),IF(V$9=\"VIDEO\",IF(V$9='CABLE LENGTH'!$AK47,'CABLE LENGTH'!$AJ47*'CABLE LENGTH'!$AL47*-1,\"\"),IF(V$9='CABLE LENGTH'!$AK47,'CABLE LENGTH'!$AJ47*'CABLE LENGTH'!$AL47,\"\")))","v":""},{"$f":"IF($S53=\"SOURCE\",IF(W$9='CABLE LENGTH'!$AK47,'CABLE LENGTH'!$AJ47*'CABLE LENGTH'!$AL47*-1,\"\"),IF(W$9=\"VIDEO\",IF(W$9='CABLE LENGTH'!$AK47,'CABLE LENGTH'!$AJ47*'CABLE LENGTH'!$AL47*-1,\"\"),IF(W$9='CABLE LENGTH'!$AK47,'CABLE LENGTH'!$AJ47*'CABLE LENGTH'!$AL47,\"\")))","v":""},{"$f":"IF($S53=\"SOURCE\",IF(X$10='CABLE LENGTH'!$AK47,'CABLE LENGTH'!$AJ47*'CABLE LENGTH'!$AL47*-1,\"\"),IF(X$10=\"VIDEO\",IF(X$10='CABLE LENGTH'!$AK47,'CABLE LENGTH'!$AJ47*'CABLE LENGTH'!$AL47*-1,\"\"),IF(X$10='CABLE LENGTH'!$AK47,'CABLE LENGTH'!$AJ47*'CABLE LENGTH'!$AL47,\"\")))","v":""},{"$f":"IF($S53=\"SOURCE\",IF(Y$10='CABLE LENGTH'!$AK47,'CABLE LENGTH'!$AJ47*'CABLE LENGTH'!$AL47*-1,\"\"),IF(Y$10=\"VIDEO\",IF(Y$10='CABLE LENGTH'!$AK47,'CABLE LENGTH'!$AJ47*'CABLE LENGTH'!$AL47*-1,\"\"),IF(Y$10='CABLE LENGTH'!$AK47,'CABLE LENGTH'!$AJ47*'CABLE LENGTH'!$AL47,\"\")))","v":""},{"$f":"IF($S53=\"SOURCE\",IF(Z$10='CABLE LENGTH'!$AK47,'CABLE LENGTH'!$AJ47*'CABLE LENGTH'!$AL47*-1,\"\"),IF(Z$10=\"VIDEO\",IF(Z$10='CABLE LENGTH'!$AK47,'CABLE LENGTH'!$AJ47*'CABLE LENGTH'!$AL47*-1,\"\"),IF(Z$10='CABLE LENGTH'!$AK47,'CABLE LENGTH'!$AJ47*'CABLE LENGTH'!$AL47,\"\")))","v":""},{"$f":"IF($S53=\"SOURCE\",IF(AA$10='CABLE LENGTH'!$AK47,'CABLE LENGTH'!$AJ47*'CABLE LENGTH'!$AL47*-1,\"\"),IF(AA$10=\"VIDEO\",IF(AA$10='CABLE LENGTH'!$AK47,'CABLE LENGTH'!$AJ47*'CABLE LENGTH'!$AL47*-1,\"\"),IF(AA$10='CABLE LENGTH'!$AK47,'CABLE LENGTH'!$AJ47*'CABLE LENGTH'!$AL47,\"\")))","v":""},{"$f":"IF($S53=\"SOURCE\",IF(AB$10='CABLE LENGTH'!$AK47,'CABLE LENGTH'!$AJ47*'CABLE LENGTH'!$AL47*-1,\"\"),IF(AB$10=\"VIDEO\",IF(AB$10='CABLE LENGTH'!$AK47,'CABLE LENGTH'!$AJ47*'CABLE LENGTH'!$AL47*-1,\"\"),IF(AB$10='CABLE LENGTH'!$AK47,'CABLE LENGTH'!$AJ47*'CABLE LENGTH'!$AL47,\"\")))","v":""},{"$f":"IF($S53=\"SOURCE\",IF(AC$10='CABLE LENGTH'!$AK47,'CABLE LENGTH'!$AJ47*'CABLE LENGTH'!$AL47*-1,\"\"),IF(AC$10=\"VIDEO\",IF(AC$10='CABLE LENGTH'!$AK47,'CABLE LENGTH'!$AJ47*'CABLE LENGTH'!$AL47*-1,\"\"),IF(AC$10='CABLE LENGTH'!$AK47,'CABLE LENGTH'!$AJ47*'CABLE LENGTH'!$AL47,\"\")))","v":""},{"$f":"IF($S53=\"SOURCE\",IF(AD$9='CABLE LENGTH'!$AK47,'CABLE LENGTH'!$AJ47*'CABLE LENGTH'!$AL47*-1,\"\"),IF(AD$9=\"VIDEO\",IF(AD$9='CABLE LENGTH'!$AK47,'CABLE LENGTH'!$AJ47*'CABLE LENGTH'!$AL47*-1,\"\"),IF(AD$9='CABLE LENGTH'!$AK47,'CABLE LENGTH'!$AJ47*'CABLE LENGTH'!$AL47,\"\")))","v":""},{"$f":"IF($S53=\"SOURCE\",IF(AE$9='CABLE LENGTH'!$AK47,'CABLE LENGTH'!$AJ47*'CABLE LENGTH'!$AL47*-1,\"\"),IF(AE$9=\"VIDEO\",IF(AE$9='CABLE LENGTH'!$AK47,'CABLE LENGTH'!$AJ47*'CABLE LENGTH'!$AL47*-1,\"\"),IF(AE$9='CABLE LENGTH'!$AK47,'CABLE LENGTH'!$AJ47*'CABLE LENGTH'!$AL47,\"\")))","v":""},{"$f":"IF($S53=\"SOURCE\",IF(AF$9='CABLE LENGTH'!$AK47,'CABLE LENGTH'!$AJ47*'CABLE LENGTH'!$AL47*-1,\"\"),IF(AF$9=\"VIDEO\",IF(AF$9='CABLE LENGTH'!$AK47,'CABLE LENGTH'!$AJ47*'CABLE LENGTH'!$AL47*-1,\"\"),IF(AF$9='CABLE LENGTH'!$AK47,'CABLE LENGTH'!$AJ47*'CABLE LENGTH'!$AL47,\"\")))","v":""}]
[0.3,{"$f":"IF('CONDUIT LENGTH'!A47>0,'CONDUIT LENGTH'!A47,\" \")","v":" "},{"$f":"IF('CONDUIT LENGTH'!B47>0,'CONDUIT LENGTH'!B47,\" \")","v":" "},{"$f":"IF('CONDUIT LENGTH'!C47>0,'CONDUIT LENGTH'!C47,\" \")","v":" "},{"$f":"IF($B54=\"SOURCE\",IF(LEFT(E$5,1)='CONDUIT LENGTH'!$M47,IF(E$9='CONDUIT LENGTH'!$L47,'CONDUIT LENGTH'!$K47*-1,IF(AND(E$9=RIGHT('CONDUIT LENGTH'!$L47,2),LEFT('CONDUIT LENGTH'!$L47,3)=\"2x3\")=TRUE,IF(LEFT('CONDUIT LENGTH'!$L47,2)=\"2x\",'CONDUIT LENGTH'!$K47*-1*2,\"\"),\"\")),\"\"),IF(LEFT(E$5,1)='CONDUIT LENGTH'!$M47,IF(E$9='CONDUIT LENGTH'!$L47,'CONDUIT LENGTH'!$K47,IF(AND(E$9=RIGHT('CONDUIT LENGTH'!$L47,2),LEFT('CONDUIT LENGTH'!$L47,3)=\"2x3\")=TRUE,IF(LEFT('CONDUIT LENGTH'!$L47,2)=\"2x\",'CONDUIT LENGTH'!$K47*2,\"\"),\"\")),\"\"))","v":""},{"$f":"IF($B54=\"SOURCE\",IF(LEFT(G$6,1)='CONDUIT LENGTH'!$M47,IF(F$9='CONDUIT LENGTH'!$L47,'CONDUIT LENGTH'!$K47*-1,IF(AND(F$9=RIGHT('CONDUIT LENGTH'!$L47,2),LEFT('CONDUIT LENGTH'!$L47,3)=\"2x3\")=TRUE,IF(LEFT('CONDUIT LENGTH'!$L47,2)=\"2x\",'CONDUIT LENGTH'!$K47*-1*2,\"\"),\"\")),\"\"),IF(LEFT(G$6,1)='CONDUIT LENGTH'!$M47,IF(F$9='CONDUIT LENGTH'!$L47,'CONDUIT LENGTH'!$K47,IF(AND(F$9=RIGHT('CONDUIT LENGTH'!$L47,2),LEFT('CONDUIT LENGTH'!$L47,3)=\"2x3\")=TRUE,IF(LEFT('CONDUIT LENGTH'!$L47,2)=\"2x\",'CONDUIT LENGTH'!$K47*2,\"\"),\"\")),\"\"))","v":""},{"$f":"IF($B54=\"SOURCE\",IF(LEFT(G$6,1)='CONDUIT LENGTH'!$M47,IF(G$9='CONDUIT LENGTH'!$L47,'CONDUIT LENGTH'!$K47*-1,IF(AND(G$9=RIGHT('CONDUIT LENGTH'!$L47,2),LEFT('CONDUIT LENGTH'!$L47,3)=\"2x3\")=TRUE,IF(LEFT('CONDUIT LENGTH'!$L47,2)=\"2x\",'CONDUIT LENGTH'!$K47*-1*2,\"\"),\"\")),\"\"),IF(LEFT(G$6,1)='CONDUIT LENGTH'!$M47,IF(G$9='CONDUIT LENGTH'!$L47,'CONDUIT LENGTH'!$K47,IF(AND(G$9=RIGHT('CONDUIT LENGTH'!$L47,2),LEFT('CONDUIT LENGTH'!$L47,3)=\"2x3\")=TRUE,IF(LEFT('CONDUIT LENGTH'!$L47,2)=\"2x\",'CONDUIT LENGTH'!$K47*2,\"\"),\"\")),\"\"))","v":""},{"$f":"IF($B54=\"SOURCE\",IF(LEFT(G$6,1)='CONDUIT LENGTH'!$M47,IF(H$9='CONDUIT LENGTH'!$L47,'CONDUIT LENGTH'!$K47*-1,IF(AND(H$9=RIGHT('CONDUIT LENGTH'!$L47,2),LEFT('CONDUIT LENGTH'!$L47,3)=\"2x3\")=TRUE,IF(LEFT('CONDUIT LENGTH'!$L47,2)=\"2x\",'CONDUIT LENGTH'!$K47*-1*2,\"\"),\"\")),\"\"),IF(LEFT(G$6,1)='CONDUIT LENGTH'!$M47,IF(H$9='CONDUIT LENGTH'!$L47,'CONDUIT LENGTH'!$K47,IF(AND(H$9=RIGHT('CONDUIT LENGTH'!$L47,2),LEFT('CONDUIT LENGTH'!$L47,3)=\"2x3\")=TRUE,IF(LEFT('CONDUIT LENGTH'!$L47,2)=\"2x\",'CONDUIT LENGTH'!$K47*2,\"\"),\"\")),\"\"))","v":""},{"$f":"IF($B54=\"SOURCE\",IF(LEFT(J$6,1)='CONDUIT LENGTH'!$M47,IF(I$9='CONDUIT LENGTH'!$L47,'CONDUIT LENGTH'!$K47*-1,IF(AND(I$9=RIGHT('CONDUIT LENGTH'!$L47,2),LEFT('CONDUIT LENGTH'!$L47,3)=\"2x3\")=TRUE,IF(LEFT('CONDUIT LENGTH'!$L47,2)=\"2x\",'CONDUIT LENGTH'!$K47*-1*2,\"\"),\"\")),\"\"),IF(LEFT(J$6,1)='CONDUIT LENGTH'!$M47,IF(I$9='CONDUIT LENGTH'!$L47,'CONDUIT LENGTH'!$K47,IF(AND(I$9=RIGHT('CONDUIT LENGTH'!$L47,2),LEFT('CONDUIT LENGTH'!$L47,3)=\"2x3\")=TRUE,IF(LEFT('CONDUIT LENGTH'!$L47,2)=\"2x\",'CONDUIT LENGTH'!$K47*2,\"\"),\"\")),\"\"))","v":""},{"$f":"IF($B54=\"SOURCE\",IF(LEFT(J$6,1)='CONDUIT LENGTH'!$M47,IF(J$9='CONDUIT LENGTH'!$L47,'CONDUIT LENGTH'!$K47*-1,IF(AND(J$9=RIGHT('CONDUIT LENGTH'!$L47,2),LEFT('CONDUIT LENGTH'!$L47,3)=\"2x3\")=TRUE,IF(LEFT('CONDUIT LENGTH'!$L47,2)=\"2x\",'CONDUIT LENGTH'!$K47*-1*2,\"\"),\"\")),\"\"),IF(LEFT(J$6,1)='CONDUIT LENGTH'!$M47,IF(J$9='CONDUIT LENGTH'!$L47,'CONDUIT LENGTH'!$K47,IF(AND(J$9=RIGHT('CONDUIT LENGTH'!$L47,2),LEFT('CONDUIT LENGTH'!$L47,3)=\"2x3\")=TRUE,IF(LEFT('CONDUIT LENGTH'!$L47,2)=\"2x\",'CONDUIT LENGTH'!$K47*2,\"\"),\"\")),\"\"))","v":""},{"$f":"IF($B54=\"SOURCE\",IF(LEFT(J$6,1)='CONDUIT LENGTH'!$M47,IF(K$9='CONDUIT LENGTH'!$L47,'CONDUIT LENGTH'!$K47*-1,IF(AND(K$9=RIGHT('CONDUIT LENGTH'!$L47,2),LEFT('CONDUIT LENGTH'!$L47,3)=\"2x3\")=TRUE,IF(LEFT('CONDUIT LENGTH'!$L47,2)=\"2x\",'CONDUIT LENGTH'!$K47*-1*2,\"\"),\"\")),\"\"),IF(LEFT(J$6,1)='CONDUIT LENGTH'!$M47,IF(K$9='CONDUIT LENGTH'!$L47,'CONDUIT LENGTH'!$K47,IF(AND(K$9=RIGHT('CONDUIT LENGTH'!$L47,2),LEFT('CONDUIT LENGTH'!$L47,3)=\"2x3\")=TRUE,IF(LEFT('CONDUIT LENGTH'!$L47,2)=\"2x\",'CONDUIT LENGTH'!$K47*2,\"\"),\"\")),\"\"))","v":""},{"$f":"IF($B54=\"SOURCE\",IF(LEFT(M$6,1)='CONDUIT LENGTH'!$M47,IF(L$9='CONDUIT LENGTH'!$L47,'CONDUIT LENGTH'!$K47*-1,IF(AND(L$9=RIGHT('CONDUIT LENGTH'!$L47,2),LEFT('CONDUIT LENGTH'!$L47,3)=\"2x3\")=TRUE,IF(LEFT('CONDUIT LENGTH'!$L47,2)=\"2x\",'CONDUIT LENGTH'!$K47*-1*2,\"\"),\"\")),\"\"),IF(LEFT(M$6,1)='CONDUIT LENGTH'!$M47,IF(L$9='CONDUIT LENGTH'!$L47,'CONDUIT LENGTH'!$K47,IF(AND(L$9=RIGHT('CONDUIT LENGTH'!$L47,2),LEFT('CONDUIT LENGTH'!$L47,3)=\"2x3\")=TRUE,IF(LEFT('CONDUIT LENGTH'!$L47,2)=\"2x\",'CONDUIT LENGTH'!$K47*2,\"\"),\"\")),\"\"))","v":""},{"$f":"IF($B54=\"SOURCE\",IF(LEFT(M$6,1)='CONDUIT LENGTH'!$M47,IF(M$9='CONDUIT LENGTH'!$L47,'CONDUIT LENGTH'!$K47*-1,IF(AND(M$9=RIGHT('CONDUIT LENGTH'!$L47,2),LEFT('CONDUIT LENGTH'!$L47,3)=\"2x3\")=TRUE,IF(LEFT('CONDUIT LENGTH'!$L47,2)=\"2x\",'CONDUIT LENGTH'!$K47*-1*2,\"\"),\"\")),\"\"),IF(LEFT(M$6,1)='CONDUIT LENGTH'!$M47,IF(M$9='CONDUIT LENGTH'!$L47,'CONDUIT LENGTH'!$K47,IF(AND(M$9=RIGHT('CONDUIT LENGTH'!$L47,2),LEFT('CONDUIT LENGTH'!$L47,3)=\"2x3\")=TRUE,IF(LEFT('CONDUIT LENGTH'!$L47,2)=\"2x\",'CONDUIT LENGTH'!$K47*2,\"\"),\"\")),\"\"))","v":""},{"$f":"IF($B54=\"SOURCE\",IF(LEFT(M$6,1)='CONDUIT LENGTH'!$M47,IF(N$9='CONDUIT LENGTH'!$L47,'CONDUIT LENGTH'!$K47*-1,IF(AND(N$9=RIGHT('CONDUIT LENGTH'!$L47,2),LEFT('CONDUIT LENGTH'!$L47,3)=\"2x3\")=TRUE,IF(LEFT('CONDUIT LENGTH'!$L47,2)=\"2x\",'CONDUIT LENGTH'!$K47*-1*2,\"\"),\"\")),\"\"),IF(LEFT(M$6,1)='CONDUIT LENGTH'!$M47,IF(N$9='CONDUIT LENGTH'!$L47,'CONDUIT LENGTH'!$K47,IF(AND(N$9=RIGHT('CONDUIT LENGTH'!$L47,2),LEFT('CONDUIT LENGTH'!$L47,3)=\"2x3\")=TRUE,IF(LEFT('CONDUIT LENGTH'!$L47,2)=\"2x\",'CONDUIT LENGTH'!$K47*2,\"\"),\"\")),\"\"))","v":""},{"$f":"IF($B54=\"SOURCE\",IF(LEFT(P$5,1)='CONDUIT LENGTH'!$M47,IF(O$9='CONDUIT LENGTH'!$L47,'CONDUIT LENGTH'!$K47*-1,IF(AND(O$9=RIGHT('CONDUIT LENGTH'!$L47,2),LEFT('CONDUIT LENGTH'!$L47,3)=\"2x3\")=TRUE,IF(LEFT('CONDUIT LENGTH'!$L47,2)=\"2x\",'CONDUIT LENGTH'!$K47*-1*2,\"\"),\"\")),\"\"),IF(LEFT(P$6,1)='CONDUIT LENGTH'!$M47,IF(O$9='CONDUIT LENGTH'!$L47,'CONDUIT LENGTH'!$K47,IF(AND(O$9=RIGHT('CONDUIT LENGTH'!$L47,2),LEFT('CONDUIT LENGTH'!$L47,3)=\"2x3\")=TRUE,IF(LEFT('CONDUIT LENGTH'!$L47,2)=\"2x\",'CONDUIT LENGTH'!$K47*2,\"\"),\"\")),\"\"))","v":""},{"$f":"IF($B54=\"SOURCE\",IF(LEFT(P$5,1)='CONDUIT LENGTH'!$M47,IF(P$9='CONDUIT LENGTH'!$L47,'CONDUIT LENGTH'!$K47*-1,IF(AND(P$9=RIGHT('CONDUIT LENGTH'!$L47,2),LEFT('CONDUIT LENGTH'!$L47,3)=\"2x3\")=TRUE,IF(LEFT('CONDUIT LENGTH'!$L47,2)=\"2x\",'CONDUIT LENGTH'!$K47*-1*2,\"\"),\"\")),\"\"),IF(LEFT(P$6,1)='CONDUIT LENGTH'!$M47,IF(P$9='CONDUIT LENGTH'!$L47,'CONDUIT LENGTH'!$K47,IF(AND(P$9=RIGHT('CONDUIT LENGTH'!$L47,2),LEFT('CONDUIT LENGTH'!$L47,3)=\"2x3\")=TRUE,IF(LEFT('CONDUIT LENGTH'!$L47,2)=\"2x\",'CONDUIT LENGTH'!$K47*2,\"\"),\"\")),\"\"))","v":""},{"$f":"IF($B54=\"SOURCE\",IF(LEFT(P$5,1)='CONDUIT LENGTH'!$M47,IF(Q$9='CONDUIT LENGTH'!$L47,'CONDUIT LENGTH'!$K47*-1,IF(AND(Q$9=RIGHT('CONDUIT LENGTH'!$L47,2),LEFT('CONDUIT LENGTH'!$L47,3)=\"2x3\")=TRUE,IF(LEFT('CONDUIT LENGTH'!$L47,2)=\"2x\",'CONDUIT LENGTH'!$K47*-1*2,\"\"),\"\")),\"\"),IF(LEFT(Q$6,1)='CONDUIT LENGTH'!$M47,IF(Q$9='CONDUIT LENGTH'!$L47,'CONDUIT LENGTH'!$K47,IF(AND(Q$9=RIGHT('CONDUIT LENGTH'!$L47,2),LEFT('CONDUIT LENGTH'!$L47,3)=\"2x3\")=TRUE,IF(LEFT('CONDUIT LENGTH'!$L47,2)=\"2x\",'CONDUIT LENGTH'!$K47*2,\"\"),\"\")),\"\"))","v":""},{"$f":"IF('CONDUIT LENGTH'!M47=\"UIP\",\"UIP EXISTING\",\"\")","v":""},{"$f":"IF('CABLE LENGTH'!A48>0,'CABLE LENGTH'!A48,\"\")","v":""},{"$f":"IF('CABLE LENGTH'!B48>0,'CABLE LENGTH'!B48,\"\")","v":""},{"$f":"IF('CABLE LENGTH'!Q48>0,'CABLE LENGTH'!Q48,\"\")","v":""},{"$f":"IF($S54=\"SOURCE\",IF(V$9='CABLE LENGTH'!$AK48,'CABLE LENGTH'!$AJ48*'CABLE LENGTH'!$AL48*-1,\"\"),IF(V$9=\"VIDEO\",IF(V$9='CABLE LENGTH'!$AK48,'CABLE LENGTH'!$AJ48*'CABLE LENGTH'!$AL48*-1,\"\"),IF(V$9='CABLE LENGTH'!$AK48,'CABLE LENGTH'!$AJ48*'CABLE LENGTH'!$AL48,\"\")))","v":""},{"$f":"IF($S54=\"SOURCE\",IF(W$9='CABLE LENGTH'!$AK48,'CABLE LENGTH'!$AJ48*'CABLE LENGTH'!$AL48*-1,\"\"),IF(W$9=\"VIDEO\",IF(W$9='CABLE LENGTH'!$AK48,'CABLE LENGTH'!$AJ48*'CABLE LENGTH'!$AL48*-1,\"\"),IF(W$9='CABLE LENGTH'!$AK48,'CABLE LENGTH'!$AJ48*'CABLE LENGTH'!$AL48,\"\")))","v":""},{"$f":"IF($S54=\"SOURCE\",IF(X$10='CABLE LENGTH'!$AK48,'CABLE LENGTH'!$AJ48*'CABLE LENGTH'!$AL48*-1,\"\"),IF(X$10=\"VIDEO\",IF(X$10='CABLE LENGTH'!$AK48,'CABLE LENGTH'!$AJ48*'CABLE LENGTH'!$AL48*-1,\"\"),IF(X$10='CABLE LENGTH'!$AK48,'CABLE LENGTH'!$AJ48*'CABLE LENGTH'!$AL48,\"\")))","v":""},{"$f":"IF($S54=\"SOURCE\",IF(Y$10='CABLE LENGTH'!$AK48,'CABLE LENGTH'!$AJ48*'CABLE LENGTH'!$AL48*-1,\"\"),IF(Y$10=\"VIDEO\",IF(Y$10='CABLE LENGTH'!$AK48,'CABLE LENGTH'!$AJ48*'CABLE LENGTH'!$AL48*-1,\"\"),IF(Y$10='CABLE LENGTH'!$AK48,'CABLE LENGTH'!$AJ48*'CABLE LENGTH'!$AL48,\"\")))","v":""},{"$f":"IF($S54=\"SOURCE\",IF(Z$10='CABLE LENGTH'!$AK48,'CABLE LENGTH'!$AJ48*'CABLE LENGTH'!$AL48*-1,\"\"),IF(Z$10=\"VIDEO\",IF(Z$10='CABLE LENGTH'!$AK48,'CABLE LENGTH'!$AJ48*'CABLE LENGTH'!$AL48*-1,\"\"),IF(Z$10='CABLE LENGTH'!$AK48,'CABLE LENGTH'!$AJ48*'CABLE LENGTH'!$AL48,\"\")))","v":""},{"$f":"IF($S54=\"SOURCE\",IF(AA$10='CABLE LENGTH'!$AK48,'CABLE LENGTH'!$AJ48*'CABLE LENGTH'!$AL48*-1,\"\"),IF(AA$10=\"VIDEO\",IF(AA$10='CABLE LENGTH'!$AK48,'CABLE LENGTH'!$AJ48*'CABLE LENGTH'!$AL48*-1,\"\"),IF(AA$10='CABLE LENGTH'!$AK48,'CABLE LENGTH'!$AJ48*'CABLE LENGTH'!$AL48,\"\")))","v":""},{"$f":"IF($S54=\"SOURCE\",IF(AB$10='CABLE LENGTH'!$AK48,'CABLE LENGTH'!$AJ48*'CABLE LENGTH'!$AL48*-1,\"\"),IF(AB$10=\"VIDEO\",IF(AB$10='CABLE LENGTH'!$AK48,'CABLE LENGTH'!$AJ48*'CABLE LENGTH'!$AL48*-1,\"\"),IF(AB$10='CABLE LENGTH'!$AK48,'CABLE LENGTH'!$AJ48*'CABLE LENGTH'!$AL48,\"\")))","v":""},{"$f":"IF($S54=\"SOURCE\",IF(AC$10='CABLE LENGTH'!$AK48,'CABLE LENGTH'!$AJ48*'CABLE LENGTH'!$AL48*-1,\"\"),IF(AC$10=\"VIDEO\",IF(AC$10='CABLE LENGTH'!$AK48,'CABLE LENGTH'!$AJ48*'CABLE LENGTH'!$AL48*-1,\"\"),IF(AC$10='CABLE LENGTH'!$AK48,'CABLE LENGTH'!$AJ48*'CABLE LENGTH'!$AL48,\"\")))","v":""},{"$f":"IF($S54=\"SOURCE\",IF(AD$9='CABLE LENGTH'!$AK48,'CABLE LENGTH'!$AJ48*'CABLE LENGTH'!$AL48*-1,\"\"),IF(AD$9=\"VIDEO\",IF(AD$9='CABLE LENGTH'!$AK48,'CABLE LENGTH'!$AJ48*'CABLE LENGTH'!$AL48*-1,\"\"),IF(AD$9='CABLE LENGTH'!$AK48,'CABLE LENGTH'!$AJ48*'CABLE LENGTH'!$AL48,\"\")))","v":""},{"$f":"IF($S54=\"SOURCE\",IF(AE$9='CABLE LENGTH'!$AK48,'CABLE LENGTH'!$AJ48*'CABLE LENGTH'!$AL48*-1,\"\"),IF(AE$9=\"VIDEO\",IF(AE$9='CABLE LENGTH'!$AK48,'CABLE LENGTH'!$AJ48*'CABLE LENGTH'!$AL48*-1,\"\"),IF(AE$9='CABLE LENGTH'!$AK48,'CABLE LENGTH'!$AJ48*'CABLE LENGTH'!$AL48,\"\")))","v":""},{"$f":"IF($S54=\"SOURCE\",IF(AF$9='CABLE LENGTH'!$AK48,'CABLE LENGTH'!$AJ48*'CABLE LENGTH'!$AL48*-1,\"\"),IF(AF$9=\"VIDEO\",IF(AF$9='CABLE LENGTH'!$AK48,'CABLE LENGTH'!$AJ48*'CABLE LENGTH'!$AL48*-1,\"\"),IF(AF$9='CABLE LENGTH'!$AK48,'CABLE LENGTH'!$AJ48*'CABLE LENGTH'!$AL48,\"\")))","v":""}]
[0.3,{"$f":"IF('CONDUIT LENGTH'!A48>0,'CONDUIT LENGTH'!A48,\" \")","v":" "},{"$f":"IF('CONDUIT LENGTH'!B48>0,'CONDUIT LENGTH'!B48,\" \")","v":" "},{"$f":"IF('CONDUIT LENGTH'!C48>0,'CONDUIT LENGTH'!C48,\" \")","v":" "},{"$f":"IF($B55=\"SOURCE\",IF(LEFT(E$5,1)='CONDUIT LENGTH'!$M48,IF(E$9='CONDUIT LENGTH'!$L48,'CONDUIT LENGTH'!$K48*-1,IF(AND(E$9=RIGHT('CONDUIT LENGTH'!$L48,2),LEFT('CONDUIT LENGTH'!$L48,3)=\"2x3\")=TRUE,IF(LEFT('CONDUIT LENGTH'!$L48,2)=\"2x\",'CONDUIT LENGTH'!$K48*-1*2,\"\"),\"\")),\"\"),IF(LEFT(E$5,1)='CONDUIT LENGTH'!$M48,IF(E$9='CONDUIT LENGTH'!$L48,'CONDUIT LENGTH'!$K48,IF(AND(E$9=RIGHT('CONDUIT LENGTH'!$L48,2),LEFT('CONDUIT LENGTH'!$L48,3)=\"2x3\")=TRUE,IF(LEFT('CONDUIT LENGTH'!$L48,2)=\"2x\",'CONDUIT LENGTH'!$K48*2,\"\"),\"\")),\"\"))","v":""},{"$f":"IF($B55=\"SOURCE\",IF(LEFT(G$6,1)='CONDUIT LENGTH'!$M48,IF(F$9='CONDUIT LENGTH'!$L48,'CONDUIT LENGTH'!$K48*-1,IF(AND(F$9=RIGHT('CONDUIT LENGTH'!$L48,2),LEFT('CONDUIT LENGTH'!$L48,3)=\"2x3\")=TRUE,IF(LEFT('CONDUIT LENGTH'!$L48,2)=\"2x\",'CONDUIT LENGTH'!$K48*-1*2,\"\"),\"\")),\"\"),IF(LEFT(G$6,1)='CONDUIT LENGTH'!$M48,IF(F$9='CONDUIT LENGTH'!$L48,'CONDUIT LENGTH'!$K48,IF(AND(F$9=RIGHT('CONDUIT LENGTH'!$L48,2),LEFT('CONDUIT LENGTH'!$L48,3)=\"2x3\")=TRUE,IF(LEFT('CONDUIT LENGTH'!$L48,2)=\"2x\",'CONDUIT LENGTH'!$K48*2,\"\"),\"\")),\"\"))","v":""},{"$f":"IF($B55=\"SOURCE\",IF(LEFT(G$6,1)='CONDUIT LENGTH'!$M48,IF(G$9='CONDUIT LENGTH'!$L48,'CONDUIT LENGTH'!$K48*-1,IF(AND(G$9=RIGHT('CONDUIT LENGTH'!$L48,2),LEFT('CONDUIT LENGTH'!$L48,3)=\"2x3\")=TRUE,IF(LEFT('CONDUIT LENGTH'!$L48,2)=\"2x\",'CONDUIT LENGTH'!$K48*-1*2,\"\"),\"\")),\"\"),IF(LEFT(G$6,1)='CONDUIT LENGTH'!$M48,IF(G$9='CONDUIT LENGTH'!$L48,'CONDUIT LENGTH'!$K48,IF(AND(G$9=RIGHT('CONDUIT LENGTH'!$L48,2),LEFT('CONDUIT LENGTH'!$L48,3)=\"2x3\")=TRUE,IF(LEFT('CONDUIT LENGTH'!$L48,2)=\"2x\",'CONDUIT LENGTH'!$K48*2,\"\"),\"\")),\"\"))","v":""},{"$f":"IF($B55=\"SOURCE\",IF(LEFT(G$6,1)='CONDUIT LENGTH'!$M48,IF(H$9='CONDUIT LENGTH'!$L48,'CONDUIT LENGTH'!$K48*-1,IF(AND(H$9=RIGHT('CONDUIT LENGTH'!$L48,2),LEFT('CONDUIT LENGTH'!$L48,3)=\"2x3\")=TRUE,IF(LEFT('CONDUIT LENGTH'!$L48,2)=\"2x\",'CONDUIT LENGTH'!$K48*-1*2,\"\"),\"\")),\"\"),IF(LEFT(G$6,1)='CONDUIT LENGTH'!$M48,IF(H$9='CONDUIT LENGTH'!$L48,'CONDUIT LENGTH'!$K48,IF(AND(H$9=RIGHT('CONDUIT LENGTH'!$L48,2),LEFT('CONDUIT LENGTH'!$L48,3)=\"2x3\")=TRUE,IF(LEFT('CONDUIT LENGTH'!$L48,2)=\"2x\",'CONDUIT LENGTH'!$K48*2,\"\"),\"\")),\"\"))","v":""},{"$f":"IF($B55=\"SOURCE\",IF(LEFT(J$6,1)='CONDUIT LENGTH'!$M48,IF(I$9='CONDUIT LENGTH'!$L48,'CONDUIT LENGTH'!$K48*-1,IF(AND(I$9=RIGHT('CONDUIT LENGTH'!$L48,2),LEFT('CONDUIT LENGTH'!$L48,3)=\"2x3\")=TRUE,IF(LEFT('CONDUIT LENGTH'!$L48,2)=\"2x\",'CONDUIT LENGTH'!$K48*-1*2,\"\"),\"\")),\"\"),IF(LEFT(J$6,1)='CONDUIT LENGTH'!$M48,IF(I$9='CONDUIT LENGTH'!$L48,'CONDUIT LENGTH'!$K48,IF(AND(I$9=RIGHT('CONDUIT LENGTH'!$L48,2),LEFT('CONDUIT LENGTH'!$L48,3)=\"2x3\")=TRUE,IF(LEFT('CONDUIT LENGTH'!$L48,2)=\"2x\",'CONDUIT LENGTH'!$K48*2,\"\"),\"\")),\"\"))","v":""},{"$f":"IF($B55=\"SOURCE\",IF(LEFT(J$6,1)='CONDUIT LENGTH'!$M48,IF(J$9='CONDUIT LENGTH'!$L48,'CONDUIT LENGTH'!$K48*-1,IF(AND(J$9=RIGHT('CONDUIT LENGTH'!$L48,2),LEFT('CONDUIT LENGTH'!$L48,3)=\"2x3\")=TRUE,IF(LEFT('CONDUIT LENGTH'!$L48,2)=\"2x\",'CONDUIT LENGTH'!$K48*-1*2,\"\"),\"\")),\"\"),IF(LEFT(J$6,1)='CONDUIT LENGTH'!$M48,IF(J$9='CONDUIT LENGTH'!$L48,'CONDUIT LENGTH'!$K48,IF(AND(J$9=RIGHT('CONDUIT LENGTH'!$L48,2),LEFT('CONDUIT LENGTH'!$L48,3)=\"2x3\")=TRUE,IF(LEFT('CONDUIT LENGTH'!$L48,2)=\"2x\",'CONDUIT LENGTH'!$K48*2,\"\"),\"\")),\"\"))","v":""},{"$f":"IF($B55=\"SOURCE\",IF(LEFT(J$6,1)='CONDUIT LENGTH'!$M48,IF(K$9='CONDUIT LENGTH'!$L48,'CONDUIT LENGTH'!$K48*-1,IF(AND(K$9=RIGHT('CONDUIT LENGTH'!$L48,2),LEFT('CONDUIT LENGTH'!$L48,3)=\"2x3\")=TRUE,IF(LEFT('CONDUIT LENGTH'!$L48,2)=\"2x\",'CONDUIT LENGTH'!$K48*-1*2,\"\"),\"\")),\"\"),IF(LEFT(J$6,1)='CONDUIT LENGTH'!$M48,IF(K$9='CONDUIT LENGTH'!$L48,'CONDUIT LENGTH'!$K48,IF(AND(K$9=RIGHT('CONDUIT LENGTH'!$L48,2),LEFT('CONDUIT LENGTH'!$L48,3)=\"2x3\")=TRUE,IF(LEFT('CONDUIT LENGTH'!$L48,2)=\"2x\",'CONDUIT LENGTH'!$K48*2,\"\"),\"\")),\"\"))","v":""},{"$f":"IF($B55=\"SOURCE\",IF(LEFT(M$6,1)='CONDUIT LENGTH'!$M48,IF(L$9='CONDUIT LENGTH'!$L48,'CONDUIT LENGTH'!$K48*-1,IF(AND(L$9=RIGHT('CONDUIT LENGTH'!$L48,2),LEFT('CONDUIT LENGTH'!$L48,3)=\"2x3\")=TRUE,IF(LEFT('CONDUIT LENGTH'!$L48,2)=\"2x\",'CONDUIT LENGTH'!$K48*-1*2,\"\"),\"\")),\"\"),IF(LEFT(M$6,1)='CONDUIT LENGTH'!$M48,IF(L$9='CONDUIT LENGTH'!$L48,'CONDUIT LENGTH'!$K48,IF(AND(L$9=RIGHT('CONDUIT LENGTH'!$L48,2),LEFT('CONDUIT LENGTH'!$L48,3)=\"2x3\")=TRUE,IF(LEFT('CONDUIT LENGTH'!$L48,2)=\"2x\",'CONDUIT LENGTH'!$K48*2,\"\"),\"\")),\"\"))","v":""},{"$f":"IF($B55=\"SOURCE\",IF(LEFT(M$6,1)='CONDUIT LENGTH'!$M48,IF(M$9='CONDUIT LENGTH'!$L48,'CONDUIT LENGTH'!$K48*-1,IF(AND(M$9=RIGHT('CONDUIT LENGTH'!$L48,2),LEFT('CONDUIT LENGTH'!$L48,3)=\"2x3\")=TRUE,IF(LEFT('CONDUIT LENGTH'!$L48,2)=\"2x\",'CONDUIT LENGTH'!$K48*-1*2,\"\"),\"\")),\"\"),IF(LEFT(M$6,1)='CONDUIT LENGTH'!$M48,IF(M$9='CONDUIT LENGTH'!$L48,'CONDUIT LENGTH'!$K48,IF(AND(M$9=RIGHT('CONDUIT LENGTH'!$L48,2),LEFT('CONDUIT LENGTH'!$L48,3)=\"2x3\")=TRUE,IF(LEFT('CONDUIT LENGTH'!$L48,2)=\"2x\",'CONDUIT LENGTH'!$K48*2,\"\"),\"\")),\"\"))","v":""},{"$f":"IF($B55=\"SOURCE\",IF(LEFT(M$6,1)='CONDUIT LENGTH'!$M48,IF(N$9='CONDUIT LENGTH'!$L48,'CONDUIT LENGTH'!$K48*-1,IF(AND(N$9=RIGHT('CONDUIT LENGTH'!$L48,2),LEFT('CONDUIT LENGTH'!$L48,3)=\"2x3\")=TRUE,IF(LEFT('CONDUIT LENGTH'!$L48,2)=\"2x\",'CONDUIT LENGTH'!$K48*-1*2,\"\"),\"\")),\"\"),IF(LEFT(M$6,1)='CONDUIT LENGTH'!$M48,IF(N$9='CONDUIT LENGTH'!$L48,'CONDUIT LENGTH'!$K48,IF(AND(N$9=RIGHT('CONDUIT LENGTH'!$L48,2),LEFT('CONDUIT LENGTH'!$L48,3)=\"2x3\")=TRUE,IF(LEFT('CONDUIT LENGTH'!$L48,2)=\"2x\",'CONDUIT LENGTH'!$K48*2,\"\"),\"\")),\"\"))","v":""},{"$f":"IF($B55=\"SOURCE\",IF(LEFT(P$5,1)='CONDUIT LENGTH'!$M48,IF(O$9='CONDUIT LENGTH'!$L48,'CONDUIT LENGTH'!$K48*-1,IF(AND(O$9=RIGHT('CONDUIT LENGTH'!$L48,2),LEFT('CONDUIT LENGTH'!$L48,3)=\"2x3\")=TRUE,IF(LEFT('CONDUIT LENGTH'!$L48,2)=\"2x\",'CONDUIT LENGTH'!$K48*-1*2,\"\"),\"\")),\"\"),IF(LEFT(P$6,1)='CONDUIT LENGTH'!$M48,IF(O$9='CONDUIT LENGTH'!$L48,'CONDUIT LENGTH'!$K48,IF(AND(O$9=RIGHT('CONDUIT LENGTH'!$L48,2),LEFT('CONDUIT LENGTH'!$L48,3)=\"2x3\")=TRUE,IF(LEFT('CONDUIT LENGTH'!$L48,2)=\"2x\",'CONDUIT LENGTH'!$K48*2,\"\"),\"\")),\"\"))","v":""},{"$f":"IF($B55=\"SOURCE\",IF(LEFT(P$5,1)='CONDUIT LENGTH'!$M48,IF(P$9='CONDUIT LENGTH'!$L48,'CONDUIT LENGTH'!$K48*-1,IF(AND(P$9=RIGHT('CONDUIT LENGTH'!$L48,2),LEFT('CONDUIT LENGTH'!$L48,3)=\"2x3\")=TRUE,IF(LEFT('CONDUIT LENGTH'!$L48,2)=\"2x\",'CONDUIT LENGTH'!$K48*-1*2,\"\"),\"\")),\"\"),IF(LEFT(P$6,1)='CONDUIT LENGTH'!$M48,IF(P$9='CONDUIT LENGTH'!$L48,'CONDUIT LENGTH'!$K48,IF(AND(P$9=RIGHT('CONDUIT LENGTH'!$L48,2),LEFT('CONDUIT LENGTH'!$L48,3)=\"2x3\")=TRUE,IF(LEFT('CONDUIT LENGTH'!$L48,2)=\"2x\",'CONDUIT LENGTH'!$K48*2,\"\"),\"\")),\"\"))","v":""},{"$f":"IF($B55=\"SOURCE\",IF(LEFT(P$5,1)='CONDUIT LENGTH'!$M48,IF(Q$9='CONDUIT LENGTH'!$L48,'CONDUIT LENGTH'!$K48*-1,IF(AND(Q$9=RIGHT('CONDUIT LENGTH'!$L48,2),LEFT('CONDUIT LENGTH'!$L48,3)=\"2x3\")=TRUE,IF(LEFT('CONDUIT LENGTH'!$L48,2)=\"2x\",'CONDUIT LENGTH'!$K48*-1*2,\"\"),\"\")),\"\"),IF(LEFT(Q$6,1)='CONDUIT LENGTH'!$M48,IF(Q$9='CONDUIT LENGTH'!$L48,'CONDUIT LENGTH'!$K48,IF(AND(Q$9=RIGHT('CONDUIT LENGTH'!$L48,2),LEFT('CONDUIT LENGTH'!$L48,3)=\"2x3\")=TRUE,IF(LEFT('CONDUIT LENGTH'!$L48,2)=\"2x\",'CONDUIT LENGTH'!$K48*2,\"\"),\"\")),\"\"))","v":""},{"$f":"IF('CONDUIT LENGTH'!M48=\"UIP\",\"UIP EXISTING\",\"\")","v":""},{"$f":"IF('CABLE LENGTH'!A49>0,'CABLE LENGTH'!A49,\"\")","v":""},{"$f":"IF('CABLE LENGTH'!B49>0,'CABLE LENGTH'!B49,\"\")","v":""},{"$f":"IF('CABLE LENGTH'!Q49>0,'CABLE LENGTH'!Q49,\"\")","v":""},{"$f":"IF($S55=\"SOURCE\",IF(V$9='CABLE LENGTH'!$AK49,'CABLE LENGTH'!$AJ49*'CABLE LENGTH'!$AL49*-1,\"\"),IF(V$9=\"VIDEO\",IF(V$9='CABLE LENGTH'!$AK49,'CABLE LENGTH'!$AJ49*'CABLE LENGTH'!$AL49*-1,\"\"),IF(V$9='CABLE LENGTH'!$AK49,'CABLE LENGTH'!$AJ49*'CABLE LENGTH'!$AL49,\"\")))","v":""},{"$f":"IF($S55=\"SOURCE\",IF(W$9='CABLE LENGTH'!$AK49,'CABLE LENGTH'!$AJ49*'CABLE LENGTH'!$AL49*-1,\"\"),IF(W$9=\"VIDEO\",IF(W$9='CABLE LENGTH'!$AK49,'CABLE LENGTH'!$AJ49*'CABLE LENGTH'!$AL49*-1,\"\"),IF(W$9='CABLE LENGTH'!$AK49,'CABLE LENGTH'!$AJ49*'CABLE LENGTH'!$AL49,\"\")))","v":""},{"$f":"IF($S55=\"SOURCE\",IF(X$10='CABLE LENGTH'!$AK49,'CABLE LENGTH'!$AJ49*'CABLE LENGTH'!$AL49*-1,\"\"),IF(X$10=\"VIDEO\",IF(X$10='CABLE LENGTH'!$AK49,'CABLE LENGTH'!$AJ49*'CABLE LENGTH'!$AL49*-1,\"\"),IF(X$10='CABLE LENGTH'!$AK49,'CABLE LENGTH'!$AJ49*'CABLE LENGTH'!$AL49,\"\")))","v":""},{"$f":"IF($S55=\"SOURCE\",IF(Y$10='CABLE LENGTH'!$AK49,'CABLE LENGTH'!$AJ49*'CABLE LENGTH'!$AL49*-1,\"\"),IF(Y$10=\"VIDEO\",IF(Y$10='CABLE LENGTH'!$AK49,'CABLE LENGTH'!$AJ49*'CABLE LENGTH'!$AL49*-1,\"\"),IF(Y$10='CABLE LENGTH'!$AK49,'CABLE LENGTH'!$AJ49*'CABLE LENGTH'!$AL49,\"\")))","v":""},{"$f":"IF($S55=\"SOURCE\",IF(Z$10='CABLE LENGTH'!$AK49,'CABLE LENGTH'!$AJ49*'CABLE LENGTH'!$AL49*-1,\"\"),IF(Z$10=\"VIDEO\",IF(Z$10='CABLE LENGTH'!$AK49,'CABLE LENGTH'!$AJ49*'CABLE LENGTH'!$AL49*-1,\"\"),IF(Z$10='CABLE LENGTH'!$AK49,'CABLE LENGTH'!$AJ49*'CABLE LENGTH'!$AL49,\"\")))","v":""},{"$f":"IF($S55=\"SOURCE\",IF(AA$10='CABLE LENGTH'!$AK49,'CABLE LENGTH'!$AJ49*'CABLE LENGTH'!$AL49*-1,\"\"),IF(AA$10=\"VIDEO\",IF(AA$10='CABLE LENGTH'!$AK49,'CABLE LENGTH'!$AJ49*'CABLE LENGTH'!$AL49*-1,\"\"),IF(AA$10='CABLE LENGTH'!$AK49,'CABLE LENGTH'!$AJ49*'CABLE LENGTH'!$AL49,\"\")))","v":""},{"$f":"IF($S55=\"SOURCE\",IF(AB$10='CABLE LENGTH'!$AK49,'CABLE LENGTH'!$AJ49*'CABLE LENGTH'!$AL49*-1,\"\"),IF(AB$10=\"VIDEO\",IF(AB$10='CABLE LENGTH'!$AK49,'CABLE LENGTH'!$AJ49*'CABLE LENGTH'!$AL49*-1,\"\"),IF(AB$10='CABLE LENGTH'!$AK49,'CABLE LENGTH'!$AJ49*'CABLE LENGTH'!$AL49,\"\")))","v":""},{"$f":"IF($S55=\"SOURCE\",IF(AC$10='CABLE LENGTH'!$AK49,'CABLE LENGTH'!$AJ49*'CABLE LENGTH'!$AL49*-1,\"\"),IF(AC$10=\"VIDEO\",IF(AC$10='CABLE LENGTH'!$AK49,'CABLE LENGTH'!$AJ49*'CABLE LENGTH'!$AL49*-1,\"\"),IF(AC$10='CABLE LENGTH'!$AK49,'CABLE LENGTH'!$AJ49*'CABLE LENGTH'!$AL49,\"\")))","v":""},{"$f":"IF($S55=\"SOURCE\",IF(AD$9='CABLE LENGTH'!$AK49,'CABLE LENGTH'!$AJ49*'CABLE LENGTH'!$AL49*-1,\"\"),IF(AD$9=\"VIDEO\",IF(AD$9='CABLE LENGTH'!$AK49,'CABLE LENGTH'!$AJ49*'CABLE LENGTH'!$AL49*-1,\"\"),IF(AD$9='CABLE LENGTH'!$AK49,'CABLE LENGTH'!$AJ49*'CABLE LENGTH'!$AL49,\"\")))","v":""},{"$f":"IF($S55=\"SOURCE\",IF(AE$9='CABLE LENGTH'!$AK49,'CABLE LENGTH'!$AJ49*'CABLE LENGTH'!$AL49*-1,\"\"),IF(AE$9=\"VIDEO\",IF(AE$9='CABLE LENGTH'!$AK49,'CABLE LENGTH'!$AJ49*'CABLE LENGTH'!$AL49*-1,\"\"),IF(AE$9='CABLE LENGTH'!$AK49,'CABLE LENGTH'!$AJ49*'CABLE LENGTH'!$AL49,\"\")))","v":""},{"$f":"IF($S55=\"SOURCE\",IF(AF$9='CABLE LENGTH'!$AK49,'CABLE LENGTH'!$AJ49*'CABLE LENGTH'!$AL49*-1,\"\"),IF(AF$9=\"VIDEO\",IF(AF$9='CABLE LENGTH'!$AK49,'CABLE LENGTH'!$AJ49*'CABLE LENGTH'!$AL49*-1,\"\"),IF(AF$9='CABLE LENGTH'!$AK49,'CABLE LENGTH'!$AJ49*'CABLE LENGTH'!$AL49,\"\")))","v":""}]
[0.3,{"$f":"IF('CONDUIT LENGTH'!A49>0,'CONDUIT LENGTH'!A49,\" \")","v":" "},{"$f":"IF('CONDUIT LENGTH'!B49>0,'CONDUIT LENGTH'!B49,\" \")","v":" "},{"$f":"IF('CONDUIT LENGTH'!C49>0,'CONDUIT LENGTH'!C49,\" \")","v":" "},{"$f":"IF($B56=\"SOURCE\",IF(LEFT(E$5,1)='CONDUIT LENGTH'!$M49,IF(E$9='CONDUIT LENGTH'!$L49,'CONDUIT LENGTH'!$K49*-1,IF(AND(E$9=RIGHT('CONDUIT LENGTH'!$L49,2),LEFT('CONDUIT LENGTH'!$L49,3)=\"2x3\")=TRUE,IF(LEFT('CONDUIT LENGTH'!$L49,2)=\"2x\",'CONDUIT LENGTH'!$K49*-1*2,\"\"),\"\")),\"\"),IF(LEFT(E$5,1)='CONDUIT LENGTH'!$M49,IF(E$9='CONDUIT LENGTH'!$L49,'CONDUIT LENGTH'!$K49,IF(AND(E$9=RIGHT('CONDUIT LENGTH'!$L49,2),LEFT('CONDUIT LENGTH'!$L49,3)=\"2x3\")=TRUE,IF(LEFT('CONDUIT LENGTH'!$L49,2)=\"2x\",'CONDUIT LENGTH'!$K49*2,\"\"),\"\")),\"\"))","v":""},{"$f":"IF($B56=\"SOURCE\",IF(LEFT(G$6,1)='CONDUIT LENGTH'!$M49,IF(F$9='CONDUIT LENGTH'!$L49,'CONDUIT LENGTH'!$K49*-1,IF(AND(F$9=RIGHT('CONDUIT LENGTH'!$L49,2),LEFT('CONDUIT LENGTH'!$L49,3)=\"2x3\")=TRUE,IF(LEFT('CONDUIT LENGTH'!$L49,2)=\"2x\",'CONDUIT LENGTH'!$K49*-1*2,\"\"),\"\")),\"\"),IF(LEFT(G$6,1)='CONDUIT LENGTH'!$M49,IF(F$9='CONDUIT LENGTH'!$L49,'CONDUIT LENGTH'!$K49,IF(AND(F$9=RIGHT('CONDUIT LENGTH'!$L49,2),LEFT('CONDUIT LENGTH'!$L49,3)=\"2x3\")=TRUE,IF(LEFT('CONDUIT LENGTH'!$L49,2)=\"2x\",'CONDUIT LENGTH'!$K49*2,\"\"),\"\")),\"\"))","v":""},{"$f":"IF($B56=\"SOURCE\",IF(LEFT(G$6,1)='CONDUIT LENGTH'!$M49,IF(G$9='CONDUIT LENGTH'!$L49,'CONDUIT LENGTH'!$K49*-1,IF(AND(G$9=RIGHT('CONDUIT LENGTH'!$L49,2),LEFT('CONDUIT LENGTH'!$L49,3)=\"2x3\")=TRUE,IF(LEFT('CONDUIT LENGTH'!$L49,2)=\"2x\",'CONDUIT LENGTH'!$K49*-1*2,\"\"),\"\")),\"\"),IF(LEFT(G$6,1)='CONDUIT LENGTH'!$M49,IF(G$9='CONDUIT LENGTH'!$L49,'CONDUIT LENGTH'!$K49,IF(AND(G$9=RIGHT('CONDUIT LENGTH'!$L49,2),LEFT('CONDUIT LENGTH'!$L49,3)=\"2x3\")=TRUE,IF(LEFT('CONDUIT LENGTH'!$L49,2)=\"2x\",'CONDUIT LENGTH'!$K49*2,\"\"),\"\")),\"\"))","v":""},{"$f":"IF($B56=\"SOURCE\",IF(LEFT(G$6,1)='CONDUIT LENGTH'!$M49,IF(H$9='CONDUIT LENGTH'!$L49,'CONDUIT LENGTH'!$K49*-1,IF(AND(H$9=RIGHT('CONDUIT LENGTH'!$L49,2),LEFT('CONDUIT LENGTH'!$L49,3)=\"2x3\")=TRUE,IF(LEFT('CONDUIT LENGTH'!$L49,2)=\"2x\",'CONDUIT LENGTH'!$K49*-1*2,\"\"),\"\")),\"\"),IF(LEFT(G$6,1)='CONDUIT LENGTH'!$M49,IF(H$9='CONDUIT LENGTH'!$L49,'CONDUIT LENGTH'!$K49,IF(AND(H$9=RIGHT('CONDUIT LENGTH'!$L49,2),LEFT('CONDUIT LENGTH'!$L49,3)=\"2x3\")=TRUE,IF(LEFT('CONDUIT LENGTH'!$L49,2)=\"2x\",'CONDUIT LENGTH'!$K49*2,\"\"),\"\")),\"\"))","v":""},{"$f":"IF($B56=\"SOURCE\",IF(LEFT(J$6,1)='CONDUIT LENGTH'!$M49,IF(I$9='CONDUIT LENGTH'!$L49,'CONDUIT LENGTH'!$K49*-1,IF(AND(I$9=RIGHT('CONDUIT LENGTH'!$L49,2),LEFT('CONDUIT LENGTH'!$L49,3)=\"2x3\")=TRUE,IF(LEFT('CONDUIT LENGTH'!$L49,2)=\"2x\",'CONDUIT LENGTH'!$K49*-1*2,\"\"),\"\")),\"\"),IF(LEFT(J$6,1)='CONDUIT LENGTH'!$M49,IF(I$9='CONDUIT LENGTH'!$L49,'CONDUIT LENGTH'!$K49,IF(AND(I$9=RIGHT('CONDUIT LENGTH'!$L49,2),LEFT('CONDUIT LENGTH'!$L49,3)=\"2x3\")=TRUE,IF(LEFT('CONDUIT LENGTH'!$L49,2)=\"2x\",'CONDUIT LENGTH'!$K49*2,\"\"),\"\")),\"\"))","v":""},{"$f":"IF($B56=\"SOURCE\",IF(LEFT(J$6,1)='CONDUIT LENGTH'!$M49,IF(J$9='CONDUIT LENGTH'!$L49,'CONDUIT LENGTH'!$K49*-1,IF(AND(J$9=RIGHT('CONDUIT LENGTH'!$L49,2),LEFT('CONDUIT LENGTH'!$L49,3)=\"2x3\")=TRUE,IF(LEFT('CONDUIT LENGTH'!$L49,2)=\"2x\",'CONDUIT LENGTH'!$K49*-1*2,\"\"),\"\")),\"\"),IF(LEFT(J$6,1)='CONDUIT LENGTH'!$M49,IF(J$9='CONDUIT LENGTH'!$L49,'CONDUIT LENGTH'!$K49,IF(AND(J$9=RIGHT('CONDUIT LENGTH'!$L49,2),LEFT('CONDUIT LENGTH'!$L49,3)=\"2x3\")=TRUE,IF(LEFT('CONDUIT LENGTH'!$L49,2)=\"2x\",'CONDUIT LENGTH'!$K49*2,\"\"),\"\")),\"\"))","v":""},{"$f":"IF($B56=\"SOURCE\",IF(LEFT(J$6,1)='CONDUIT LENGTH'!$M49,IF(K$9='CONDUIT LENGTH'!$L49,'CONDUIT LENGTH'!$K49*-1,IF(AND(K$9=RIGHT('CONDUIT LENGTH'!$L49,2),LEFT('CONDUIT LENGTH'!$L49,3)=\"2x3\")=TRUE,IF(LEFT('CONDUIT LENGTH'!$L49,2)=\"2x\",'CONDUIT LENGTH'!$K49*-1*2,\"\"),\"\")),\"\"),IF(LEFT(J$6,1)='CONDUIT LENGTH'!$M49,IF(K$9='CONDUIT LENGTH'!$L49,'CONDUIT LENGTH'!$K49,IF(AND(K$9=RIGHT('CONDUIT LENGTH'!$L49,2),LEFT('CONDUIT LENGTH'!$L49,3)=\"2x3\")=TRUE,IF(LEFT('CONDUIT LENGTH'!$L49,2)=\"2x\",'CONDUIT LENGTH'!$K49*2,\"\"),\"\")),\"\"))","v":""},{"$f":"IF($B56=\"SOURCE\",IF(LEFT(M$6,1)='CONDUIT LENGTH'!$M49,IF(L$9='CONDUIT LENGTH'!$L49,'CONDUIT LENGTH'!$K49*-1,IF(AND(L$9=RIGHT('CONDUIT LENGTH'!$L49,2),LEFT('CONDUIT LENGTH'!$L49,3)=\"2x3\")=TRUE,IF(LEFT('CONDUIT LENGTH'!$L49,2)=\"2x\",'CONDUIT LENGTH'!$K49*-1*2,\"\"),\"\")),\"\"),IF(LEFT(M$6,1)='CONDUIT LENGTH'!$M49,IF(L$9='CONDUIT LENGTH'!$L49,'CONDUIT LENGTH'!$K49,IF(AND(L$9=RIGHT('CONDUIT LENGTH'!$L49,2),LEFT('CONDUIT LENGTH'!$L49,3)=\"2x3\")=TRUE,IF(LEFT('CONDUIT LENGTH'!$L49,2)=\"2x\",'CONDUIT LENGTH'!$K49*2,\"\"),\"\")),\"\"))","v":""},{"$f":"IF($B56=\"SOURCE\",IF(LEFT(M$6,1)='CONDUIT LENGTH'!$M49,IF(M$9='CONDUIT LENGTH'!$L49,'CONDUIT LENGTH'!$K49*-1,IF(AND(M$9=RIGHT('CONDUIT LENGTH'!$L49,2),LEFT('CONDUIT LENGTH'!$L49,3)=\"2x3\")=TRUE,IF(LEFT('CONDUIT LENGTH'!$L49,2)=\"2x\",'CONDUIT LENGTH'!$K49*-1*2,\"\"),\"\")),\"\"),IF(LEFT(M$6,1)='CONDUIT LENGTH'!$M49,IF(M$9='CONDUIT LENGTH'!$L49,'CONDUIT LENGTH'!$K49,IF(AND(M$9=RIGHT('CONDUIT LENGTH'!$L49,2),LEFT('CONDUIT LENGTH'!$L49,3)=\"2x3\")=TRUE,IF(LEFT('CONDUIT LENGTH'!$L49,2)=\"2x\",'CONDUIT LENGTH'!$K49*2,\"\"),\"\")),\"\"))","v":""},{"$f":"IF($B56=\"SOURCE\",IF(LEFT(M$6,1)='CONDUIT LENGTH'!$M49,IF(N$9='CONDUIT LENGTH'!$L49,'CONDUIT LENGTH'!$K49*-1,IF(AND(N$9=RIGHT('CONDUIT LENGTH'!$L49,2),LEFT('CONDUIT LENGTH'!$L49,3)=\"2x3\")=TRUE,IF(LEFT('CONDUIT LENGTH'!$L49,2)=\"2x\",'CONDUIT LENGTH'!$K49*-1*2,\"\"),\"\")),\"\"),IF(LEFT(M$6,1)='CONDUIT LENGTH'!$M49,IF(N$9='CONDUIT LENGTH'!$L49,'CONDUIT LENGTH'!$K49,IF(AND(N$9=RIGHT('CONDUIT LENGTH'!$L49,2),LEFT('CONDUIT LENGTH'!$L49,3)=\"2x3\")=TRUE,IF(LEFT('CONDUIT LENGTH'!$L49,2)=\"2x\",'CONDUIT LENGTH'!$K49*2,\"\"),\"\")),\"\"))","v":""},{"$f":"IF($B56=\"SOURCE\",IF(LEFT(P$5,1)='CONDUIT LENGTH'!$M49,IF(O$9='CONDUIT LENGTH'!$L49,'CONDUIT LENGTH'!$K49*-1,IF(AND(O$9=RIGHT('CONDUIT LENGTH'!$L49,2),LEFT('CONDUIT LENGTH'!$L49,3)=\"2x3\")=TRUE,IF(LEFT('CONDUIT LENGTH'!$L49,2)=\"2x\",'CONDUIT LENGTH'!$K49*-1*2,\"\"),\"\")),\"\"),IF(LEFT(P$6,1)='CONDUIT LENGTH'!$M49,IF(O$9='CONDUIT LENGTH'!$L49,'CONDUIT LENGTH'!$K49,IF(AND(O$9=RIGHT('CONDUIT LENGTH'!$L49,2),LEFT('CONDUIT LENGTH'!$L49,3)=\"2x3\")=TRUE,IF(LEFT('CONDUIT LENGTH'!$L49,2)=\"2x\",'CONDUIT LENGTH'!$K49*2,\"\"),\"\")),\"\"))","v":""},{"$f":"IF($B56=\"SOURCE\",IF(LEFT(P$5,1)='CONDUIT LENGTH'!$M49,IF(P$9='CONDUIT LENGTH'!$L49,'CONDUIT LENGTH'!$K49*-1,IF(AND(P$9=RIGHT('CONDUIT LENGTH'!$L49,2),LEFT('CONDUIT LENGTH'!$L49,3)=\"2x3\")=TRUE,IF(LEFT('CONDUIT LENGTH'!$L49,2)=\"2x\",'CONDUIT LENGTH'!$K49*-1*2,\"\"),\"\")),\"\"),IF(LEFT(P$6,1)='CONDUIT LENGTH'!$M49,IF(P$9='CONDUIT LENGTH'!$L49,'CONDUIT LENGTH'!$K49,IF(AND(P$9=RIGHT('CONDUIT LENGTH'!$L49,2),LEFT('CONDUIT LENGTH'!$L49,3)=\"2x3\")=TRUE,IF(LEFT('CONDUIT LENGTH'!$L49,2)=\"2x\",'CONDUIT LENGTH'!$K49*2,\"\"),\"\")),\"\"))","v":""},{"$f":"IF($B56=\"SOURCE\",IF(LEFT(P$5,1)='CONDUIT LENGTH'!$M49,IF(Q$9='CONDUIT LENGTH'!$L49,'CONDUIT LENGTH'!$K49*-1,IF(AND(Q$9=RIGHT('CONDUIT LENGTH'!$L49,2),LEFT('CONDUIT LENGTH'!$L49,3)=\"2x3\")=TRUE,IF(LEFT('CONDUIT LENGTH'!$L49,2)=\"2x\",'CONDUIT LENGTH'!$K49*-1*2,\"\"),\"\")),\"\"),IF(LEFT(Q$6,1)='CONDUIT LENGTH'!$M49,IF(Q$9='CONDUIT LENGTH'!$L49,'CONDUIT LENGTH'!$K49,IF(AND(Q$9=RIGHT('CONDUIT LENGTH'!$L49,2),LEFT('CONDUIT LENGTH'!$L49,3)=\"2x3\")=TRUE,IF(LEFT('CONDUIT LENGTH'!$L49,2)=\"2x\",'CONDUIT LENGTH'!$K49*2,\"\"),\"\")),\"\"))","v":""},{"$f":"IF('CONDUIT LENGTH'!M49=\"UIP\",\"UIP EXISTING\",\"\")","v":""},{"$f":"IF('CABLE LENGTH'!A50>0,'CABLE LENGTH'!A50,\"\")","v":""},{"$f":"IF('CABLE LENGTH'!B50>0,'CABLE LENGTH'!B50,\"\")","v":""},{"$f":"IF('CABLE LENGTH'!Q50>0,'CABLE LENGTH'!Q50,\"\")","v":""},{"$f":"IF($S56=\"SOURCE\",IF(V$9='CABLE LENGTH'!$AK50,'CABLE LENGTH'!$AJ50*'CABLE LENGTH'!$AL50*-1,\"\"),IF(V$9=\"VIDEO\",IF(V$9='CABLE LENGTH'!$AK50,'CABLE LENGTH'!$AJ50*'CABLE LENGTH'!$AL50*-1,\"\"),IF(V$9='CABLE LENGTH'!$AK50,'CABLE LENGTH'!$AJ50*'CABLE LENGTH'!$AL50,\"\")))","v":""},{"$f":"IF($S56=\"SOURCE\",IF(W$9='CABLE LENGTH'!$AK50,'CABLE LENGTH'!$AJ50*'CABLE LENGTH'!$AL50*-1,\"\"),IF(W$9=\"VIDEO\",IF(W$9='CABLE LENGTH'!$AK50,'CABLE LENGTH'!$AJ50*'CABLE LENGTH'!$AL50*-1,\"\"),IF(W$9='CABLE LENGTH'!$AK50,'CABLE LENGTH'!$AJ50*'CABLE LENGTH'!$AL50,\"\")))","v":""},{"$f":"IF($S56=\"SOURCE\",IF(X$10='CABLE LENGTH'!$AK50,'CABLE LENGTH'!$AJ50*'CABLE LENGTH'!$AL50*-1,\"\"),IF(X$10=\"VIDEO\",IF(X$10='CABLE LENGTH'!$AK50,'CABLE LENGTH'!$AJ50*'CABLE LENGTH'!$AL50*-1,\"\"),IF(X$10='CABLE LENGTH'!$AK50,'CABLE LENGTH'!$AJ50*'CABLE LENGTH'!$AL50,\"\")))","v":""},{"$f":"IF($S56=\"SOURCE\",IF(Y$10='CABLE LENGTH'!$AK50,'CABLE LENGTH'!$AJ50*'CABLE LENGTH'!$AL50*-1,\"\"),IF(Y$10=\"VIDEO\",IF(Y$10='CABLE LENGTH'!$AK50,'CABLE LENGTH'!$AJ50*'CABLE LENGTH'!$AL50*-1,\"\"),IF(Y$10='CABLE LENGTH'!$AK50,'CABLE LENGTH'!$AJ50*'CABLE LENGTH'!$AL50,\"\")))","v":""},{"$f":"IF($S56=\"SOURCE\",IF(Z$10='CABLE LENGTH'!$AK50,'CABLE LENGTH'!$AJ50*'CABLE LENGTH'!$AL50*-1,\"\"),IF(Z$10=\"VIDEO\",IF(Z$10='CABLE LENGTH'!$AK50,'CABLE LENGTH'!$AJ50*'CABLE LENGTH'!$AL50*-1,\"\"),IF(Z$10='CABLE LENGTH'!$AK50,'CABLE LENGTH'!$AJ50*'CABLE LENGTH'!$AL50,\"\")))","v":""},{"$f":"IF($S56=\"SOURCE\",IF(AA$10='CABLE LENGTH'!$AK50,'CABLE LENGTH'!$AJ50*'CABLE LENGTH'!$AL50*-1,\"\"),IF(AA$10=\"VIDEO\",IF(AA$10='CABLE LENGTH'!$AK50,'CABLE LENGTH'!$AJ50*'CABLE LENGTH'!$AL50*-1,\"\"),IF(AA$10='CABLE LENGTH'!$AK50,'CABLE LENGTH'!$AJ50*'CABLE LENGTH'!$AL50,\"\")))","v":""},{"$f":"IF($S56=\"SOURCE\",IF(AB$10='CABLE LENGTH'!$AK50,'CABLE LENGTH'!$AJ50*'CABLE LENGTH'!$AL50*-1,\"\"),IF(AB$10=\"VIDEO\",IF(AB$10='CABLE LENGTH'!$AK50,'CABLE LENGTH'!$AJ50*'CABLE LENGTH'!$AL50*-1,\"\"),IF(AB$10='CABLE LENGTH'!$AK50,'CABLE LENGTH'!$AJ50*'CABLE LENGTH'!$AL50,\"\")))","v":""},{"$f":"IF($S56=\"SOURCE\",IF(AC$10='CABLE LENGTH'!$AK50,'CABLE LENGTH'!$AJ50*'CABLE LENGTH'!$AL50*-1,\"\"),IF(AC$10=\"VIDEO\",IF(AC$10='CABLE LENGTH'!$AK50,'CABLE LENGTH'!$AJ50*'CABLE LENGTH'!$AL50*-1,\"\"),IF(AC$10='CABLE LENGTH'!$AK50,'CABLE LENGTH'!$AJ50*'CABLE LENGTH'!$AL50,\"\")))","v":""},{"$f":"IF($S56=\"SOURCE\",IF(AD$9='CABLE LENGTH'!$AK50,'CABLE LENGTH'!$AJ50*'CABLE LENGTH'!$AL50*-1,\"\"),IF(AD$9=\"VIDEO\",IF(AD$9='CABLE LENGTH'!$AK50,'CABLE LENGTH'!$AJ50*'CABLE LENGTH'!$AL50*-1,\"\"),IF(AD$9='CABLE LENGTH'!$AK50,'CABLE LENGTH'!$AJ50*'CABLE LENGTH'!$AL50,\"\")))","v":""},{"$f":"IF($S56=\"SOURCE\",IF(AE$9='CABLE LENGTH'!$AK50,'CABLE LENGTH'!$AJ50*'CABLE LENGTH'!$AL50*-1,\"\"),IF(AE$9=\"VIDEO\",IF(AE$9='CABLE LENGTH'!$AK50,'CABLE LENGTH'!$AJ50*'CABLE LENGTH'!$AL50*-1,\"\"),IF(AE$9='CABLE LENGTH'!$AK50,'CABLE LENGTH'!$AJ50*'CABLE LENGTH'!$AL50,\"\")))","v":""},{"$f":"IF($S56=\"SOURCE\",IF(AF$9='CABLE LENGTH'!$AK50,'CABLE LENGTH'!$AJ50*'CABLE LENGTH'!$AL50*-1,\"\"),IF(AF$9=\"VIDEO\",IF(AF$9='CABLE LENGTH'!$AK50,'CABLE LENGTH'!$AJ50*'CABLE LENGTH'!$AL50*-1,\"\"),IF(AF$9='CABLE LENGTH'!$AK50,'CABLE LENGTH'!$AJ50*'CABLE LENGTH'!$AL50,\"\")))","v":""}]
[0.3,{"$f":"IF('CONDUIT LENGTH'!A50>0,'CONDUIT LENGTH'!A50,\" \")","v":" "},{"$f":"IF('CONDUIT LENGTH'!B50>0,'CONDUIT LENGTH'!B50,\" \")","v":" "},{"$f":"IF('CONDUIT LENGTH'!C50>0,'CONDUIT LENGTH'!C50,\" \")","v":" "},{"$f":"IF($B57=\"SOURCE\",IF(LEFT(E$5,1)='CONDUIT LENGTH'!$M50,IF(E$9='CONDUIT LENGTH'!$L50,'CONDUIT LENGTH'!$K50*-1,IF(AND(E$9=RIGHT('CONDUIT LENGTH'!$L50,2),LEFT('CONDUIT LENGTH'!$L50,3)=\"2x3\")=TRUE,IF(LEFT('CONDUIT LENGTH'!$L50,2)=\"2x\",'CONDUIT LENGTH'!$K50*-1*2,\"\"),\"\")),\"\"),IF(LEFT(E$5,1)='CONDUIT LENGTH'!$M50,IF(E$9='CONDUIT LENGTH'!$L50,'CONDUIT LENGTH'!$K50,IF(AND(E$9=RIGHT('CONDUIT LENGTH'!$L50,2),LEFT('CONDUIT LENGTH'!$L50,3)=\"2x3\")=TRUE,IF(LEFT('CONDUIT LENGTH'!$L50,2)=\"2x\",'CONDUIT LENGTH'!$K50*2,\"\"),\"\")),\"\"))","v":""},{"$f":"IF($B57=\"SOURCE\",IF(LEFT(G$6,1)='CONDUIT LENGTH'!$M50,IF(F$9='CONDUIT LENGTH'!$L50,'CONDUIT LENGTH'!$K50*-1,IF(AND(F$9=RIGHT('CONDUIT LENGTH'!$L50,2),LEFT('CONDUIT LENGTH'!$L50,3)=\"2x3\")=TRUE,IF(LEFT('CONDUIT LENGTH'!$L50,2)=\"2x\",'CONDUIT LENGTH'!$K50*-1*2,\"\"),\"\")),\"\"),IF(LEFT(G$6,1)='CONDUIT LENGTH'!$M50,IF(F$9='CONDUIT LENGTH'!$L50,'CONDUIT LENGTH'!$K50,IF(AND(F$9=RIGHT('CONDUIT LENGTH'!$L50,2),LEFT('CONDUIT LENGTH'!$L50,3)=\"2x3\")=TRUE,IF(LEFT('CONDUIT LENGTH'!$L50,2)=\"2x\",'CONDUIT LENGTH'!$K50*2,\"\"),\"\")),\"\"))","v":""},{"$f":"IF($B57=\"SOURCE\",IF(LEFT(G$6,1)='CONDUIT LENGTH'!$M50,IF(G$9='CONDUIT LENGTH'!$L50,'CONDUIT LENGTH'!$K50*-1,IF(AND(G$9=RIGHT('CONDUIT LENGTH'!$L50,2),LEFT('CONDUIT LENGTH'!$L50,3)=\"2x3\")=TRUE,IF(LEFT('CONDUIT LENGTH'!$L50,2)=\"2x\",'CONDUIT LENGTH'!$K50*-1*2,\"\"),\"\")),\"\"),IF(LEFT(G$6,1)='CONDUIT LENGTH'!$M50,IF(G$9='CONDUIT LENGTH'!$L50,'CONDUIT LENGTH'!$K50,IF(AND(G$9=RIGHT('CONDUIT LENGTH'!$L50,2),LEFT('CONDUIT LENGTH'!$L50,3)=\"2x3\")=TRUE,IF(LEFT('CONDUIT LENGTH'!$L50,2)=\"2x\",'CONDUIT LENGTH'!$K50*2,\"\"),\"\")),\"\"))","v":""},{"$f":"IF($B57=\"SOURCE\",IF(LEFT(G$6,1)='CONDUIT LENGTH'!$M50,IF(H$9='CONDUIT LENGTH'!$L50,'CONDUIT LENGTH'!$K50*-1,IF(AND(H$9=RIGHT('CONDUIT LENGTH'!$L50,2),LEFT('CONDUIT LENGTH'!$L50,3)=\"2x3\")=TRUE,IF(LEFT('CONDUIT LENGTH'!$L50,2)=\"2x\",'CONDUIT LENGTH'!$K50*-1*2,\"\"),\"\")),\"\"),IF(LEFT(G$6,1)='CONDUIT LENGTH'!$M50,IF(H$9='CONDUIT LENGTH'!$L50,'CONDUIT LENGTH'!$K50,IF(AND(H$9=RIGHT('CONDUIT LENGTH'!$L50,2),LEFT('CONDUIT LENGTH'!$L50,3)=\"2x3\")=TRUE,IF(LEFT('CONDUIT LENGTH'!$L50,2)=\"2x\",'CONDUIT LENGTH'!$K50*2,\"\"),\"\")),\"\"))","v":""},{"$f":"IF($B57=\"SOURCE\",IF(LEFT(J$6,1)='CONDUIT LENGTH'!$M50,IF(I$9='CONDUIT LENGTH'!$L50,'CONDUIT LENGTH'!$K50*-1,IF(AND(I$9=RIGHT('CONDUIT LENGTH'!$L50,2),LEFT('CONDUIT LENGTH'!$L50,3)=\"2x3\")=TRUE,IF(LEFT('CONDUIT LENGTH'!$L50,2)=\"2x\",'CONDUIT LENGTH'!$K50*-1*2,\"\"),\"\")),\"\"),IF(LEFT(J$6,1)='CONDUIT LENGTH'!$M50,IF(I$9='CONDUIT LENGTH'!$L50,'CONDUIT LENGTH'!$K50,IF(AND(I$9=RIGHT('CONDUIT LENGTH'!$L50,2),LEFT('CONDUIT LENGTH'!$L50,3)=\"2x3\")=TRUE,IF(LEFT('CONDUIT LENGTH'!$L50,2)=\"2x\",'CONDUIT LENGTH'!$K50*2,\"\"),\"\")),\"\"))","v":""},{"$f":"IF($B57=\"SOURCE\",IF(LEFT(J$6,1)='CONDUIT LENGTH'!$M50,IF(J$9='CONDUIT LENGTH'!$L50,'CONDUIT LENGTH'!$K50*-1,IF(AND(J$9=RIGHT('CONDUIT LENGTH'!$L50,2),LEFT('CONDUIT LENGTH'!$L50,3)=\"2x3\")=TRUE,IF(LEFT('CONDUIT LENGTH'!$L50,2)=\"2x\",'CONDUIT LENGTH'!$K50*-1*2,\"\"),\"\")),\"\"),IF(LEFT(J$6,1)='CONDUIT LENGTH'!$M50,IF(J$9='CONDUIT LENGTH'!$L50,'CONDUIT LENGTH'!$K50,IF(AND(J$9=RIGHT('CONDUIT LENGTH'!$L50,2),LEFT('CONDUIT LENGTH'!$L50,3)=\"2x3\")=TRUE,IF(LEFT('CONDUIT LENGTH'!$L50,2)=\"2x\",'CONDUIT LENGTH'!$K50*2,\"\"),\"\")),\"\"))","v":""},{"$f":"IF($B57=\"SOURCE\",IF(LEFT(J$6,1)='CONDUIT LENGTH'!$M50,IF(K$9='CONDUIT LENGTH'!$L50,'CONDUIT LENGTH'!$K50*-1,IF(AND(K$9=RIGHT('CONDUIT LENGTH'!$L50,2),LEFT('CONDUIT LENGTH'!$L50,3)=\"2x3\")=TRUE,IF(LEFT('CONDUIT LENGTH'!$L50,2)=\"2x\",'CONDUIT LENGTH'!$K50*-1*2,\"\"),\"\")),\"\"),IF(LEFT(J$6,1)='CONDUIT LENGTH'!$M50,IF(K$9='CONDUIT LENGTH'!$L50,'CONDUIT LENGTH'!$K50,IF(AND(K$9=RIGHT('CONDUIT LENGTH'!$L50,2),LEFT('CONDUIT LENGTH'!$L50,3)=\"2x3\")=TRUE,IF(LEFT('CONDUIT LENGTH'!$L50,2)=\"2x\",'CONDUIT LENGTH'!$K50*2,\"\"),\"\")),\"\"))","v":""},{"$f":"IF($B57=\"SOURCE\",IF(LEFT(M$6,1)='CONDUIT LENGTH'!$M50,IF(L$9='CONDUIT LENGTH'!$L50,'CONDUIT LENGTH'!$K50*-1,IF(AND(L$9=RIGHT('CONDUIT LENGTH'!$L50,2),LEFT('CONDUIT LENGTH'!$L50,3)=\"2x3\")=TRUE,IF(LEFT('CONDUIT LENGTH'!$L50,2)=\"2x\",'CONDUIT LENGTH'!$K50*-1*2,\"\"),\"\")),\"\"),IF(LEFT(M$6,1)='CONDUIT LENGTH'!$M50,IF(L$9='CONDUIT LENGTH'!$L50,'CONDUIT LENGTH'!$K50,IF(AND(L$9=RIGHT('CONDUIT LENGTH'!$L50,2),LEFT('CONDUIT LENGTH'!$L50,3)=\"2x3\")=TRUE,IF(LEFT('CONDUIT LENGTH'!$L50,2)=\"2x\",'CONDUIT LENGTH'!$K50*2,\"\"),\"\")),\"\"))","v":""},{"$f":"IF($B57=\"SOURCE\",IF(LEFT(M$6,1)='CONDUIT LENGTH'!$M50,IF(M$9='CONDUIT LENGTH'!$L50,'CONDUIT LENGTH'!$K50*-1,IF(AND(M$9=RIGHT('CONDUIT LENGTH'!$L50,2),LEFT('CONDUIT LENGTH'!$L50,3)=\"2x3\")=TRUE,IF(LEFT('CONDUIT LENGTH'!$L50,2)=\"2x\",'CONDUIT LENGTH'!$K50*-1*2,\"\"),\"\")),\"\"),IF(LEFT(M$6,1)='CONDUIT LENGTH'!$M50,IF(M$9='CONDUIT LENGTH'!$L50,'CONDUIT LENGTH'!$K50,IF(AND(M$9=RIGHT('CONDUIT LENGTH'!$L50,2),LEFT('CONDUIT LENGTH'!$L50,3)=\"2x3\")=TRUE,IF(LEFT('CONDUIT LENGTH'!$L50,2)=\"2x\",'CONDUIT LENGTH'!$K50*2,\"\"),\"\")),\"\"))","v":""},{"$f":"IF($B57=\"SOURCE\",IF(LEFT(M$6,1)='CONDUIT LENGTH'!$M50,IF(N$9='CONDUIT LENGTH'!$L50,'CONDUIT LENGTH'!$K50*-1,IF(AND(N$9=RIGHT('CONDUIT LENGTH'!$L50,2),LEFT('CONDUIT LENGTH'!$L50,3)=\"2x3\")=TRUE,IF(LEFT('CONDUIT LENGTH'!$L50,2)=\"2x\",'CONDUIT LENGTH'!$K50*-1*2,\"\"),\"\")),\"\"),IF(LEFT(M$6,1)='CONDUIT LENGTH'!$M50,IF(N$9='CONDUIT LENGTH'!$L50,'CONDUIT LENGTH'!$K50,IF(AND(N$9=RIGHT('CONDUIT LENGTH'!$L50,2),LEFT('CONDUIT LENGTH'!$L50,3)=\"2x3\")=TRUE,IF(LEFT('CONDUIT LENGTH'!$L50,2)=\"2x\",'CONDUIT LENGTH'!$K50*2,\"\"),\"\")),\"\"))","v":""},{"$f":"IF($B57=\"SOURCE\",IF(LEFT(P$5,1)='CONDUIT LENGTH'!$M50,IF(O$9='CONDUIT LENGTH'!$L50,'CONDUIT LENGTH'!$K50*-1,IF(AND(O$9=RIGHT('CONDUIT LENGTH'!$L50,2),LEFT('CONDUIT LENGTH'!$L50,3)=\"2x3\")=TRUE,IF(LEFT('CONDUIT LENGTH'!$L50,2)=\"2x\",'CONDUIT LENGTH'!$K50*-1*2,\"\"),\"\")),\"\"),IF(LEFT(P$6,1)='CONDUIT LENGTH'!$M50,IF(O$9='CONDUIT LENGTH'!$L50,'CONDUIT LENGTH'!$K50,IF(AND(O$9=RIGHT('CONDUIT LENGTH'!$L50,2),LEFT('CONDUIT LENGTH'!$L50,3)=\"2x3\")=TRUE,IF(LEFT('CONDUIT LENGTH'!$L50,2)=\"2x\",'CONDUIT LENGTH'!$K50*2,\"\"),\"\")),\"\"))","v":""},{"$f":"IF($B57=\"SOURCE\",IF(LEFT(P$5,1)='CONDUIT LENGTH'!$M50,IF(P$9='CONDUIT LENGTH'!$L50,'CONDUIT LENGTH'!$K50*-1,IF(AND(P$9=RIGHT('CONDUIT LENGTH'!$L50,2),LEFT('CONDUIT LENGTH'!$L50,3)=\"2x3\")=TRUE,IF(LEFT('CONDUIT LENGTH'!$L50,2)=\"2x\",'CONDUIT LENGTH'!$K50*-1*2,\"\"),\"\")),\"\"),IF(LEFT(P$6,1)='CONDUIT LENGTH'!$M50,IF(P$9='CONDUIT LENGTH'!$L50,'CONDUIT LENGTH'!$K50,IF(AND(P$9=RIGHT('CONDUIT LENGTH'!$L50,2),LEFT('CONDUIT LENGTH'!$L50,3)=\"2x3\")=TRUE,IF(LEFT('CONDUIT LENGTH'!$L50,2)=\"2x\",'CONDUIT LENGTH'!$K50*2,\"\"),\"\")),\"\"))","v":""},{"$f":"IF($B57=\"SOURCE\",IF(LEFT(P$5,1)='CONDUIT LENGTH'!$M50,IF(Q$9='CONDUIT LENGTH'!$L50,'CONDUIT LENGTH'!$K50*-1,IF(AND(Q$9=RIGHT('CONDUIT LENGTH'!$L50,2),LEFT('CONDUIT LENGTH'!$L50,3)=\"2x3\")=TRUE,IF(LEFT('CONDUIT LENGTH'!$L50,2)=\"2x\",'CONDUIT LENGTH'!$K50*-1*2,\"\"),\"\")),\"\"),IF(LEFT(Q$6,1)='CONDUIT LENGTH'!$M50,IF(Q$9='CONDUIT LENGTH'!$L50,'CONDUIT LENGTH'!$K50,IF(AND(Q$9=RIGHT('CONDUIT LENGTH'!$L50,2),LEFT('CONDUIT LENGTH'!$L50,3)=\"2x3\")=TRUE,IF(LEFT('CONDUIT LENGTH'!$L50,2)=\"2x\",'CONDUIT LENGTH'!$K50*2,\"\"),\"\")),\"\"))","v":""},{"$f":"IF('CONDUIT LENGTH'!M50=\"UIP\",\"UIP EXISTING\",\"\")","v":""},{"$f":"IF('CABLE LENGTH'!A51>0,'CABLE LENGTH'!A51,\"\")","v":""},{"$f":"IF('CABLE LENGTH'!B51>0,'CABLE LENGTH'!B51,\"\")","v":""},{"$f":"IF('CABLE LENGTH'!Q51>0,'CABLE LENGTH'!Q51,\"\")","v":""},{"$f":"IF($S57=\"SOURCE\",IF(V$9='CABLE LENGTH'!$AK51,'CABLE LENGTH'!$AJ51*'CABLE LENGTH'!$AL51*-1,\"\"),IF(V$9=\"VIDEO\",IF(V$9='CABLE LENGTH'!$AK51,'CABLE LENGTH'!$AJ51*'CABLE LENGTH'!$AL51*-1,\"\"),IF(V$9='CABLE LENGTH'!$AK51,'CABLE LENGTH'!$AJ51*'CABLE LENGTH'!$AL51,\"\")))","v":""},{"$f":"IF($S57=\"SOURCE\",IF(W$9='CABLE LENGTH'!$AK51,'CABLE LENGTH'!$AJ51*'CABLE LENGTH'!$AL51*-1,\"\"),IF(W$9=\"VIDEO\",IF(W$9='CABLE LENGTH'!$AK51,'CABLE LENGTH'!$AJ51*'CABLE LENGTH'!$AL51*-1,\"\"),IF(W$9='CABLE LENGTH'!$AK51,'CABLE LENGTH'!$AJ51*'CABLE LENGTH'!$AL51,\"\")))","v":""},{"$f":"IF($S57=\"SOURCE\",IF(X$10='CABLE LENGTH'!$AK51,'CABLE LENGTH'!$AJ51*'CABLE LENGTH'!$AL51*-1,\"\"),IF(X$10=\"VIDEO\",IF(X$10='CABLE LENGTH'!$AK51,'CABLE LENGTH'!$AJ51*'CABLE LENGTH'!$AL51*-1,\"\"),IF(X$10='CABLE LENGTH'!$AK51,'CABLE LENGTH'!$AJ51*'CABLE LENGTH'!$AL51,\"\")))","v":""},{"$f":"IF($S57=\"SOURCE\",IF(Y$10='CABLE LENGTH'!$AK51,'CABLE LENGTH'!$AJ51*'CABLE LENGTH'!$AL51*-1,\"\"),IF(Y$10=\"VIDEO\",IF(Y$10='CABLE LENGTH'!$AK51,'CABLE LENGTH'!$AJ51*'CABLE LENGTH'!$AL51*-1,\"\"),IF(Y$10='CABLE LENGTH'!$AK51,'CABLE LENGTH'!$AJ51*'CABLE LENGTH'!$AL51,\"\")))","v":""},{"$f":"IF($S57=\"SOURCE\",IF(Z$10='CABLE LENGTH'!$AK51,'CABLE LENGTH'!$AJ51*'CABLE LENGTH'!$AL51*-1,\"\"),IF(Z$10=\"VIDEO\",IF(Z$10='CABLE LENGTH'!$AK51,'CABLE LENGTH'!$AJ51*'CABLE LENGTH'!$AL51*-1,\"\"),IF(Z$10='CABLE LENGTH'!$AK51,'CABLE LENGTH'!$AJ51*'CABLE LENGTH'!$AL51,\"\")))","v":""},{"$f":"IF($S57=\"SOURCE\",IF(AA$10='CABLE LENGTH'!$AK51,'CABLE LENGTH'!$AJ51*'CABLE LENGTH'!$AL51*-1,\"\"),IF(AA$10=\"VIDEO\",IF(AA$10='CABLE LENGTH'!$AK51,'CABLE LENGTH'!$AJ51*'CABLE LENGTH'!$AL51*-1,\"\"),IF(AA$10='CABLE LENGTH'!$AK51,'CABLE LENGTH'!$AJ51*'CABLE LENGTH'!$AL51,\"\")))","v":""},{"$f":"IF($S57=\"SOURCE\",IF(AB$10='CABLE LENGTH'!$AK51,'CABLE LENGTH'!$AJ51*'CABLE LENGTH'!$AL51*-1,\"\"),IF(AB$10=\"VIDEO\",IF(AB$10='CABLE LENGTH'!$AK51,'CABLE LENGTH'!$AJ51*'CABLE LENGTH'!$AL51*-1,\"\"),IF(AB$10='CABLE LENGTH'!$AK51,'CABLE LENGTH'!$AJ51*'CABLE LENGTH'!$AL51,\"\")))","v":""},{"$f":"IF($S57=\"SOURCE\",IF(AC$10='CABLE LENGTH'!$AK51,'CABLE LENGTH'!$AJ51*'CABLE LENGTH'!$AL51*-1,\"\"),IF(AC$10=\"VIDEO\",IF(AC$10='CABLE LENGTH'!$AK51,'CABLE LENGTH'!$AJ51*'CABLE LENGTH'!$AL51*-1,\"\"),IF(AC$10='CABLE LENGTH'!$AK51,'CABLE LENGTH'!$AJ51*'CABLE LENGTH'!$AL51,\"\")))","v":""},{"$f":"IF($S57=\"SOURCE\",IF(AD$9='CABLE LENGTH'!$AK51,'CABLE LENGTH'!$AJ51*'CABLE LENGTH'!$AL51*-1,\"\"),IF(AD$9=\"VIDEO\",IF(AD$9='CABLE LENGTH'!$AK51,'CABLE LENGTH'!$AJ51*'CABLE LENGTH'!$AL51*-1,\"\"),IF(AD$9='CABLE LENGTH'!$AK51,'CABLE LENGTH'!$AJ51*'CABLE LENGTH'!$AL51,\"\")))","v":""},{"$f":"IF($S57=\"SOURCE\",IF(AE$9='CABLE LENGTH'!$AK51,'CABLE LENGTH'!$AJ51*'CABLE LENGTH'!$AL51*-1,\"\"),IF(AE$9=\"VIDEO\",IF(AE$9='CABLE LENGTH'!$AK51,'CABLE LENGTH'!$AJ51*'CABLE LENGTH'!$AL51*-1,\"\"),IF(AE$9='CABLE LENGTH'!$AK51,'CABLE LENGTH'!$AJ51*'CABLE LENGTH'!$AL51,\"\")))","v":""},{"$f":"IF($S57=\"SOURCE\",IF(AF$9='CABLE LENGTH'!$AK51,'CABLE LENGTH'!$AJ51*'CABLE LENGTH'!$AL51*-1,\"\"),IF(AF$9=\"VIDEO\",IF(AF$9='CABLE LENGTH'!$AK51,'CABLE LENGTH'!$AJ51*'CABLE LENGTH'!$AL51*-1,\"\"),IF(AF$9='CABLE LENGTH'!$AK51,'CABLE LENGTH'!$AJ51*'CABLE LENGTH'!$AL51,\"\")))","v":""}]
[0.3,{"$f":"IF('CONDUIT LENGTH'!A51>0,'CONDUIT LENGTH'!A51,\" \")","v":" "},{"$f":"IF('CONDUIT LENGTH'!B51>0,'CONDUIT LENGTH'!B51,\" \")","v":" "},{"$f":"IF('CONDUIT LENGTH'!C51>0,'CONDUIT LENGTH'!C51,\" \")","v":" "},{"$f":"IF($B58=\"SOURCE\",IF(LEFT(E$5,1)='CONDUIT LENGTH'!$M51,IF(E$9='CONDUIT LENGTH'!$L51,'CONDUIT LENGTH'!$K51*-1,IF(AND(E$9=RIGHT('CONDUIT LENGTH'!$L51,2),LEFT('CONDUIT LENGTH'!$L51,3)=\"2x3\")=TRUE,IF(LEFT('CONDUIT LENGTH'!$L51,2)=\"2x\",'CONDUIT LENGTH'!$K51*-1*2,\"\"),\"\")),\"\"),IF(LEFT(E$5,1)='CONDUIT LENGTH'!$M51,IF(E$9='CONDUIT LENGTH'!$L51,'CONDUIT LENGTH'!$K51,IF(AND(E$9=RIGHT('CONDUIT LENGTH'!$L51,2),LEFT('CONDUIT LENGTH'!$L51,3)=\"2x3\")=TRUE,IF(LEFT('CONDUIT LENGTH'!$L51,2)=\"2x\",'CONDUIT LENGTH'!$K51*2,\"\"),\"\")),\"\"))","v":""},{"$f":"IF($B58=\"SOURCE\",IF(LEFT(G$6,1)='CONDUIT LENGTH'!$M51,IF(F$9='CONDUIT LENGTH'!$L51,'CONDUIT LENGTH'!$K51*-1,IF(AND(F$9=RIGHT('CONDUIT LENGTH'!$L51,2),LEFT('CONDUIT LENGTH'!$L51,3)=\"2x3\")=TRUE,IF(LEFT('CONDUIT LENGTH'!$L51,2)=\"2x\",'CONDUIT LENGTH'!$K51*-1*2,\"\"),\"\")),\"\"),IF(LEFT(G$6,1)='CONDUIT LENGTH'!$M51,IF(F$9='CONDUIT LENGTH'!$L51,'CONDUIT LENGTH'!$K51,IF(AND(F$9=RIGHT('CONDUIT LENGTH'!$L51,2),LEFT('CONDUIT LENGTH'!$L51,3)=\"2x3\")=TRUE,IF(LEFT('CONDUIT LENGTH'!$L51,2)=\"2x\",'CONDUIT LENGTH'!$K51*2,\"\"),\"\")),\"\"))","v":""},{"$f":"IF($B58=\"SOURCE\",IF(LEFT(G$6,1)='CONDUIT LENGTH'!$M51,IF(G$9='CONDUIT LENGTH'!$L51,'CONDUIT LENGTH'!$K51*-1,IF(AND(G$9=RIGHT('CONDUIT LENGTH'!$L51,2),LEFT('CONDUIT LENGTH'!$L51,3)=\"2x3\")=TRUE,IF(LEFT('CONDUIT LENGTH'!$L51,2)=\"2x\",'CONDUIT LENGTH'!$K51*-1*2,\"\"),\"\")),\"\"),IF(LEFT(G$6,1)='CONDUIT LENGTH'!$M51,IF(G$9='CONDUIT LENGTH'!$L51,'CONDUIT LENGTH'!$K51,IF(AND(G$9=RIGHT('CONDUIT LENGTH'!$L51,2),LEFT('CONDUIT LENGTH'!$L51,3)=\"2x3\")=TRUE,IF(LEFT('CONDUIT LENGTH'!$L51,2)=\"2x\",'CONDUIT LENGTH'!$K51*2,\"\"),\"\")),\"\"))","v":""},{"$f":"IF($B58=\"SOURCE\",IF(LEFT(G$6,1)='CONDUIT LENGTH'!$M51,IF(H$9='CONDUIT LENGTH'!$L51,'CONDUIT LENGTH'!$K51*-1,IF(AND(H$9=RIGHT('CONDUIT LENGTH'!$L51,2),LEFT('CONDUIT LENGTH'!$L51,3)=\"2x3\")=TRUE,IF(LEFT('CONDUIT LENGTH'!$L51,2)=\"2x\",'CONDUIT LENGTH'!$K51*-1*2,\"\"),\"\")),\"\"),IF(LEFT(G$6,1)='CONDUIT LENGTH'!$M51,IF(H$9='CONDUIT LENGTH'!$L51,'CONDUIT LENGTH'!$K51,IF(AND(H$9=RIGHT('CONDUIT LENGTH'!$L51,2),LEFT('CONDUIT LENGTH'!$L51,3)=\"2x3\")=TRUE,IF(LEFT('CONDUIT LENGTH'!$L51,2)=\"2x\",'CONDUIT LENGTH'!$K51*2,\"\"),\"\")),\"\"))","v":""},{"$f":"IF($B58=\"SOURCE\",IF(LEFT(J$6,1)='CONDUIT LENGTH'!$M51,IF(I$9='CONDUIT LENGTH'!$L51,'CONDUIT LENGTH'!$K51*-1,IF(AND(I$9=RIGHT('CONDUIT LENGTH'!$L51,2),LEFT('CONDUIT LENGTH'!$L51,3)=\"2x3\")=TRUE,IF(LEFT('CONDUIT LENGTH'!$L51,2)=\"2x\",'CONDUIT LENGTH'!$K51*-1*2,\"\"),\"\")),\"\"),IF(LEFT(J$6,1)='CONDUIT LENGTH'!$M51,IF(I$9='CONDUIT LENGTH'!$L51,'CONDUIT LENGTH'!$K51,IF(AND(I$9=RIGHT('CONDUIT LENGTH'!$L51,2),LEFT('CONDUIT LENGTH'!$L51,3)=\"2x3\")=TRUE,IF(LEFT('CONDUIT LENGTH'!$L51,2)=\"2x\",'CONDUIT LENGTH'!$K51*2,\"\"),\"\")),\"\"))","v":""},{"$f":"IF($B58=\"SOURCE\",IF(LEFT(J$6,1)='CONDUIT LENGTH'!$M51,IF(J$9='CONDUIT LENGTH'!$L51,'CONDUIT LENGTH'!$K51*-1,IF(AND(J$9=RIGHT('CONDUIT LENGTH'!$L51,2),LEFT('CONDUIT LENGTH'!$L51,3)=\"2x3\")=TRUE,IF(LEFT('CONDUIT LENGTH'!$L51,2)=\"2x\",'CONDUIT LENGTH'!$K51*-1*2,\"\"),\"\")),\"\"),IF(LEFT(J$6,1)='CONDUIT LENGTH'!$M51,IF(J$9='CONDUIT LENGTH'!$L51,'CONDUIT LENGTH'!$K51,IF(AND(J$9=RIGHT('CONDUIT LENGTH'!$L51,2),LEFT('CONDUIT LENGTH'!$L51,3)=\"2x3\")=TRUE,IF(LEFT('CONDUIT LENGTH'!$L51,2)=\"2x\",'CONDUIT LENGTH'!$K51*2,\"\"),\"\")),\"\"))","v":""},{"$f":"IF($B58=\"SOURCE\",IF(LEFT(J$6,1)='CONDUIT LENGTH'!$M51,IF(K$9='CONDUIT LENGTH'!$L51,'CONDUIT LENGTH'!$K51*-1,IF(AND(K$9=RIGHT('CONDUIT LENGTH'!$L51,2),LEFT('CONDUIT LENGTH'!$L51,3)=\"2x3\")=TRUE,IF(LEFT('CONDUIT LENGTH'!$L51,2)=\"2x\",'CONDUIT LENGTH'!$K51*-1*2,\"\"),\"\")),\"\"),IF(LEFT(J$6,1)='CONDUIT LENGTH'!$M51,IF(K$9='CONDUIT LENGTH'!$L51,'CONDUIT LENGTH'!$K51,IF(AND(K$9=RIGHT('CONDUIT LENGTH'!$L51,2),LEFT('CONDUIT LENGTH'!$L51,3)=\"2x3\")=TRUE,IF(LEFT('CONDUIT LENGTH'!$L51,2)=\"2x\",'CONDUIT LENGTH'!$K51*2,\"\"),\"\")),\"\"))","v":""},{"$f":"IF($B58=\"SOURCE\",IF(LEFT(M$6,1)='CONDUIT LENGTH'!$M51,IF(L$9='CONDUIT LENGTH'!$L51,'CONDUIT LENGTH'!$K51*-1,IF(AND(L$9=RIGHT('CONDUIT LENGTH'!$L51,2),LEFT('CONDUIT LENGTH'!$L51,3)=\"2x3\")=TRUE,IF(LEFT('CONDUIT LENGTH'!$L51,2)=\"2x\",'CONDUIT LENGTH'!$K51*-1*2,\"\"),\"\")),\"\"),IF(LEFT(M$6,1)='CONDUIT LENGTH'!$M51,IF(L$9='CONDUIT LENGTH'!$L51,'CONDUIT LENGTH'!$K51,IF(AND(L$9=RIGHT('CONDUIT LENGTH'!$L51,2),LEFT('CONDUIT LENGTH'!$L51,3)=\"2x3\")=TRUE,IF(LEFT('CONDUIT LENGTH'!$L51,2)=\"2x\",'CONDUIT LENGTH'!$K51*2,\"\"),\"\")),\"\"))","v":""},{"$f":"IF($B58=\"SOURCE\",IF(LEFT(M$6,1)='CONDUIT LENGTH'!$M51,IF(M$9='CONDUIT LENGTH'!$L51,'CONDUIT LENGTH'!$K51*-1,IF(AND(M$9=RIGHT('CONDUIT LENGTH'!$L51,2),LEFT('CONDUIT LENGTH'!$L51,3)=\"2x3\")=TRUE,IF(LEFT('CONDUIT LENGTH'!$L51,2)=\"2x\",'CONDUIT LENGTH'!$K51*-1*2,\"\"),\"\")),\"\"),IF(LEFT(M$6,1)='CONDUIT LENGTH'!$M51,IF(M$9='CONDUIT LENGTH'!$L51,'CONDUIT LENGTH'!$K51,IF(AND(M$9=RIGHT('CONDUIT LENGTH'!$L51,2),LEFT('CONDUIT LENGTH'!$L51,3)=\"2x3\")=TRUE,IF(LEFT('CONDUIT LENGTH'!$L51,2)=\"2x\",'CONDUIT LENGTH'!$K51*2,\"\"),\"\")),\"\"))","v":""},{"$f":"IF($B58=\"SOURCE\",IF(LEFT(M$6,1)='CONDUIT LENGTH'!$M51,IF(N$9='CONDUIT LENGTH'!$L51,'CONDUIT LENGTH'!$K51*-1,IF(AND(N$9=RIGHT('CONDUIT LENGTH'!$L51,2),LEFT('CONDUIT LENGTH'!$L51,3)=\"2x3\")=TRUE,IF(LEFT('CONDUIT LENGTH'!$L51,2)=\"2x\",'CONDUIT LENGTH'!$K51*-1*2,\"\"),\"\")),\"\"),IF(LEFT(M$6,1)='CONDUIT LENGTH'!$M51,IF(N$9='CONDUIT LENGTH'!$L51,'CONDUIT LENGTH'!$K51,IF(AND(N$9=RIGHT('CONDUIT LENGTH'!$L51,2),LEFT('CONDUIT LENGTH'!$L51,3)=\"2x3\")=TRUE,IF(LEFT('CONDUIT LENGTH'!$L51,2)=\"2x\",'CONDUIT LENGTH'!$K51*2,\"\"),\"\")),\"\"))","v":""},{"$f":"IF($B58=\"SOURCE\",IF(LEFT(P$5,1)='CONDUIT LENGTH'!$M51,IF(O$9='CONDUIT LENGTH'!$L51,'CONDUIT LENGTH'!$K51*-1,IF(AND(O$9=RIGHT('CONDUIT LENGTH'!$L51,2),LEFT('CONDUIT LENGTH'!$L51,3)=\"2x3\")=TRUE,IF(LEFT('CONDUIT LENGTH'!$L51,2)=\"2x\",'CONDUIT LENGTH'!$K51*-1*2,\"\"),\"\")),\"\"),IF(LEFT(P$6,1)='CONDUIT LENGTH'!$M51,IF(O$9='CONDUIT LENGTH'!$L51,'CONDUIT LENGTH'!$K51,IF(AND(O$9=RIGHT('CONDUIT LENGTH'!$L51,2),LEFT('CONDUIT LENGTH'!$L51,3)=\"2x3\")=TRUE,IF(LEFT('CONDUIT LENGTH'!$L51,2)=\"2x\",'CONDUIT LENGTH'!$K51*2,\"\"),\"\")),\"\"))","v":""},{"$f":"IF($B58=\"SOURCE\",IF(LEFT(P$5,1)='CONDUIT LENGTH'!$M51,IF(P$9='CONDUIT LENGTH'!$L51,'CONDUIT LENGTH'!$K51*-1,IF(AND(P$9=RIGHT('CONDUIT LENGTH'!$L51,2),LEFT('CONDUIT LENGTH'!$L51,3)=\"2x3\")=TRUE,IF(LEFT('CONDUIT LENGTH'!$L51,2)=\"2x\",'CONDUIT LENGTH'!$K51*-1*2,\"\"),\"\")),\"\"),IF(LEFT(P$6,1)='CONDUIT LENGTH'!$M51,IF(P$9='CONDUIT LENGTH'!$L51,'CONDUIT LENGTH'!$K51,IF(AND(P$9=RIGHT('CONDUIT LENGTH'!$L51,2),LEFT('CONDUIT LENGTH'!$L51,3)=\"2x3\")=TRUE,IF(LEFT('CONDUIT LENGTH'!$L51,2)=\"2x\",'CONDUIT LENGTH'!$K51*2,\"\"),\"\")),\"\"))","v":""},{"$f":"IF($B58=\"SOURCE\",IF(LEFT(P$5,1)='CONDUIT LENGTH'!$M51,IF(Q$9='CONDUIT LENGTH'!$L51,'CONDUIT LENGTH'!$K51*-1,IF(AND(Q$9=RIGHT('CONDUIT LENGTH'!$L51,2),LEFT('CONDUIT LENGTH'!$L51,3)=\"2x3\")=TRUE,IF(LEFT('CONDUIT LENGTH'!$L51,2)=\"2x\",'CONDUIT LENGTH'!$K51*-1*2,\"\"),\"\")),\"\"),IF(LEFT(Q$6,1)='CONDUIT LENGTH'!$M51,IF(Q$9='CONDUIT LENGTH'!$L51,'CONDUIT LENGTH'!$K51,IF(AND(Q$9=RIGHT('CONDUIT LENGTH'!$L51,2),LEFT('CONDUIT LENGTH'!$L51,3)=\"2x3\")=TRUE,IF(LEFT('CONDUIT LENGTH'!$L51,2)=\"2x\",'CONDUIT LENGTH'!$K51*2,\"\"),\"\")),\"\"))","v":""},{"$f":"IF('CONDUIT LENGTH'!M51=\"UIP\",\"UIP EXISTING\",\"\")","v":""},{"$f":"IF('CABLE LENGTH'!A52>0,'CABLE LENGTH'!A52,\"\")","v":""},{"$f":"IF('CABLE LENGTH'!B52>0,'CABLE LENGTH'!B52,\"\")","v":""},{"$f":"IF('CABLE LENGTH'!Q52>0,'CABLE LENGTH'!Q52,\"\")","v":""},{"$f":"IF($S58=\"SOURCE\",IF(V$9='CABLE LENGTH'!$AK52,'CABLE LENGTH'!$AJ52*'CABLE LENGTH'!$AL52*-1,\"\"),IF(V$9=\"VIDEO\",IF(V$9='CABLE LENGTH'!$AK52,'CABLE LENGTH'!$AJ52*'CABLE LENGTH'!$AL52*-1,\"\"),IF(V$9='CABLE LENGTH'!$AK52,'CABLE LENGTH'!$AJ52*'CABLE LENGTH'!$AL52,\"\")))","v":""},{"$f":"IF($S58=\"SOURCE\",IF(W$9='CABLE LENGTH'!$AK52,'CABLE LENGTH'!$AJ52*'CABLE LENGTH'!$AL52*-1,\"\"),IF(W$9=\"VIDEO\",IF(W$9='CABLE LENGTH'!$AK52,'CABLE LENGTH'!$AJ52*'CABLE LENGTH'!$AL52*-1,\"\"),IF(W$9='CABLE LENGTH'!$AK52,'CABLE LENGTH'!$AJ52*'CABLE LENGTH'!$AL52,\"\")))","v":""},{"$f":"IF($S58=\"SOURCE\",IF(X$10='CABLE LENGTH'!$AK52,'CABLE LENGTH'!$AJ52*'CABLE LENGTH'!$AL52*-1,\"\"),IF(X$10=\"VIDEO\",IF(X$10='CABLE LENGTH'!$AK52,'CABLE LENGTH'!$AJ52*'CABLE LENGTH'!$AL52*-1,\"\"),IF(X$10='CABLE LENGTH'!$AK52,'CABLE LENGTH'!$AJ52*'CABLE LENGTH'!$AL52,\"\")))","v":""},{"$f":"IF($S58=\"SOURCE\",IF(Y$10='CABLE LENGTH'!$AK52,'CABLE LENGTH'!$AJ52*'CABLE LENGTH'!$AL52*-1,\"\"),IF(Y$10=\"VIDEO\",IF(Y$10='CABLE LENGTH'!$AK52,'CABLE LENGTH'!$AJ52*'CABLE LENGTH'!$AL52*-1,\"\"),IF(Y$10='CABLE LENGTH'!$AK52,'CABLE LENGTH'!$AJ52*'CABLE LENGTH'!$AL52,\"\")))","v":""},{"$f":"IF($S58=\"SOURCE\",IF(Z$10='CABLE LENGTH'!$AK52,'CABLE LENGTH'!$AJ52*'CABLE LENGTH'!$AL52*-1,\"\"),IF(Z$10=\"VIDEO\",IF(Z$10='CABLE LENGTH'!$AK52,'CABLE LENGTH'!$AJ52*'CABLE LENGTH'!$AL52*-1,\"\"),IF(Z$10='CABLE LENGTH'!$AK52,'CABLE LENGTH'!$AJ52*'CABLE LENGTH'!$AL52,\"\")))","v":""},{"$f":"IF($S58=\"SOURCE\",IF(AA$10='CABLE LENGTH'!$AK52,'CABLE LENGTH'!$AJ52*'CABLE LENGTH'!$AL52*-1,\"\"),IF(AA$10=\"VIDEO\",IF(AA$10='CABLE LENGTH'!$AK52,'CABLE LENGTH'!$AJ52*'CABLE LENGTH'!$AL52*-1,\"\"),IF(AA$10='CABLE LENGTH'!$AK52,'CABLE LENGTH'!$AJ52*'CABLE LENGTH'!$AL52,\"\")))","v":""},{"$f":"IF($S58=\"SOURCE\",IF(AB$10='CABLE LENGTH'!$AK52,'CABLE LENGTH'!$AJ52*'CABLE LENGTH'!$AL52*-1,\"\"),IF(AB$10=\"VIDEO\",IF(AB$10='CABLE LENGTH'!$AK52,'CABLE LENGTH'!$AJ52*'CABLE LENGTH'!$AL52*-1,\"\"),IF(AB$10='CABLE LENGTH'!$AK52,'CABLE LENGTH'!$AJ52*'CABLE LENGTH'!$AL52,\"\")))","v":""},{"$f":"IF($S58=\"SOURCE\",IF(AC$10='CABLE LENGTH'!$AK52,'CABLE LENGTH'!$AJ52*'CABLE LENGTH'!$AL52*-1,\"\"),IF(AC$10=\"VIDEO\",IF(AC$10='CABLE LENGTH'!$AK52,'CABLE LENGTH'!$AJ52*'CABLE LENGTH'!$AL52*-1,\"\"),IF(AC$10='CABLE LENGTH'!$AK52,'CABLE LENGTH'!$AJ52*'CABLE LENGTH'!$AL52,\"\")))","v":""},{"$f":"IF($S58=\"SOURCE\",IF(AD$9='CABLE LENGTH'!$AK52,'CABLE LENGTH'!$AJ52*'CABLE LENGTH'!$AL52*-1,\"\"),IF(AD$9=\"VIDEO\",IF(AD$9='CABLE LENGTH'!$AK52,'CABLE LENGTH'!$AJ52*'CABLE LENGTH'!$AL52*-1,\"\"),IF(AD$9='CABLE LENGTH'!$AK52,'CABLE LENGTH'!$AJ52*'CABLE LENGTH'!$AL52,\"\")))","v":""},{"$f":"IF($S58=\"SOURCE\",IF(AE$9='CABLE LENGTH'!$AK52,'CABLE LENGTH'!$AJ52*'CABLE LENGTH'!$AL52*-1,\"\"),IF(AE$9=\"VIDEO\",IF(AE$9='CABLE LENGTH'!$AK52,'CABLE LENGTH'!$AJ52*'CABLE LENGTH'!$AL52*-1,\"\"),IF(AE$9='CABLE LENGTH'!$AK52,'CABLE LENGTH'!$AJ52*'CABLE LENGTH'!$AL52,\"\")))","v":""},{"$f":"IF($S58=\"SOURCE\",IF(AF$9='CABLE LENGTH'!$AK52,'CABLE LENGTH'!$AJ52*'CABLE LENGTH'!$AL52*-1,\"\"),IF(AF$9=\"VIDEO\",IF(AF$9='CABLE LENGTH'!$AK52,'CABLE LENGTH'!$AJ52*'CABLE LENGTH'!$AL52*-1,\"\"),IF(AF$9='CABLE LENGTH'!$AK52,'CABLE LENGTH'!$AJ52*'CABLE LENGTH'!$AL52,\"\")))","v":""}]
[0.3,{"$f":"IF('CONDUIT LENGTH'!A52>0,'CONDUIT LENGTH'!A52,\" \")","v":" "},{"$f":"IF('CONDUIT LENGTH'!B52>0,'CONDUIT LENGTH'!B52,\" \")","v":" "},{"$f":"IF('CONDUIT LENGTH'!C52>0,'CONDUIT LENGTH'!C52,\" \")","v":" "},{"$f":"IF($B59=\"SOURCE\",IF(LEFT(E$5,1)='CONDUIT LENGTH'!$M52,IF(E$9='CONDUIT LENGTH'!$L52,'CONDUIT LENGTH'!$K52*-1,IF(AND(E$9=RIGHT('CONDUIT LENGTH'!$L52,2),LEFT('CONDUIT LENGTH'!$L52,3)=\"2x3\")=TRUE,IF(LEFT('CONDUIT LENGTH'!$L52,2)=\"2x\",'CONDUIT LENGTH'!$K52*-1*2,\"\"),\"\")),\"\"),IF(LEFT(E$5,1)='CONDUIT LENGTH'!$M52,IF(E$9='CONDUIT LENGTH'!$L52,'CONDUIT LENGTH'!$K52,IF(AND(E$9=RIGHT('CONDUIT LENGTH'!$L52,2),LEFT('CONDUIT LENGTH'!$L52,3)=\"2x3\")=TRUE,IF(LEFT('CONDUIT LENGTH'!$L52,2)=\"2x\",'CONDUIT LENGTH'!$K52*2,\"\"),\"\")),\"\"))","v":""},{"$f":"IF($B59=\"SOURCE\",IF(LEFT(G$6,1)='CONDUIT LENGTH'!$M52,IF(F$9='CONDUIT LENGTH'!$L52,'CONDUIT LENGTH'!$K52*-1,IF(AND(F$9=RIGHT('CONDUIT LENGTH'!$L52,2),LEFT('CONDUIT LENGTH'!$L52,3)=\"2x3\")=TRUE,IF(LEFT('CONDUIT LENGTH'!$L52,2)=\"2x\",'CONDUIT LENGTH'!$K52*-1*2,\"\"),\"\")),\"\"),IF(LEFT(G$6,1)='CONDUIT LENGTH'!$M52,IF(F$9='CONDUIT LENGTH'!$L52,'CONDUIT LENGTH'!$K52,IF(AND(F$9=RIGHT('CONDUIT LENGTH'!$L52,2),LEFT('CONDUIT LENGTH'!$L52,3)=\"2x3\")=TRUE,IF(LEFT('CONDUIT LENGTH'!$L52,2)=\"2x\",'CONDUIT LENGTH'!$K52*2,\"\"),\"\")),\"\"))","v":""},{"$f":"IF($B59=\"SOURCE\",IF(LEFT(G$6,1)='CONDUIT LENGTH'!$M52,IF(G$9='CONDUIT LENGTH'!$L52,'CONDUIT LENGTH'!$K52*-1,IF(AND(G$9=RIGHT('CONDUIT LENGTH'!$L52,2),LEFT('CONDUIT LENGTH'!$L52,3)=\"2x3\")=TRUE,IF(LEFT('CONDUIT LENGTH'!$L52,2)=\"2x\",'CONDUIT LENGTH'!$K52*-1*2,\"\"),\"\")),\"\"),IF(LEFT(G$6,1)='CONDUIT LENGTH'!$M52,IF(G$9='CONDUIT LENGTH'!$L52,'CONDUIT LENGTH'!$K52,IF(AND(G$9=RIGHT('CONDUIT LENGTH'!$L52,2),LEFT('CONDUIT LENGTH'!$L52,3)=\"2x3\")=TRUE,IF(LEFT('CONDUIT LENGTH'!$L52,2)=\"2x\",'CONDUIT LENGTH'!$K52*2,\"\"),\"\")),\"\"))","v":""},{"$f":"IF($B59=\"SOURCE\",IF(LEFT(G$6,1)='CONDUIT LENGTH'!$M52,IF(H$9='CONDUIT LENGTH'!$L52,'CONDUIT LENGTH'!$K52*-1,IF(AND(H$9=RIGHT('CONDUIT LENGTH'!$L52,2),LEFT('CONDUIT LENGTH'!$L52,3)=\"2x3\")=TRUE,IF(LEFT('CONDUIT LENGTH'!$L52,2)=\"2x\",'CONDUIT LENGTH'!$K52*-1*2,\"\"),\"\")),\"\"),IF(LEFT(G$6,1)='CONDUIT LENGTH'!$M52,IF(H$9='CONDUIT LENGTH'!$L52,'CONDUIT LENGTH'!$K52,IF(AND(H$9=RIGHT('CONDUIT LENGTH'!$L52,2),LEFT('CONDUIT LENGTH'!$L52,3)=\"2x3\")=TRUE,IF(LEFT('CONDUIT LENGTH'!$L52,2)=\"2x\",'CONDUIT LENGTH'!$K52*2,\"\"),\"\")),\"\"))","v":""},{"$f":"IF($B59=\"SOURCE\",IF(LEFT(J$6,1)='CONDUIT LENGTH'!$M52,IF(I$9='CONDUIT LENGTH'!$L52,'CONDUIT LENGTH'!$K52*-1,IF(AND(I$9=RIGHT('CONDUIT LENGTH'!$L52,2),LEFT('CONDUIT LENGTH'!$L52,3)=\"2x3\")=TRUE,IF(LEFT('CONDUIT LENGTH'!$L52,2)=\"2x\",'CONDUIT LENGTH'!$K52*-1*2,\"\"),\"\")),\"\"),IF(LEFT(J$6,1)='CONDUIT LENGTH'!$M52,IF(I$9='CONDUIT LENGTH'!$L52,'CONDUIT LENGTH'!$K52,IF(AND(I$9=RIGHT('CONDUIT LENGTH'!$L52,2),LEFT('CONDUIT LENGTH'!$L52,3)=\"2x3\")=TRUE,IF(LEFT('CONDUIT LENGTH'!$L52,2)=\"2x\",'CONDUIT LENGTH'!$K52*2,\"\"),\"\")),\"\"))","v":""},{"$f":"IF($B59=\"SOURCE\",IF(LEFT(J$6,1)='CONDUIT LENGTH'!$M52,IF(J$9='CONDUIT LENGTH'!$L52,'CONDUIT LENGTH'!$K52*-1,IF(AND(J$9=RIGHT('CONDUIT LENGTH'!$L52,2),LEFT('CONDUIT LENGTH'!$L52,3)=\"2x3\")=TRUE,IF(LEFT('CONDUIT LENGTH'!$L52,2)=\"2x\",'CONDUIT LENGTH'!$K52*-1*2,\"\"),\"\")),\"\"),IF(LEFT(J$6,1)='CONDUIT LENGTH'!$M52,IF(J$9='CONDUIT LENGTH'!$L52,'CONDUIT LENGTH'!$K52,IF(AND(J$9=RIGHT('CONDUIT LENGTH'!$L52,2),LEFT('CONDUIT LENGTH'!$L52,3)=\"2x3\")=TRUE,IF(LEFT('CONDUIT LENGTH'!$L52,2)=\"2x\",'CONDUIT LENGTH'!$K52*2,\"\"),\"\")),\"\"))","v":""},{"$f":"IF($B59=\"SOURCE\",IF(LEFT(J$6,1)='CONDUIT LENGTH'!$M52,IF(K$9='CONDUIT LENGTH'!$L52,'CONDUIT LENGTH'!$K52*-1,IF(AND(K$9=RIGHT('CONDUIT LENGTH'!$L52,2),LEFT('CONDUIT LENGTH'!$L52,3)=\"2x3\")=TRUE,IF(LEFT('CONDUIT LENGTH'!$L52,2)=\"2x\",'CONDUIT LENGTH'!$K52*-1*2,\"\"),\"\")),\"\"),IF(LEFT(J$6,1)='CONDUIT LENGTH'!$M52,IF(K$9='CONDUIT LENGTH'!$L52,'CONDUIT LENGTH'!$K52,IF(AND(K$9=RIGHT('CONDUIT LENGTH'!$L52,2),LEFT('CONDUIT LENGTH'!$L52,3)=\"2x3\")=TRUE,IF(LEFT('CONDUIT LENGTH'!$L52,2)=\"2x\",'CONDUIT LENGTH'!$K52*2,\"\"),\"\")),\"\"))","v":""},{"$f":"IF($B59=\"SOURCE\",IF(LEFT(M$6,1)='CONDUIT LENGTH'!$M52,IF(L$9='CONDUIT LENGTH'!$L52,'CONDUIT LENGTH'!$K52*-1,IF(AND(L$9=RIGHT('CONDUIT LENGTH'!$L52,2),LEFT('CONDUIT LENGTH'!$L52,3)=\"2x3\")=TRUE,IF(LEFT('CONDUIT LENGTH'!$L52,2)=\"2x\",'CONDUIT LENGTH'!$K52*-1*2,\"\"),\"\")),\"\"),IF(LEFT(M$6,1)='CONDUIT LENGTH'!$M52,IF(L$9='CONDUIT LENGTH'!$L52,'CONDUIT LENGTH'!$K52,IF(AND(L$9=RIGHT('CONDUIT LENGTH'!$L52,2),LEFT('CONDUIT LENGTH'!$L52,3)=\"2x3\")=TRUE,IF(LEFT('CONDUIT LENGTH'!$L52,2)=\"2x\",'CONDUIT LENGTH'!$K52*2,\"\"),\"\")),\"\"))","v":""},{"$f":"IF($B59=\"SOURCE\",IF(LEFT(M$6,1)='CONDUIT LENGTH'!$M52,IF(M$9='CONDUIT LENGTH'!$L52,'CONDUIT LENGTH'!$K52*-1,IF(AND(M$9=RIGHT('CONDUIT LENGTH'!$L52,2),LEFT('CONDUIT LENGTH'!$L52,3)=\"2x3\")=TRUE,IF(LEFT('CONDUIT LENGTH'!$L52,2)=\"2x\",'CONDUIT LENGTH'!$K52*-1*2,\"\"),\"\")),\"\"),IF(LEFT(M$6,1)='CONDUIT LENGTH'!$M52,IF(M$9='CONDUIT LENGTH'!$L52,'CONDUIT LENGTH'!$K52,IF(AND(M$9=RIGHT('CONDUIT LENGTH'!$L52,2),LEFT('CONDUIT LENGTH'!$L52,3)=\"2x3\")=TRUE,IF(LEFT('CONDUIT LENGTH'!$L52,2)=\"2x\",'CONDUIT LENGTH'!$K52*2,\"\"),\"\")),\"\"))","v":""},{"$f":"IF($B59=\"SOURCE\",IF(LEFT(M$6,1)='CONDUIT LENGTH'!$M52,IF(N$9='CONDUIT LENGTH'!$L52,'CONDUIT LENGTH'!$K52*-1,IF(AND(N$9=RIGHT('CONDUIT LENGTH'!$L52,2),LEFT('CONDUIT LENGTH'!$L52,3)=\"2x3\")=TRUE,IF(LEFT('CONDUIT LENGTH'!$L52,2)=\"2x\",'CONDUIT LENGTH'!$K52*-1*2,\"\"),\"\")),\"\"),IF(LEFT(M$6,1)='CONDUIT LENGTH'!$M52,IF(N$9='CONDUIT LENGTH'!$L52,'CONDUIT LENGTH'!$K52,IF(AND(N$9=RIGHT('CONDUIT LENGTH'!$L52,2),LEFT('CONDUIT LENGTH'!$L52,3)=\"2x3\")=TRUE,IF(LEFT('CONDUIT LENGTH'!$L52,2)=\"2x\",'CONDUIT LENGTH'!$K52*2,\"\"),\"\")),\"\"))","v":""},{"$f":"IF($B59=\"SOURCE\",IF(LEFT(P$5,1)='CONDUIT LENGTH'!$M52,IF(O$9='CONDUIT LENGTH'!$L52,'CONDUIT LENGTH'!$K52*-1,IF(AND(O$9=RIGHT('CONDUIT LENGTH'!$L52,2),LEFT('CONDUIT LENGTH'!$L52,3)=\"2x3\")=TRUE,IF(LEFT('CONDUIT LENGTH'!$L52,2)=\"2x\",'CONDUIT LENGTH'!$K52*-1*2,\"\"),\"\")),\"\"),IF(LEFT(P$6,1)='CONDUIT LENGTH'!$M52,IF(O$9='CONDUIT LENGTH'!$L52,'CONDUIT LENGTH'!$K52,IF(AND(O$9=RIGHT('CONDUIT LENGTH'!$L52,2),LEFT('CONDUIT LENGTH'!$L52,3)=\"2x3\")=TRUE,IF(LEFT('CONDUIT LENGTH'!$L52,2)=\"2x\",'CONDUIT LENGTH'!$K52*2,\"\"),\"\")),\"\"))","v":""},{"$f":"IF($B59=\"SOURCE\",IF(LEFT(P$5,1)='CONDUIT LENGTH'!$M52,IF(P$9='CONDUIT LENGTH'!$L52,'CONDUIT LENGTH'!$K52*-1,IF(AND(P$9=RIGHT('CONDUIT LENGTH'!$L52,2),LEFT('CONDUIT LENGTH'!$L52,3)=\"2x3\")=TRUE,IF(LEFT('CONDUIT LENGTH'!$L52,2)=\"2x\",'CONDUIT LENGTH'!$K52*-1*2,\"\"),\"\")),\"\"),IF(LEFT(P$6,1)='CONDUIT LENGTH'!$M52,IF(P$9='CONDUIT LENGTH'!$L52,'CONDUIT LENGTH'!$K52,IF(AND(P$9=RIGHT('CONDUIT LENGTH'!$L52,2),LEFT('CONDUIT LENGTH'!$L52,3)=\"2x3\")=TRUE,IF(LEFT('CONDUIT LENGTH'!$L52,2)=\"2x\",'CONDUIT LENGTH'!$K52*2,\"\"),\"\")),\"\"))","v":""},{"$f":"IF($B59=\"SOURCE\",IF(LEFT(P$5,1)='CONDUIT LENGTH'!$M52,IF(Q$9='CONDUIT LENGTH'!$L52,'CONDUIT LENGTH'!$K52*-1,IF(AND(Q$9=RIGHT('CONDUIT LENGTH'!$L52,2),LEFT('CONDUIT LENGTH'!$L52,3)=\"2x3\")=TRUE,IF(LEFT('CONDUIT LENGTH'!$L52,2)=\"2x\",'CONDUIT LENGTH'!$K52*-1*2,\"\"),\"\")),\"\"),IF(LEFT(Q$6,1)='CONDUIT LENGTH'!$M52,IF(Q$9='CONDUIT LENGTH'!$L52,'CONDUIT LENGTH'!$K52,IF(AND(Q$9=RIGHT('CONDUIT LENGTH'!$L52,2),LEFT('CONDUIT LENGTH'!$L52,3)=\"2x3\")=TRUE,IF(LEFT('CONDUIT LENGTH'!$L52,2)=\"2x\",'CONDUIT LENGTH'!$K52*2,\"\"),\"\")),\"\"))","v":""},{"$f":"IF('CONDUIT LENGTH'!M52=\"UIP\",\"UIP EXISTING\",\"\")","v":""},{"$f":"IF('CABLE LENGTH'!A53>0,'CABLE LENGTH'!A53,\"\")","v":""},{"$f":"IF('CABLE LENGTH'!B53>0,'CABLE LENGTH'!B53,\"\")","v":""},{"$f":"IF('CABLE LENGTH'!Q53>0,'CABLE LENGTH'!Q53,\"\")","v":""},{"$f":"IF($S59=\"SOURCE\",IF(V$9='CABLE LENGTH'!$AK53,'CABLE LENGTH'!$AJ53*'CABLE LENGTH'!$AL53*-1,\"\"),IF(V$9=\"VIDEO\",IF(V$9='CABLE LENGTH'!$AK53,'CABLE LENGTH'!$AJ53*'CABLE LENGTH'!$AL53*-1,\"\"),IF(V$9='CABLE LENGTH'!$AK53,'CABLE LENGTH'!$AJ53*'CABLE LENGTH'!$AL53,\"\")))","v":""},{"$f":"IF($S59=\"SOURCE\",IF(W$9='CABLE LENGTH'!$AK53,'CABLE LENGTH'!$AJ53*'CABLE LENGTH'!$AL53*-1,\"\"),IF(W$9=\"VIDEO\",IF(W$9='CABLE LENGTH'!$AK53,'CABLE LENGTH'!$AJ53*'CABLE LENGTH'!$AL53*-1,\"\"),IF(W$9='CABLE LENGTH'!$AK53,'CABLE LENGTH'!$AJ53*'CABLE LENGTH'!$AL53,\"\")))","v":""},{"$f":"IF($S59=\"SOURCE\",IF(X$10='CABLE LENGTH'!$AK53,'CABLE LENGTH'!$AJ53*'CABLE LENGTH'!$AL53*-1,\"\"),IF(X$10=\"VIDEO\",IF(X$10='CABLE LENGTH'!$AK53,'CABLE LENGTH'!$AJ53*'CABLE LENGTH'!$AL53*-1,\"\"),IF(X$10='CABLE LENGTH'!$AK53,'CABLE LENGTH'!$AJ53*'CABLE LENGTH'!$AL53,\"\")))","v":""},{"$f":"IF($S59=\"SOURCE\",IF(Y$10='CABLE LENGTH'!$AK53,'CABLE LENGTH'!$AJ53*'CABLE LENGTH'!$AL53*-1,\"\"),IF(Y$10=\"VIDEO\",IF(Y$10='CABLE LENGTH'!$AK53,'CABLE LENGTH'!$AJ53*'CABLE LENGTH'!$AL53*-1,\"\"),IF(Y$10='CABLE LENGTH'!$AK53,'CABLE LENGTH'!$AJ53*'CABLE LENGTH'!$AL53,\"\")))","v":""},{"$f":"IF($S59=\"SOURCE\",IF(Z$10='CABLE LENGTH'!$AK53,'CABLE LENGTH'!$AJ53*'CABLE LENGTH'!$AL53*-1,\"\"),IF(Z$10=\"VIDEO\",IF(Z$10='CABLE LENGTH'!$AK53,'CABLE LENGTH'!$AJ53*'CABLE LENGTH'!$AL53*-1,\"\"),IF(Z$10='CABLE LENGTH'!$AK53,'CABLE LENGTH'!$AJ53*'CABLE LENGTH'!$AL53,\"\")))","v":""},{"$f":"IF($S59=\"SOURCE\",IF(AA$10='CABLE LENGTH'!$AK53,'CABLE LENGTH'!$AJ53*'CABLE LENGTH'!$AL53*-1,\"\"),IF(AA$10=\"VIDEO\",IF(AA$10='CABLE LENGTH'!$AK53,'CABLE LENGTH'!$AJ53*'CABLE LENGTH'!$AL53*-1,\"\"),IF(AA$10='CABLE LENGTH'!$AK53,'CABLE LENGTH'!$AJ53*'CABLE LENGTH'!$AL53,\"\")))","v":""},{"$f":"IF($S59=\"SOURCE\",IF(AB$10='CABLE LENGTH'!$AK53,'CABLE LENGTH'!$AJ53*'CABLE LENGTH'!$AL53*-1,\"\"),IF(AB$10=\"VIDEO\",IF(AB$10='CABLE LENGTH'!$AK53,'CABLE LENGTH'!$AJ53*'CABLE LENGTH'!$AL53*-1,\"\"),IF(AB$10='CABLE LENGTH'!$AK53,'CABLE LENGTH'!$AJ53*'CABLE LENGTH'!$AL53,\"\")))","v":""},{"$f":"IF($S59=\"SOURCE\",IF(AC$10='CABLE LENGTH'!$AK53,'CABLE LENGTH'!$AJ53*'CABLE LENGTH'!$AL53*-1,\"\"),IF(AC$10=\"VIDEO\",IF(AC$10='CABLE LENGTH'!$AK53,'CABLE LENGTH'!$AJ53*'CABLE LENGTH'!$AL53*-1,\"\"),IF(AC$10='CABLE LENGTH'!$AK53,'CABLE LENGTH'!$AJ53*'CABLE LENGTH'!$AL53,\"\")))","v":""},{"$f":"IF($S59=\"SOURCE\",IF(AD$9='CABLE LENGTH'!$AK53,'CABLE LENGTH'!$AJ53*'CABLE LENGTH'!$AL53*-1,\"\"),IF(AD$9=\"VIDEO\",IF(AD$9='CABLE LENGTH'!$AK53,'CABLE LENGTH'!$AJ53*'CABLE LENGTH'!$AL53*-1,\"\"),IF(AD$9='CABLE LENGTH'!$AK53,'CABLE LENGTH'!$AJ53*'CABLE LENGTH'!$AL53,\"\")))","v":""},{"$f":"IF($S59=\"SOURCE\",IF(AE$9='CABLE LENGTH'!$AK53,'CABLE LENGTH'!$AJ53*'CABLE LENGTH'!$AL53*-1,\"\"),IF(AE$9=\"VIDEO\",IF(AE$9='CABLE LENGTH'!$AK53,'CABLE LENGTH'!$AJ53*'CABLE LENGTH'!$AL53*-1,\"\"),IF(AE$9='CABLE LENGTH'!$AK53,'CABLE LENGTH'!$AJ53*'CABLE LENGTH'!$AL53,\"\")))","v":""},{"$f":"IF($S59=\"SOURCE\",IF(AF$9='CABLE LENGTH'!$AK53,'CABLE LENGTH'!$AJ53*'CABLE LENGTH'!$AL53*-1,\"\"),IF(AF$9=\"VIDEO\",IF(AF$9='CABLE LENGTH'!$AK53,'CABLE LENGTH'!$AJ53*'CABLE LENGTH'!$AL53*-1,\"\"),IF(AF$9='CABLE LENGTH'!$AK53,'CABLE LENGTH'!$AJ53*'CABLE LENGTH'!$AL53,\"\")))","v":""}]
[0.3,{"$f":"IF('CONDUIT LENGTH'!A53>0,'CONDUIT LENGTH'!A53,\" \")","v":" "},{"$f":"IF('CONDUIT LENGTH'!B53>0,'CONDUIT LENGTH'!B53,\" \")","v":" "},{"$f":"IF('CONDUIT LENGTH'!C53>0,'CONDUIT LENGTH'!C53,\" \")","v":" "},{"$f":"IF($B60=\"SOURCE\",IF(LEFT(E$5,1)='CONDUIT LENGTH'!$M53,IF(E$9='CONDUIT LENGTH'!$L53,'CONDUIT LENGTH'!$K53*-1,IF(AND(E$9=RIGHT('CONDUIT LENGTH'!$L53,2),LEFT('CONDUIT LENGTH'!$L53,3)=\"2x3\")=TRUE,IF(LEFT('CONDUIT LENGTH'!$L53,2)=\"2x\",'CONDUIT LENGTH'!$K53*-1*2,\"\"),\"\")),\"\"),IF(LEFT(E$5,1)='CONDUIT LENGTH'!$M53,IF(E$9='CONDUIT LENGTH'!$L53,'CONDUIT LENGTH'!$K53,IF(AND(E$9=RIGHT('CONDUIT LENGTH'!$L53,2),LEFT('CONDUIT LENGTH'!$L53,3)=\"2x3\")=TRUE,IF(LEFT('CONDUIT LENGTH'!$L53,2)=\"2x\",'CONDUIT LENGTH'!$K53*2,\"\"),\"\")),\"\"))","v":""},{"$f":"IF($B60=\"SOURCE\",IF(LEFT(G$6,1)='CONDUIT LENGTH'!$M53,IF(F$9='CONDUIT LENGTH'!$L53,'CONDUIT LENGTH'!$K53*-1,IF(AND(F$9=RIGHT('CONDUIT LENGTH'!$L53,2),LEFT('CONDUIT LENGTH'!$L53,3)=\"2x3\")=TRUE,IF(LEFT('CONDUIT LENGTH'!$L53,2)=\"2x\",'CONDUIT LENGTH'!$K53*-1*2,\"\"),\"\")),\"\"),IF(LEFT(G$6,1)='CONDUIT LENGTH'!$M53,IF(F$9='CONDUIT LENGTH'!$L53,'CONDUIT LENGTH'!$K53,IF(AND(F$9=RIGHT('CONDUIT LENGTH'!$L53,2),LEFT('CONDUIT LENGTH'!$L53,3)=\"2x3\")=TRUE,IF(LEFT('CONDUIT LENGTH'!$L53,2)=\"2x\",'CONDUIT LENGTH'!$K53*2,\"\"),\"\")),\"\"))","v":""},{"$f":"IF($B60=\"SOURCE\",IF(LEFT(G$6,1)='CONDUIT LENGTH'!$M53,IF(G$9='CONDUIT LENGTH'!$L53,'CONDUIT LENGTH'!$K53*-1,IF(AND(G$9=RIGHT('CONDUIT LENGTH'!$L53,2),LEFT('CONDUIT LENGTH'!$L53,3)=\"2x3\")=TRUE,IF(LEFT('CONDUIT LENGTH'!$L53,2)=\"2x\",'CONDUIT LENGTH'!$K53*-1*2,\"\"),\"\")),\"\"),IF(LEFT(G$6,1)='CONDUIT LENGTH'!$M53,IF(G$9='CONDUIT LENGTH'!$L53,'CONDUIT LENGTH'!$K53,IF(AND(G$9=RIGHT('CONDUIT LENGTH'!$L53,2),LEFT('CONDUIT LENGTH'!$L53,3)=\"2x3\")=TRUE,IF(LEFT('CONDUIT LENGTH'!$L53,2)=\"2x\",'CONDUIT LENGTH'!$K53*2,\"\"),\"\")),\"\"))","v":""},{"$f":"IF($B60=\"SOURCE\",IF(LEFT(G$6,1)='CONDUIT LENGTH'!$M53,IF(H$9='CONDUIT LENGTH'!$L53,'CONDUIT LENGTH'!$K53*-1,IF(AND(H$9=RIGHT('CONDUIT LENGTH'!$L53,2),LEFT('CONDUIT LENGTH'!$L53,3)=\"2x3\")=TRUE,IF(LEFT('CONDUIT LENGTH'!$L53,2)=\"2x\",'CONDUIT LENGTH'!$K53*-1*2,\"\"),\"\")),\"\"),IF(LEFT(G$6,1)='CONDUIT LENGTH'!$M53,IF(H$9='CONDUIT LENGTH'!$L53,'CONDUIT LENGTH'!$K53,IF(AND(H$9=RIGHT('CONDUIT LENGTH'!$L53,2),LEFT('CONDUIT LENGTH'!$L53,3)=\"2x3\")=TRUE,IF(LEFT('CONDUIT LENGTH'!$L53,2)=\"2x\",'CONDUIT LENGTH'!$K53*2,\"\"),\"\")),\"\"))","v":""},{"$f":"IF($B60=\"SOURCE\",IF(LEFT(J$6,1)='CONDUIT LENGTH'!$M53,IF(I$9='CONDUIT LENGTH'!$L53,'CONDUIT LENGTH'!$K53*-1,IF(AND(I$9=RIGHT('CONDUIT LENGTH'!$L53,2),LEFT('CONDUIT LENGTH'!$L53,3)=\"2x3\")=TRUE,IF(LEFT('CONDUIT LENGTH'!$L53,2)=\"2x\",'CONDUIT LENGTH'!$K53*-1*2,\"\"),\"\")),\"\"),IF(LEFT(J$6,1)='CONDUIT LENGTH'!$M53,IF(I$9='CONDUIT LENGTH'!$L53,'CONDUIT LENGTH'!$K53,IF(AND(I$9=RIGHT('CONDUIT LENGTH'!$L53,2),LEFT('CONDUIT LENGTH'!$L53,3)=\"2x3\")=TRUE,IF(LEFT('CONDUIT LENGTH'!$L53,2)=\"2x\",'CONDUIT LENGTH'!$K53*2,\"\"),\"\")),\"\"))","v":""},{"$f":"IF($B60=\"SOURCE\",IF(LEFT(J$6,1)='CONDUIT LENGTH'!$M53,IF(J$9='CONDUIT LENGTH'!$L53,'CONDUIT LENGTH'!$K53*-1,IF(AND(J$9=RIGHT('CONDUIT LENGTH'!$L53,2),LEFT('CONDUIT LENGTH'!$L53,3)=\"2x3\")=TRUE,IF(LEFT('CONDUIT LENGTH'!$L53,2)=\"2x\",'CONDUIT LENGTH'!$K53*-1*2,\"\"),\"\")),\"\"),IF(LEFT(J$6,1)='CONDUIT LENGTH'!$M53,IF(J$9='CONDUIT LENGTH'!$L53,'CONDUIT LENGTH'!$K53,IF(AND(J$9=RIGHT('CONDUIT LENGTH'!$L53,2),LEFT('CONDUIT LENGTH'!$L53,3)=\"2x3\")=TRUE,IF(LEFT('CONDUIT LENGTH'!$L53,2)=\"2x\",'CONDUIT LENGTH'!$K53*2,\"\"),\"\")),\"\"))","v":""},{"$f":"IF($B60=\"SOURCE\",IF(LEFT(J$6,1)='CONDUIT LENGTH'!$M53,IF(K$9='CONDUIT LENGTH'!$L53,'CONDUIT LENGTH'!$K53*-1,IF(AND(K$9=RIGHT('CONDUIT LENGTH'!$L53,2),LEFT('CONDUIT LENGTH'!$L53,3)=\"2x3\")=TRUE,IF(LEFT('CONDUIT LENGTH'!$L53,2)=\"2x\",'CONDUIT LENGTH'!$K53*-1*2,\"\"),\"\")),\"\"),IF(LEFT(J$6,1)='CONDUIT LENGTH'!$M53,IF(K$9='CONDUIT LENGTH'!$L53,'CONDUIT LENGTH'!$K53,IF(AND(K$9=RIGHT('CONDUIT LENGTH'!$L53,2),LEFT('CONDUIT LENGTH'!$L53,3)=\"2x3\")=TRUE,IF(LEFT('CONDUIT LENGTH'!$L53,2)=\"2x\",'CONDUIT LENGTH'!$K53*2,\"\"),\"\")),\"\"))","v":""},{"$f":"IF($B60=\"SOURCE\",IF(LEFT(M$6,1)='CONDUIT LENGTH'!$M53,IF(L$9='CONDUIT LENGTH'!$L53,'CONDUIT LENGTH'!$K53*-1,IF(AND(L$9=RIGHT('CONDUIT LENGTH'!$L53,2),LEFT('CONDUIT LENGTH'!$L53,3)=\"2x3\")=TRUE,IF(LEFT('CONDUIT LENGTH'!$L53,2)=\"2x\",'CONDUIT LENGTH'!$K53*-1*2,\"\"),\"\")),\"\"),IF(LEFT(M$6,1)='CONDUIT LENGTH'!$M53,IF(L$9='CONDUIT LENGTH'!$L53,'CONDUIT LENGTH'!$K53,IF(AND(L$9=RIGHT('CONDUIT LENGTH'!$L53,2),LEFT('CONDUIT LENGTH'!$L53,3)=\"2x3\")=TRUE,IF(LEFT('CONDUIT LENGTH'!$L53,2)=\"2x\",'CONDUIT LENGTH'!$K53*2,\"\"),\"\")),\"\"))","v":""},{"$f":"IF($B60=\"SOURCE\",IF(LEFT(M$6,1)='CONDUIT LENGTH'!$M53,IF(M$9='CONDUIT LENGTH'!$L53,'CONDUIT LENGTH'!$K53*-1,IF(AND(M$9=RIGHT('CONDUIT LENGTH'!$L53,2),LEFT('CONDUIT LENGTH'!$L53,3)=\"2x3\")=TRUE,IF(LEFT('CONDUIT LENGTH'!$L53,2)=\"2x\",'CONDUIT LENGTH'!$K53*-1*2,\"\"),\"\")),\"\"),IF(LEFT(M$6,1)='CONDUIT LENGTH'!$M53,IF(M$9='CONDUIT LENGTH'!$L53,'CONDUIT LENGTH'!$K53,IF(AND(M$9=RIGHT('CONDUIT LENGTH'!$L53,2),LEFT('CONDUIT LENGTH'!$L53,3)=\"2x3\")=TRUE,IF(LEFT('CONDUIT LENGTH'!$L53,2)=\"2x\",'CONDUIT LENGTH'!$K53*2,\"\"),\"\")),\"\"))","v":""},{"$f":"IF($B60=\"SOURCE\",IF(LEFT(M$6,1)='CONDUIT LENGTH'!$M53,IF(N$9='CONDUIT LENGTH'!$L53,'CONDUIT LENGTH'!$K53*-1,IF(AND(N$9=RIGHT('CONDUIT LENGTH'!$L53,2),LEFT('CONDUIT LENGTH'!$L53,3)=\"2x3\")=TRUE,IF(LEFT('CONDUIT LENGTH'!$L53,2)=\"2x\",'CONDUIT LENGTH'!$K53*-1*2,\"\"),\"\")),\"\"),IF(LEFT(M$6,1)='CONDUIT LENGTH'!$M53,IF(N$9='CONDUIT LENGTH'!$L53,'CONDUIT LENGTH'!$K53,IF(AND(N$9=RIGHT('CONDUIT LENGTH'!$L53,2),LEFT('CONDUIT LENGTH'!$L53,3)=\"2x3\")=TRUE,IF(LEFT('CONDUIT LENGTH'!$L53,2)=\"2x\",'CONDUIT LENGTH'!$K53*2,\"\"),\"\")),\"\"))","v":""},{"$f":"IF($B60=\"SOURCE\",IF(LEFT(P$5,1)='CONDUIT LENGTH'!$M53,IF(O$9='CONDUIT LENGTH'!$L53,'CONDUIT LENGTH'!$K53*-1,IF(AND(O$9=RIGHT('CONDUIT LENGTH'!$L53,2),LEFT('CONDUIT LENGTH'!$L53,3)=\"2x3\")=TRUE,IF(LEFT('CONDUIT LENGTH'!$L53,2)=\"2x\",'CONDUIT LENGTH'!$K53*-1*2,\"\"),\"\")),\"\"),IF(LEFT(P$6,1)='CONDUIT LENGTH'!$M53,IF(O$9='CONDUIT LENGTH'!$L53,'CONDUIT LENGTH'!$K53,IF(AND(O$9=RIGHT('CONDUIT LENGTH'!$L53,2),LEFT('CONDUIT LENGTH'!$L53,3)=\"2x3\")=TRUE,IF(LEFT('CONDUIT LENGTH'!$L53,2)=\"2x\",'CONDUIT LENGTH'!$K53*2,\"\"),\"\")),\"\"))","v":""},{"$f":"IF($B60=\"SOURCE\",IF(LEFT(P$5,1)='CONDUIT LENGTH'!$M53,IF(P$9='CONDUIT LENGTH'!$L53,'CONDUIT LENGTH'!$K53*-1,IF(AND(P$9=RIGHT('CONDUIT LENGTH'!$L53,2),LEFT('CONDUIT LENGTH'!$L53,3)=\"2x3\")=TRUE,IF(LEFT('CONDUIT LENGTH'!$L53,2)=\"2x\",'CONDUIT LENGTH'!$K53*-1*2,\"\"),\"\")),\"\"),IF(LEFT(P$6,1)='CONDUIT LENGTH'!$M53,IF(P$9='CONDUIT LENGTH'!$L53,'CONDUIT LENGTH'!$K53,IF(AND(P$9=RIGHT('CONDUIT LENGTH'!$L53,2),LEFT('CONDUIT LENGTH'!$L53,3)=\"2x3\")=TRUE,IF(LEFT('CONDUIT LENGTH'!$L53,2)=\"2x\",'CONDUIT LENGTH'!$K53*2,\"\"),\"\")),\"\"))","v":""},{"$f":"IF($B60=\"SOURCE\",IF(LEFT(P$5,1)='CONDUIT LENGTH'!$M53,IF(Q$9='CONDUIT LENGTH'!$L53,'CONDUIT LENGTH'!$K53*-1,IF(AND(Q$9=RIGHT('CONDUIT LENGTH'!$L53,2),LEFT('CONDUIT LENGTH'!$L53,3)=\"2x3\")=TRUE,IF(LEFT('CONDUIT LENGTH'!$L53,2)=\"2x\",'CONDUIT LENGTH'!$K53*-1*2,\"\"),\"\")),\"\"),IF(LEFT(Q$6,1)='CONDUIT LENGTH'!$M53,IF(Q$9='CONDUIT LENGTH'!$L53,'CONDUIT LENGTH'!$K53,IF(AND(Q$9=RIGHT('CONDUIT LENGTH'!$L53,2),LEFT('CONDUIT LENGTH'!$L53,3)=\"2x3\")=TRUE,IF(LEFT('CONDUIT LENGTH'!$L53,2)=\"2x\",'CONDUIT LENGTH'!$K53*2,\"\"),\"\")),\"\"))","v":""},{"$f":"IF('CONDUIT LENGTH'!M53=\"UIP\",\"UIP EXISTING\",\"\")","v":""},{"$f":"IF('CABLE LENGTH'!A54>0,'CABLE LENGTH'!A54,\"\")","v":""},{"$f":"IF('CABLE LENGTH'!B54>0,'CABLE LENGTH'!B54,\"\")","v":""},{"$f":"IF('CABLE LENGTH'!Q54>0,'CABLE LENGTH'!Q54,\"\")","v":""},{"$f":"IF($S60=\"SOURCE\",IF(V$9='CABLE LENGTH'!$AK54,'CABLE LENGTH'!$AJ54*'CABLE LENGTH'!$AL54*-1,\"\"),IF(V$9=\"VIDEO\",IF(V$9='CABLE LENGTH'!$AK54,'CABLE LENGTH'!$AJ54*'CABLE LENGTH'!$AL54*-1,\"\"),IF(V$9='CABLE LENGTH'!$AK54,'CABLE LENGTH'!$AJ54*'CABLE LENGTH'!$AL54,\"\")))","v":""},{"$f":"IF($S60=\"SOURCE\",IF(W$9='CABLE LENGTH'!$AK54,'CABLE LENGTH'!$AJ54*'CABLE LENGTH'!$AL54*-1,\"\"),IF(W$9=\"VIDEO\",IF(W$9='CABLE LENGTH'!$AK54,'CABLE LENGTH'!$AJ54*'CABLE LENGTH'!$AL54*-1,\"\"),IF(W$9='CABLE LENGTH'!$AK54,'CABLE LENGTH'!$AJ54*'CABLE LENGTH'!$AL54,\"\")))","v":""},{"$f":"IF($S60=\"SOURCE\",IF(X$10='CABLE LENGTH'!$AK54,'CABLE LENGTH'!$AJ54*'CABLE LENGTH'!$AL54*-1,\"\"),IF(X$10=\"VIDEO\",IF(X$10='CABLE LENGTH'!$AK54,'CABLE LENGTH'!$AJ54*'CABLE LENGTH'!$AL54*-1,\"\"),IF(X$10='CABLE LENGTH'!$AK54,'CABLE LENGTH'!$AJ54*'CABLE LENGTH'!$AL54,\"\")))","v":""},{"$f":"IF($S60=\"SOURCE\",IF(Y$10='CABLE LENGTH'!$AK54,'CABLE LENGTH'!$AJ54*'CABLE LENGTH'!$AL54*-1,\"\"),IF(Y$10=\"VIDEO\",IF(Y$10='CABLE LENGTH'!$AK54,'CABLE LENGTH'!$AJ54*'CABLE LENGTH'!$AL54*-1,\"\"),IF(Y$10='CABLE LENGTH'!$AK54,'CABLE LENGTH'!$AJ54*'CABLE LENGTH'!$AL54,\"\")))","v":""},{"$f":"IF($S60=\"SOURCE\",IF(Z$10='CABLE LENGTH'!$AK54,'CABLE LENGTH'!$AJ54*'CABLE LENGTH'!$AL54*-1,\"\"),IF(Z$10=\"VIDEO\",IF(Z$10='CABLE LENGTH'!$AK54,'CABLE LENGTH'!$AJ54*'CABLE LENGTH'!$AL54*-1,\"\"),IF(Z$10='CABLE LENGTH'!$AK54,'CABLE LENGTH'!$AJ54*'CABLE LENGTH'!$AL54,\"\")))","v":""},{"$f":"IF($S60=\"SOURCE\",IF(AA$10='CABLE LENGTH'!$AK54,'CABLE LENGTH'!$AJ54*'CABLE LENGTH'!$AL54*-1,\"\"),IF(AA$10=\"VIDEO\",IF(AA$10='CABLE LENGTH'!$AK54,'CABLE LENGTH'!$AJ54*'CABLE LENGTH'!$AL54*-1,\"\"),IF(AA$10='CABLE LENGTH'!$AK54,'CABLE LENGTH'!$AJ54*'CABLE LENGTH'!$AL54,\"\")))","v":""},{"$f":"IF($S60=\"SOURCE\",IF(AB$10='CABLE LENGTH'!$AK54,'CABLE LENGTH'!$AJ54*'CABLE LENGTH'!$AL54*-1,\"\"),IF(AB$10=\"VIDEO\",IF(AB$10='CABLE LENGTH'!$AK54,'CABLE LENGTH'!$AJ54*'CABLE LENGTH'!$AL54*-1,\"\"),IF(AB$10='CABLE LENGTH'!$AK54,'CABLE LENGTH'!$AJ54*'CABLE LENGTH'!$AL54,\"\")))","v":""},{"$f":"IF($S60=\"SOURCE\",IF(AC$10='CABLE LENGTH'!$AK54,'CABLE LENGTH'!$AJ54*'CABLE LENGTH'!$AL54*-1,\"\"),IF(AC$10=\"VIDEO\",IF(AC$10='CABLE LENGTH'!$AK54,'CABLE LENGTH'!$AJ54*'CABLE LENGTH'!$AL54*-1,\"\"),IF(AC$10='CABLE LENGTH'!$AK54,'CABLE LENGTH'!$AJ54*'CABLE LENGTH'!$AL54,\"\")))","v":""},{"$f":"IF($S60=\"SOURCE\",IF(AD$9='CABLE LENGTH'!$AK54,'CABLE LENGTH'!$AJ54*'CABLE LENGTH'!$AL54*-1,\"\"),IF(AD$9=\"VIDEO\",IF(AD$9='CABLE LENGTH'!$AK54,'CABLE LENGTH'!$AJ54*'CABLE LENGTH'!$AL54*-1,\"\"),IF(AD$9='CABLE LENGTH'!$AK54,'CABLE LENGTH'!$AJ54*'CABLE LENGTH'!$AL54,\"\")))","v":""},{"$f":"IF($S60=\"SOURCE\",IF(AE$9='CABLE LENGTH'!$AK54,'CABLE LENGTH'!$AJ54*'CABLE LENGTH'!$AL54*-1,\"\"),IF(AE$9=\"VIDEO\",IF(AE$9='CABLE LENGTH'!$AK54,'CABLE LENGTH'!$AJ54*'CABLE LENGTH'!$AL54*-1,\"\"),IF(AE$9='CABLE LENGTH'!$AK54,'CABLE LENGTH'!$AJ54*'CABLE LENGTH'!$AL54,\"\")))","v":""},{"$f":"IF($S60=\"SOURCE\",IF(AF$9='CABLE LENGTH'!$AK54,'CABLE LENGTH'!$AJ54*'CABLE LENGTH'!$AL54*-1,\"\"),IF(AF$9=\"VIDEO\",IF(AF$9='CABLE LENGTH'!$AK54,'CABLE LENGTH'!$AJ54*'CABLE LENGTH'!$AL54*-1,\"\"),IF(AF$9='CABLE LENGTH'!$AK54,'CABLE LENGTH'!$AJ54*'CABLE LENGTH'!$AL54,\"\")))","v":""}]
[0.3,{"$f":"IF('CONDUIT LENGTH'!A54>0,'CONDUIT LENGTH'!A54,\" \")","v":" "},{"$f":"IF('CONDUIT LENGTH'!B54>0,'CONDUIT LENGTH'!B54,\" \")","v":" "},{"$f":"IF('CONDUIT LENGTH'!C54>0,'CONDUIT LENGTH'!C54,\" \")","v":" "},{"$f":"IF($B61=\"SOURCE\",IF(LEFT(E$5,1)='CONDUIT LENGTH'!$M54,IF(E$9='CONDUIT LENGTH'!$L54,'CONDUIT LENGTH'!$K54*-1,IF(AND(E$9=RIGHT('CONDUIT LENGTH'!$L54,2),LEFT('CONDUIT LENGTH'!$L54,3)=\"2x3\")=TRUE,IF(LEFT('CONDUIT LENGTH'!$L54,2)=\"2x\",'CONDUIT LENGTH'!$K54*-1*2,\"\"),\"\")),\"\"),IF(LEFT(E$5,1)='CONDUIT LENGTH'!$M54,IF(E$9='CONDUIT LENGTH'!$L54,'CONDUIT LENGTH'!$K54,IF(AND(E$9=RIGHT('CONDUIT LENGTH'!$L54,2),LEFT('CONDUIT LENGTH'!$L54,3)=\"2x3\")=TRUE,IF(LEFT('CONDUIT LENGTH'!$L54,2)=\"2x\",'CONDUIT LENGTH'!$K54*2,\"\"),\"\")),\"\"))","v":""},{"$f":"IF($B61=\"SOURCE\",IF(LEFT(G$6,1)='CONDUIT LENGTH'!$M54,IF(F$9='CONDUIT LENGTH'!$L54,'CONDUIT LENGTH'!$K54*-1,IF(AND(F$9=RIGHT('CONDUIT LENGTH'!$L54,2),LEFT('CONDUIT LENGTH'!$L54,3)=\"2x3\")=TRUE,IF(LEFT('CONDUIT LENGTH'!$L54,2)=\"2x\",'CONDUIT LENGTH'!$K54*-1*2,\"\"),\"\")),\"\"),IF(LEFT(G$6,1)='CONDUIT LENGTH'!$M54,IF(F$9='CONDUIT LENGTH'!$L54,'CONDUIT LENGTH'!$K54,IF(AND(F$9=RIGHT('CONDUIT LENGTH'!$L54,2),LEFT('CONDUIT LENGTH'!$L54,3)=\"2x3\")=TRUE,IF(LEFT('CONDUIT LENGTH'!$L54,2)=\"2x\",'CONDUIT LENGTH'!$K54*2,\"\"),\"\")),\"\"))","v":""},{"$f":"IF($B61=\"SOURCE\",IF(LEFT(G$6,1)='CONDUIT LENGTH'!$M54,IF(G$9='CONDUIT LENGTH'!$L54,'CONDUIT LENGTH'!$K54*-1,IF(AND(G$9=RIGHT('CONDUIT LENGTH'!$L54,2),LEFT('CONDUIT LENGTH'!$L54,3)=\"2x3\")=TRUE,IF(LEFT('CONDUIT LENGTH'!$L54,2)=\"2x\",'CONDUIT LENGTH'!$K54*-1*2,\"\"),\"\")),\"\"),IF(LEFT(G$6,1)='CONDUIT LENGTH'!$M54,IF(G$9='CONDUIT LENGTH'!$L54,'CONDUIT LENGTH'!$K54,IF(AND(G$9=RIGHT('CONDUIT LENGTH'!$L54,2),LEFT('CONDUIT LENGTH'!$L54,3)=\"2x3\")=TRUE,IF(LEFT('CONDUIT LENGTH'!$L54,2)=\"2x\",'CONDUIT LENGTH'!$K54*2,\"\"),\"\")),\"\"))","v":""},{"$f":"IF($B61=\"SOURCE\",IF(LEFT(G$6,1)='CONDUIT LENGTH'!$M54,IF(H$9='CONDUIT LENGTH'!$L54,'CONDUIT LENGTH'!$K54*-1,IF(AND(H$9=RIGHT('CONDUIT LENGTH'!$L54,2),LEFT('CONDUIT LENGTH'!$L54,3)=\"2x3\")=TRUE,IF(LEFT('CONDUIT LENGTH'!$L54,2)=\"2x\",'CONDUIT LENGTH'!$K54*-1*2,\"\"),\"\")),\"\"),IF(LEFT(G$6,1)='CONDUIT LENGTH'!$M54,IF(H$9='CONDUIT LENGTH'!$L54,'CONDUIT LENGTH'!$K54,IF(AND(H$9=RIGHT('CONDUIT LENGTH'!$L54,2),LEFT('CONDUIT LENGTH'!$L54,3)=\"2x3\")=TRUE,IF(LEFT('CONDUIT LENGTH'!$L54,2)=\"2x\",'CONDUIT LENGTH'!$K54*2,\"\"),\"\")),\"\"))","v":""},{"$f":"IF($B61=\"SOURCE\",IF(LEFT(J$6,1)='CONDUIT LENGTH'!$M54,IF(I$9='CONDUIT LENGTH'!$L54,'CONDUIT LENGTH'!$K54*-1,IF(AND(I$9=RIGHT('CONDUIT LENGTH'!$L54,2),LEFT('CONDUIT LENGTH'!$L54,3)=\"2x3\")=TRUE,IF(LEFT('CONDUIT LENGTH'!$L54,2)=\"2x\",'CONDUIT LENGTH'!$K54*-1*2,\"\"),\"\")),\"\"),IF(LEFT(J$6,1)='CONDUIT LENGTH'!$M54,IF(I$9='CONDUIT LENGTH'!$L54,'CONDUIT LENGTH'!$K54,IF(AND(I$9=RIGHT('CONDUIT LENGTH'!$L54,2),LEFT('CONDUIT LENGTH'!$L54,3)=\"2x3\")=TRUE,IF(LEFT('CONDUIT LENGTH'!$L54,2)=\"2x\",'CONDUIT LENGTH'!$K54*2,\"\"),\"\")),\"\"))","v":""},{"$f":"IF($B61=\"SOURCE\",IF(LEFT(J$6,1)='CONDUIT LENGTH'!$M54,IF(J$9='CONDUIT LENGTH'!$L54,'CONDUIT LENGTH'!$K54*-1,IF(AND(J$9=RIGHT('CONDUIT LENGTH'!$L54,2),LEFT('CONDUIT LENGTH'!$L54,3)=\"2x3\")=TRUE,IF(LEFT('CONDUIT LENGTH'!$L54,2)=\"2x\",'CONDUIT LENGTH'!$K54*-1*2,\"\"),\"\")),\"\"),IF(LEFT(J$6,1)='CONDUIT LENGTH'!$M54,IF(J$9='CONDUIT LENGTH'!$L54,'CONDUIT LENGTH'!$K54,IF(AND(J$9=RIGHT('CONDUIT LENGTH'!$L54,2),LEFT('CONDUIT LENGTH'!$L54,3)=\"2x3\")=TRUE,IF(LEFT('CONDUIT LENGTH'!$L54,2)=\"2x\",'CONDUIT LENGTH'!$K54*2,\"\"),\"\")),\"\"))","v":""},{"$f":"IF($B61=\"SOURCE\",IF(LEFT(J$6,1)='CONDUIT LENGTH'!$M54,IF(K$9='CONDUIT LENGTH'!$L54,'CONDUIT LENGTH'!$K54*-1,IF(AND(K$9=RIGHT('CONDUIT LENGTH'!$L54,2),LEFT('CONDUIT LENGTH'!$L54,3)=\"2x3\")=TRUE,IF(LEFT('CONDUIT LENGTH'!$L54,2)=\"2x\",'CONDUIT LENGTH'!$K54*-1*2,\"\"),\"\")),\"\"),IF(LEFT(J$6,1)='CONDUIT LENGTH'!$M54,IF(K$9='CONDUIT LENGTH'!$L54,'CONDUIT LENGTH'!$K54,IF(AND(K$9=RIGHT('CONDUIT LENGTH'!$L54,2),LEFT('CONDUIT LENGTH'!$L54,3)=\"2x3\")=TRUE,IF(LEFT('CONDUIT LENGTH'!$L54,2)=\"2x\",'CONDUIT LENGTH'!$K54*2,\"\"),\"\")),\"\"))","v":""},{"$f":"IF($B61=\"SOURCE\",IF(LEFT(M$6,1)='CONDUIT LENGTH'!$M54,IF(L$9='CONDUIT LENGTH'!$L54,'CONDUIT LENGTH'!$K54*-1,IF(AND(L$9=RIGHT('CONDUIT LENGTH'!$L54,2),LEFT('CONDUIT LENGTH'!$L54,3)=\"2x3\")=TRUE,IF(LEFT('CONDUIT LENGTH'!$L54,2)=\"2x\",'CONDUIT LENGTH'!$K54*-1*2,\"\"),\"\")),\"\"),IF(LEFT(M$6,1)='CONDUIT LENGTH'!$M54,IF(L$9='CONDUIT LENGTH'!$L54,'CONDUIT LENGTH'!$K54,IF(AND(L$9=RIGHT('CONDUIT LENGTH'!$L54,2),LEFT('CONDUIT LENGTH'!$L54,3)=\"2x3\")=TRUE,IF(LEFT('CONDUIT LENGTH'!$L54,2)=\"2x\",'CONDUIT LENGTH'!$K54*2,\"\"),\"\")),\"\"))","v":""},{"$f":"IF($B61=\"SOURCE\",IF(LEFT(M$6,1)='CONDUIT LENGTH'!$M54,IF(M$9='CONDUIT LENGTH'!$L54,'CONDUIT LENGTH'!$K54*-1,IF(AND(M$9=RIGHT('CONDUIT LENGTH'!$L54,2),LEFT('CONDUIT LENGTH'!$L54,3)=\"2x3\")=TRUE,IF(LEFT('CONDUIT LENGTH'!$L54,2)=\"2x\",'CONDUIT LENGTH'!$K54*-1*2,\"\"),\"\")),\"\"),IF(LEFT(M$6,1)='CONDUIT LENGTH'!$M54,IF(M$9='CONDUIT LENGTH'!$L54,'CONDUIT LENGTH'!$K54,IF(AND(M$9=RIGHT('CONDUIT LENGTH'!$L54,2),LEFT('CONDUIT LENGTH'!$L54,3)=\"2x3\")=TRUE,IF(LEFT('CONDUIT LENGTH'!$L54,2)=\"2x\",'CONDUIT LENGTH'!$K54*2,\"\"),\"\")),\"\"))","v":""},{"$f":"IF($B61=\"SOURCE\",IF(LEFT(M$6,1)='CONDUIT LENGTH'!$M54,IF(N$9='CONDUIT LENGTH'!$L54,'CONDUIT LENGTH'!$K54*-1,IF(AND(N$9=RIGHT('CONDUIT LENGTH'!$L54,2),LEFT('CONDUIT LENGTH'!$L54,3)=\"2x3\")=TRUE,IF(LEFT('CONDUIT LENGTH'!$L54,2)=\"2x\",'CONDUIT LENGTH'!$K54*-1*2,\"\"),\"\")),\"\"),IF(LEFT(M$6,1)='CONDUIT LENGTH'!$M54,IF(N$9='CONDUIT LENGTH'!$L54,'CONDUIT LENGTH'!$K54,IF(AND(N$9=RIGHT('CONDUIT LENGTH'!$L54,2),LEFT('CONDUIT LENGTH'!$L54,3)=\"2x3\")=TRUE,IF(LEFT('CONDUIT LENGTH'!$L54,2)=\"2x\",'CONDUIT LENGTH'!$K54*2,\"\"),\"\")),\"\"))","v":""},{"$f":"IF($B61=\"SOURCE\",IF(LEFT(P$5,1)='CONDUIT LENGTH'!$M54,IF(O$9='CONDUIT LENGTH'!$L54,'CONDUIT LENGTH'!$K54*-1,IF(AND(O$9=RIGHT('CONDUIT LENGTH'!$L54,2),LEFT('CONDUIT LENGTH'!$L54,3)=\"2x3\")=TRUE,IF(LEFT('CONDUIT LENGTH'!$L54,2)=\"2x\",'CONDUIT LENGTH'!$K54*-1*2,\"\"),\"\")),\"\"),IF(LEFT(P$6,1)='CONDUIT LENGTH'!$M54,IF(O$9='CONDUIT LENGTH'!$L54,'CONDUIT LENGTH'!$K54,IF(AND(O$9=RIGHT('CONDUIT LENGTH'!$L54,2),LEFT('CONDUIT LENGTH'!$L54,3)=\"2x3\")=TRUE,IF(LEFT('CONDUIT LENGTH'!$L54,2)=\"2x\",'CONDUIT LENGTH'!$K54*2,\"\"),\"\")),\"\"))","v":""},{"$f":"IF($B61=\"SOURCE\",IF(LEFT(P$5,1)='CONDUIT LENGTH'!$M54,IF(P$9='CONDUIT LENGTH'!$L54,'CONDUIT LENGTH'!$K54*-1,IF(AND(P$9=RIGHT('CONDUIT LENGTH'!$L54,2),LEFT('CONDUIT LENGTH'!$L54,3)=\"2x3\")=TRUE,IF(LEFT('CONDUIT LENGTH'!$L54,2)=\"2x\",'CONDUIT LENGTH'!$K54*-1*2,\"\"),\"\")),\"\"),IF(LEFT(P$6,1)='CONDUIT LENGTH'!$M54,IF(P$9='CONDUIT LENGTH'!$L54,'CONDUIT LENGTH'!$K54,IF(AND(P$9=RIGHT('CONDUIT LENGTH'!$L54,2),LEFT('CONDUIT LENGTH'!$L54,3)=\"2x3\")=TRUE,IF(LEFT('CONDUIT LENGTH'!$L54,2)=\"2x\",'CONDUIT LENGTH'!$K54*2,\"\"),\"\")),\"\"))","v":""},{"$f":"IF($B61=\"SOURCE\",IF(LEFT(P$5,1)='CONDUIT LENGTH'!$M54,IF(Q$9='CONDUIT LENGTH'!$L54,'CONDUIT LENGTH'!$K54*-1,IF(AND(Q$9=RIGHT('CONDUIT LENGTH'!$L54,2),LEFT('CONDUIT LENGTH'!$L54,3)=\"2x3\")=TRUE,IF(LEFT('CONDUIT LENGTH'!$L54,2)=\"2x\",'CONDUIT LENGTH'!$K54*-1*2,\"\"),\"\")),\"\"),IF(LEFT(Q$6,1)='CONDUIT LENGTH'!$M54,IF(Q$9='CONDUIT LENGTH'!$L54,'CONDUIT LENGTH'!$K54,IF(AND(Q$9=RIGHT('CONDUIT LENGTH'!$L54,2),LEFT('CONDUIT LENGTH'!$L54,3)=\"2x3\")=TRUE,IF(LEFT('CONDUIT LENGTH'!$L54,2)=\"2x\",'CONDUIT LENGTH'!$K54*2,\"\"),\"\")),\"\"))","v":""},{"$f":"IF('CONDUIT LENGTH'!M54=\"UIP\",\"UIP EXISTING\",\"\")","v":""},{"$f":"IF('CABLE LENGTH'!A55>0,'CABLE LENGTH'!A55,\"\")","v":""},{"$f":"IF('CABLE LENGTH'!B55>0,'CABLE LENGTH'!B55,\"\")","v":""},{"$f":"IF('CABLE LENGTH'!Q55>0,'CABLE LENGTH'!Q55,\"\")","v":""},{"$f":"IF($S61=\"SOURCE\",IF(V$9='CABLE LENGTH'!$AK55,'CABLE LENGTH'!$AJ55*'CABLE LENGTH'!$AL55*-1,\"\"),IF(V$9=\"VIDEO\",IF(V$9='CABLE LENGTH'!$AK55,'CABLE LENGTH'!$AJ55*'CABLE LENGTH'!$AL55*-1,\"\"),IF(V$9='CABLE LENGTH'!$AK55,'CABLE LENGTH'!$AJ55*'CABLE LENGTH'!$AL55,\"\")))","v":""},{"$f":"IF($S61=\"SOURCE\",IF(W$9='CABLE LENGTH'!$AK55,'CABLE LENGTH'!$AJ55*'CABLE LENGTH'!$AL55*-1,\"\"),IF(W$9=\"VIDEO\",IF(W$9='CABLE LENGTH'!$AK55,'CABLE LENGTH'!$AJ55*'CABLE LENGTH'!$AL55*-1,\"\"),IF(W$9='CABLE LENGTH'!$AK55,'CABLE LENGTH'!$AJ55*'CABLE LENGTH'!$AL55,\"\")))","v":""},{"$f":"IF($S61=\"SOURCE\",IF(X$10='CABLE LENGTH'!$AK55,'CABLE LENGTH'!$AJ55*'CABLE LENGTH'!$AL55*-1,\"\"),IF(X$10=\"VIDEO\",IF(X$10='CABLE LENGTH'!$AK55,'CABLE LENGTH'!$AJ55*'CABLE LENGTH'!$AL55*-1,\"\"),IF(X$10='CABLE LENGTH'!$AK55,'CABLE LENGTH'!$AJ55*'CABLE LENGTH'!$AL55,\"\")))","v":""},{"$f":"IF($S61=\"SOURCE\",IF(Y$10='CABLE LENGTH'!$AK55,'CABLE LENGTH'!$AJ55*'CABLE LENGTH'!$AL55*-1,\"\"),IF(Y$10=\"VIDEO\",IF(Y$10='CABLE LENGTH'!$AK55,'CABLE LENGTH'!$AJ55*'CABLE LENGTH'!$AL55*-1,\"\"),IF(Y$10='CABLE LENGTH'!$AK55,'CABLE LENGTH'!$AJ55*'CABLE LENGTH'!$AL55,\"\")))","v":""},{"$f":"IF($S61=\"SOURCE\",IF(Z$10='CABLE LENGTH'!$AK55,'CABLE LENGTH'!$AJ55*'CABLE LENGTH'!$AL55*-1,\"\"),IF(Z$10=\"VIDEO\",IF(Z$10='CABLE LENGTH'!$AK55,'CABLE LENGTH'!$AJ55*'CABLE LENGTH'!$AL55*-1,\"\"),IF(Z$10='CABLE LENGTH'!$AK55,'CABLE LENGTH'!$AJ55*'CABLE LENGTH'!$AL55,\"\")))","v":""},{"$f":"IF($S61=\"SOURCE\",IF(AA$10='CABLE LENGTH'!$AK55,'CABLE LENGTH'!$AJ55*'CABLE LENGTH'!$AL55*-1,\"\"),IF(AA$10=\"VIDEO\",IF(AA$10='CABLE LENGTH'!$AK55,'CABLE LENGTH'!$AJ55*'CABLE LENGTH'!$AL55*-1,\"\"),IF(AA$10='CABLE LENGTH'!$AK55,'CABLE LENGTH'!$AJ55*'CABLE LENGTH'!$AL55,\"\")))","v":""},{"$f":"IF($S61=\"SOURCE\",IF(AB$10='CABLE LENGTH'!$AK55,'CABLE LENGTH'!$AJ55*'CABLE LENGTH'!$AL55*-1,\"\"),IF(AB$10=\"VIDEO\",IF(AB$10='CABLE LENGTH'!$AK55,'CABLE LENGTH'!$AJ55*'CABLE LENGTH'!$AL55*-1,\"\"),IF(AB$10='CABLE LENGTH'!$AK55,'CABLE LENGTH'!$AJ55*'CABLE LENGTH'!$AL55,\"\")))","v":""},{"$f":"IF($S61=\"SOURCE\",IF(AC$10='CABLE LENGTH'!$AK55,'CABLE LENGTH'!$AJ55*'CABLE LENGTH'!$AL55*-1,\"\"),IF(AC$10=\"VIDEO\",IF(AC$10='CABLE LENGTH'!$AK55,'CABLE LENGTH'!$AJ55*'CABLE LENGTH'!$AL55*-1,\"\"),IF(AC$10='CABLE LENGTH'!$AK55,'CABLE LENGTH'!$AJ55*'CABLE LENGTH'!$AL55,\"\")))","v":""},{"$f":"IF($S61=\"SOURCE\",IF(AD$9='CABLE LENGTH'!$AK55,'CABLE LENGTH'!$AJ55*'CABLE LENGTH'!$AL55*-1,\"\"),IF(AD$9=\"VIDEO\",IF(AD$9='CABLE LENGTH'!$AK55,'CABLE LENGTH'!$AJ55*'CABLE LENGTH'!$AL55*-1,\"\"),IF(AD$9='CABLE LENGTH'!$AK55,'CABLE LENGTH'!$AJ55*'CABLE LENGTH'!$AL55,\"\")))","v":""},{"$f":"IF($S61=\"SOURCE\",IF(AE$9='CABLE LENGTH'!$AK55,'CABLE LENGTH'!$AJ55*'CABLE LENGTH'!$AL55*-1,\"\"),IF(AE$9=\"VIDEO\",IF(AE$9='CABLE LENGTH'!$AK55,'CABLE LENGTH'!$AJ55*'CABLE LENGTH'!$AL55*-1,\"\"),IF(AE$9='CABLE LENGTH'!$AK55,'CABLE LENGTH'!$AJ55*'CABLE LENGTH'!$AL55,\"\")))","v":""},{"$f":"IF($S61=\"SOURCE\",IF(AF$9='CABLE LENGTH'!$AK55,'CABLE LENGTH'!$AJ55*'CABLE LENGTH'!$AL55*-1,\"\"),IF(AF$9=\"VIDEO\",IF(AF$9='CABLE LENGTH'!$AK55,'CABLE LENGTH'!$AJ55*'CABLE LENGTH'!$AL55*-1,\"\"),IF(AF$9='CABLE LENGTH'!$AK55,'CABLE LENGTH'!$AJ55*'CABLE LENGTH'!$AL55,\"\")))","v":""}]
[0.3,{"$f":"IF('CONDUIT LENGTH'!A55>0,'CONDUIT LENGTH'!A55,\" \")","v":" "},{"$f":"IF('CONDUIT LENGTH'!B55>0,'CONDUIT LENGTH'!B55,\" \")","v":" "},{"$f":"IF('CONDUIT LENGTH'!C55>0,'CONDUIT LENGTH'!C55,\" \")","v":" "},{"$f":"IF($B62=\"SOURCE\",IF(LEFT(E$5,1)='CONDUIT LENGTH'!$M55,IF(E$9='CONDUIT LENGTH'!$L55,'CONDUIT LENGTH'!$K55*-1,IF(AND(E$9=RIGHT('CONDUIT LENGTH'!$L55,2),LEFT('CONDUIT LENGTH'!$L55,3)=\"2x3\")=TRUE,IF(LEFT('CONDUIT LENGTH'!$L55,2)=\"2x\",'CONDUIT LENGTH'!$K55*-1*2,\"\"),\"\")),\"\"),IF(LEFT(E$5,1)='CONDUIT LENGTH'!$M55,IF(E$9='CONDUIT LENGTH'!$L55,'CONDUIT LENGTH'!$K55,IF(AND(E$9=RIGHT('CONDUIT LENGTH'!$L55,2),LEFT('CONDUIT LENGTH'!$L55,3)=\"2x3\")=TRUE,IF(LEFT('CONDUIT LENGTH'!$L55,2)=\"2x\",'CONDUIT LENGTH'!$K55*2,\"\"),\"\")),\"\"))","v":""},{"$f":"IF($B62=\"SOURCE\",IF(LEFT(G$6,1)='CONDUIT LENGTH'!$M55,IF(F$9='CONDUIT LENGTH'!$L55,'CONDUIT LENGTH'!$K55*-1,IF(AND(F$9=RIGHT('CONDUIT LENGTH'!$L55,2),LEFT('CONDUIT LENGTH'!$L55,3)=\"2x3\")=TRUE,IF(LEFT('CONDUIT LENGTH'!$L55,2)=\"2x\",'CONDUIT LENGTH'!$K55*-1*2,\"\"),\"\")),\"\"),IF(LEFT(G$6,1)='CONDUIT LENGTH'!$M55,IF(F$9='CONDUIT LENGTH'!$L55,'CONDUIT LENGTH'!$K55,IF(AND(F$9=RIGHT('CONDUIT LENGTH'!$L55,2),LEFT('CONDUIT LENGTH'!$L55,3)=\"2x3\")=TRUE,IF(LEFT('CONDUIT LENGTH'!$L55,2)=\"2x\",'CONDUIT LENGTH'!$K55*2,\"\"),\"\")),\"\"))","v":""},{"$f":"IF($B62=\"SOURCE\",IF(LEFT(G$6,1)='CONDUIT LENGTH'!$M55,IF(G$9='CONDUIT LENGTH'!$L55,'CONDUIT LENGTH'!$K55*-1,IF(AND(G$9=RIGHT('CONDUIT LENGTH'!$L55,2),LEFT('CONDUIT LENGTH'!$L55,3)=\"2x3\")=TRUE,IF(LEFT('CONDUIT LENGTH'!$L55,2)=\"2x\",'CONDUIT LENGTH'!$K55*-1*2,\"\"),\"\")),\"\"),IF(LEFT(G$6,1)='CONDUIT LENGTH'!$M55,IF(G$9='CONDUIT LENGTH'!$L55,'CONDUIT LENGTH'!$K55,IF(AND(G$9=RIGHT('CONDUIT LENGTH'!$L55,2),LEFT('CONDUIT LENGTH'!$L55,3)=\"2x3\")=TRUE,IF(LEFT('CONDUIT LENGTH'!$L55,2)=\"2x\",'CONDUIT LENGTH'!$K55*2,\"\"),\"\")),\"\"))","v":""},{"$f":"IF($B62=\"SOURCE\",IF(LEFT(G$6,1)='CONDUIT LENGTH'!$M55,IF(H$9='CONDUIT LENGTH'!$L55,'CONDUIT LENGTH'!$K55*-1,IF(AND(H$9=RIGHT('CONDUIT LENGTH'!$L55,2),LEFT('CONDUIT LENGTH'!$L55,3)=\"2x3\")=TRUE,IF(LEFT('CONDUIT LENGTH'!$L55,2)=\"2x\",'CONDUIT LENGTH'!$K55*-1*2,\"\"),\"\")),\"\"),IF(LEFT(G$6,1)='CONDUIT LENGTH'!$M55,IF(H$9='CONDUIT LENGTH'!$L55,'CONDUIT LENGTH'!$K55,IF(AND(H$9=RIGHT('CONDUIT LENGTH'!$L55,2),LEFT('CONDUIT LENGTH'!$L55,3)=\"2x3\")=TRUE,IF(LEFT('CONDUIT LENGTH'!$L55,2)=\"2x\",'CONDUIT LENGTH'!$K55*2,\"\"),\"\")),\"\"))","v":""},{"$f":"IF($B62=\"SOURCE\",IF(LEFT(J$6,1)='CONDUIT LENGTH'!$M55,IF(I$9='CONDUIT LENGTH'!$L55,'CONDUIT LENGTH'!$K55*-1,IF(AND(I$9=RIGHT('CONDUIT LENGTH'!$L55,2),LEFT('CONDUIT LENGTH'!$L55,3)=\"2x3\")=TRUE,IF(LEFT('CONDUIT LENGTH'!$L55,2)=\"2x\",'CONDUIT LENGTH'!$K55*-1*2,\"\"),\"\")),\"\"),IF(LEFT(J$6,1)='CONDUIT LENGTH'!$M55,IF(I$9='CONDUIT LENGTH'!$L55,'CONDUIT LENGTH'!$K55,IF(AND(I$9=RIGHT('CONDUIT LENGTH'!$L55,2),LEFT('CONDUIT LENGTH'!$L55,3)=\"2x3\")=TRUE,IF(LEFT('CONDUIT LENGTH'!$L55,2)=\"2x\",'CONDUIT LENGTH'!$K55*2,\"\"),\"\")),\"\"))","v":""},{"$f":"IF($B62=\"SOURCE\",IF(LEFT(J$6,1)='CONDUIT LENGTH'!$M55,IF(J$9='CONDUIT LENGTH'!$L55,'CONDUIT LENGTH'!$K55*-1,IF(AND(J$9=RIGHT('CONDUIT LENGTH'!$L55,2),LEFT('CONDUIT LENGTH'!$L55,3)=\"2x3\")=TRUE,IF(LEFT('CONDUIT LENGTH'!$L55,2)=\"2x\",'CONDUIT LENGTH'!$K55*-1*2,\"\"),\"\")),\"\"),IF(LEFT(J$6,1)='CONDUIT LENGTH'!$M55,IF(J$9='CONDUIT LENGTH'!$L55,'CONDUIT LENGTH'!$K55,IF(AND(J$9=RIGHT('CONDUIT LENGTH'!$L55,2),LEFT('CONDUIT LENGTH'!$L55,3)=\"2x3\")=TRUE,IF(LEFT('CONDUIT LENGTH'!$L55,2)=\"2x\",'CONDUIT LENGTH'!$K55*2,\"\"),\"\")),\"\"))","v":""},{"$f":"IF($B62=\"SOURCE\",IF(LEFT(J$6,1)='CONDUIT LENGTH'!$M55,IF(K$9='CONDUIT LENGTH'!$L55,'CONDUIT LENGTH'!$K55*-1,IF(AND(K$9=RIGHT('CONDUIT LENGTH'!$L55,2),LEFT('CONDUIT LENGTH'!$L55,3)=\"2x3\")=TRUE,IF(LEFT('CONDUIT LENGTH'!$L55,2)=\"2x\",'CONDUIT LENGTH'!$K55*-1*2,\"\"),\"\")),\"\"),IF(LEFT(J$6,1)='CONDUIT LENGTH'!$M55,IF(K$9='CONDUIT LENGTH'!$L55,'CONDUIT LENGTH'!$K55,IF(AND(K$9=RIGHT('CONDUIT LENGTH'!$L55,2),LEFT('CONDUIT LENGTH'!$L55,3)=\"2x3\")=TRUE,IF(LEFT('CONDUIT LENGTH'!$L55,2)=\"2x\",'CONDUIT LENGTH'!$K55*2,\"\"),\"\")),\"\"))","v":""},{"$f":"IF($B62=\"SOURCE\",IF(LEFT(M$6,1)='CONDUIT LENGTH'!$M55,IF(L$9='CONDUIT LENGTH'!$L55,'CONDUIT LENGTH'!$K55*-1,IF(AND(L$9=RIGHT('CONDUIT LENGTH'!$L55,2),LEFT('CONDUIT LENGTH'!$L55,3)=\"2x3\")=TRUE,IF(LEFT('CONDUIT LENGTH'!$L55,2)=\"2x\",'CONDUIT LENGTH'!$K55*-1*2,\"\"),\"\")),\"\"),IF(LEFT(M$6,1)='CONDUIT LENGTH'!$M55,IF(L$9='CONDUIT LENGTH'!$L55,'CONDUIT LENGTH'!$K55,IF(AND(L$9=RIGHT('CONDUIT LENGTH'!$L55,2),LEFT('CONDUIT LENGTH'!$L55,3)=\"2x3\")=TRUE,IF(LEFT('CONDUIT LENGTH'!$L55,2)=\"2x\",'CONDUIT LENGTH'!$K55*2,\"\"),\"\")),\"\"))","v":""},{"$f":"IF($B62=\"SOURCE\",IF(LEFT(M$6,1)='CONDUIT LENGTH'!$M55,IF(M$9='CONDUIT LENGTH'!$L55,'CONDUIT LENGTH'!$K55*-1,IF(AND(M$9=RIGHT('CONDUIT LENGTH'!$L55,2),LEFT('CONDUIT LENGTH'!$L55,3)=\"2x3\")=TRUE,IF(LEFT('CONDUIT LENGTH'!$L55,2)=\"2x\",'CONDUIT LENGTH'!$K55*-1*2,\"\"),\"\")),\"\"),IF(LEFT(M$6,1)='CONDUIT LENGTH'!$M55,IF(M$9='CONDUIT LENGTH'!$L55,'CONDUIT LENGTH'!$K55,IF(AND(M$9=RIGHT('CONDUIT LENGTH'!$L55,2),LEFT('CONDUIT LENGTH'!$L55,3)=\"2x3\")=TRUE,IF(LEFT('CONDUIT LENGTH'!$L55,2)=\"2x\",'CONDUIT LENGTH'!$K55*2,\"\"),\"\")),\"\"))","v":""},{"$f":"IF($B62=\"SOURCE\",IF(LEFT(M$6,1)='CONDUIT LENGTH'!$M55,IF(N$9='CONDUIT LENGTH'!$L55,'CONDUIT LENGTH'!$K55*-1,IF(AND(N$9=RIGHT('CONDUIT LENGTH'!$L55,2),LEFT('CONDUIT LENGTH'!$L55,3)=\"2x3\")=TRUE,IF(LEFT('CONDUIT LENGTH'!$L55,2)=\"2x\",'CONDUIT LENGTH'!$K55*-1*2,\"\"),\"\")),\"\"),IF(LEFT(M$6,1)='CONDUIT LENGTH'!$M55,IF(N$9='CONDUIT LENGTH'!$L55,'CONDUIT LENGTH'!$K55,IF(AND(N$9=RIGHT('CONDUIT LENGTH'!$L55,2),LEFT('CONDUIT LENGTH'!$L55,3)=\"2x3\")=TRUE,IF(LEFT('CONDUIT LENGTH'!$L55,2)=\"2x\",'CONDUIT LENGTH'!$K55*2,\"\"),\"\")),\"\"))","v":""},{"$f":"IF($B62=\"SOURCE\",IF(LEFT(P$5,1)='CONDUIT LENGTH'!$M55,IF(O$9='CONDUIT LENGTH'!$L55,'CONDUIT LENGTH'!$K55*-1,IF(AND(O$9=RIGHT('CONDUIT LENGTH'!$L55,2),LEFT('CONDUIT LENGTH'!$L55,3)=\"2x3\")=TRUE,IF(LEFT('CONDUIT LENGTH'!$L55,2)=\"2x\",'CONDUIT LENGTH'!$K55*-1*2,\"\"),\"\")),\"\"),IF(LEFT(P$6,1)='CONDUIT LENGTH'!$M55,IF(O$9='CONDUIT LENGTH'!$L55,'CONDUIT LENGTH'!$K55,IF(AND(O$9=RIGHT('CONDUIT LENGTH'!$L55,2),LEFT('CONDUIT LENGTH'!$L55,3)=\"2x3\")=TRUE,IF(LEFT('CONDUIT LENGTH'!$L55,2)=\"2x\",'CONDUIT LENGTH'!$K55*2,\"\"),\"\")),\"\"))","v":""},{"$f":"IF($B62=\"SOURCE\",IF(LEFT(P$5,1)='CONDUIT LENGTH'!$M55,IF(P$9='CONDUIT LENGTH'!$L55,'CONDUIT LENGTH'!$K55*-1,IF(AND(P$9=RIGHT('CONDUIT LENGTH'!$L55,2),LEFT('CONDUIT LENGTH'!$L55,3)=\"2x3\")=TRUE,IF(LEFT('CONDUIT LENGTH'!$L55,2)=\"2x\",'CONDUIT LENGTH'!$K55*-1*2,\"\"),\"\")),\"\"),IF(LEFT(P$6,1)='CONDUIT LENGTH'!$M55,IF(P$9='CONDUIT LENGTH'!$L55,'CONDUIT LENGTH'!$K55,IF(AND(P$9=RIGHT('CONDUIT LENGTH'!$L55,2),LEFT('CONDUIT LENGTH'!$L55,3)=\"2x3\")=TRUE,IF(LEFT('CONDUIT LENGTH'!$L55,2)=\"2x\",'CONDUIT LENGTH'!$K55*2,\"\"),\"\")),\"\"))","v":""},{"$f":"IF($B62=\"SOURCE\",IF(LEFT(P$5,1)='CONDUIT LENGTH'!$M55,IF(Q$9='CONDUIT LENGTH'!$L55,'CONDUIT LENGTH'!$K55*-1,IF(AND(Q$9=RIGHT('CONDUIT LENGTH'!$L55,2),LEFT('CONDUIT LENGTH'!$L55,3)=\"2x3\")=TRUE,IF(LEFT('CONDUIT LENGTH'!$L55,2)=\"2x\",'CONDUIT LENGTH'!$K55*-1*2,\"\"),\"\")),\"\"),IF(LEFT(Q$6,1)='CONDUIT LENGTH'!$M55,IF(Q$9='CONDUIT LENGTH'!$L55,'CONDUIT LENGTH'!$K55,IF(AND(Q$9=RIGHT('CONDUIT LENGTH'!$L55,2),LEFT('CONDUIT LENGTH'!$L55,3)=\"2x3\")=TRUE,IF(LEFT('CONDUIT LENGTH'!$L55,2)=\"2x\",'CONDUIT LENGTH'!$K55*2,\"\"),\"\")),\"\"))","v":""},{"$f":"IF('CONDUIT LENGTH'!M55=\"UIP\",\"UIP EXISTING\",\"\")","v":""},{"$f":"IF('CABLE LENGTH'!A56>0,'CABLE LENGTH'!A56,\"\")","v":""},{"$f":"IF('CABLE LENGTH'!B56>0,'CABLE LENGTH'!B56,\"\")","v":""},{"$f":"IF('CABLE LENGTH'!Q56>0,'CABLE LENGTH'!Q56,\"\")","v":""},{"$f":"IF($S62=\"SOURCE\",IF(V$9='CABLE LENGTH'!$AK56,'CABLE LENGTH'!$AJ56*'CABLE LENGTH'!$AL56*-1,\"\"),IF(V$9=\"VIDEO\",IF(V$9='CABLE LENGTH'!$AK56,'CABLE LENGTH'!$AJ56*'CABLE LENGTH'!$AL56*-1,\"\"),IF(V$9='CABLE LENGTH'!$AK56,'CABLE LENGTH'!$AJ56*'CABLE LENGTH'!$AL56,\"\")))","v":""},{"$f":"IF($S62=\"SOURCE\",IF(W$9='CABLE LENGTH'!$AK56,'CABLE LENGTH'!$AJ56*'CABLE LENGTH'!$AL56*-1,\"\"),IF(W$9=\"VIDEO\",IF(W$9='CABLE LENGTH'!$AK56,'CABLE LENGTH'!$AJ56*'CABLE LENGTH'!$AL56*-1,\"\"),IF(W$9='CABLE LENGTH'!$AK56,'CABLE LENGTH'!$AJ56*'CABLE LENGTH'!$AL56,\"\")))","v":""},{"$f":"IF($S62=\"SOURCE\",IF(X$10='CABLE LENGTH'!$AK56,'CABLE LENGTH'!$AJ56*'CABLE LENGTH'!$AL56*-1,\"\"),IF(X$10=\"VIDEO\",IF(X$10='CABLE LENGTH'!$AK56,'CABLE LENGTH'!$AJ56*'CABLE LENGTH'!$AL56*-1,\"\"),IF(X$10='CABLE LENGTH'!$AK56,'CABLE LENGTH'!$AJ56*'CABLE LENGTH'!$AL56,\"\")))","v":""},{"$f":"IF($S62=\"SOURCE\",IF(Y$10='CABLE LENGTH'!$AK56,'CABLE LENGTH'!$AJ56*'CABLE LENGTH'!$AL56*-1,\"\"),IF(Y$10=\"VIDEO\",IF(Y$10='CABLE LENGTH'!$AK56,'CABLE LENGTH'!$AJ56*'CABLE LENGTH'!$AL56*-1,\"\"),IF(Y$10='CABLE LENGTH'!$AK56,'CABLE LENGTH'!$AJ56*'CABLE LENGTH'!$AL56,\"\")))","v":""},{"$f":"IF($S62=\"SOURCE\",IF(Z$10='CABLE LENGTH'!$AK56,'CABLE LENGTH'!$AJ56*'CABLE LENGTH'!$AL56*-1,\"\"),IF(Z$10=\"VIDEO\",IF(Z$10='CABLE LENGTH'!$AK56,'CABLE LENGTH'!$AJ56*'CABLE LENGTH'!$AL56*-1,\"\"),IF(Z$10='CABLE LENGTH'!$AK56,'CABLE LENGTH'!$AJ56*'CABLE LENGTH'!$AL56,\"\")))","v":""},{"$f":"IF($S62=\"SOURCE\",IF(AA$10='CABLE LENGTH'!$AK56,'CABLE LENGTH'!$AJ56*'CABLE LENGTH'!$AL56*-1,\"\"),IF(AA$10=\"VIDEO\",IF(AA$10='CABLE LENGTH'!$AK56,'CABLE LENGTH'!$AJ56*'CABLE LENGTH'!$AL56*-1,\"\"),IF(AA$10='CABLE LENGTH'!$AK56,'CABLE LENGTH'!$AJ56*'CABLE LENGTH'!$AL56,\"\")))","v":""},{"$f":"IF($S62=\"SOURCE\",IF(AB$10='CABLE LENGTH'!$AK56,'CABLE LENGTH'!$AJ56*'CABLE LENGTH'!$AL56*-1,\"\"),IF(AB$10=\"VIDEO\",IF(AB$10='CABLE LENGTH'!$AK56,'CABLE LENGTH'!$AJ56*'CABLE LENGTH'!$AL56*-1,\"\"),IF(AB$10='CABLE LENGTH'!$AK56,'CABLE LENGTH'!$AJ56*'CABLE LENGTH'!$AL56,\"\")))","v":""},{"$f":"IF($S62=\"SOURCE\",IF(AC$10='CABLE LENGTH'!$AK56,'CABLE LENGTH'!$AJ56*'CABLE LENGTH'!$AL56*-1,\"\"),IF(AC$10=\"VIDEO\",IF(AC$10='CABLE LENGTH'!$AK56,'CABLE LENGTH'!$AJ56*'CABLE LENGTH'!$AL56*-1,\"\"),IF(AC$10='CABLE LENGTH'!$AK56,'CABLE LENGTH'!$AJ56*'CABLE LENGTH'!$AL56,\"\")))","v":""},{"$f":"IF($S62=\"SOURCE\",IF(AD$9='CABLE LENGTH'!$AK56,'CABLE LENGTH'!$AJ56*'CABLE LENGTH'!$AL56*-1,\"\"),IF(AD$9=\"VIDEO\",IF(AD$9='CABLE LENGTH'!$AK56,'CABLE LENGTH'!$AJ56*'CABLE LENGTH'!$AL56*-1,\"\"),IF(AD$9='CABLE LENGTH'!$AK56,'CABLE LENGTH'!$AJ56*'CABLE LENGTH'!$AL56,\"\")))","v":""},{"$f":"IF($S62=\"SOURCE\",IF(AE$9='CABLE LENGTH'!$AK56,'CABLE LENGTH'!$AJ56*'CABLE LENGTH'!$AL56*-1,\"\"),IF(AE$9=\"VIDEO\",IF(AE$9='CABLE LENGTH'!$AK56,'CABLE LENGTH'!$AJ56*'CABLE LENGTH'!$AL56*-1,\"\"),IF(AE$9='CABLE LENGTH'!$AK56,'CABLE LENGTH'!$AJ56*'CABLE LENGTH'!$AL56,\"\")))","v":""},{"$f":"IF($S62=\"SOURCE\",IF(AF$9='CABLE LENGTH'!$AK56,'CABLE LENGTH'!$AJ56*'CABLE LENGTH'!$AL56*-1,\"\"),IF(AF$9=\"VIDEO\",IF(AF$9='CABLE LENGTH'!$AK56,'CABLE LENGTH'!$AJ56*'CABLE LENGTH'!$AL56*-1,\"\"),IF(AF$9='CABLE LENGTH'!$AK56,'CABLE LENGTH'!$AJ56*'CABLE LENGTH'!$AL56,\"\")))","v":""}]
[0.6,null,null,"SUBTOTALS",{"$f":"SUMIF(E12:E62,\">0\")","v":0},{"$f":"SUMIF(F12:F62,\">0\")","v":0},{"$f":"SUMIF(G12:G62,\">0\")","v":0},{"$f":"SUMIF(H12:H62,\">0\")","v":0},0,0,0,0,0,0,0,0,0,null,null,null,"SUBTOTALS",{"$f":"SUMIF(V12:V62,\">0\")","v":0},{"$f":"SUMIF(W12:W62,\">0\")","v":0},0,0,0,0,0,0,0,0,0]
[0.6,null,null,"PAY TOTALS",{"$f":"+E63","v":0},{"$f":"+F63","v":0},0,0,0,0,0,0,0,0,0,0,0,null,null,null,"PAY TOTALS",{"$f":"ROUND(V63*1.05,-1)","v":0},{"$f":"ROUND(W63*1.05,-1)","v":0},0,0,0,0,0,0,0,0,0,"INCLUDE 5% FOR SNAKING"]
[0.1]
[0.3]
[0.3,null,null,null,null,null,null,null,null,null,null,null,null,null,null,null,null,null,null,null,null,null,null,null,null,null,null,null,null,null,"SAMPLE"]
[0.3,null,null,null,null,null,null,null,null,null,null,null,null,null,null,null,null,null,null,null,null,null,null,null,null,null,null,null,null,null,"INTERSECTION"]